{"text_format":"1","workbook":"xlsx","n_sheets":269,"sheets":["Indicadores","Parametros","Semaforo","Formato Ficha Tecnica","Formato Ficha Analisis","IF001","IF002","IF003","IF004","IF005","IF006","IF007","IF008","IF009","IF010","IF011","IF012","IF013","IF014","IF015","IF016","IF017","IF018","IF019","IF020","IF021","IF022","IF023","IF024","IF025","IF026","IF027","IF028","IF029","IF030","IF031","IF032","IF033","IF034","IF035","IF036","IF037","IF038","IF039","IF040","IF041","IF042","IF043","IF044","IF045","IF046","IF047","IF048","IF049","IF050","IF051","IF052","IF053","IF054","IF055","IF056","IF057","IF058","IF059","IF060","IF061","IF062","IF063","IF064","IF065","IF066","IF067","IF068","IF069","IF070","IF071","IF072","IF073","IF074","IF075","IF076","IF077","IF078","IF079","IF080","IF081","IF082","IF083","US001","US002","US003","US004","US005","US006","US007","US008","US009","US010","US011","US012","US013","US014","US015","US016","US017","US018","US019","US020","US021","US022","US023","US024","US025","US026","OR001","OR002","OR003","OR004","OR005","OR006","OR007","OR008","OR009","OR010","OR011","OR012","OR013","OR014","OR015","OR016","OR017","OR018","OR019","OR020","IV001","IV002","IV003","IF001_Analisis","IF002_Analisis","IF003_Analisis","IF004_Analisis","IF005_Analisis","IF006_Analisis","IF007_Analisis","IF008_Analisis","IF009_Analisis","IF010_Analisis","IF011_Analisis","IF012_Analisis","IF013_Analisis","IF014_Analisis","IF015_Analisis","IF016_Analisis","IF017_Analisis","IF018_Analisis","IF019_Analisis","IF020_Analisis","IF021_Analisis","IF022_Analisis","IF023_Analisis","IF024_Analisis","IF025_Analisis","IF026_Analisis","IF027_Analisis","IF028_Analisis","IF029_Analisis","IF030_Analisis","IF031_Analisis","IF032_Analisis","IF033_Analisis","IF034_Analisis","IF035_Analisis","IF036_Analisis","IF037_Analisis","IF038_Analisis","IF039_Analisis","IF040_Analisis","IF041_Analisis","IF042_Analisis","IF043_Analisis","IF044_Analisis","IF045_Analisis","IF046_Analisis","IF047_Analisis","IF048_Analisis","IF049_Analisis","IF050_Analisis","IF051_Analisis","IF052_Analisis","IF053_Analisis","IF054_Analisis","IF055_Analisis","IF056_Analisis","IF057_Analisis","IF058_Analisis","IF059_Analisis","IF060_Analisis","IF061_Analisis","IF062_Analisis","IF063_Analisis","IF064_Analisis","IF065_Analisis","IF066_Analisis","IF067_Analisis","IF068_Analisis","IF069_Analisis","IF070_Analisis","IF071_Analisis","IF072_Analisis","IF073_Analisis","IF074_Analisis","IF075_Analisis","IF076_Analisis","IF077_Analisis","IF078_Analisis","IF079_Analisis","IF080_Analisis","IF081_Analisis","IF082_Analisis","IF083_Analisis","US001_Analisis","US002_Analisis","US003_Analisis","US004_Analisis","US005_Analisis","US006_Analisis","US007_Analisis","US008_Analisis","US009_Analisis","US010_Analisis","US011_Analisis","US012_Analisis","US013_Analisis","US014_Analisis","US015_Analisis","US016_Analisis","US017_Analisis","US018_Analisis","US019_Analisis","US020_Analisis","US021_Analisis","US022_Analisis","US023_Analisis","US024_Analisis","US025_Analisis","US026_Analisis","OR001_Analisis","OR002_Analisis","OR003_Analisis","OR004_Analisis","OR005_Analisis","OR006_Analisis","OR007_Analisis","OR008_Analisis","OR009_Analisis","OR010_Analisis","OR011_Analisis","OR012_Analisis","OR013_Analisis","OR014_Analisis","OR015_Analisis","OR016_Analisis","OR017_Analisis","OR018_Analisis","OR019_Analisis","OR020_Analisis","IV001_Analisis","IV002_Analisis","IV003_Analisis"],"not_rendered":{"charts":132,"images":1,"macros":1,"external_links":0,"defined_names":2,"comments":0,"pivot_tables":0},"unopened":[],"bounds":{"document_bytes":16777216,"sheet_cells":100000,"rows_first":2000,"rows_last":500,"rows_between":2000,"halvings":0,"cell_chars":16384,"cell_head_chars":4096},"cells_cut":0,"cells_raw":0,"read":"whole","date_system":"1900"}

{"sheet":"Indicadores","index":0,"n_rows":136,"n_cols":44,"rows_kept":136,"cut":false,"hidden":false,"merged":[[33,36,33,41],[87,0,112,0],[133,0,135,0],[0,1,0,31],[2,2,2,6],[4,0,86,0],[28,1,37,1],[4,1,27,1],[2,7,2,8],[38,1,56,1],[57,1,86,1],[113,0,132,0]]}
[]
[{"$f":"COUNTA(C5:C136)","v":132},null,null,null,null,null,null,null,null,null,null,null,null,null,null,null,null,null,"CONFIANZA",0.95]
["PERSPECTIVAS","SERVICIO","INDICADOR",null,null,null,null,"RESPONSABLES",null,"Resolución 906/19","Resolución 315/05 Aseo","Plan Tarifario/Resolución 688","PESV","Programa de Aseo","PSGSST/ Resolución 302-2019","Resolución 151","Gerencial",null,"META SERVICIUDAD","ESTANDAR DE EFICIENCIA","ENERO","FEBRERO","MARZO","ABRIL","MAYO","JUNIO","JULIO","AGOSTO","SEPTIEMBRE","OCTUBRE","NOVIEMBRE","DICIEMBRE","ÚLTIMO REPORTE","CUMPLIMIENTO INDICADOR","ANÁLISIS"]
[null,null,"NOMBRE","CÓDIGO","FICHA TÉCNICA","FICHA ANÁLISIS","FORMULA","SUBGERENCIA","FUNCIONARIO",{"$f":"COUNTIF(J5:J136,\"X\")","v":55},12,27,3,20,6,18,9]
["INVERSION Y FINANCIERA","ACUEDUCTO","Ejecución de las inversiones Acueducto","IF001",null,null,"Inversión realizada plan de inveriónes AC/Inversión presupuestada plan de inversiones AC",null,"Profesional presupuesto",null,null,null,null,null,null,"X",null,null,1,1,{"$f":"IF001_Analisis!$E$21","v":0},{"$f":"IF001_Analisis!$E$22","v":0},{"$f":"IF001_Analisis!$E$23","v":0},{"$f":"IF001_Analisis!$E$24","v":0},{"$f":"IF001_Analisis!$E$25","v":0},{"$f":"IF001_Analisis!$E$26","v":0},{"$f":"IF001_Analisis!$E$27","v":0.33347274660433546},{"$f":"IF001_Analisis!$E$28","v":0.39856241007976867},{"$f":"IF001_Analisis!$E$29","v":0.3380925679970378},{"$f":"IF001_Analisis!$E$30","v":0.3380925679970378},{"$f":"IF001_Analisis!$E$31","v":0.34900192694064563},{"$f":"IF001_Analisis!$E$32","v":0.57436287960346144},null,null,"Los datos son recolectados de la Ejecución Presupuestal que se genera mes a mes a travésdel Sistema Financiero ORION, y la misma incluye tanto recursos propios como convenios, esta imformcaión es suministrada por la profesional de presupuesto a diciembre de 2020"]
[null,null,"IRCA","IF002",null,null,"IRCA Sivicapp <5%",null,"Profesional especializado acueducto",null,"X","X",null,null,null,"X",null,null,0.05,0.05,{"$f":"IF002_Analisis!$D$21","v":3.5E-4},{"$f":"IF002_Analisis!$D$22","v":3.6999999999999999E-4},{"$f":"IF002_Analisis!$D$23","v":3.4000000000000002E-4},{"$f":"IF002_Analisis!$D$24","v":6.4999999999999997E-4},{"$f":"IF002_Analisis!$D$25","v":3.2000000000000003E-4},{"$f":"IF002_Analisis!$D$26","v":3.4000000000000002E-4},{"$f":"IF002_Analisis!$D$27","v":5.9999999999999995E-4},{"$f":"IF002_Analisis!$D$28","v":8.9999999999999998E-4},{"$f":"IF002_Analisis!$D$29","v":3.2000000000000003E-4},{"$f":"IF002_Analisis!$D$30","v":1.1299999999999999E-2},{"$f":"IF002_Analisis!$D$31","v":1.37E-2},{"$f":"IF002_Analisis!$D$32","v":1.9800000000000002E-2}]
[null,null,"Indice de Reporte y Calidad de Agua Potable- IRCAP","IF003",null,null,"1, si IRCAi ≤  5%\n0, si IRCAi ˃ 5% \ny/o no se reporta la información ","Calidad del Servicio","Profesional Especializado de Acueducto  - Auxiliar Toma de Muestras","X",null,null,null,null,null,null,null,null,1,1,{"$f":"IF003_Analisis!$D$21","v":0},{"$f":"IF003_Analisis!$D$22","v":0},{"$f":"IF003_Analisis!$D$23","v":0},{"$f":"IF003_Analisis!$D$24","v":0},{"$f":"IF003_Analisis!$D$25","v":0},{"$f":"IF003_Analisis!$D$26","v":0},{"$f":"IF003_Analisis!$D$27","v":0},{"$f":"IF003_Analisis!$D$28","v":0},{"$f":"IF003_Analisis!$D$29","v":0},{"$f":"IF003_Analisis!$D$30","v":0},{"$f":"IF003_Analisis!$D$31","v":0},{"$f":"IF003_Analisis!$D$32","v":0},null,null,null,null,null,"todo directamente relacionado con la prestacion de los servicios ."]
[null,null,"IRABA","IF004",null,null,"100-(IT+IC)","Calidad del Servicio","Profesional Especializado de Acueducto - Profesional Planta de Tratamiento ","X",null,null,null,null,null,null,null,null,0,0,{"$f":"IF004_Analisis!$E$21","v":1},{"$f":"IF004_Analisis!$E$22","v":1},{"$f":"IF004_Analisis!$E$23","v":1},{"$f":"IF004_Analisis!$E$24","v":1},{"$f":"IF004_Analisis!$E$25","v":1},{"$f":"IF004_Analisis!$E$26","v":1},{"$f":"IF004_Analisis!$E$27","v":1},{"$f":"IF004_Analisis!$E$28","v":1},{"$f":"IF004_Analisis!$E$29","v":1},{"$f":"IF004_Analisis!$E$30","v":1},{"$f":"IF004_Analisis!$E$31","v":1},{"$f":"IF004_Analisis!$E$32","v":1}]
[null,null,"Indice de Continuidad — IC","IF005",null,null,"∑PFg=1ICg / PF","Calidad del Servicio","Profesional Especializado de Acueducto ","X",null,null,null,null,null,null,null,null,24,24,{"$f":"IF005_Analisis!$D$21","v":0},{"$f":"IF005_Analisis!$D$22","v":0},{"$f":"IF005_Analisis!$D$23","v":0},{"$f":"IF005_Analisis!$D$24","v":0},{"$f":"IF005_Analisis!$D$25","v":0},{"$f":"IF005_Analisis!$D$26","v":0},{"$f":"IF005_Analisis!$D$27","v":0},{"$f":"IF005_Analisis!$D$28","v":0},{"$f":"IF005_Analisis!$D$29","v":0},{"$f":"IF005_Analisis!$D$30","v":0},{"$f":"IF005_Analisis!$D$31","v":0},{"$f":"IF005_Analisis!$D$32","v":0}]
[null,null,"Indice de Inversiones Acumuladas de Acueducto — IIAAC","IF006",null,null,"(∑atp=1VPIejecp / ∑atp=1VPIproyp) x 100","Eficiencia en la Planificación y Ejecución de Inversiones","Profesional en Gestión Técnica de Proyectos ","X",null,null,null,null,null,null,null,null,null,1,{"$f":"IF006_Analisis!$E$21","v":{"$error":"#DIV/0!"}},{"$f":"IF006_Analisis!$E$21","v":{"$error":"#DIV/0!"}},{"$f":"IF006_Analisis!$E$21","v":{"$error":"#DIV/0!"}},{"$f":"IF006_Analisis!$E$21","v":{"$error":"#DIV/0!"}},{"$f":"IF006_Analisis!$E$21","v":{"$error":"#DIV/0!"}},{"$f":"IF006_Analisis!$E$21","v":{"$error":"#DIV/0!"}},{"$f":"IF006_Analisis!$E$22","v":{"$error":"#DIV/0!"}},{"$f":"IF006_Analisis!$E$22","v":{"$error":"#DIV/0!"}},{"$f":"IF006_Analisis!$E$22","v":{"$error":"#DIV/0!"}},{"$f":"IF006_Analisis!$E$22","v":{"$error":"#DIV/0!"}},{"$f":"IF006_Analisis!$E$22","v":{"$error":"#DIV/0!"}},{"$f":"IF006_Analisis!$E$22","v":{"$error":"#DIV/0!"}}]
[null,null,"Indice de Ejecución Anual de Inversiones de Acueducto —IEAIAC","IF007",null,null,"(∑ba=1(VEPa * PAa) / ∑ba=1 VPa) x 100","Eficiencia en la Planificación y Ejecución de Inversiones","Profesional en Gestión Técnica de Proyectos ","X",null,null,null,null,null,null,null,null,null,1,{"$f":"IF007_Analisis!$F$21","v":{"$error":"#DIV/0!"}},{"$f":"IF007_Analisis!$F$21","v":{"$error":"#DIV/0!"}},{"$f":"IF007_Analisis!$F$21","v":{"$error":"#DIV/0!"}},{"$f":"IF007_Analisis!$F$21","v":{"$error":"#DIV/0!"}},{"$f":"IF007_Analisis!$F$21","v":{"$error":"#DIV/0!"}},{"$f":"IF007_Analisis!$F$21","v":{"$error":"#DIV/0!"}},{"$f":"IF007_Analisis!$F$22","v":{"$error":"#DIV/0!"}},{"$f":"IF007_Analisis!$F$22","v":{"$error":"#DIV/0!"}},{"$f":"IF007_Analisis!$F$22","v":{"$error":"#DIV/0!"}},{"$f":"IF007_Analisis!$F$22","v":{"$error":"#DIV/0!"}},{"$f":"IF007_Analisis!$F$22","v":{"$error":"#DIV/0!"}},{"$f":"IF007_Analisis!$F$22","v":{"$error":"#DIV/0!"}}]
[null,null,"Indicador de Plan de Emergencias y Contingencias para Acueducto — PECAC","IF008",null,null,"(∑5t=1Reporter / 5) x 100","Eficiencia en la Planificación y Ejecución de Inversiones","Subgerente Técnico y Operativo  - Auxiliar Técnica","X",null,null,null,null,null,null,null,null,1,1,{"$f":"IF008_Analisis!$D$21","v":0},{"$f":"IF008_Analisis!$D$21","v":0},{"$f":"IF008_Analisis!$D$21","v":0},{"$f":"IF008_Analisis!$D$21","v":0},{"$f":"IF008_Analisis!$D$21","v":0},{"$f":"IF008_Analisis!$D$21","v":0},{"$f":"IF008_Analisis!$D$22","v":0},{"$f":"IF008_Analisis!$D$22","v":0},{"$f":"IF008_Analisis!$D$22","v":0},{"$f":"IF008_Analisis!$D$22","v":0},{"$f":"IF008_Analisis!$D$22","v":0},{"$f":"IF008_Analisis!$D$22","v":0}]
[null,null,"Agua Controlada en Puntos de Uso y Consumo — ACPUC","IF009",null,null,"(CFM + CFNM / VE - (IPUF* x NS)) x 100 ","Eficiencia en la Operación","Profesional en control de pérdidas y agua no contabilizada ","X",null,null,null,null,null,null,null,null,0.80649999999999999,1,{"$f":"IF009_Analisis!$H$21","v":{"$error":"#DIV/0!"}},{"$f":"IF009_Analisis!$H$22","v":{"$error":"#DIV/0!"}},{"$f":"IF009_Analisis!$H$23","v":{"$error":"#DIV/0!"}},{"$f":"IF009_Analisis!$H$24","v":{"$error":"#DIV/0!"}},{"$f":"IF009_Analisis!$H$25","v":{"$error":"#DIV/0!"}},{"$f":"IF009_Analisis!$H$26","v":{"$error":"#DIV/0!"}},{"$f":"IF009_Analisis!$H$27","v":{"$error":"#DIV/0!"}},{"$f":"IF009_Analisis!$H$28","v":{"$error":"#DIV/0!"}},{"$f":"IF009_Analisis!$H$29","v":{"$error":"#DIV/0!"}},{"$f":"IF009_Analisis!$H$30","v":{"$error":"#DIV/0!"}},{"$f":"IF009_Analisis!$H$31","v":{"$error":"#DIV/0!"}},{"$f":"IF009_Analisis!$H$32","v":{"$error":"#DIV/0!"}}]
[null,null,"Modelo Hidráulico — MH","IF010",null,null,"(Si se tiene = 1: No riene o no reporta = 0)","Eficiencia en la Operación","Profesional en control de pérdidas y agua no contabilizada ","X",null,null,null,null,null,null,null,null,1,1,{"$f":"IF010_Analisis!$D$21","v":0},{"$f":"IF010_Analisis!$D$22","v":0},{"$f":"IF010_Analisis!$D$23","v":0},{"$f":"IF010_Analisis!$D$24","v":0},{"$f":"IF010_Analisis!$D$25","v":0},{"$f":"IF010_Analisis!$D$26","v":0},{"$f":"IF010_Analisis!$D$27","v":0},{"$f":"IF010_Analisis!$D$28","v":0},{"$f":"IF010_Analisis!$D$29","v":0},{"$f":"IF010_Analisis!$D$30","v":0},{"$f":"IF010_Analisis!$D$31","v":0},{"$f":"IF010_Analisis!$D$32","v":0}]
[null,null,"Fallas en la Red Transporte y Distribución de Acueducto — FAC","IF011",null,null,"NFRTi + NFRDi/ LRTi + LRDi","Eficiencia en la Operación","Profesional Especializado de Acueducto ","X",null,null,null,null,null,null,null,null,0.14000000000000001,0.14000000000000001,{"$f":"IF011_Analisis!$G$21","v":{"$error":"#DIV/0!"}},{"$f":"IF011_Analisis!$G$22","v":{"$error":"#DIV/0!"}},{"$f":"IF011_Analisis!$G$23","v":{"$error":"#DIV/0!"}},{"$f":"IF011_Analisis!$G$24","v":{"$error":"#DIV/0!"}},{"$f":"IF011_Analisis!$G$25","v":{"$error":"#DIV/0!"}},{"$f":"IF011_Analisis!$G$26","v":{"$error":"#DIV/0!"}},{"$f":"IF011_Analisis!$G$27","v":{"$error":"#DIV/0!"}},{"$f":"IF011_Analisis!$G$28","v":{"$error":"#DIV/0!"}},{"$f":"IF011_Analisis!$G$29","v":{"$error":"#DIV/0!"}},{"$f":"IF011_Analisis!$G$30","v":{"$error":"#DIV/0!"}},{"$f":"IF011_Analisis!$G$31","v":{"$error":"#DIV/0!"}},{"$f":"IF011_Analisis!$G$32","v":{"$error":"#DIV/0!"}}]
[null,null,"Consumo Energético del Sistema de Tratamiento de Agua Potable Acueducto — CEAC","IF012",null,null,"EET/ VTPA","Eficiencia en la Operación","Profesional Planta de Tratamiento ","X",null,null,null,null,null,null,null,null,0.01,0.01,{"$f":"IF012_Analisis!$E$21","v":{"$error":"#DIV/0!"}},{"$f":"IF012_Analisis!$E$22","v":{"$error":"#DIV/0!"}},{"$f":"IF012_Analisis!$E$23","v":{"$error":"#DIV/0!"}},{"$f":"IF012_Analisis!$E$24","v":{"$error":"#DIV/0!"}},{"$f":"IF012_Analisis!$E$25","v":{"$error":"#DIV/0!"}},{"$f":"IF012_Analisis!$E$26","v":{"$error":"#DIV/0!"}},{"$f":"IF012_Analisis!$E$27","v":{"$error":"#DIV/0!"}},{"$f":"IF012_Analisis!$E$28","v":{"$error":"#DIV/0!"}},{"$f":"IF012_Analisis!$E$29","v":{"$error":"#DIV/0!"}},{"$f":"IF012_Analisis!$E$30","v":{"$error":"#DIV/0!"}},{"$f":"IF012_Analisis!$E$31","v":{"$error":"#DIV/0!"}},{"$f":"IF012_Analisis!$E$32","v":{"$error":"#DIV/0!"}}]
[null,null,"Cumplimiento del PUEAA — CPUEAA","IF013",null,null,"  0 Sino se cumplió lo establecido por el PUEAA para el periodo de evaluación\n 100 Si se cumplió lo establecido por el PUEAA para el periodo de evaluación","Gobierno y Transparencia","Profesional en control de pérdidas y agua no contabilizada ","X",null,null,null,null,null,null,null,null,100,100,{"$f":"IF013_Analisis!$D$21","v":0},{"$f":"IF013_Analisis!$D$21","v":0},{"$f":"IF013_Analisis!$D$21","v":0},{"$f":"IF013_Analisis!$D$21","v":0},{"$f":"IF013_Analisis!$D$21","v":0},{"$f":"IF013_Analisis!$D$21","v":0},{"$f":"IF013_Analisis!$D$22","v":0},{"$f":"IF013_Analisis!$D$22","v":0},{"$f":"IF013_Analisis!$D$22","v":0},{"$f":"IF013_Analisis!$D$22","v":0},{"$f":"IF013_Analisis!$D$22","v":0},{"$f":"IF013_Analisis!$D$22","v":0}]
[null,null,"Utilización del Recurso Agua - UA","IF014",null,null,"(VCMi / VCAAi) x 100","Sostenibilidad Ambiental","Profesional en control de pérdidas y agua no contabilizada ","X",null,null,null,null,null,null,null,null,97.62,"<=100%",{"$f":"IF014_Analisis!$E$21","v":{"$error":"#DIV/0!"}},{"$f":"IF014_Analisis!$E$22","v":{"$error":"#DIV/0!"}},{"$f":"IF014_Analisis!$E$23","v":{"$error":"#DIV/0!"}},{"$f":"IF014_Analisis!$E$24","v":{"$error":"#DIV/0!"}},{"$f":"IF014_Analisis!$E$25","v":{"$error":"#DIV/0!"}},{"$f":"IF014_Analisis!$E$26","v":{"$error":"#DIV/0!"}},{"$f":"IF014_Analisis!$E$27","v":{"$error":"#DIV/0!"}},{"$f":"IF014_Analisis!$E$28","v":{"$error":"#DIV/0!"}},{"$f":"IF014_Analisis!$E$29","v":{"$error":"#DIV/0!"}},{"$f":"IF014_Analisis!$E$30","v":{"$error":"#DIV/0!"}},{"$f":"IF014_Analisis!$E$31","v":{"$error":"#DIV/0!"}},{"$f":"IF014_Analisis!$E$32","v":{"$error":"#DIV/0!"}}]
[null,null,"Reporte de Afectación Hídrica asociada a Fenómenos Climáticos - RAHC","IF015",null,null,"(∑ETe=1(NHAFe * NAFe / Nhtg * NSg)) x (24 h/día)","Sostenibilidad Ambiental","Profesional Especializado de Acueducto ","X",null,null,null,null,null,null,null,null,0,0,{"$f":"IF015_Analisis!$G$21","v":{"$error":"#DIV/0!"}},{"$f":"IF015_Analisis!$G$22","v":{"$error":"#DIV/0!"}},{"$f":"IF015_Analisis!$G$23","v":{"$error":"#DIV/0!"}},{"$f":"IF015_Analisis!$G$24","v":{"$error":"#DIV/0!"}},{"$f":"IF015_Analisis!$G$25","v":{"$error":"#DIV/0!"}},{"$f":"IF015_Analisis!$G$26","v":{"$error":"#DIV/0!"}},{"$f":"IF015_Analisis!$G$27","v":{"$error":"#DIV/0!"}},{"$f":"IF015_Analisis!$G$28","v":{"$error":"#DIV/0!"}},{"$f":"IF015_Analisis!$G$29","v":{"$error":"#DIV/0!"}},{"$f":"IF015_Analisis!$G$30","v":{"$error":"#DIV/0!"}},{"$f":"IF015_Analisis!$G$31","v":{"$error":"#DIV/0!"}},{"$f":"IF015_Analisis!$G$32","v":{"$error":"#DIV/0!"}}]
[null,null,"Cumplimiento Metas en Reducción de Pérdidas -  CMPER","IF016",null,null,"(Metap / Realp) x 100"," Gestión Tarifaria","Profesional en control de pérdidas y agua no contabilizada ","X",null,null,null,null,null,null,null,null,1,1,{"$f":"IF016_Analisis!$E$21","v":{"$error":"#DIV/0!"}},{"$f":"IF016_Analisis!$E$22","v":{"$error":"#DIV/0!"}},{"$f":"IF016_Analisis!$E$23","v":{"$error":"#DIV/0!"}},{"$f":"IF016_Analisis!$E$24","v":{"$error":"#DIV/0!"}},{"$f":"IF016_Analisis!$E$25","v":{"$error":"#DIV/0!"}},{"$f":"IF016_Analisis!$E$26","v":{"$error":"#DIV/0!"}},{"$f":"IF016_Analisis!$E$27","v":{"$error":"#DIV/0!"}},{"$f":"IF016_Analisis!$E$28","v":{"$error":"#DIV/0!"}},{"$f":"IF016_Analisis!$E$29","v":{"$error":"#DIV/0!"}},{"$f":"IF016_Analisis!$E$30","v":{"$error":"#DIV/0!"}},{"$f":"IF016_Analisis!$E$31","v":{"$error":"#DIV/0!"}},{"$f":"IF016_Analisis!$E$32","v":{"$error":"#DIV/0!"}}]
[null,null,"IANC","IF017",null,null,"M3 comprados-M3 factrados/M3 comprados*100",null,"Profesional agua no contabilizada",null,null,null,null,null,null,"X",null,null,0.5,null,{"$f":"IF017_Analisis!$E$21","v":0.48561760669860105},{"$f":"IF017_Analisis!$E$22","v":0.44699913741004227},{"$f":"IF017_Analisis!$E$23","v":0.45046406772699188},{"$f":"IF017_Analisis!$E$24","v":0.46884598967372954},{"$f":"IF017_Analisis!$E$25","v":0.46735651098125647},{"$f":"IF017_Analisis!$E$26","v":0.4719102377644952},{"$f":"IF017_Analisis!$E$27","v":0.47383338631416394},{"$f":"IF017_Analisis!$E$28","v":0.45646880144250646},{"$f":"IF017_Analisis!$E$29","v":0.47869935861005114},{"$f":"IF017_Analisis!$E$30","v":0.46783273797151609},{"$f":"IF017_Analisis!$E$31","v":0.45928143510925973},{"$f":"IF017_Analisis!$E$32","v":0.45646759015874222}]
[null,null,"IANC villa santana","IF018",null,null,"(M3 Agua cruda entrante a PTAP Villasantana-M3 agua tratada saliente )/M3 Agua cruda entrante",null,"Profesional Jefe de planta Villa Santana",null,null,null,null,null,null,null,"X",null,0.05,0.05,{"$f":"IF018_Analisis!$E$21","v":3.9568020696501463E-2},{"$f":"IF018_Analisis!$E$22","v":0.10614910354688895},{"$f":"IF018_Analisis!$E$23","v":0.15091881196228413},{"$f":"IF018_Analisis!$E$24","v":0.11643392639543285},{"$f":"IF018_Analisis!$E$25","v":8.7489856864487667E-2},{"$f":"IF018_Analisis!$E$26","v":9.1140134436501111E-2},{"$f":"IF018_Analisis!$E$27","v":9.6238717518749739E-2},{"$f":"IF018_Analisis!$E$28","v":8.7239591444334394E-2},{"$f":"IF018_Analisis!$E$29","v":3.6639823880362396E-2},{"$f":"IF018_Analisis!$E$30","v":3.7831195207856647E-2},{"$f":"IF018_Analisis!$E$31","v":8.6274924000556336E-2},{"$f":"IF018_Analisis!$E$32","v":9.5899589505692329E-2}]
[null,null,"IPUF","IF019",null,null,"Perdidas en M3 mes/Número de suscriptores mes",null,"Profesional agua no contabilizada",null,null,"X",null,null,null,null,null,null,11.21,6,{"$f":"IF019_Analisis!$E$21","v":10.78200155159038},{"$f":"IF019_Analisis!$E$22","v":8.7819117077123625},{"$f":"IF019_Analisis!$E$23","v":9.2189824666303224},{"$f":"IF019_Analisis!$E$24","v":9.0559022589434832},{"$f":"IF019_Analisis!$E$25","v":9.5733014656778312},{"$f":"IF019_Analisis!$E$26","v":9.653576634644093},{"$f":"IF019_Analisis!$E$27","v":10.271240686977508},{"$f":"IF019_Analisis!$E$28","v":9.6870726942932883},{"$f":"IF019_Analisis!$E$29","v":10.242044191217342},{"$f":"IF019_Analisis!$E$30","v":9.9571844993141294},{"$f":"IF019_Analisis!$E$31","v":9.2517722077129196},{"$f":"IF019_Analisis!$E$32","v":9.5021752326993116}]
[null,null,"ISUF ","IF020",null,null,"Suministro en M3 mes/Número de suscriptores mes",null,"Profesional agua no contabilizada",null,null,"X",null,null,null,null,null,null,24.1,null,{"$f":"IF020_Analisis!$E$21","v":22.202694125114608},{"$f":"IF020_Analisis!$E$22","v":19.646372828805976},{"$f":"IF020_Analisis!$E$23","v":20.465522395934087},{"$f":"IF020_Analisis!$E$24","v":19.315302803902611},{"$f":"IF020_Analisis!$E$25","v":20.483937295701381},{"$f":"IF020_Analisis!$E$26","v":20.456383146876483},{"$f":"IF020_Analisis!$E$27","v":21.676903704221903},{"$f":"IF020_Analisis!$E$28","v":21.221762941258547},{"$f":"IF020_Analisis!$E$29","v":21.395566981656476},{"$f":"IF020_Analisis!$E$30","v":21.28364197530864},{"$f":"IF020_Analisis!$E$31","v":20.144015195197234},{"$f":"IF020_Analisis!$E$32","v":20.816757722919196}]
[null,null,"ICUF","IF021",null,null,"Facturación en M3 mes/Número de suscriptores mes",null,"Profesional especializado control y seguimiento",null,null,"X",null,null,null,null,null,null,12.89,null,{"$f":"IF021_Analisis!$E$21","v":11.42067494181536},{"$f":"IF021_Analisis!$E$22","v":10.864461121093612},{"$f":"IF021_Analisis!$E$23","v":11.246539929303765},{"$f":"IF021_Analisis!$E$24","v":10.259400544959128},{"$f":"IF021_Analisis!$E$25","v":10.91063583002355},{"$f":"IF021_Analisis!$E$26","v":10.802806512232388},{"$f":"IF021_Analisis!$E$27","v":11.405663017244395},{"$f":"IF021_Analisis!$E$28","v":11.534690246965257},{"$f":"IF021_Analisis!$E$29","v":11.153522790439133},{"$f":"IF021_Analisis!$E$30","v":11.326457475994513},{"$f":"IF021_Analisis!$E$31","v":10.892242987484313},{"$f":"IF021_Analisis!$E$32","v":11.314582490219884},{"$f":"+AF25","v":11.314582490219884},{"$f":"+AG25/S25","v":0.87777986735608093}]
[null,null,"Continuidad acueducto (ICTAC)","IF022",null,null,"1-(Imm+Inn)",null,"Profesional especializado acueducto",null,null,null,null,null,null,"X",null,null,0.98360000000000003,0.98360000000000003,{"$f":"IF022_Analisis!$E$21","v":0.99874315284818049},{"$f":"IF022_Analisis!$E$22","v":0.99828781777363551},{"$f":"IF022_Analisis!$E$23","v":0.99816938475762473},{"$f":"IF022_Analisis!$E$24","v":0.99946860729925868},{"$f":"IF022_Analisis!$E$25","v":0.99894938506056319},{"$f":"IF022_Analisis!$E$26","v":0.9986435450598129},{"$f":"IF022_Analisis!$E$27","v":0.99942829784427489},{"$f":"IF022_Analisis!$E$28","v":0.99707936038132605},{"$f":"IF022_Analisis!$E$29","v":0.9957365268047752},{"$f":"IF022_Analisis!$E$30","v":0.99782537373045765},{"$f":"IF022_Analisis!$E$31","v":0.99867664403699752},{"$f":"IF022_Analisis!$E$32","v":0.99870726136034194}]
[null,null,"Indicador de continuidad (ICON)","IF023",null,null,"1-((Σ Hi*Si)/(S*(Σ dci -(m+dfm)))",null,"Profesional especializado acueducto",null,null,"X",null,null,null,null,null,null,0.98360000000000003,0.98360000000000003,{"$f":"IF023_Analisis!$F$21","v":{"$error":"#DIV/0!"}},{"$f":"IF023_Analisis!$F$22","v":{"$error":"#DIV/0!"}},{"$f":"IF023_Analisis!$F$23","v":{"$error":"#DIV/0!"}},{"$f":"IF023_Analisis!$F$24","v":{"$error":"#DIV/0!"}},{"$f":"IF023_Analisis!$F$25","v":{"$error":"#DIV/0!"}},{"$f":"IF023_Analisis!$F$26","v":{"$error":"#DIV/0!"}},{"$f":"IF023_Analisis!$F$27","v":{"$error":"#DIV/0!"}},{"$f":"IF023_Analisis!$F$28","v":{"$error":"#DIV/0!"}},{"$f":"IF023_Analisis!$F$29","v":{"$error":"#DIV/0!"}},{"$f":"IF023_Analisis!$F$30","v":{"$error":"#DIV/0!"}},{"$f":"IF023_Analisis!$F$31","v":{"$error":"#DIV/0!"}},{"$f":"IF023_Analisis!$F$32","v":{"$error":"#DIV/0!"}}]
[null,null,"Cobertura real de mercado (ICBNAC)","IF024",null,null,"(SEACi/Di) No. Suscriptores Serviciudad /Dato SUI Energia  No. Suscriptores",null,"Auxiliar administrativo comercial",null,null,"X",null,null,null,"X",null,null,0.72,1,{"$f":"IF024_Analisis!$E$21","v":0.73980223302109249},{"$f":"IF024_Analisis!$E$22","v":0.73760895738920296},{"$f":"IF024_Analisis!$E$23","v":0.73609006267323229},{"$f":"IF024_Analisis!$E$24","v":0.73396932119928526},{"$f":"IF024_Analisis!$E$25","v":0.73171175779572706},{"$f":"IF024_Analisis!$E$26","v":0.72977488147230563},{"$f":"IF024_Analisis!$E$27","v":0.73039193304012617},{"$f":"IF024_Analisis!$E$28","v":0.73007821780329174},{"$f":"IF024_Analisis!$E$29","v":0.73053024950541823},{"$f":"IF024_Analisis!$E$30","v":0.73756052722159571},{"$f":"IF024_Analisis!$E$31","v":0.74260235517012529},{"$f":"IF024_Analisis!$E$32","v":0.74423115605460777}]
[null,"ALCANTARILLADO","Ejecución de las inversiones Alcantarillado","IF025",null,null,"Inversión realizada Alcantarillado/Inversión presupuestada Alcantarillado",null,"Profesional presupuesto",null,null,null,null,null,null,"X",null,null,1,1,{"$f":"IF025_Analisis!$E$21","v":0},{"$f":"IF025_Analisis!$E$22","v":0},{"$f":"IF025_Analisis!$E$23","v":6.9808586674279449E-3},{"$f":"IF025_Analisis!$E$24","v":6.9808586674279449E-3},{"$f":"IF025_Analisis!$E$25","v":6.9808586674279449E-3},{"$f":"IF025_Analisis!$E$26","v":0.18776792617809257},{"$f":"IF025_Analisis!$E$27","v":0.35840736188967248},{"$f":"IF025_Analisis!$E$28","v":0.4205451927478836},{"$f":"IF025_Analisis!$E$29","v":0.4867125692382625},{"$f":"IF025_Analisis!$E$30","v":0.68466145984911164},{"$f":"IF025_Analisis!$E$31","v":0.79380208176067035},{"$f":"IF025_Analisis!$E$32","v":0.67096594313035918},null,null,"Los datos son recolectados de la Ejecución Presupuestal que se genera mes a mes a través del Sistema Financiero ORION, y la misma incluye tanto recursos propios como convenios, todo directamente relacionado con la prestacion de los servicios Para el mes de Dicbre-2020 se suscriben 2 convenios con la CARDER Conv-458-2020 Carder- Obras de estabilización,drenajes y mejoramiento de cauce, sector los cerezos. Conv-506-2020 Carder- Obras de estabilización y saneamiento quebradas Dosquebradas,Vibora,Cordoncillo y Frailes. Por valor de $2.225.010.124 para ser ejecutados en la vigencia 2021.  "]
[null,null,"Indice de Inversiones Acumuladas de Alcantarillado — IIAALC","IF026",null,null,"(∑aa=1VPIejecp  / ∑aa=1VPIproyp) x 100       ","Eficiencia en la Planificación y Ejecución de Inversiones","Profesional en Gestión Técnica de Proyectos ","X",null,null,null,null,null,null,null,null,null,1,{"$f":"IF026_Analisis!$E$21","v":{"$error":"#DIV/0!"}},{"$f":"IF026_Analisis!$E$21","v":{"$error":"#DIV/0!"}},{"$f":"IF026_Analisis!$E$21","v":{"$error":"#DIV/0!"}},{"$f":"IF026_Analisis!$E$21","v":{"$error":"#DIV/0!"}},{"$f":"IF026_Analisis!$E$21","v":{"$error":"#DIV/0!"}},{"$f":"IF026_Analisis!$E$21","v":{"$error":"#DIV/0!"}},{"$f":"IF026_Analisis!$E$22","v":{"$error":"#DIV/0!"}},{"$f":"IF026_Analisis!$E$22","v":{"$error":"#DIV/0!"}},{"$f":"IF026_Analisis!$E$22","v":{"$error":"#DIV/0!"}},{"$f":"IF026_Analisis!$E$22","v":{"$error":"#DIV/0!"}},{"$f":"IF026_Analisis!$E$22","v":{"$error":"#DIV/0!"}},{"$f":"IF026_Analisis!$E$22","v":{"$error":"#DIV/0!"}},null,null,null,null,"del Sistema Financiero ORION, y la misma incluye tanto recursos propios como convenios, "]
[null,null,"Indice de Ejecución Anual de Inversiones de Alcantarillado — IEAIAL","IF027",null,null,"(∑aa=1(VEPa x PAa) / ∑aa=1VPa) x 100 ","Eficiencia en la Planificación y Ejecución de Inversiones","Profesional en Gestión Técnica de Proyectos ","X",null,null,null,null,null,null,null,null,null,1,{"$f":"IF027_Analisis!$F$21","v":{"$error":"#DIV/0!"}},{"$f":"IF027_Analisis!$F$21","v":{"$error":"#DIV/0!"}},{"$f":"IF027_Analisis!$F$21","v":{"$error":"#DIV/0!"}},{"$f":"IF027_Analisis!$F$21","v":{"$error":"#DIV/0!"}},{"$f":"IF027_Analisis!$F$21","v":{"$error":"#DIV/0!"}},{"$f":"IF027_Analisis!$F$21","v":{"$error":"#DIV/0!"}},{"$f":"IF027_Analisis!$F$22","v":{"$error":"#DIV/0!"}},{"$f":"IF027_Analisis!$F$22","v":{"$error":"#DIV/0!"}},{"$f":"IF027_Analisis!$F$22","v":{"$error":"#DIV/0!"}},{"$f":"IF027_Analisis!$F$22","v":{"$error":"#DIV/0!"}},{"$f":"IF027_Analisis!$F$22","v":{"$error":"#DIV/0!"}},{"$f":"IF027_Analisis!$F$22","v":{"$error":"#DIV/0!"}},null,null,null,null,"todo directamente relacionado con la prestacion de los servicios "]
[null,null,"Indicador de Plan de Emergencias y Contingencias para Alcantarillado — PECAL ","IF028",null,null,"PECAL  (CRA 906/2019)","Eficiencia en la Planificación y Ejecución de Inversiones","Subgerente Técnico y Operativo  - Auxiliar Técnica","X",null,null,null,null,null,null,null,null,1,1,{"$f":"IF028_Analisis!$D$21","v":0},{"$f":"IF028_Analisis!$D$21","v":0},{"$f":"IF028_Analisis!$D$21","v":0},{"$f":"IF028_Analisis!$D$21","v":0},{"$f":"IF028_Analisis!$D$21","v":0},{"$f":"IF028_Analisis!$D$21","v":0},{"$f":"IF028_Analisis!$D$22","v":0},{"$f":"IF028_Analisis!$D$22","v":0},{"$f":"IF028_Analisis!$D$22","v":0},{"$f":"IF028_Analisis!$D$22","v":0},{"$f":"IF028_Analisis!$D$22","v":0},{"$f":"IF028_Analisis!$D$22","v":0},null,null,null,null,"Para el mes de Dicbre-2020 se suscriben 2 convenios con la CARDER "]
[null,null,"Fallas en la Red de Alcantarillado — FAL","IF029",null,null,"NTFi / LRi ","Eficiencia en la Operación","Profesional Especializado de Alcantarillado ","X",null,null,null,null,null,null,null,null,4.4999999999999998E-2,null,{"$f":"IF029_Analisis!$E$21","v":{"$error":"#DIV/0!"}},{"$f":"IF029_Analisis!$E$22","v":{"$error":"#DIV/0!"}},{"$f":"IF029_Analisis!$E$23","v":{"$error":"#DIV/0!"}},{"$f":"IF029_Analisis!$E$24","v":{"$error":"#DIV/0!"}},{"$f":"IF029_Analisis!$E$25","v":{"$error":"#DIV/0!"}},{"$f":"IF029_Analisis!$E$26","v":{"$error":"#DIV/0!"}},{"$f":"IF029_Analisis!$E$27","v":{"$error":"#DIV/0!"}},{"$f":"IF029_Analisis!$E$28","v":{"$error":"#DIV/0!"}},{"$f":"IF029_Analisis!$E$29","v":{"$error":"#DIV/0!"}},{"$f":"IF029_Analisis!$E$30","v":{"$error":"#DIV/0!"}},{"$f":"IF029_Analisis!$E$31","v":{"$error":"#DIV/0!"}},{"$f":"IF029_Analisis!$E$32","v":{"$error":"#DIV/0!"}},null,null,null,null,"Conv-458-2020 Carder- Obras de estabilización,drenajes y mejoramiento de cauce, sector los cerezos."]
[null,null,"Aprobación del PSMV — AproPSMV","IF030",null,null,"*0 Si el PSMV No se ha Presentado o no reporta información\n*50, Si el PSMV fue Presentado y se espera aprobación\n*100, Si el PMSV se encuentra Aprobado \n*100, Si el prestador cuenta con un Permiso de Vertimiento","Sosteniblidad Ambiental","Profesional Especializado de Alcantarillado ","X",null,null,null,null,null,null,null,null,100,100,{"$f":"IF030_Analisis!$D$21","v":0},{"$f":"IF030_Analisis!$D$21","v":0},{"$f":"IF030_Analisis!$D$21","v":0},{"$f":"IF030_Analisis!$D$21","v":0},{"$f":"IF030_Analisis!$D$21","v":0},{"$f":"IF030_Analisis!$D$21","v":0},{"$f":"IF030_Analisis!$D$22","v":0},{"$f":"IF030_Analisis!$D$22","v":0},{"$f":"IF030_Analisis!$D$22","v":0},{"$f":"IF030_Analisis!$D$22","v":0},{"$f":"IF030_Analisis!$D$22","v":0},{"$f":"IF030_Analisis!$D$22","v":0},null,null,null,null,"Conv-506-2020 Carder- Obras de estabilización y saneamiento quebradas Dosquebradas,Vibora,Cordoncillo y Frailes."]
[null,null,"Cumplimiento del PSMV -  CPSMV","IF031",null,null,"0 , Sino se cumplió lo establecido por el PSMV para el periodo de evaluación \n*100,  Si se cumplió lo establecido por el PSMV para el periodo de evaluación    ","Sosteniblidad Ambiental","Profesional Especializado de Alcantarillado ","X",null,null,null,null,null,null,null,null,100,100,{"$f":"IF031_Analisis!$D$21","v":0},{"$f":"IF031_Analisis!$D$21","v":0},{"$f":"IF031_Analisis!$D$21","v":0},{"$f":"IF031_Analisis!$D$21","v":0},{"$f":"IF031_Analisis!$D$21","v":0},{"$f":"IF031_Analisis!$D$21","v":0},{"$f":"IF031_Analisis!$D$22","v":0},{"$f":"IF031_Analisis!$D$22","v":0},{"$f":"IF031_Analisis!$D$22","v":0},{"$f":"IF031_Analisis!$D$22","v":0},{"$f":"IF031_Analisis!$D$22","v":0},{"$f":"IF031_Analisis!$D$22","v":0},null,null,null,null,"Por valor de $2.225.010.124 para ser ejecutados en la vigencia 2021."]
[null,null,"Continuidad alcantarillado","IF032",null,null,"Dias de prestación del servicio/Dias totales del año ",null,"Profesional especializado alcantarillado",null,null,"X",null,null,null,null,null,null,0.98360000000000003,0.98360000000000003,{"$f":"IF032_Analisis!$E$21","v":1},{"$f":"IF032_Analisis!$E$22","v":1},{"$f":"IF032_Analisis!$E$23","v":1},{"$f":"IF032_Analisis!$E$24","v":1},{"$f":"IF032_Analisis!$E$25","v":1},{"$f":"IF032_Analisis!$E$26","v":1},{"$f":"IF032_Analisis!$E$27","v":1},{"$f":"IF032_Analisis!$E$28","v":1},{"$f":"IF032_Analisis!$E$29","v":1},{"$f":"IF032_Analisis!$E$30","v":1},{"$f":"IF032_Analisis!$E$31","v":1},{"$f":"IF032_Analisis!$E$32","v":1}]
[null,null,"Calidad alcantarillado cumplimiento PSMV","IF033",null,null,"Obras ejecutadas/Obras programadas POIR (mts L)",null,"Profesional especializado alcantarillado",null,null,"X",null,null,null,null,null,null,0.65539999999999998,1,{"$f":"IF033_Analisis!$E$21","v":0.38794729542302359},{"$f":"IF033_Analisis!$E$22","v":0.41790568654646321},{"$f":"IF033_Analisis!$E$23","v":0.62965325936199723},{"$f":"IF033_Analisis!$E$24","v":0.62965325936199723},{"$f":"IF033_Analisis!$E$25","v":0.62965325936199723},{"$f":"IF033_Analisis!$E$26","v":0.73498844197873325},{"$f":"IF033_Analisis!$E$27","v":{"$error":"#DIV/0!"}},{"$f":"IF033_Analisis!$E$28","v":{"$error":"#DIV/0!"}},{"$f":"IF033_Analisis!$E$29","v":{"$error":"#DIV/0!"}},{"$f":"IF033_Analisis!$E$30","v":{"$error":"#DIV/0!"}},{"$f":"IF033_Analisis!$E$31","v":{"$error":"#DIV/0!"}},{"$f":"IF033_Analisis!$E$32","v":{"$error":"#DIV/0!"}}]
[null,null,"Cobertura nominal Alcantarillado (ICBNAL)","IF034",null,null,"(SEACi/Di) No.Suscriptores alcantarillado / No. Domicilios del Municipio",null,"Auxiliar administrativo comercial",null,null,"X",null,null,null,"X",null,null,0.83,1,{"$f":"IF034_Analisis!$E$21","v":0.83291426189142359},{"$f":"IF034_Analisis!$E$22","v":0.83378778741262805},{"$f":"IF034_Analisis!$E$23","v":0.8318814538584145},{"$f":"IF034_Analisis!$E$24","v":0.82940917358804667},{"$f":"IF034_Analisis!$E$25","v":0.82676711437093509},{"$f":"IF034_Analisis!$E$26","v":0.82447868748430597},{"$f":"IF034_Analisis!$E$27","v":0.82456320590628807},{"$f":"IF034_Analisis!$E$28","v":0.82393724136201119},{"$f":"IF034_Analisis!$E$29","v":0.82399492539987573},{"$f":"IF034_Analisis!$E$30","v":0.83065878517910685},{"$f":"IF034_Analisis!$E$31","v":0.83514619402820289},{"$f":"IF034_Analisis!$E$32","v":0.83634970768321526}]
[null,"ASEO","Ejecución de las inversiones Aseo","IF035",null,null,"Inversión realizada Aseo/Inversión presupuestada Aseo",null,"Profesional presupuesto",null,"X",null,null,"X",null,"X",null,null,1,1,{"$f":"IF035_Analisis!$E$21","v":0},{"$f":"IF035_Analisis!$E$22","v":0},{"$f":"IF035_Analisis!$E$23","v":0.92842317543859654},{"$f":"IF035_Analisis!$E$24","v":0.92842317543859654},{"$f":"IF035_Analisis!$E$25","v":0.92842317543859654},{"$f":"IF035_Analisis!$E$26","v":0.99915786666666662},{"$f":"IF035_Analisis!$E$27","v":0.99915786666666662},{"$f":"IF035_Analisis!$E$28","v":0.99915786666666662},{"$f":"IF035_Analisis!$E$29","v":0.99915786666666662},{"$f":"IF035_Analisis!$E$30","v":0.99915786666666662},{"$f":"IF035_Analisis!$E$31","v":0.99915786666666662},{"$f":"IF035_Analisis!$E$32","v":0.99915786666666662},null,null,"Los datos son recolectados de la Ejecución Presupuestal que se genera mes a mes a través del Sistema Financiero ORION, y la misma incluye tanto recursos propios como convenios, todo directamente relacionado con la prestacion de los servicios "]
[null,null,"Cobertura  recolección","IF036",null,null,"Basura recogida/Basura producida",null,"Profesional de aseo",null,"X",null,null,"X",null,"X",null,null,0.88,1,{"$f":"IF036_Analisis!$E$21","v":0.97049024512256132},{"$f":"IF036_Analisis!$E$22","v":0.87800525235673543},{"$f":"IF036_Analisis!$E$23","v":0.89981738250741039},{"$f":"IF036_Analisis!$E$24","v":0.79656701275027542},{"$f":"IF036_Analisis!$E$25","v":0.86568656598869054},{"$f":"IF036_Analisis!$E$26","v":0.95388757045805872},{"$f":"IF036_Analisis!$E$27","v":1.0114208847500594},{"$f":"IF036_Analisis!$E$28","v":0.97664093220272952},{"$f":"IF036_Analisis!$E$29","v":1.0028878691920844},{"$f":"IF036_Analisis!$E$30","v":0.9999343449391771},{"$f":"IF036_Analisis!$E$31","v":0.95489180304277455},{"$f":"IF036_Analisis!$E$32","v":1.0543985438672132}]
[null,null,"Cobertura de mercado aseo","IF037",null,null,"Suscriptores Aseo/Domicilios Dosquebradas",null,"Auxiliar administrativo comercial",null,null,null,null,"X",null,null,null,null,0.86,1,{"$f":"IF037_Analisis!$E$21","v":0.86263142123845382},{"$f":"IF037_Analisis!$E$22","v":0.85988623933235642},{"$f":"IF037_Analisis!$E$23","v":0.85784300244794698},{"$f":"IF037_Analisis!$E$24","v":0.85531169901356796},{"$f":"IF037_Analisis!$E$25","v":0.85260840303859053},{"$f":"IF037_Analisis!$E$26","v":0.89982697109969312},{"$f":"IF037_Analisis!$E$27","v":0.89977518985778848},{"$f":"IF037_Analisis!$E$28","v":0.90043616096982926},{"$f":"IF037_Analisis!$E$29","v":0.90017104448391294},{"$f":"IF037_Analisis!$E$30","v":0.9063879651594704},{"$f":"IF037_Analisis!$E$31","v":0.91041904053176914},{"$f":"IF037_Analisis!$E$32","v":0.91132059587081915}]
[null,null,"Continuidad o frecuencia recolección (IFR-NA)","IF038",null,null,"IFR_NAl=1-(Σ NRDls)/((ndm/7)*FCCUl)",null,"Profesional de aseo",null,null,"X",null,"X",null,null,null,null,1,0.98360000000000003,{"$f":"IF038_Analisis!$F$21","v":1},{"$f":"IF038_Analisis!$F$22","v":1},{"$f":"IF038_Analisis!$F$23","v":1},{"$f":"IF038_Analisis!$F$24","v":1},{"$f":"IF038_Analisis!$F$25","v":1},{"$f":"IF038_Analisis!$F$26","v":1},{"$f":"IF038_Analisis!$F$27","v":{"$error":"#DIV/0!"}},{"$f":"IF038_Analisis!$F$28","v":{"$error":"#DIV/0!"}},{"$f":"IF038_Analisis!$F$29","v":{"$error":"#DIV/0!"}},{"$f":"IF038_Analisis!$F$30","v":{"$error":"#DIV/0!"}},{"$f":"IF038_Analisis!$F$31","v":{"$error":"#DIV/0!"}},{"$f":"IF038_Analisis!$F$32","v":{"$error":"#DIV/0!"}}]
[null,null,"Continuidad recoleccón (ICTR)","IF039",null,null,"ICTR=1-(Σ FR*SAR/Σ PR*STR) - ContinuidadPGR=1-((Σ Di*Ui)/(Up*D))",null,"Profesional de aseo",null,"X",null,null,"X",null,"X",null,null,1,0.98360000000000003,{"$f":"IF039_Analisis!$F$21","v":1},{"$f":"IF039_Analisis!$F$22","v":1},{"$f":"IF039_Analisis!$F$23","v":1},{"$f":"IF039_Analisis!$F$24","v":1},{"$f":"IF039_Analisis!$F$25","v":1},{"$f":"IF039_Analisis!$F$26","v":1},{"$f":"IF039_Analisis!$F$27","v":{"$error":"#DIV/0!"}},{"$f":"IF039_Analisis!$F$28","v":{"$error":"#DIV/0!"}},{"$f":"IF039_Analisis!$F$29","v":{"$error":"#DIV/0!"}},{"$f":"IF039_Analisis!$F$30","v":{"$error":"#DIV/0!"}},{"$f":"IF039_Analisis!$F$31","v":{"$error":"#DIV/0!"}},{"$f":"IF039_Analisis!$F$32","v":{"$error":"#DIV/0!"}}]
[null,null,"Disposición final relleno sanitario","IF040",null,null,"Basura dispuesta relleno sanitario/Basura producida",null,"Profesional de aseo",null,"X","X",null,"X",null,null,null,null,0.86,1,{"$f":"IF040_Analisis!$E$21","v":0.97049024512256132},{"$f":"IF040_Analisis!$E$22","v":{"$error":"#DIV/0!"}},{"$f":"IF040_Analisis!$E$23","v":{"$error":"#DIV/0!"}},{"$f":"IF040_Analisis!$E$24","v":{"$error":"#DIV/0!"}},{"$f":"IF040_Analisis!$E$25","v":{"$error":"#DIV/0!"}},{"$f":"IF040_Analisis!$E$26","v":{"$error":"#DIV/0!"}},{"$f":"IF040_Analisis!$E$27","v":{"$error":"#DIV/0!"}},{"$f":"IF040_Analisis!$E$28","v":{"$error":"#DIV/0!"}},{"$f":"IF040_Analisis!$E$29","v":{"$error":"#DIV/0!"}},{"$f":"IF040_Analisis!$E$30","v":{"$error":"#DIV/0!"}},{"$f":"IF040_Analisis!$E$31","v":{"$error":"#DIV/0!"}},{"$f":"IF040_Analisis!$E$32","v":{"$error":"#DIV/0!"}}]
[null,null,"Horario recolección (IHR-NA)","IF041",null,null,"IHR_NAL=(Σ NRRLS)/((ndm/7)*F_CCUL)",null,"Profesional de aseo",null,null,"X",null,"X",null,null,null,null,1,1,{"$f":"IF041_Analisis!$F$21","v":{"$error":"#DIV/0!"}},{"$f":"IF041_Analisis!$F$22","v":{"$error":"#DIV/0!"}},{"$f":"IF041_Analisis!$F$23","v":{"$error":"#DIV/0!"}},{"$f":"IF041_Analisis!$F$24","v":{"$error":"#DIV/0!"}},{"$f":"IF041_Analisis!$F$25","v":{"$error":"#DIV/0!"}},{"$f":"IF041_Analisis!$F$26","v":{"$error":"#DIV/0!"}},{"$f":"IF041_Analisis!$F$27","v":{"$error":"#DIV/0!"}},{"$f":"IF041_Analisis!$F$28","v":{"$error":"#DIV/0!"}},{"$f":"IF041_Analisis!$F$29","v":{"$error":"#DIV/0!"}},{"$f":"IF041_Analisis!$F$30","v":{"$error":"#DIV/0!"}},{"$f":"IF041_Analisis!$F$31","v":{"$error":"#DIV/0!"}},{"$f":"IF041_Analisis!$F$32","v":{"$error":"#DIV/0!"}}]
[null,null,"Calidad tecnica recolección (ICTR-NA)","IF042",null,null,"ICTR_Nal=∑P=1 (0.5*(IFR_NAl+IHR_Nal))p/6",null,"Profesional de aseo",null,"X","X",null,"X",null,null,null,null,1,1,{"$f":"IF042_Analisis!$E$21","v":0},{"$f":"IF042_Analisis!$E$22","v":0},{"$f":"IF042_Analisis!$E$23","v":0},{"$f":"IF042_Analisis!$E$24","v":0},{"$f":"IF042_Analisis!$E$25","v":0},{"$f":"IF042_Analisis!$E$26","v":0},{"$f":"IF042_Analisis!$E$27","v":0},{"$f":"IF042_Analisis!$E$28","v":0},{"$f":"IF042_Analisis!$E$29","v":0},{"$f":"IF042_Analisis!$E$30","v":0},{"$f":"IF042_Analisis!$E$31","v":0},{"$f":"IF042_Analisis!$E$32","v":0}]
[null,null,"Cobertura barrido","IF043",null,null,"Total de km vías barrido/total km programados",null,"Profesional de aseo",null,null,null,null,"X",null,null,null,null,1,1,{"$f":"IF043_Analisis!$E$21","v":1},{"$f":"IF043_Analisis!$E$22","v":1},{"$f":"IF043_Analisis!$E$23","v":1},{"$f":"IF043_Analisis!$E$24","v":1},{"$f":"IF043_Analisis!$E$25","v":1},{"$f":"IF043_Analisis!$E$26","v":1},{"$f":"IF043_Analisis!$E$27","v":1},{"$f":"IF043_Analisis!$E$28","v":1},{"$f":"IF043_Analisis!$E$29","v":1},{"$f":"IF043_Analisis!$E$30","v":1},{"$f":"IF043_Analisis!$E$31","v":1},{"$f":"IF043_Analisis!$E$32","v":1}]
[null,null,"Continuidad barrido (ICTBL)","IF044",null,null,"Número Rutas ejecutadas/Número rutas programadas",null,"Profesional de aseo",null,null,null,null,"X",null,null,null,null,1,1,{"$f":"IF044_Analisis!$E$21","v":1},{"$f":"IF044_Analisis!$E$22","v":1},{"$f":"IF044_Analisis!$E$23","v":1},{"$f":"IF044_Analisis!$E$24","v":1},{"$f":"IF044_Analisis!$E$25","v":1},{"$f":"IF044_Analisis!$E$26","v":1},{"$f":"IF044_Analisis!$E$27","v":1},{"$f":"IF044_Analisis!$E$28","v":1},{"$f":"IF044_Analisis!$E$29","v":1},{"$f":"IF044_Analisis!$E$30","v":1},{"$f":"IF044_Analisis!$E$31","v":1},{"$f":"IF044_Analisis!$E$32","v":1}]
[null,null,"Cobertura cesped","IF045",null,null,"Mts 2 de césped cortado/total Mts 2 programados  ",null,"Profesional de aseo",null,null,null,null,"X",null,null,null,null,1,1,{"$f":"IF045_Analisis!$E$21","v":1},{"$f":"IF045_Analisis!$E$22","v":1},{"$f":"IF045_Analisis!$E$23","v":1},{"$f":"IF045_Analisis!$E$24","v":1},{"$f":"IF045_Analisis!$E$25","v":1},{"$f":"IF045_Analisis!$E$26","v":0.30278245189625391},{"$f":"IF045_Analisis!$E$27","v":1},{"$f":"IF045_Analisis!$E$28","v":1},{"$f":"IF045_Analisis!$E$29","v":1},{"$f":"IF045_Analisis!$E$30","v":1},{"$f":"IF045_Analisis!$E$31","v":1},{"$f":"IF045_Analisis!$E$32","v":1}]
[null,null,"Continuidad cesped","IF046",null,null,"Rutas de cesped realizadas/Rutas cesped programadas",null,"Profesional de aseo",null,null,null,null,"X",null,null,null,null,1,1,{"$f":"IF046_Analisis!$E$21","v":{"$error":"#DIV/0!"}},{"$f":"IF046_Analisis!$E$22","v":{"$error":"#DIV/0!"}},{"$f":"IF046_Analisis!$E$23","v":{"$error":"#DIV/0!"}},{"$f":"IF046_Analisis!$E$24","v":{"$error":"#DIV/0!"}},{"$f":"IF046_Analisis!$E$25","v":{"$error":"#DIV/0!"}},{"$f":"IF046_Analisis!$E$26","v":{"$error":"#DIV/0!"}},{"$f":"IF046_Analisis!$E$27","v":{"$error":"#DIV/0!"}},{"$f":"IF046_Analisis!$E$28","v":{"$error":"#DIV/0!"}},{"$f":"IF046_Analisis!$E$29","v":{"$error":"#DIV/0!"}},{"$f":"IF046_Analisis!$E$30","v":{"$error":"#DIV/0!"}},{"$f":"IF046_Analisis!$E$31","v":{"$error":"#DIV/0!"}},{"$f":"IF046_Analisis!$E$32","v":{"$error":"#DIV/0!"}}]
[null,null,"Cobertura poda arboles","IF047",null,null,"Numero de podas Ejecutadas/numero de podas programadas",null,"Profesional de aseo",null,null,null,null,"X",null,null,null,null,1,1,{"$f":"IF047_Analisis!$E$21","v":1},{"$f":"IF047_Analisis!$E$22","v":1},{"$f":"IF047_Analisis!$E$23","v":1},{"$f":"IF047_Analisis!$E$24","v":1},{"$f":"IF047_Analisis!$E$25","v":1},{"$f":"IF047_Analisis!$E$26","v":3.161592505854801E-2},{"$f":"IF047_Analisis!$E$27","v":1},{"$f":"IF047_Analisis!$E$28","v":1},{"$f":"IF047_Analisis!$E$29","v":1},{"$f":"IF047_Analisis!$E$30","v":1},{"$f":"IF047_Analisis!$E$31","v":1},{"$f":"IF047_Analisis!$E$32","v":1}]
[null,null,"Cobertura lavado","IF048",null,null,"M2 ejcutados de lavado/m2 lavado programados",null,"Profesional de aseo",null,null,null,null,"X",null,null,null,null,1,1,{"$f":"IF048_Analisis!$E$21","v":{"$error":"#DIV/0!"}},{"$f":"IF048_Analisis!$E$22","v":{"$error":"#DIV/0!"}},{"$f":"IF048_Analisis!$E$23","v":{"$error":"#DIV/0!"}},{"$f":"IF048_Analisis!$E$24","v":{"$error":"#DIV/0!"}},{"$f":"IF048_Analisis!$E$25","v":{"$error":"#DIV/0!"}},{"$f":"IF048_Analisis!$E$26","v":{"$error":"#DIV/0!"}},{"$f":"IF048_Analisis!$E$27","v":{"$error":"#DIV/0!"}},{"$f":"IF048_Analisis!$E$28","v":{"$error":"#DIV/0!"}},{"$f":"IF048_Analisis!$E$29","v":{"$error":"#DIV/0!"}},{"$f":"IF048_Analisis!$E$30","v":{"$error":"#DIV/0!"}},{"$f":"IF048_Analisis!$E$31","v":{"$error":"#DIV/0!"}},{"$f":"IF048_Analisis!$E$32","v":{"$error":"#DIV/0!"}}]
[null,null,"Cobertura canastillas","IF049",null,null,"No de canastillas instaladas/ No. Aprobadas por el PGIRS",null,"Profesional de aseo",null,null,null,null,"X",null,null,null,null,1,1,{"$f":"IF049_Analisis!$E$21","v":{"$error":"#DIV/0!"}},{"$f":"IF049_Analisis!$E$22","v":{"$error":"#DIV/0!"}},{"$f":"IF049_Analisis!$E$23","v":{"$error":"#DIV/0!"}},{"$f":"IF049_Analisis!$E$24","v":{"$error":"#DIV/0!"}},{"$f":"IF049_Analisis!$E$25","v":{"$error":"#DIV/0!"}},{"$f":"IF049_Analisis!$E$26","v":{"$error":"#DIV/0!"}},{"$f":"IF049_Analisis!$E$27","v":{"$error":"#DIV/0!"}},{"$f":"IF049_Analisis!$E$28","v":{"$error":"#DIV/0!"}},{"$f":"IF049_Analisis!$E$29","v":{"$error":"#DIV/0!"}},{"$f":"IF049_Analisis!$E$30","v":{"$error":"#DIV/0!"}},{"$f":"IF049_Analisis!$E$31","v":{"$error":"#DIV/0!"}},{"$f":"IF049_Analisis!$E$32","v":{"$error":"#DIV/0!"}}]
[null,null,"Calidad canastillas","IF050",null,null,"No de canastillas en buen estado/ total de canastillas",null,"Profesional de aseo",null,null,null,null,"X",null,null,null,null,1,1,{"$f":"IF050_Analisis!$E$21","v":0.42105263157894735},{"$f":"IF050_Analisis!$E$22","v":0.42105263157894735},{"$f":"IF050_Analisis!$E$23","v":0.42105263157894735},{"$f":"IF050_Analisis!$E$24","v":0.42105263157894735},{"$f":"IF050_Analisis!$E$25","v":0.42105263157894735},{"$f":"IF050_Analisis!$E$26","v":0.42105263157894735},{"$f":"IF050_Analisis!$E$27","v":0.42105263157894735},{"$f":"IF050_Analisis!$E$28","v":0.42105263157894735},{"$f":"IF050_Analisis!$E$29","v":0.42105263157894735},{"$f":"IF050_Analisis!$E$30","v":0.42105263157894735},{"$f":"IF050_Analisis!$E$31","v":0.42105263157894735},{"$f":"IF050_Analisis!$E$32","v":0.42105263157894735}]
[null,null,"Mantenimiento de los vehículos ","IF051",null,null,"Número de Manteniemientos realizados/Número de mantenimientos programados",null,"Técnico parque automotor",null,null,null,null,"X",null,null,null,null,0.9,1,{"$f":"IF051_Analisis!$E$21","v":0.83720930232558144},{"$f":"IF051_Analisis!$E$22","v":0.83720930232558144},{"$f":"IF051_Analisis!$E$23","v":0.81395348837209303},{"$f":"IF051_Analisis!$E$24","v":0.83720930232558144},{"$f":"IF051_Analisis!$E$25","v":0.81395348837209303},{"$f":"IF051_Analisis!$E$26","v":0.8},{"$f":"IF051_Analisis!$E$27","v":0.82222222222222219},{"$f":"IF051_Analisis!$E$28","v":0.8},{"$f":"IF051_Analisis!$E$29","v":0.80434782608695654},{"$f":"IF051_Analisis!$E$30","v":0.80434782608695654},{"$f":"IF051_Analisis!$E$31","v":0.73913043478260865},{"$f":"IF051_Analisis!$E$32","v":0.84782608695652173}]
[null,null,"Efectividad de los Vehículos","IF052",null,null,"(Sum. Efectividad por Vehiculo/Total de vehículos)",null,"Técnico parque automotor",null,null,null,null,"X",null,null,null,null,1,1,{"$f":"IF052_Analisis!$E$21","v":0.84882752053326993},{"$f":"IF052_Analisis!$E$22","v":0.83712940577681638},{"$f":"IF052_Analisis!$E$23","v":0.84858945363647187},{"$f":"IF052_Analisis!$E$24","v":0.87739554814902976},{"$f":"IF052_Analisis!$E$25","v":0.82359242947268185},{"$f":"IF052_Analisis!$E$26","v":0.83608799726433358},{"$f":"IF052_Analisis!$E$27","v":0.86526843725065539},{"$f":"IF052_Analisis!$E$28","v":0.83517610851476132},{"$f":"IF052_Analisis!$E$29","v":0.88197732026863374},{"$f":"IF052_Analisis!$E$30","v":0.84190245513596829},{"$f":"IF052_Analisis!$E$31","v":0.79863481228668942},{"$f":"IF052_Analisis!$E$32","v":0.82648904546955848}]
[null,null,"Efectividad de los Recolectores","IF053",null,null,"(Sum. Efectividad por recolector/Total Recolectores)",null,"Técnico parque automotor",null,null,null,null,"X",null,null,null,null,1,null,{"$f":"IF053_Analisis!$E$21","v":{"$error":"#DIV/0!"}},{"$f":"IF053_Analisis!$E$22","v":{"$error":"#DIV/0!"}},{"$f":"IF053_Analisis!$E$23","v":{"$error":"#DIV/0!"}},{"$f":"IF053_Analisis!$E$24","v":{"$error":"#DIV/0!"}},{"$f":"IF053_Analisis!$E$25","v":{"$error":"#DIV/0!"}},{"$f":"IF053_Analisis!$E$26","v":{"$error":"#DIV/0!"}},{"$f":"IF053_Analisis!$E$27","v":{"$error":"#DIV/0!"}},{"$f":"IF053_Analisis!$E$28","v":{"$error":"#DIV/0!"}},{"$f":"IF053_Analisis!$E$29","v":{"$error":"#DIV/0!"}},{"$f":"IF053_Analisis!$E$30","v":{"$error":"#DIV/0!"}},{"$f":"IF053_Analisis!$E$31","v":{"$error":"#DIV/0!"}},{"$f":"IF053_Analisis!$E$32","v":{"$error":"#DIV/0!"}}]
[null,"FINANZAS","EBITDA","IF054",null,null,"UAO + Depr + Amort + Dete + Provi ","Sostenibilidad Financiera","Contadora","X",null,null,null,null,null,null,null,null,null,"> 0",{"$f":"IF054_Analisis!$H$21","v":{"$error":"#NAME?"}},{"$f":"IF054_Analisis!$H$21","v":{"$error":"#NAME?"}},{"$f":"IF054_Analisis!$H$21","v":{"$error":"#NAME?"}},{"$f":"IF054_Analisis!$H$22","v":{"$error":"#NAME?"}},{"$f":"IF054_Analisis!$H$22","v":{"$error":"#NAME?"}},{"$f":"IF054_Analisis!$H$22","v":{"$error":"#NAME?"}},{"$f":"IF054_Analisis!$H$23","v":{"$error":"#NAME?"}},{"$f":"IF054_Analisis!$H$23","v":{"$error":"#NAME?"}},{"$f":"IF054_Analisis!$H$23","v":{"$error":"#NAME?"}},{"$f":"IF054_Analisis!$H$24","v":{"$error":"#NAME?"}},{"$f":"IF054_Analisis!$H$24","v":{"$error":"#NAME?"}},{"$f":"IF054_Analisis!$H$24","v":{"$error":"#NAME?"}}]
[null,null,"EBITDA Acueducto","IF055",null,null,"Excedentes antes de impuestos, depreciación, impuestos y amortizaciones",null,"Contadora",null,null,"X",null,null,null,null,null,null,500000,">0",{"$f":"IF055_Analisis!$D$21","v":16704215.109733613},{"$f":"IF055_Analisis!$D$21","v":16704215.109733613},{"$f":"IF055_Analisis!$D$21","v":16704215.109733613},{"$f":"IF055_Analisis!$D$22","v":112187469.19077015},{"$f":"IF055_Analisis!$D$22","v":112187469.19077015},{"$f":"IF055_Analisis!$D$22","v":112187469.19077015},{"$f":"IF055_Analisis!$D$23","v":152532065.25982603},{"$f":"IF055_Analisis!$D$23","v":152532065.25982603},{"$f":"IF055_Analisis!$D$23","v":152532065.25982603},{"$f":"IF055_Analisis!$D$24","v":0},{"$f":"IF055_Analisis!$D$24","v":0},{"$f":"IF055_Analisis!$D$24","v":0}]
[null,null,"EBITDA Alcantarillado","IF056",null,null,"Excedentes antes de impuestos, depreciación, impuestos y amortizaciones",null,"Contadora",null,null,"X",null,null,null,null,null,null,500000,">0",{"$f":"IF056_Analisis!$D$21","v":7627497.8463955373},{"$f":"IF056_Analisis!$D$21","v":7627497.8463955373},{"$f":"IF056_Analisis!$D$21","v":7627497.8463955373},{"$f":"IF056_Analisis!$D$22","v":63822543.655276708},{"$f":"IF056_Analisis!$D$22","v":63822543.655276708},{"$f":"IF056_Analisis!$D$22","v":63822543.655276708},{"$f":"IF056_Analisis!$D$23","v":99707185.117827967},{"$f":"IF056_Analisis!$D$23","v":99707185.117827967},{"$f":"IF056_Analisis!$D$23","v":99707185.117827967},{"$f":"IF056_Analisis!$D$24","v":0},{"$f":"IF056_Analisis!$D$24","v":0},{"$f":"IF056_Analisis!$D$24","v":0}]
[null,null,"EBITDA Aseo","IF057",null,null,"Excedentes antes de impuestos, depreciación, impuestos y amortizaciones",null,"Contadora",null,"X",null,null,null,null,null,null,null,500000,">0",{"$f":"IF057_Analisis!$D$21","v":19281257.461796843},{"$f":"IF057_Analisis!$D$21","v":19281257.461796843},{"$f":"IF057_Analisis!$D$21","v":19281257.461796843},{"$f":"IF057_Analisis!$D$22","v":81302105.640916228},{"$f":"IF057_Analisis!$D$22","v":81302105.640916228},{"$f":"IF057_Analisis!$D$22","v":81302105.640916228},{"$f":"IF057_Analisis!$D$23","v":129867747.86001284},{"$f":"IF057_Analisis!$D$23","v":129867747.86001284},{"$f":"IF057_Analisis!$D$23","v":129867747.86001284},{"$f":"IF057_Analisis!$D$24","v":0},{"$f":"IF057_Analisis!$D$24","v":0},{"$f":"IF057_Analisis!$D$24","v":0}]
[null,null,"Eficiencia en el Recaudo — ER","IF058",null,null,"(RI/Ie) x 100","Sostenibilidad Financiera","Contadora","x",null,null,null,null,null,null,null,null,null,"90-100",{"$f":"IF058_Analisis!$E$21","v":{"$error":"#DIV/0!"}},{"$f":"IF058_Analisis!$E$21","v":{"$error":"#DIV/0!"}},{"$f":"IF058_Analisis!$E$21","v":{"$error":"#DIV/0!"}},{"$f":"IF058_Analisis!$E$22","v":{"$error":"#DIV/0!"}},{"$f":"IF058_Analisis!$E$22","v":{"$error":"#DIV/0!"}},{"$f":"IF058_Analisis!$E$22","v":{"$error":"#DIV/0!"}},{"$f":"IF058_Analisis!$E$23","v":{"$error":"#DIV/0!"}},{"$f":"IF058_Analisis!$E$23","v":{"$error":"#DIV/0!"}},{"$f":"IF058_Analisis!$E$23","v":{"$error":"#DIV/0!"}},{"$f":"IF058_Analisis!$E$24","v":{"$error":"#DIV/0!"}},{"$f":"IF058_Analisis!$E$24","v":{"$error":"#DIV/0!"}},{"$f":"IF058_Analisis!$E$24","v":{"$error":"#DIV/0!"}}]
[null,null,"Cubrimiento de Costos y Gastos — CG","IF059",null,null,"RI/GOA","Sostenibilidad Financiera","Contadora","X",null,null,null,null,null,null,null,null,null,">=1",{"$f":"IF059_Analisis!$E$21","v":{"$error":"#DIV/0!"}},{"$f":"IF059_Analisis!$E$21","v":{"$error":"#DIV/0!"}},{"$f":"IF059_Analisis!$E$21","v":{"$error":"#DIV/0!"}},{"$f":"IF059_Analisis!$E$22","v":{"$error":"#DIV/0!"}},{"$f":"IF059_Analisis!$E$22","v":{"$error":"#DIV/0!"}},{"$f":"IF059_Analisis!$E$22","v":{"$error":"#DIV/0!"}},{"$f":"IF059_Analisis!$E$23","v":{"$error":"#DIV/0!"}},{"$f":"IF059_Analisis!$E$23","v":{"$error":"#DIV/0!"}},{"$f":"IF059_Analisis!$E$23","v":{"$error":"#DIV/0!"}},{"$f":"IF059_Analisis!$E$24","v":{"$error":"#DIV/0!"}},{"$f":"IF059_Analisis!$E$24","v":{"$error":"#DIV/0!"}},{"$f":"IF059_Analisis!$E$24","v":{"$error":"#DIV/0!"}}]
[null,null,"Relación de Endeudamiento — RDP","IF060",null,null,"PsT / P","Sostenibilidad Financiera","Contadora","X",null,null,null,null,null,null,null,null,null,"0.8 a 1.2",{"$f":"IF060_Analisis!$E$21","v":{"$error":"#DIV/0!"}},{"$f":"IF060_Analisis!$E$21","v":{"$error":"#DIV/0!"}},{"$f":"IF060_Analisis!$E$21","v":{"$error":"#DIV/0!"}},{"$f":"IF060_Analisis!$E$22","v":{"$error":"#DIV/0!"}},{"$f":"IF060_Analisis!$E$22","v":{"$error":"#DIV/0!"}},{"$f":"IF060_Analisis!$E$22","v":{"$error":"#DIV/0!"}},{"$f":"IF060_Analisis!$E$23","v":{"$error":"#DIV/0!"}},{"$f":"IF060_Analisis!$E$23","v":{"$error":"#DIV/0!"}},{"$f":"IF060_Analisis!$E$23","v":{"$error":"#DIV/0!"}},{"$f":"IF060_Analisis!$E$24","v":{"$error":"#DIV/0!"}},{"$f":"IF060_Analisis!$E$24","v":{"$error":"#DIV/0!"}},{"$f":"IF060_Analisis!$E$24","v":{"$error":"#DIV/0!"}}]
[null,null,"Rotación de Cartera de Servicios Públicos en días de pago — RC","IF061",null,null,"(CCPC x 360) /RI ","Sostenibilidad Financiera","Contadora","X",null,null,null,null,null,null,null,null,null,"<=60 días",{"$f":"IF061_Analisis!$E$21","v":{"$error":"#DIV/0!"}},{"$f":"IF061_Analisis!$E$21","v":{"$error":"#DIV/0!"}},{"$f":"IF061_Analisis!$E$21","v":{"$error":"#DIV/0!"}},{"$f":"IF061_Analisis!$E$22","v":{"$error":"#DIV/0!"}},{"$f":"IF061_Analisis!$E$22","v":{"$error":"#DIV/0!"}},{"$f":"IF061_Analisis!$E$22","v":{"$error":"#DIV/0!"}},{"$f":"IF061_Analisis!$E$23","v":{"$error":"#DIV/0!"}},{"$f":"IF061_Analisis!$E$23","v":{"$error":"#DIV/0!"}},{"$f":"IF061_Analisis!$E$23","v":{"$error":"#DIV/0!"}},{"$f":"IF061_Analisis!$E$24","v":{"$error":"#DIV/0!"}},{"$f":"IF061_Analisis!$E$24","v":{"$error":"#DIV/0!"}},{"$f":"IF061_Analisis!$E$24","v":{"$error":"#DIV/0!"}}]
[null,null,"Flujos Comprometidos — FC","IF062",null,null,"PsT /EBITDA","Sostenibilidad Financiera","Contadora","X",null,null,null,null,null,null,null,null,null,"<=4",{"$f":"IF062_Analisis!$E$21","v":{"$error":"#DIV/0!"}},{"$f":"IF062_Analisis!$E$21","v":{"$error":"#DIV/0!"}},{"$f":"IF062_Analisis!$E$21","v":{"$error":"#DIV/0!"}},{"$f":"IF062_Analisis!$E$22","v":{"$error":"#DIV/0!"}},{"$f":"IF062_Analisis!$E$22","v":{"$error":"#DIV/0!"}},{"$f":"IF062_Analisis!$E$22","v":{"$error":"#DIV/0!"}},{"$f":"IF062_Analisis!$E$23","v":{"$error":"#DIV/0!"}},{"$f":"IF062_Analisis!$E$23","v":{"$error":"#DIV/0!"}},{"$f":"IF062_Analisis!$E$23","v":{"$error":"#DIV/0!"}},{"$f":"IF062_Analisis!$E$24","v":{"$error":"#DIV/0!"}},{"$f":"IF062_Analisis!$E$24","v":{"$error":"#DIV/0!"}},{"$f":"IF062_Analisis!$E$24","v":{"$error":"#DIV/0!"}}]
[null,null,"Liquidez — L","IF063",null,null,"AC/PC","Sostenibilidad Financiera","Contadora","x",null,null,null,null,null,null,null,null,null,"1.1 -1.5",{"$f":"IF063_Analisis!$E$21","v":{"$error":"#DIV/0!"}},{"$f":"IF063_Analisis!$E$21","v":{"$error":"#DIV/0!"}},{"$f":"IF063_Analisis!$E$21","v":{"$error":"#DIV/0!"}},{"$f":"IF063_Analisis!$E$22","v":{"$error":"#DIV/0!"}},{"$f":"IF063_Analisis!$E$22","v":{"$error":"#DIV/0!"}},{"$f":"IF063_Analisis!$E$22","v":{"$error":"#DIV/0!"}},{"$f":"IF063_Analisis!$E$23","v":{"$error":"#DIV/0!"}},{"$f":"IF063_Analisis!$E$23","v":{"$error":"#DIV/0!"}},{"$f":"IF063_Analisis!$E$23","v":{"$error":"#DIV/0!"}},{"$f":"IF063_Analisis!$E$24","v":{"$error":"#DIV/0!"}},{"$f":"IF063_Analisis!$E$24","v":{"$error":"#DIV/0!"}},{"$f":"IF063_Analisis!$E$24","v":{"$error":"#DIV/0!"}}]
[null,null,"Liquidez Ajustada — LA","IF064",null,null,"(LAAc  x 0,5) + (LAAL  x 0,5)","Sostenibilidad Financiera","Contadora","X",null,null,null,null,null,null,null,null,null,null,{"$f":"IF064_Analisis!$E$21","v":0},{"$f":"IF064_Analisis!$E$21","v":0},{"$f":"IF064_Analisis!$E$21","v":0},{"$f":"IF064_Analisis!$E$22","v":0},{"$f":"IF064_Analisis!$E$22","v":0},{"$f":"IF064_Analisis!$E$22","v":0},{"$f":"IF064_Analisis!$E$23","v":0},{"$f":"IF064_Analisis!$E$23","v":0},{"$f":"IF064_Analisis!$E$23","v":0},{"$f":"IF064_Analisis!$E$24","v":0},{"$f":"IF064_Analisis!$E$24","v":0},{"$f":"IF064_Analisis!$E$24","v":0}]
[null,null,"Liquidez ajustada (Li) Acueducto","IF065",null,null,"Li=(activo corriente-CCNP-inventarios-Préstamos vinculados económicos y socios)/Pasivo corriente.\nEi=(pasivo totali +pasivos pensionales por amortización) /Activo totalo",null,"Contadora","X",null,null,null,null,null,null,null,null,1.3,null,{"$f":"IF065_Analisis!$H$21","v":{"$error":"#DIV/0!"}},{"$f":"IF065_Analisis!$H$21","v":{"$error":"#DIV/0!"}},{"$f":"IF065_Analisis!$H$21","v":{"$error":"#DIV/0!"}},{"$f":"IF065_Analisis!$H$22","v":{"$error":"#DIV/0!"}},{"$f":"IF065_Analisis!$H$22","v":{"$error":"#DIV/0!"}},{"$f":"IF065_Analisis!$H$22","v":{"$error":"#DIV/0!"}},{"$f":"IF065_Analisis!$H$23","v":{"$error":"#DIV/0!"}},{"$f":"IF065_Analisis!$H$23","v":{"$error":"#DIV/0!"}},{"$f":"IF065_Analisis!$H$23","v":{"$error":"#DIV/0!"}},{"$f":"IF065_Analisis!$H$24","v":{"$error":"#DIV/0!"}},{"$f":"IF065_Analisis!$H$24","v":{"$error":"#DIV/0!"}},{"$f":"IF065_Analisis!$H$24","v":{"$error":"#DIV/0!"}}]
[null,null,"Liquidez ajustada (Li) Alcantarillado","IF066",null,null,"Li=(activo corriente-CCNP-inventarios-Préstamos vinculados económicos y socios)/Pasivo corriente.\nEi=(pasivo totali +pasivos pensionales por amortización) /Activo total",null,"Contadora","X",null,null,null,null,null,null,null,null,1.3,null,{"$f":"IF066_Analisis!$H$21","v":{"$error":"#DIV/0!"}},{"$f":"IF066_Analisis!$H$21","v":{"$error":"#DIV/0!"}},{"$f":"IF066_Analisis!$H$21","v":{"$error":"#DIV/0!"}},{"$f":"IF066_Analisis!$H$22","v":{"$error":"#DIV/0!"}},{"$f":"IF066_Analisis!$H$22","v":{"$error":"#DIV/0!"}},{"$f":"IF066_Analisis!$H$22","v":{"$error":"#DIV/0!"}},{"$f":"IF066_Analisis!$H$23","v":{"$error":"#DIV/0!"}},{"$f":"IF066_Analisis!$H$23","v":{"$error":"#DIV/0!"}},{"$f":"IF066_Analisis!$H$23","v":{"$error":"#DIV/0!"}},{"$f":"IF066_Analisis!$H$24","v":{"$error":"#DIV/0!"}},{"$f":"IF066_Analisis!$H$24","v":{"$error":"#DIV/0!"}},{"$f":"IF066_Analisis!$H$24","v":{"$error":"#DIV/0!"}}]
[null,null,"Liquidez ajustada (Li) Aseo","IF067",null,null,"Li=(activo corriente-CCNP-inventarios-Préstamos vinculados económicos y socios)/Pasivo corriente.\nEi=(pasivo totali +pasivos pensionales por amortización) /Activo total",null,"Contadora",null,"X",null,null,null,null,null,null,null,1.3,null,{"$f":"IF067_Analisis!$H$21","v":-4.7850863888808126},{"$f":"IF067_Analisis!$H$21","v":-4.7850863888808126},{"$f":"IF067_Analisis!$H$21","v":-4.7850863888808126},{"$f":"IF067_Analisis!$H$22","v":-4.2561899054096344},{"$f":"IF067_Analisis!$H$22","v":-4.2561899054096344},{"$f":"IF067_Analisis!$H$22","v":-4.2561899054096344},{"$f":"IF067_Analisis!$H$23","v":2.8715039099663708},{"$f":"IF067_Analisis!$H$23","v":2.8715039099663708},{"$f":"IF067_Analisis!$H$23","v":2.8715039099663708},{"$f":"IF067_Analisis!$H$24","v":{"$error":"#DIV/0!"}},{"$f":"IF067_Analisis!$H$24","v":{"$error":"#DIV/0!"}},{"$f":"IF067_Analisis!$H$24","v":{"$error":"#DIV/0!"}}]
[null,null,"Endeudamiento - E","IF068",null,null,"E= (Endeudamiento CRA 906/2019)","Sostenibilidad Financiera","Contadora","X",null,null,null,null,null,null,null,null,null,">=4",{"$f":"IF068_Analisis!$D$21","v":0},{"$f":"IF068_Analisis!$D$21","v":0},{"$f":"IF068_Analisis!$D$21","v":0},{"$f":"IF068_Analisis!$D$22","v":0},{"$f":"IF068_Analisis!$D$22","v":0},{"$f":"IF068_Analisis!$D$22","v":0},{"$f":"IF068_Analisis!$D$23","v":0},{"$f":"IF068_Analisis!$D$23","v":0},{"$f":"IF068_Analisis!$D$23","v":0},{"$f":"IF068_Analisis!$D$24","v":0},{"$f":"IF068_Analisis!$D$24","v":0},{"$f":"IF068_Analisis!$D$24","v":0}]
[null,null,"Endeudamiento (Ei) Acueducto","IF069",null,null,"Ei=(pasivo total + pasivo pensionales por amortización) /Activo total",null,"Contadora","X",null,null,null,null,null,null,null,null,30,null,{"$f":"IF069_Analisis!$F$21","v":{"$error":"#DIV/0!"}},{"$f":"IF069_Analisis!$F$21","v":{"$error":"#DIV/0!"}},{"$f":"IF069_Analisis!$F$21","v":{"$error":"#DIV/0!"}},{"$f":"IF069_Analisis!$F$22","v":{"$error":"#DIV/0!"}},{"$f":"IF069_Analisis!$F$22","v":{"$error":"#DIV/0!"}},{"$f":"IF069_Analisis!$F$22","v":{"$error":"#DIV/0!"}},{"$f":"IF069_Analisis!$F$23","v":{"$error":"#DIV/0!"}},{"$f":"IF069_Analisis!$F$23","v":{"$error":"#DIV/0!"}},{"$f":"IF069_Analisis!$F$23","v":{"$error":"#DIV/0!"}},{"$f":"IF069_Analisis!$F$24","v":{"$error":"#DIV/0!"}},{"$f":"IF069_Analisis!$F$24","v":{"$error":"#DIV/0!"}},{"$f":"IF069_Analisis!$F$24","v":{"$error":"#DIV/0!"}}]
[null,null,"Endeudamiento (Ei) Alcantarillado","IF070",null,null,"Ei=(pasivo total + pasivo pensionales por amortización) /Activo total",null,"Contadora","X",null,null,null,null,null,null,null,null,30,null,{"$f":"IF070_Analisis!$F$21","v":{"$error":"#DIV/0!"}},{"$f":"IF070_Analisis!$F$21","v":{"$error":"#DIV/0!"}},{"$f":"IF070_Analisis!$F$21","v":{"$error":"#DIV/0!"}},{"$f":"IF070_Analisis!$F$22","v":{"$error":"#DIV/0!"}},{"$f":"IF070_Analisis!$F$22","v":{"$error":"#DIV/0!"}},{"$f":"IF070_Analisis!$F$22","v":{"$error":"#DIV/0!"}},{"$f":"IF070_Analisis!$F$23","v":{"$error":"#DIV/0!"}},{"$f":"IF070_Analisis!$F$23","v":{"$error":"#DIV/0!"}},{"$f":"IF070_Analisis!$F$23","v":{"$error":"#DIV/0!"}},{"$f":"IF070_Analisis!$F$24","v":{"$error":"#DIV/0!"}},{"$f":"IF070_Analisis!$F$24","v":{"$error":"#DIV/0!"}},{"$f":"IF070_Analisis!$F$24","v":{"$error":"#DIV/0!"}}]
[null,null,"Endeudamiento (Ei) Aseo","IF071",null,null,"Ei=(pasivo total + pasivo pensionales por amortización) /Activo total",null,"Contadora",null,"X",null,null,null,null,null,null,null,30,null,{"$f":"IF071_Analisis!$F$21","v":{"$error":"#DIV/0!"}},{"$f":"IF071_Analisis!$F$21","v":{"$error":"#DIV/0!"}},{"$f":"IF071_Analisis!$F$21","v":{"$error":"#DIV/0!"}},{"$f":"IF071_Analisis!$F$22","v":{"$error":"#DIV/0!"}},{"$f":"IF071_Analisis!$F$22","v":{"$error":"#DIV/0!"}},{"$f":"IF071_Analisis!$F$22","v":{"$error":"#DIV/0!"}},{"$f":"IF071_Analisis!$F$23","v":{"$error":"#DIV/0!"}},{"$f":"IF071_Analisis!$F$23","v":{"$error":"#DIV/0!"}},{"$f":"IF071_Analisis!$F$23","v":{"$error":"#DIV/0!"}},{"$f":"IF071_Analisis!$F$24","v":{"$error":"#DIV/0!"}},{"$f":"IF071_Analisis!$F$24","v":{"$error":"#DIV/0!"}},{"$f":"IF071_Analisis!$F$24","v":{"$error":"#DIV/0!"}}]
[null,null,"Indice Financiero asociado a la Eficiencia Operativa —IEO","IF072",null,null," (IE0AC. x 0,5) + (IE0AL  x 0,5) ","Sostenibilidad Financiera","Contadora","X",null,null,null,null,null,null,null,null,null,100,{"$f":"IF072_Analisis!$E$21","v":0},{"$f":"IF072_Analisis!$E$21","v":0},{"$f":"IF072_Analisis!$E$21","v":0},{"$f":"IF072_Analisis!$E$22","v":0},{"$f":"IF072_Analisis!$E$22","v":0},{"$f":"IF072_Analisis!$E$22","v":0},{"$f":"IF072_Analisis!$E$23","v":0},{"$f":"IF072_Analisis!$E$23","v":0},{"$f":"IF072_Analisis!$E$23","v":0},{"$f":"IF072_Analisis!$E$24","v":0},{"$f":"IF072_Analisis!$E$24","v":0},{"$f":"IF072_Analisis!$E$24","v":0}]
[null,null,"Relación Deuda a Inversiones — RDI","IF073",null,null,"(RDIAC x 0,5) + (RDIAL x 0,5) ","Sostenibilidad Financiera","Contadora","X",null,null,null,null,null,null,null,null,null,100,{"$f":"IF073_Analisis!$E$21","v":0},{"$f":"IF073_Analisis!$E$21","v":0},{"$f":"IF073_Analisis!$E$21","v":0},{"$f":"IF073_Analisis!$E$22","v":0},{"$f":"IF073_Analisis!$E$22","v":0},{"$f":"IF073_Analisis!$E$22","v":0},{"$f":"IF073_Analisis!$E$23","v":0},{"$f":"IF073_Analisis!$E$23","v":0},{"$f":"IF073_Analisis!$E$23","v":0},{"$f":"IF073_Analisis!$E$24","v":0},{"$f":"IF073_Analisis!$E$24","v":0},{"$f":"IF073_Analisis!$E$24","v":0}]
[null,null,"Valor Económico Agregado — EVA","IF074",null,null,"UODI - (wacc X C1) ","Gobierno y transparencia","Contadora","X",null,null,null,null,null,null,null,null,null,"> 0",{"$f":"IF074_Analisis!$F$21","v":0},{"$f":"IF074_Analisis!$F$21","v":0},{"$f":"IF074_Analisis!$F$21","v":0},{"$f":"IF074_Analisis!$F$22","v":0},{"$f":"IF074_Analisis!$F$22","v":0},{"$f":"IF074_Analisis!$F$22","v":0},{"$f":"IF074_Analisis!$F$23","v":0},{"$f":"IF074_Analisis!$F$23","v":0},{"$f":"IF074_Analisis!$F$23","v":0},{"$f":"IF074_Analisis!$F$24","v":0},{"$f":"IF074_Analisis!$F$24","v":0},{"$f":"IF074_Analisis!$F$24","v":0}]
[null,null,"Cobertura de intereses (Cli) Acueducto","IF075",null,null,"Cli = EBITDA / Gastos financieros",null,"Contadora","X",null,null,null,null,null,null,null,null,0.02,null,{"$f":"IF075_Analisis!$E$21","v":{"$error":"#DIV/0!"}},{"$f":"IF075_Analisis!$E$21","v":{"$error":"#DIV/0!"}},{"$f":"IF075_Analisis!$E$21","v":{"$error":"#DIV/0!"}},{"$f":"IF075_Analisis!$E$22","v":{"$error":"#DIV/0!"}},{"$f":"IF075_Analisis!$E$22","v":{"$error":"#DIV/0!"}},{"$f":"IF075_Analisis!$E$22","v":{"$error":"#DIV/0!"}},{"$f":"IF075_Analisis!$E$23","v":{"$error":"#DIV/0!"}},{"$f":"IF075_Analisis!$E$23","v":{"$error":"#DIV/0!"}},{"$f":"IF075_Analisis!$E$23","v":{"$error":"#DIV/0!"}},{"$f":"IF075_Analisis!$E$24","v":{"$error":"#DIV/0!"}},{"$f":"IF075_Analisis!$E$24","v":{"$error":"#DIV/0!"}},{"$f":"IF075_Analisis!$E$24","v":{"$error":"#DIV/0!"}}]
[null,null,"Cobertura de intereses (Cli) Alcantarillado","IF076",null,null,"Cli = EBITDA / Gastos financieros",null,"Contadora","X",null,null,null,null,null,null,null,null,0.02,null,{"$f":"IF076_Analisis!$E$21","v":{"$error":"#DIV/0!"}},{"$f":"IF076_Analisis!$E$21","v":{"$error":"#DIV/0!"}},{"$f":"IF076_Analisis!$E$21","v":{"$error":"#DIV/0!"}},{"$f":"IF076_Analisis!$E$22","v":{"$error":"#DIV/0!"}},{"$f":"IF076_Analisis!$E$22","v":{"$error":"#DIV/0!"}},{"$f":"IF076_Analisis!$E$22","v":{"$error":"#DIV/0!"}},{"$f":"IF076_Analisis!$E$23","v":{"$error":"#DIV/0!"}},{"$f":"IF076_Analisis!$E$23","v":{"$error":"#DIV/0!"}},{"$f":"IF076_Analisis!$E$23","v":{"$error":"#DIV/0!"}},{"$f":"IF076_Analisis!$E$24","v":{"$error":"#DIV/0!"}},{"$f":"IF076_Analisis!$E$24","v":{"$error":"#DIV/0!"}},{"$f":"IF076_Analisis!$E$24","v":{"$error":"#DIV/0!"}}]
[null,null,"Cobertura de intereses (Cli) Aseo","IF077",null,null,"Cli = EBITDA / Gastos financieros",null,"Contadora",null,"X",null,null,null,null,null,null,null,0.02,null,{"$f":"IF077_Analisis!$E$21","v":{"$error":"#DIV/0!"}},{"$f":"IF077_Analisis!$E$21","v":{"$error":"#DIV/0!"}},{"$f":"IF077_Analisis!$E$21","v":{"$error":"#DIV/0!"}},{"$f":"IF077_Analisis!$E$22","v":{"$error":"#DIV/0!"}},{"$f":"IF077_Analisis!$E$22","v":{"$error":"#DIV/0!"}},{"$f":"IF077_Analisis!$E$22","v":{"$error":"#DIV/0!"}},{"$f":"IF077_Analisis!$E$23","v":{"$error":"#DIV/0!"}},{"$f":"IF077_Analisis!$E$23","v":{"$error":"#DIV/0!"}},{"$f":"IF077_Analisis!$E$23","v":{"$error":"#DIV/0!"}},{"$f":"IF077_Analisis!$E$24","v":{"$error":"#DIV/0!"}},{"$f":"IF077_Analisis!$E$24","v":{"$error":"#DIV/0!"}},{"$f":"IF077_Analisis!$E$24","v":{"$error":"#DIV/0!"}}]
[null,null,"Costo eficiente de administracion (CAU) Acueducto","IF078",null,null,"CAUei-1-((CAU0-CAU*)/5)",null,"Contadora",null,null,"X",null,null,null,null,null,null,4158.28,4247,{"$f":"IF078_Analisis!$E$21","v":{"$error":"#DIV/0!"}},{"$f":"IF078_Analisis!$E$21","v":{"$error":"#DIV/0!"}},{"$f":"IF078_Analisis!$E$21","v":{"$error":"#DIV/0!"}},{"$f":"IF078_Analisis!$E$22","v":{"$error":"#DIV/0!"}},{"$f":"IF078_Analisis!$E$22","v":{"$error":"#DIV/0!"}},{"$f":"IF078_Analisis!$E$22","v":{"$error":"#DIV/0!"}},{"$f":"IF078_Analisis!$E$23","v":{"$error":"#DIV/0!"}},{"$f":"IF078_Analisis!$E$23","v":{"$error":"#DIV/0!"}},{"$f":"IF078_Analisis!$E$23","v":{"$error":"#DIV/0!"}},{"$f":"IF078_Analisis!$E$24","v":{"$error":"#DIV/0!"}},{"$f":"IF078_Analisis!$E$24","v":{"$error":"#DIV/0!"}},{"$f":"IF078_Analisis!$E$24","v":{"$error":"#DIV/0!"}}]
[null,null,"Costo eficiente de operación (COU) Acueducto","IF079",null,null,"COUei-1-((COU0-COU*)/5)",null,"Contadora",null,null,"X",null,null,null,null,null,null,10627.56,10278,{"$f":"IF079_Analisis!$E$21","v":{"$error":"#DIV/0!"}},{"$f":"IF079_Analisis!$E$21","v":{"$error":"#DIV/0!"}},{"$f":"IF079_Analisis!$E$21","v":{"$error":"#DIV/0!"}},{"$f":"IF079_Analisis!$E$22","v":{"$error":"#DIV/0!"}},{"$f":"IF079_Analisis!$E$22","v":{"$error":"#DIV/0!"}},{"$f":"IF079_Analisis!$E$22","v":{"$error":"#DIV/0!"}},{"$f":"IF079_Analisis!$E$23","v":{"$error":"#DIV/0!"}},{"$f":"IF079_Analisis!$E$23","v":{"$error":"#DIV/0!"}},{"$f":"IF079_Analisis!$E$23","v":{"$error":"#DIV/0!"}},{"$f":"IF079_Analisis!$E$24","v":{"$error":"#DIV/0!"}},{"$f":"IF079_Analisis!$E$24","v":{"$error":"#DIV/0!"}},{"$f":"IF079_Analisis!$E$24","v":{"$error":"#DIV/0!"}}]
[null,null,"Costos unitarios particulares (CUP) acueducto insumos químicos","IF080",null,null,"Costos unitarios particulares (CUP) acueducto insumos químicos",null,"Contadora",null,null,"X",null,null,null,null,null,null,30.16,30.16,{"$f":"IF080_Analisis!$E$21","v":{"$error":"#DIV/0!"}},{"$f":"IF080_Analisis!$E$21","v":{"$error":"#DIV/0!"}},{"$f":"IF080_Analisis!$E$21","v":{"$error":"#DIV/0!"}},{"$f":"IF080_Analisis!$E$22","v":{"$error":"#DIV/0!"}},{"$f":"IF080_Analisis!$E$22","v":{"$error":"#DIV/0!"}},{"$f":"IF080_Analisis!$E$22","v":{"$error":"#DIV/0!"}},{"$f":"IF080_Analisis!$E$23","v":{"$error":"#DIV/0!"}},{"$f":"IF080_Analisis!$E$23","v":{"$error":"#DIV/0!"}},{"$f":"IF080_Analisis!$E$23","v":{"$error":"#DIV/0!"}},{"$f":"IF080_Analisis!$E$24","v":{"$error":"#DIV/0!"}},{"$f":"IF080_Analisis!$E$24","v":{"$error":"#DIV/0!"}},{"$f":"IF080_Analisis!$E$24","v":{"$error":"#DIV/0!"}}]
[null,null,"Costos unitarios particulares (CUP) acueducto energía eléctrica","IF081",null,null,"Costos unitarios particulares (CUP) acueducto energía eléctrica",null,"Contadora",null,null,"X",null,null,null,null,null,null,3.32,3.32,{"$f":"IF081_Analisis!$E$21","v":{"$error":"#DIV/0!"}},{"$f":"IF081_Analisis!$E$21","v":{"$error":"#DIV/0!"}},{"$f":"IF081_Analisis!$E$21","v":{"$error":"#DIV/0!"}},{"$f":"IF081_Analisis!$E$22","v":{"$error":"#DIV/0!"}},{"$f":"IF081_Analisis!$E$22","v":{"$error":"#DIV/0!"}},{"$f":"IF081_Analisis!$E$22","v":{"$error":"#DIV/0!"}},{"$f":"IF081_Analisis!$E$23","v":{"$error":"#DIV/0!"}},{"$f":"IF081_Analisis!$E$23","v":{"$error":"#DIV/0!"}},{"$f":"IF081_Analisis!$E$23","v":{"$error":"#DIV/0!"}},{"$f":"IF081_Analisis!$E$24","v":{"$error":"#DIV/0!"}},{"$f":"IF081_Analisis!$E$24","v":{"$error":"#DIV/0!"}},{"$f":"IF081_Analisis!$E$24","v":{"$error":"#DIV/0!"}}]
[null,null,"Costo eficiente de administracion (CAU) Alcantarillado","IF082",null,null,"CAUei-1-((CAU0-CAU*)/5)",null,"Contadora",null,null,"X",null,null,null,null,null,null,2314.8000000000002,2433,{"$f":"IF082_Analisis!$E$21","v":{"$error":"#DIV/0!"}},{"$f":"IF082_Analisis!$E$21","v":{"$error":"#DIV/0!"}},{"$f":"IF082_Analisis!$E$21","v":{"$error":"#DIV/0!"}},{"$f":"IF082_Analisis!$E$22","v":{"$error":"#DIV/0!"}},{"$f":"IF082_Analisis!$E$22","v":{"$error":"#DIV/0!"}},{"$f":"IF082_Analisis!$E$22","v":{"$error":"#DIV/0!"}},{"$f":"IF082_Analisis!$E$23","v":{"$error":"#DIV/0!"}},{"$f":"IF082_Analisis!$E$23","v":{"$error":"#DIV/0!"}},{"$f":"IF082_Analisis!$E$23","v":{"$error":"#DIV/0!"}},{"$f":"IF082_Analisis!$E$24","v":{"$error":"#DIV/0!"}},{"$f":"IF082_Analisis!$E$24","v":{"$error":"#DIV/0!"}},{"$f":"IF082_Analisis!$E$24","v":{"$error":"#DIV/0!"}}]
[null,null,"Costo eficiente de operación (COU) Alcantarillado","IF083",null,null,"COUei-1-((COU0-COU*)/5)",null,"Contadora",null,null,"X",null,null,null,null,null,null,3783.47,4435,{"$f":"IF083_Analisis!$E$21","v":{"$error":"#DIV/0!"}},{"$f":"IF083_Analisis!$E$21","v":{"$error":"#DIV/0!"}},{"$f":"IF083_Analisis!$E$21","v":{"$error":"#DIV/0!"}},{"$f":"IF083_Analisis!$E$22","v":{"$error":"#DIV/0!"}},{"$f":"IF083_Analisis!$E$22","v":{"$error":"#DIV/0!"}},{"$f":"IF083_Analisis!$E$22","v":{"$error":"#DIV/0!"}},{"$f":"IF083_Analisis!$E$23","v":{"$error":"#DIV/0!"}},{"$f":"IF083_Analisis!$E$23","v":{"$error":"#DIV/0!"}},{"$f":"IF083_Analisis!$E$23","v":{"$error":"#DIV/0!"}},{"$f":"IF083_Analisis!$E$24","v":{"$error":"#DIV/0!"}},{"$f":"IF083_Analisis!$E$24","v":{"$error":"#DIV/0!"}},{"$f":"IF083_Analisis!$E$24","v":{"$error":"#DIV/0!"}}]
["USUARIOS",null,"Nivel de satisfaccion de suscriptores","US001",null,null,"Encuesta de satisfacción de suscriptores anual",null,"Técnico Estadística",null,null,null,null,null,null,null,"X",null,0.9,null,{"$f":"US001_Analisis!$D$21","v":80},{"$f":"US001_Analisis!$D$21","v":80},{"$f":"US001_Analisis!$D$21","v":80},{"$f":"US001_Analisis!$D$22","v":80},{"$f":"US001_Analisis!$D$22","v":80},{"$f":"US001_Analisis!$D$22","v":80},{"$f":"US001_Analisis!$D$23","v":80},{"$f":"US001_Analisis!$D$23","v":80},{"$f":"US001_Analisis!$D$23","v":80},{"$f":"US001_Analisis!$D$24","v":80},{"$f":"US001_Analisis!$D$24","v":80},{"$f":"US001_Analisis!$D$24","v":80}]
[null,null,"Indice de Atención de PQR Acueducto — IPQRAC","US002",null,null," (NDNA / NTD) x 100","Calidad del Servicio","Profesional en Derecho ","X",null,null,null,null,null,null,null,null,0,0,{"$f":"US002_Analisis!$E$21","v":{"$error":"#DIV/0!"}},{"$f":"US002_Analisis!$E$22","v":{"$error":"#DIV/0!"}},{"$f":"US002_Analisis!$E$23","v":{"$error":"#DIV/0!"}},{"$f":"US002_Analisis!$E$24","v":{"$error":"#DIV/0!"}},{"$f":"US002_Analisis!$E$25","v":{"$error":"#DIV/0!"}},{"$f":"US002_Analisis!$E$26","v":{"$error":"#DIV/0!"}},{"$f":"US002_Analisis!$E$27","v":{"$error":"#DIV/0!"}},{"$f":"US002_Analisis!$E$28","v":{"$error":"#DIV/0!"}},{"$f":"US002_Analisis!$E$29","v":{"$error":"#DIV/0!"}},{"$f":"US002_Analisis!$E$30","v":{"$error":"#DIV/0!"}},{"$f":"US002_Analisis!$E$31","v":{"$error":"#DIV/0!"}},{"$f":"US002_Analisis!$E$32","v":{"$error":"#DIV/0!"}}]
[null,null,"Indice de Atención de PQR Alcantarillado — IPQRAL","US003",null,null,"(NDNA / NTD) x 100 ","Calidad del Servicio","Profesional en Derecho ","X",null,null,null,null,null,null,null,null,0,0,{"$f":"US003_Analisis!$E$21","v":{"$error":"#DIV/0!"}},{"$f":"US003_Analisis!$E$22","v":{"$error":"#DIV/0!"}},{"$f":"US003_Analisis!$E$23","v":{"$error":"#DIV/0!"}},{"$f":"US003_Analisis!$E$24","v":{"$error":"#DIV/0!"}},{"$f":"US003_Analisis!$E$25","v":{"$error":"#DIV/0!"}},{"$f":"US003_Analisis!$E$26","v":{"$error":"#DIV/0!"}},{"$f":"US003_Analisis!$E$27","v":{"$error":"#DIV/0!"}},{"$f":"US003_Analisis!$E$28","v":{"$error":"#DIV/0!"}},{"$f":"US003_Analisis!$E$29","v":{"$error":"#DIV/0!"}},{"$f":"US003_Analisis!$E$30","v":{"$error":"#DIV/0!"}},{"$f":"US003_Analisis!$E$31","v":{"$error":"#DIV/0!"}},{"$f":"US003_Analisis!$E$32","v":{"$error":"#DIV/0!"}}]
[null,null,"Eficiencia de recaudo Acueducto (ERi)","US004",null,null,"Valor Recaudado /Valor Facturado",null,"Técnico Cartera",null,null,null,null,null,null,"X",null,null,0.95,0.85,{"$f":"US004_Analisis!$E$21","v":0.85699656267899982},{"$f":"US004_Analisis!$E$22","v":0.88592385573293908},{"$f":"US004_Analisis!$E$23","v":0.89169949736988596},{"$f":"US004_Analisis!$E$24","v":0.9146435805475126},{"$f":"US004_Analisis!$E$25","v":0.91440156294662922},{"$f":"US004_Analisis!$E$26","v":0.9118990500318771},{"$f":"US004_Analisis!$E$27","v":0.91933202452162321},{"$f":"US004_Analisis!$E$28","v":0.92720060465279264},{"$f":"US004_Analisis!$E$29","v":0.93177481548966345},{"$f":"US004_Analisis!$E$30","v":0.93736222262254509},{"$f":"US004_Analisis!$E$31","v":0.94079084231098697},{"$f":"US004_Analisis!$E$32","v":0.94636156846903574}]
[null,null,"Eficiencia de recaudo Alcantarillado (ERi)","US005",null,null,"Valor Recaudado /Valor Facturado",null,"Técnico Cartera",null,null,null,null,null,null,"X",null,null,0.91,0.85,{"$f":"US005_Analisis!$E$21","v":0.865588437973001},{"$f":"US005_Analisis!$E$22","v":0.87770565243717946},{"$f":"US005_Analisis!$E$23","v":0.88115340415427701},{"$f":"US005_Analisis!$E$24","v":0.89723862744360439},{"$f":"US005_Analisis!$E$25","v":0.89888908866486983},{"$f":"US005_Analisis!$E$26","v":0.89776896537432227},{"$f":"US005_Analisis!$E$27","v":0.90382899813169049},{"$f":"US005_Analisis!$E$28","v":0.91325015883223781},{"$f":"US005_Analisis!$E$29","v":0.92055443968488215},{"$f":"US005_Analisis!$E$30","v":0.92913398095100597},{"$f":"US005_Analisis!$E$31","v":0.93883856644316221},{"$f":"US005_Analisis!$E$32","v":0.94446413512365224}]
[null,null,"Eficiencia de recaudo (ERi) Aseo","US006",null,null,"Valor Recaudado /Valor Facturado",null,"Técnico Cartera",null,"X",null,null,null,null,"X",null,null,0.9,0.85,{"$f":"US006_Analisis!$E$21","v":0.85057225273915726},{"$f":"US006_Analisis!$E$22","v":0.85811959992132236},{"$f":"US006_Analisis!$E$23","v":0.85284038854517519},{"$f":"US006_Analisis!$E$24","v":0.87273187258870522},{"$f":"US006_Analisis!$E$25","v":0.87443106853558283},{"$f":"US006_Analisis!$E$26","v":0.87505811828930513},{"$f":"US006_Analisis!$E$27","v":0.88282211263625543},{"$f":"US006_Analisis!$E$28","v":0.89312509985616895},{"$f":"US006_Analisis!$E$29","v":0.90035017125505368},{"$f":"US006_Analisis!$E$30","v":0.90815987832012346},{"$f":"US006_Analisis!$E$31","v":0.91422799369690821},{"$f":"US006_Analisis!$E$32","v":0.92087313959177808}]
[null,null,"Rotación de cartera acueducto","US007",null,null,"CxC/ Vr facturado*365",null,"Contadora",null,null,null,null,null,null,null,"X",null,55,55,{"$f":"US007_Analisis!$E$21","v":226.13821801737961},{"$f":"US007_Analisis!$E$21","v":226.13821801737961},{"$f":"US007_Analisis!$E$21","v":226.13821801737961},{"$f":"US007_Analisis!$E$22","v":{"$error":"#DIV/0!"}},{"$f":"US007_Analisis!$E$22","v":{"$error":"#DIV/0!"}},{"$f":"US007_Analisis!$E$22","v":{"$error":"#DIV/0!"}},{"$f":"US007_Analisis!$E$23","v":{"$error":"#DIV/0!"}},{"$f":"US007_Analisis!$E$23","v":{"$error":"#DIV/0!"}},{"$f":"US007_Analisis!$E$23","v":{"$error":"#DIV/0!"}},{"$f":"US007_Analisis!$E$24","v":{"$error":"#DIV/0!"}},{"$f":"US007_Analisis!$E$24","v":{"$error":"#DIV/0!"}},{"$f":"US007_Analisis!$E$24","v":{"$error":"#DIV/0!"}}]
[null,null,"Rotación de cartera alcantarillado","US008",null,null,"CxC/ Vr facturado*365",null,"Contadora",null,null,null,null,null,null,null,"X",null,55,55,{"$f":"US008_Analisis!$E$21","v":{"$error":"#DIV/0!"}},{"$f":"US008_Analisis!$E$21","v":{"$error":"#DIV/0!"}},{"$f":"US008_Analisis!$E$21","v":{"$error":"#DIV/0!"}},{"$f":"US008_Analisis!$E$22","v":{"$error":"#DIV/0!"}},{"$f":"US008_Analisis!$E$22","v":{"$error":"#DIV/0!"}},{"$f":"US008_Analisis!$E$22","v":{"$error":"#DIV/0!"}},{"$f":"US008_Analisis!$E$23","v":{"$error":"#DIV/0!"}},{"$f":"US008_Analisis!$E$23","v":{"$error":"#DIV/0!"}},{"$f":"US008_Analisis!$E$23","v":{"$error":"#DIV/0!"}},{"$f":"US008_Analisis!$E$24","v":{"$error":"#DIV/0!"}},{"$f":"US008_Analisis!$E$24","v":{"$error":"#DIV/0!"}},{"$f":"US008_Analisis!$E$24","v":{"$error":"#DIV/0!"}}]
[null,null,"Rotación de cartera aseo","US009",null,null,"CxC/ Vr facturado*365",null,"Contadora",null,null,null,null,null,null,null,"X",null,55,55,{"$f":"US009_Analisis!$E$21","v":{"$error":"#DIV/0!"}},{"$f":"US009_Analisis!$E$21","v":{"$error":"#DIV/0!"}},{"$f":"US009_Analisis!$E$21","v":{"$error":"#DIV/0!"}},{"$f":"US009_Analisis!$E$22","v":{"$error":"#DIV/0!"}},{"$f":"US009_Analisis!$E$22","v":{"$error":"#DIV/0!"}},{"$f":"US009_Analisis!$E$22","v":{"$error":"#DIV/0!"}},{"$f":"US009_Analisis!$E$23","v":{"$error":"#DIV/0!"}},{"$f":"US009_Analisis!$E$23","v":{"$error":"#DIV/0!"}},{"$f":"US009_Analisis!$E$23","v":{"$error":"#DIV/0!"}},{"$f":"US009_Analisis!$E$24","v":{"$error":"#DIV/0!"}},{"$f":"US009_Analisis!$E$24","v":{"$error":"#DIV/0!"}},{"$f":"US009_Analisis!$E$24","v":{"$error":"#DIV/0!"}}]
[null,null,"índice de micromedición nominal (IMN) cobertura medición","US010",null,null,"No. Medidor inst./No. Suscrip. Acued.",null,"Técnico micromedición",null,null,null,null,null,null,"X",null,null,0.99,1,{"$f":"US010_Analisis!$E$21","v":0.98634294385432475},{"$f":"US010_Analisis!$E$22","v":0.98667261373773418},{"$f":"US010_Analisis!$E$23","v":0.98541978209784231},{"$f":"US010_Analisis!$E$24","v":0.98672314373175762},{"$f":"US010_Analisis!$E$25","v":0.97832933013077128},{"$f":"US010_Analisis!$E$26","v":0.97332361775107967},{"$f":"US010_Analisis!$E$27","v":0.97191548099384162},{"$f":"US010_Analisis!$E$28","v":0.97293903323369713},{"$f":"US010_Analisis!$E$29","v":0.97603554991271224},{"$f":"US010_Analisis!$E$30","v":0.97859928954516961},{"$f":"US010_Analisis!$E$31","v":0.98108698268599237},{"$f":"US010_Analisis!$E$32","v":0.98452462380300954},null,null,"En el periodo Diciembre de 2020, se observa que el indicador de cobertura de medición presenta un decrecimiento del 0.02%, situación que corresponde a la resistencia del usuario para que se le cambie el medidor."]
[null,null,"IMR (Estado) micro","US011",null,null,"No. Medido. Estado ok./No. Medido. Instal.",null,"Técnico micromedición",null,null,null,null,null,null,"X",null,null,0.98,1,{"$f":"US011_Analisis!$E$21","v":0.9876401720854785},{"$f":"US011_Analisis!$E$22","v":0.98791530141281758},{"$f":"US011_Analisis!$E$23","v":0.9973444946626101},{"$f":"US011_Analisis!$E$24","v":0.98774720928188453},{"$f":"US011_Analisis!$E$25","v":0.98775086991669891},{"$f":"US011_Analisis!$E$26","v":0.9993501817734769},{"$f":"US011_Analisis!$E$27","v":0.98828220644303755},{"$f":"US011_Analisis!$E$28","v":0.98609948374494205},{"$f":"US011_Analisis!$E$29","v":0.98507851584213457},{"$f":"US011_Analisis!$E$30","v":0.9847050754458162},{"$f":"US011_Analisis!$E$31","v":0.98553400525112222},{"$f":"US011_Analisis!$E$32","v":0.98495949337240829},null,null,"para el periodo Diciembre de 2020 se observa el estado de la micromedición se incrementa a un 98.45%, cifra que obedece al constante reemplazo de medidores previamente comunicado por oficio anexo a la factura."]
[null,null,"Indice de Micromedición Efectiva.- IMI","US012",null,null,"(MFLg/ NSg) x 100  ","Eficiencia en la Operación","Técnico de micro medición ","X",null,null,null,null,null,null,null,null,96.547858723603824,1,{"$f":"US012_Analisis!$E$21","v":{"$error":"#DIV/0!"}},{"$f":"US012_Analisis!$E$22","v":{"$error":"#DIV/0!"}},{"$f":"US012_Analisis!$E$23","v":{"$error":"#DIV/0!"}},{"$f":"US012_Analisis!$E$24","v":{"$error":"#DIV/0!"}},{"$f":"US012_Analisis!$E$25","v":{"$error":"#DIV/0!"}},{"$f":"US012_Analisis!$E$26","v":{"$error":"#DIV/0!"}},{"$f":"US012_Analisis!$E$27","v":{"$error":"#DIV/0!"}},{"$f":"US012_Analisis!$E$28","v":{"$error":"#DIV/0!"}},{"$f":"US012_Analisis!$E$29","v":{"$error":"#DIV/0!"}},{"$f":"US012_Analisis!$E$30","v":{"$error":"#DIV/0!"}},{"$f":"US012_Analisis!$E$31","v":{"$error":"#DIV/0!"}},{"$f":"US012_Analisis!$E$32","v":{"$error":"#DIV/0!"}}]
[null,null,"Catastro de Medidores - CM","US013",null,null,"(si se tiene = 1; no tiene o no reporta = 0)","Eficiencia en la Operación","Técnico de micro medición ","X",null,null,null,null,null,null,null,null,1,1,{"$f":"US013_Analisis!$D$21","v":0},{"$f":"US013_Analisis!$D$22","v":0},{"$f":"US013_Analisis!$D$23","v":0},{"$f":"US013_Analisis!$D$24","v":0},{"$f":"US013_Analisis!$D$25","v":0},{"$f":"US013_Analisis!$D$26","v":0},{"$f":"US013_Analisis!$D$27","v":0},{"$f":"US013_Analisis!$D$28","v":0},{"$f":"US013_Analisis!$D$29","v":0},{"$f":"US013_Analisis!$D$30","v":0},{"$f":"US013_Analisis!$D$31","v":0},{"$f":"US013_Analisis!$D$32","v":0}]
[null,null,"Indice de Macromedición Efectiva — IMA","US014",null,null,"Nti/NTTi*100","Eficiencia en la Operación","Profesional Especializado de Acueducto","X",null,null,null,null,null,null,null,null,63.64,1,{"$f":"US014_Analisis!$E$21","v":{"$error":"#DIV/0!"}},{"$f":"US014_Analisis!$E$22","v":{"$error":"#DIV/0!"}},{"$f":"US014_Analisis!$E$23","v":{"$error":"#DIV/0!"}},{"$f":"US014_Analisis!$E$24","v":{"$error":"#DIV/0!"}},{"$f":"US014_Analisis!$E$25","v":{"$error":"#DIV/0!"}},{"$f":"US014_Analisis!$E$26","v":{"$error":"#DIV/0!"}},{"$f":"US014_Analisis!$E$27","v":{"$error":"#DIV/0!"}},{"$f":"US014_Analisis!$E$28","v":{"$error":"#DIV/0!"}},{"$f":"US014_Analisis!$E$29","v":{"$error":"#DIV/0!"}},{"$f":"US014_Analisis!$E$30","v":{"$error":"#DIV/0!"}},{"$f":"US014_Analisis!$E$31","v":{"$error":"#DIV/0!"}},{"$f":"US014_Analisis!$E$32","v":{"$error":"#DIV/0!"}}]
[null,null,"Aplicación de Costos de Referencia Aprobados de Acueducto -  ACU","US015",null,null," (ACUcf x 0,5) + (ACUCC x 0,5)","Gestión Tarifaria","Profesional Especializado Control y Seguimiento ","X",null,null,null,null,null,null,null,null,0.04,"0% a 5%",{"$f":"US015_Analisis!$E$21","v":0},{"$f":"US015_Analisis!$E$21","v":0},{"$f":"US015_Analisis!$E$21","v":0},{"$f":"US015_Analisis!$E$22","v":0},{"$f":"US015_Analisis!$E$22","v":0},{"$f":"US015_Analisis!$E$22","v":0},{"$f":"US015_Analisis!$E$23","v":0},{"$f":"US015_Analisis!$E$23","v":0},{"$f":"US015_Analisis!$E$23","v":0},{"$f":"US015_Analisis!$E$24","v":0},{"$f":"US015_Analisis!$E$24","v":0},{"$f":"US015_Analisis!$E$24","v":0}]
[null,null,"Cumplimiento Metas de Cobertura Acueducto -CMCOBAC","US016",null,null,"(Realp / MetaP) x 100","Gestión Tarifaria","Subgerente Comercial y de Mercadeo ","X",null,null,null,null,null,null,null,null,1,1,{"$f":"US016_Analisis!$E$21","v":{"$error":"#DIV/0!"}},{"$f":"US016_Analisis!$E$22","v":{"$error":"#DIV/0!"}},{"$f":"US016_Analisis!$E$23","v":{"$error":"#DIV/0!"}},{"$f":"US016_Analisis!$E$24","v":{"$error":"#DIV/0!"}},{"$f":"US016_Analisis!$E$25","v":{"$error":"#DIV/0!"}},{"$f":"US016_Analisis!$E$26","v":{"$error":"#DIV/0!"}},{"$f":"US016_Analisis!$E$27","v":{"$error":"#DIV/0!"}},{"$f":"US016_Analisis!$E$28","v":{"$error":"#DIV/0!"}},{"$f":"US016_Analisis!$E$29","v":{"$error":"#DIV/0!"}},{"$f":"US016_Analisis!$E$30","v":{"$error":"#DIV/0!"}},{"$f":"US016_Analisis!$E$31","v":{"$error":"#DIV/0!"}},{"$f":"US016_Analisis!$E$32","v":{"$error":"#DIV/0!"}}]
[null,null,"Cumplimiento Metas de Continuidad Acueducto - CMCON","US017",null,null,"(Realp / Metap) x 100","Gestión Tarifaria","Profesional en control de pérdidas y agua no contabilizada ","X",null,null,null,null,null,null,null,null,1,1,{"$f":"US017_Analisis!$E$21","v":{"$error":"#DIV/0!"}},{"$f":"US017_Analisis!$E$22","v":{"$error":"#DIV/0!"}},{"$f":"US017_Analisis!$E$23","v":{"$error":"#DIV/0!"}},{"$f":"US017_Analisis!$E$24","v":{"$error":"#DIV/0!"}},{"$f":"US017_Analisis!$E$25","v":{"$error":"#DIV/0!"}},{"$f":"US017_Analisis!$E$26","v":{"$error":"#DIV/0!"}},{"$f":"US017_Analisis!$E$27","v":{"$error":"#DIV/0!"}},{"$f":"US017_Analisis!$E$28","v":{"$error":"#DIV/0!"}},{"$f":"US017_Analisis!$E$29","v":{"$error":"#DIV/0!"}},{"$f":"US017_Analisis!$E$30","v":{"$error":"#DIV/0!"}},{"$f":"US017_Analisis!$E$31","v":{"$error":"#DIV/0!"}},{"$f":"US017_Analisis!$E$32","v":{"$error":"#DIV/0!"}}]
[null,null,"Aplicación de Costos de Referencia Aprobados Alcantarillado - AL","US018",null,null,"(ALcf  x 0,5) + (Alcc x 0,5)","Gestión Tarifaria","Profesional Especializado Control y Seguimiento ","X",null,null,null,null,null,null,null,null,0.04,"0% a 5%",{"$f":"US018_Analisis!$E$21","v":0},{"$f":"US018_Analisis!$E$21","v":0},{"$f":"US018_Analisis!$E$21","v":0},{"$f":"US018_Analisis!$E$22","v":0},{"$f":"US018_Analisis!$E$22","v":0},{"$f":"US018_Analisis!$E$22","v":0},{"$f":"US018_Analisis!$E$23","v":0},{"$f":"US018_Analisis!$E$23","v":0},{"$f":"US018_Analisis!$E$23","v":0},{"$f":"US018_Analisis!$E$24","v":0},{"$f":"US018_Analisis!$E$24","v":0},{"$f":"US018_Analisis!$E$24","v":0}]
[null,null,"Cumplimiento Metas de Cobertura Alcantarillado - CMCOBAL","US019",null,null,"(Realp / Metap) x 100","Gestión Tarifaria","Subgerente Comercial y de Mercadeo ","X",null,null,null,null,null,null,null,null,1,1,{"$f":"US019_Analisis!$E$21","v":{"$error":"#DIV/0!"}},{"$f":"US019_Analisis!$E$22","v":{"$error":"#DIV/0!"}},{"$f":"US019_Analisis!$E$23","v":{"$error":"#DIV/0!"}},{"$f":"US019_Analisis!$E$24","v":{"$error":"#DIV/0!"}},{"$f":"US019_Analisis!$E$25","v":{"$error":"#DIV/0!"}},{"$f":"US019_Analisis!$E$26","v":{"$error":"#DIV/0!"}},{"$f":"US019_Analisis!$E$27","v":{"$error":"#DIV/0!"}},{"$f":"US019_Analisis!$E$28","v":{"$error":"#DIV/0!"}},{"$f":"US019_Analisis!$E$29","v":{"$error":"#DIV/0!"}},{"$f":"US019_Analisis!$E$30","v":{"$error":"#DIV/0!"}},{"$f":"US019_Analisis!$E$31","v":{"$error":"#DIV/0!"}},{"$f":"US019_Analisis!$E$32","v":{"$error":"#DIV/0!"}}]
[null,null,"Nuevos suscriptores Acueducto","US020",null,null,"Numero suscriptores mes actual-Número de suscriptores Diciembre año anterior",null,"Técnico nuevos usuarios",null,null,"X",null,null,null,null,null,null,456,2738,{"$f":"US020_Analisis!$E$21","v":366},{"$f":"US020_Analisis!$E$22","v":417},{"$f":"US020_Analisis!$E$23","v":574},{"$f":"US020_Analisis!$E$24","v":536},{"$f":"US020_Analisis!$E$25","v":552},{"$f":"US020_Analisis!$E$26","v":589},{"$f":"US020_Analisis!$E$27","v":828},{"$f":"US020_Analisis!$E$28","v":986},{"$f":"US020_Analisis!$E$29","v":1217},{"$f":"US020_Analisis!$E$30","v":1969},{"$f":"US020_Analisis!$E$31","v":2616},{"$f":"US020_Analisis!$E$32","v":2954},null,null,null,null,null,null,null,null,null,null,null,3126000341]
[null,null,"Nuevos suscriptores Alcantarillado","US021",null,null,"Numero suscriptores mes actual-Número de suscriptores Diciembre año anterior",null,"Técnico nuevos usuarios",null,null,"X",null,null,null,null,null,null,535,2738,{"$f":"US021_Analisis!$E$21","v":355},{"$f":"US021_Analisis!$E$22","v":410},{"$f":"US021_Analisis!$E$23","v":504},{"$f":"US021_Analisis!$E$24","v":523},{"$f":"US021_Analisis!$E$25","v":535},{"$f":"US021_Analisis!$E$26","v":569},{"$f":"US021_Analisis!$E$27","v":791},{"$f":"US021_Analisis!$E$28","v":948},{"$f":"US021_Analisis!$E$29","v":1173},{"$f":"US021_Analisis!$E$30","v":1921},{"$f":"US021_Analisis!$E$31","v":2555},{"$f":"US021_Analisis!$E$32","v":2885}]
[null,null,"Nuevos suscriptores Aseo","US022",null,null,"Numero suscriptores mes actual-Número de suscriptores Diciembre año anterior",null,"Técnico nuevos usuarios",null,null,null,null,"X",null,null,null,null,2738,2738,{"$f":"US022_Analisis!$E$21","v":360},{"$f":"US022_Analisis!$E$22","v":411},{"$f":"US022_Analisis!$E$23","v":504},{"$f":"US022_Analisis!$E$24","v":525},{"$f":"US022_Analisis!$E$25","v":538},{"$f":"US022_Analisis!$E$26","v":576},{"$f":"US022_Analisis!$E$27","v":4677},{"$f":"US022_Analisis!$E$28","v":4954},{"$f":"US022_Analisis!$E$29","v":5174},{"$f":"US022_Analisis!$E$30","v":5907},{"$f":"US022_Analisis!$E$31","v":6530},{"$f":"US022_Analisis!$E$32","v":6857}]
[null,null,"Nuevos suscriptores residenciales Acueducto","US023",null,null,"Numero suscriptores residenciales actual-Número de suscriptores residenciales Diciembre año anterior",null,"Técnico nuevos usuarios",null,null,"X",null,null,null,null,null,null,2500,null,{"$f":"US023_Analisis!$E$21","v":361},{"$f":"US023_Analisis!$E$22","v":406},{"$f":"US023_Analisis!$E$23","v":500},{"$f":"US023_Analisis!$E$24","v":522},{"$f":"US023_Analisis!$E$25","v":-299},{"$f":"US023_Analisis!$E$26","v":-126},{"$f":"US023_Analisis!$E$27","v":236},{"$f":"US023_Analisis!$E$28","v":382},{"$f":"US023_Analisis!$E$29","v":612},{"$f":"US023_Analisis!$E$30","v":1313},{"$f":"US023_Analisis!$E$31","v":1932},{"$f":"US023_Analisis!$E$32","v":2262}]
[null,null,"Nuevos suscriptores residenciales Alcantarillado","US024",null,null,"Numero suscriptores residenciales actual-Número de suscriptores residenciales Diciembre año anterior",null,"Técnico nuevos usuarios",null,null,"X",null,null,null,null,null,null,2500,null,{"$f":"US024_Analisis!$E$21","v":355},{"$f":"US024_Analisis!$E$22","v":402},{"$f":"US024_Analisis!$E$23","v":493},{"$f":"US024_Analisis!$E$24","v":514},{"$f":"US024_Analisis!$E$25","v":-299},{"$f":"US024_Analisis!$E$26","v":-129},{"$f":"US024_Analisis!$E$27","v":214},{"$f":"US024_Analisis!$E$28","v":341},{"$f":"US024_Analisis!$E$29","v":567},{"$f":"US024_Analisis!$E$30","v":1264},{"$f":"US024_Analisis!$E$31","v":1865},{"$f":"US024_Analisis!$E$32","v":2188}]
[null,null,"IQR índice reclamos comerciales (Acueducto y Alcantarillado)","US025",null,null,"IQRm = ΣRc*mf/NTU*1000",null,"Subgerente comercial",null,null,"X",null,null,null,null,null,null,4,4,{"$f":"US025_Analisis!$F$21","v":{"$error":"#DIV/0!"}},{"$f":"US025_Analisis!$F$22","v":{"$error":"#DIV/0!"}},{"$f":"US025_Analisis!$F$23","v":{"$error":"#DIV/0!"}},{"$f":"US025_Analisis!$F$24","v":{"$error":"#DIV/0!"}},{"$f":"US025_Analisis!$F$25","v":{"$error":"#DIV/0!"}},{"$f":"US025_Analisis!$F$26","v":{"$error":"#DIV/0!"}},{"$f":"US025_Analisis!$F$27","v":{"$error":"#DIV/0!"}},{"$f":"US025_Analisis!$F$28","v":{"$error":"#DIV/0!"}},{"$f":"US025_Analisis!$F$29","v":{"$error":"#DIV/0!"}},{"$f":"US025_Analisis!$F$30","v":{"$error":"#DIV/0!"}},{"$f":"US025_Analisis!$F$31","v":{"$error":"#DIV/0!"}},{"$f":"US025_Analisis!$F$32","v":{"$error":"#DIV/0!"}}]
[null,null,"IRCF índice reclamos comerciales por facturación Aseo","US026",null,null,"IRCFm = ΣRc*mf/NTU*1000",null,"Subgerente comercial",null,null,"X",null,null,null,null,null,null,4,4,{"$f":"US026_Analisis!$F$21","v":{"$error":"#DIV/0!"}},{"$f":"US026_Analisis!$F$22","v":{"$error":"#DIV/0!"}},{"$f":"US026_Analisis!$F$23","v":{"$error":"#DIV/0!"}},{"$f":"US026_Analisis!$F$24","v":{"$error":"#DIV/0!"}},{"$f":"US026_Analisis!$F$25","v":{"$error":"#DIV/0!"}},{"$f":"US026_Analisis!$F$26","v":{"$error":"#DIV/0!"}},{"$f":"US026_Analisis!$F$27","v":{"$error":"#DIV/0!"}},{"$f":"US026_Analisis!$F$28","v":{"$error":"#DIV/0!"}},{"$f":"US026_Analisis!$F$29","v":{"$error":"#DIV/0!"}},{"$f":"US026_Analisis!$F$30","v":{"$error":"#DIV/0!"}},{"$f":"US026_Analisis!$F$31","v":{"$error":"#DIV/0!"}},{"$f":"US026_Analisis!$F$32","v":{"$error":"#DIV/0!"}}]
["APRENDIZAJE ORGANIZACIONAL",null,"Eficiencia laboral acueducto","OR001",null,null,"Costos de Personal/Volumen de agua facturado (ultimos 12 meses)",null,"Auxiliar Costos",null,null,null,null,null,null,"X",null,null,592,null,{"$f":"OR001_Analisis!$E$21","v":612.25044517428137},{"$f":"OR001_Analisis!$E$21","v":612.25044517428137},{"$f":"OR001_Analisis!$E$21","v":612.25044517428137},{"$f":"OR001_Analisis!$E$22","v":635.52863597939609},{"$f":"OR001_Analisis!$E$22","v":635.52863597939609},{"$f":"OR001_Analisis!$E$22","v":635.52863597939609},{"$f":"OR001_Analisis!$E$23","v":696.84223130976659},{"$f":"OR001_Analisis!$E$23","v":696.84223130976659},{"$f":"OR001_Analisis!$E$23","v":696.84223130976659},{"$f":"OR001_Analisis!$E$24","v":812.0035466304339},{"$f":"OR001_Analisis!$E$24","v":812.0035466304339},{"$f":"OR001_Analisis!$E$24","v":812.0035466304339}]
[null,null,"Productividad del Personal Administrativo del Prestador — PPAP","OR002",null,null,"NATg/                                                              (NSg/1000)","Eficiencia en la Gestión Empresarial","Profesional Talento Humano ","X",null,null,null,null,null,null,null,null,1.65,{"$f":"+S115","v":1.65},{"$f":"OR002_Analisis!$E$21","v":{"$error":"#DIV/0!"}},{"$f":"OR002_Analisis!$E$22","v":{"$error":"#DIV/0!"}},{"$f":"OR002_Analisis!$E$23","v":{"$error":"#DIV/0!"}},{"$f":"OR002_Analisis!$E$24","v":{"$error":"#DIV/0!"}},{"$f":"OR002_Analisis!$E$25","v":{"$error":"#DIV/0!"}},{"$f":"OR002_Analisis!$E$26","v":{"$error":"#DIV/0!"}},{"$f":"OR002_Analisis!$E$27","v":{"$error":"#DIV/0!"}},{"$f":"OR002_Analisis!$E$28","v":{"$error":"#DIV/0!"}},{"$f":"OR002_Analisis!$E$29","v":{"$error":"#DIV/0!"}},{"$f":"OR002_Analisis!$E$30","v":{"$error":"#DIV/0!"}},{"$f":"OR002_Analisis!$E$31","v":{"$error":"#DIV/0!"}},{"$f":"OR002_Analisis!$E$32","v":{"$error":"#DIV/0!"}}]
[null,null,"Productividad del Personal Operativo Acueducto — POAC","OR003",null,null,"NTOACg/                                                              (NSACg/1000)","Eficiencia en la Gestión Empresarial","Profesional Talento Humano ","X",null,null,null,null,null,null,null,null,0.93,0.93,{"$f":"OR003_Analisis!$E$21","v":{"$error":"#DIV/0!"}},{"$f":"OR003_Analisis!$E$22","v":{"$error":"#DIV/0!"}},{"$f":"OR003_Analisis!$E$23","v":{"$error":"#DIV/0!"}},{"$f":"OR003_Analisis!$E$24","v":{"$error":"#DIV/0!"}},{"$f":"OR003_Analisis!$E$25","v":{"$error":"#DIV/0!"}},{"$f":"OR003_Analisis!$E$26","v":{"$error":"#DIV/0!"}},{"$f":"OR003_Analisis!$E$27","v":{"$error":"#DIV/0!"}},{"$f":"OR003_Analisis!$E$28","v":{"$error":"#DIV/0!"}},{"$f":"OR003_Analisis!$E$29","v":{"$error":"#DIV/0!"}},{"$f":"OR003_Analisis!$E$30","v":{"$error":"#DIV/0!"}},{"$f":"OR003_Analisis!$E$31","v":{"$error":"#DIV/0!"}},{"$f":"OR003_Analisis!$E$32","v":{"$error":"#DIV/0!"}}]
[null,null,"Productividad del Personal Operativo Alcantarillado — POALC","OR004",null,null,"NTOALg  /\n (NSALg/1000)","Eficiencia en la Gestión Empresarial","Profesional Talento Humano ","X",null,null,null,null,null,null,null,null,0.41,0.41,{"$f":"OR004_Analisis!$E$21","v":{"$error":"#DIV/0!"}},{"$f":"OR004_Analisis!$E$22","v":{"$error":"#DIV/0!"}},{"$f":"OR004_Analisis!$E$23","v":{"$error":"#DIV/0!"}},{"$f":"OR004_Analisis!$E$24","v":{"$error":"#DIV/0!"}},{"$f":"OR004_Analisis!$E$25","v":{"$error":"#DIV/0!"}},{"$f":"OR004_Analisis!$E$26","v":{"$error":"#DIV/0!"}},{"$f":"OR004_Analisis!$E$27","v":{"$error":"#DIV/0!"}},{"$f":"OR004_Analisis!$E$28","v":{"$error":"#DIV/0!"}},{"$f":"OR004_Analisis!$E$29","v":{"$error":"#DIV/0!"}},{"$f":"OR004_Analisis!$E$30","v":{"$error":"#DIV/0!"}},{"$f":"OR004_Analisis!$E$31","v":{"$error":"#DIV/0!"}},{"$f":"OR004_Analisis!$E$32","v":{"$error":"#DIV/0!"}}]
[null,null,"Relación de Costos y Gastos Administrativos por Gestión Social — GS ","OR005",null,null,"(CGGS/GOAAA) x100","Eficiencia en la Gestión Empresarial","Profesional de Presupuesto","X",null,null,null,null,null,null,null,null,0.33,0.33,{"$f":"OR005_Analisis!$E$21","v":{"$error":"#DIV/0!"}},{"$f":"OR005_Analisis!$E$22","v":{"$error":"#DIV/0!"}},{"$f":"OR005_Analisis!$E$23","v":{"$error":"#DIV/0!"}},{"$f":"OR005_Analisis!$E$24","v":{"$error":"#DIV/0!"}},{"$f":"OR005_Analisis!$E$25","v":{"$error":"#DIV/0!"}},{"$f":"OR005_Analisis!$E$26","v":{"$error":"#DIV/0!"}},{"$f":"OR005_Analisis!$E$27","v":{"$error":"#DIV/0!"}},{"$f":"OR005_Analisis!$E$28","v":{"$error":"#DIV/0!"}},{"$f":"OR005_Analisis!$E$29","v":{"$error":"#DIV/0!"}},{"$f":"OR005_Analisis!$E$30","v":{"$error":"#DIV/0!"}},{"$f":"OR005_Analisis!$E$31","v":{"$error":"#DIV/0!"}},{"$f":"OR005_Analisis!$E$32","v":{"$error":"#DIV/0!"}}]
[null,null,"Indice de Rotación de Personal Directivo — IRDP","OR006",null,null,"∑Ll=1 ALl / L","Gobierno y transparencia","Profesional Talento Humano ","X",null,null,null,null,null,null,null,null,3,3,{"$f":"OR006_Analisis!$E$21","v":{"$error":"#DIV/0!"}},{"$f":"OR006_Analisis!$E$21","v":{"$error":"#DIV/0!"}},{"$f":"OR006_Analisis!$E$21","v":{"$error":"#DIV/0!"}},{"$f":"OR006_Analisis!$E$22","v":{"$error":"#DIV/0!"}},{"$f":"OR006_Analisis!$E$22","v":{"$error":"#DIV/0!"}},{"$f":"OR006_Analisis!$E$22","v":{"$error":"#DIV/0!"}},{"$f":"OR006_Analisis!$E$23","v":{"$error":"#DIV/0!"}},{"$f":"OR006_Analisis!$E$23","v":{"$error":"#DIV/0!"}},{"$f":"OR006_Analisis!$E$23","v":{"$error":"#DIV/0!"}},{"$f":"OR006_Analisis!$E$24","v":{"$error":"#DIV/0!"}},{"$f":"OR006_Analisis!$E$24","v":{"$error":"#DIV/0!"}},{"$f":"OR006_Analisis!$E$24","v":{"$error":"#DIV/0!"}}]
[null,null,"Carga administrativa — ICA","OR007",null,null,"(GPA / Ie) x 100","Gobierno y transparencia","Profesional Talento Humano ","X",null,null,null,null,null,null,null,null,17.66,17.66,{"$f":"OR007_Analisis!$E$21","v":{"$error":"#DIV/0!"}},{"$f":"OR007_Analisis!$E$21","v":{"$error":"#DIV/0!"}},{"$f":"OR007_Analisis!$E$21","v":{"$error":"#DIV/0!"}},{"$f":"OR007_Analisis!$E$22","v":{"$error":"#DIV/0!"}},{"$f":"OR007_Analisis!$E$22","v":{"$error":"#DIV/0!"}},{"$f":"OR007_Analisis!$E$22","v":{"$error":"#DIV/0!"}},{"$f":"OR007_Analisis!$E$23","v":{"$error":"#DIV/0!"}},{"$f":"OR007_Analisis!$E$23","v":{"$error":"#DIV/0!"}},{"$f":"OR007_Analisis!$E$23","v":{"$error":"#DIV/0!"}},{"$f":"OR007_Analisis!$E$24","v":{"$error":"#DIV/0!"}},{"$f":"OR007_Analisis!$E$24","v":{"$error":"#DIV/0!"}},{"$f":"OR007_Analisis!$E$24","v":{"$error":"#DIV/0!"}}]
[null,null,"Eficiencia laboral alcantarillado","OR008",null,null,"Costos de Personal/Volumen de agua facturado (ultimos 12 meses)",null,"Auxiliar Costos",null,null,null,null,null,null,"X",null,null,239,null,{"$f":"OR008_Analisis!$E$21","v":320.16215355189502},{"$f":"OR008_Analisis!$E$21","v":320.16215355189502},{"$f":"OR008_Analisis!$E$21","v":320.16215355189502},{"$f":"OR008_Analisis!$E$22","v":281.4277346007035},{"$f":"OR008_Analisis!$E$22","v":281.4277346007035},{"$f":"OR008_Analisis!$E$22","v":281.4277346007035},{"$f":"OR008_Analisis!$E$23","v":329.72653001436197},{"$f":"OR008_Analisis!$E$23","v":329.72653001436197},{"$f":"OR008_Analisis!$E$23","v":329.72653001436197},{"$f":"OR008_Analisis!$E$24","v":499.4938204912844},{"$f":"OR008_Analisis!$E$24","v":499.4938204912844},{"$f":"OR008_Analisis!$E$24","v":499.4938204912844}]
[null,null,"Eficiencia laboral aseo","OR009",null,null,"Costos de Personal/Basura recogida(ultimos 12 meses ) toneladas",null,"Auxiliar Costos",null,"X",null,null,null,null,"X",null,null,120424,null,{"$f":"OR009_Analisis!$E$21","v":127931.95994042906},{"$f":"OR009_Analisis!$E$21","v":127931.95994042906},{"$f":"OR009_Analisis!$E$21","v":127931.95994042906},{"$f":"OR009_Analisis!$E$22","v":138171.66663738558},{"$f":"OR009_Analisis!$E$22","v":138171.66663738558},{"$f":"OR009_Analisis!$E$22","v":138171.66663738558},{"$f":"OR009_Analisis!$E$23","v":132383.8515565907},{"$f":"OR009_Analisis!$E$23","v":132383.8515565907},{"$f":"OR009_Analisis!$E$23","v":132383.8515565907},{"$f":"OR009_Analisis!$E$24","v":151931.33108264889},{"$f":"OR009_Analisis!$E$24","v":151931.33108264889},{"$f":"OR009_Analisis!$E$24","v":151931.33108264889}]
[null,null,"Frecuencia de los accidentes laborales","OR010",null,null,"(Número Accidentes/Total horas hombre) * 100",null,"Profesional salud ocupacional",null,null,null,null,null,"X",null,null,null,12,null,{"$f":"OR010_Analisis!$E$21","v":0},{"$f":"OR010_Analisis!$E$22","v":0.42016806722689076},{"$f":"OR010_Analisis!$E$23","v":0.41493775933609961},{"$f":"OR010_Analisis!$E$24","v":1.25},{"$f":"OR010_Analisis!$E$25","v":1.6528925619834711},{"$f":"OR010_Analisis!$E$26","v":0.36764705882352938},{"$f":"OR010_Analisis!$E$27","v":1.1194029850746268},{"$f":"OR010_Analisis!$E$28","v":1.1029411764705883},{"$f":"OR010_Analisis!$E$29","v":1.8181818181818181},{"$f":"OR010_Analisis!$E$30","v":1.4336917562724014},{"$f":"OR010_Analisis!$E$31","v":2.1428571428571428},{"$f":"OR010_Analisis!$E$32","v":{"$error":"#DIV/0!"}}]
[null,null,"Severidad de los accidentes laborales","OR011",null,null,"(Números Dias perdidos+Días cargados/Horas hombre)*100",null,"Profesional salud ocupacional",null,null,null,null,null,"X",null,null,null,20,null,{"$f":"OR011_Analisis!$F$21","v":0},{"$f":"OR011_Analisis!$F$22","v":2.1008403361344539},{"$f":"OR011_Analisis!$F$23","v":1.2448132780082988},{"$f":"OR011_Analisis!$F$24","v":6.666666666666667},{"$f":"OR011_Analisis!$F$25","v":4.9586776859504136},{"$f":"OR011_Analisis!$F$26","v":0.73529411764705888},{"$f":"OR011_Analisis!$F$27","v":2.9850746268656718},{"$f":"OR011_Analisis!$F$28","v":3.3088235294117645},{"$f":"OR011_Analisis!$F$29","v":5.4545454545454541},{"$f":"OR011_Analisis!$F$30","v":7.5268817204301079},{"$f":"OR011_Analisis!$F$31","v":10.714285714285714},{"$f":"OR011_Analisis!$F$32","v":{"$error":"#DIV/0!"}}]
[null,null,"Ausentismo ","OR012",null,null,"(Número días Ausencias laborales y comunes /Números días de trabajo programados)*100",null,"Profesional salud ocupacional",null,null,null,null,null,"X",null,null,null,4,null,{"$f":"OR012_Analisis!$F$21","v":2.7601969057665259},{"$f":"OR012_Analisis!$F$22","v":3.4313725490196081},{"$f":"OR012_Analisis!$F$23","v":4.23582295988935},{"$f":"OR012_Analisis!$F$24","v":2.2048611111111112},{"$f":"OR012_Analisis!$F$25","v":1.6873278236914602},{"$f":"OR012_Analisis!$F$26","v":1.485906862745098},{"$f":"OR012_Analisis!$F$27","v":2.7052238805970146},{"$f":"OR012_Analisis!$F$28","v":3.3394607843137254},{"$f":"OR012_Analisis!$F$29","v":3.6060606060606064},{"$f":"OR012_Analisis!$F$30","v":3.2407407407407405},{"$f":"OR012_Analisis!$F$31","v":2.5446428571428572},{"$f":"OR012_Analisis!$F$32","v":{"$error":"#DIV/0!"}}]
[null,null,"Proporción de Accidentes de trabajos mortales","OR013",null,null,"(Número de accidentes de trabajos mortales que se presentaron en el año/Total de accidentes de trabajo que se presentaron en el año) * 100",null,"Profesional salud ocupacional",null,null,null,null,null,"X",null,null,null,0,null,{"$f":"OR013_Analisis!$E$21","v":"0,00%"},{"$f":"OR013_Analisis!$E$22","v":0},{"$f":"OR013_Analisis!$E$23","v":0},{"$f":"OR013_Analisis!$E$24","v":0},{"$f":"OR013_Analisis!$E$25","v":0},{"$f":"OR013_Analisis!$E$26","v":0},{"$f":"OR013_Analisis!$E$27","v":0},{"$f":"OR013_Analisis!$E$28","v":0},{"$f":"OR013_Analisis!$E$29","v":0},{"$f":"OR013_Analisis!$E$30","v":0},{"$f":"OR013_Analisis!$E$31","v":0},{"$f":"OR013_Analisis!$E$32","v":"0,00%"}]
[null,null,"Prevalencia de la enfermedad laboral","OR014",null,null,"(Número de casos nuevos y antiguos de enfermedad laboral en el período/ Promedio trabajadores en el período)*100000",null,"Profesional salud ocupacional",null,null,null,null,null,"X",null,null,null,2100,null,{"$f":"OR014_Analisis!$E$21","v":1687.7637130801688},{"$f":"OR014_Analisis!$E$22","v":1680.672268907563},{"$f":"OR014_Analisis!$E$23","v":1659.7510373443984},{"$f":"OR014_Analisis!$E$24","v":1666.6666666666667},{"$f":"OR014_Analisis!$E$25","v":1652.8925619834711},{"$f":"OR014_Analisis!$E$26","v":1470.5882352941176},{"$f":"OR014_Analisis!$E$27","v":1119.4029850746269},{"$f":"OR014_Analisis!$E$28","v":1102.9411764705883},{"$f":"OR014_Analisis!$E$29","v":1090.909090909091},{"$f":"OR014_Analisis!$E$30","v":1075.2688172043011},{"$f":"OR014_Analisis!$E$31","v":1071.4285714285713},{"$f":"OR014_Analisis!$E$32","v":{"$error":"#DIV/0!"}}]
[null,null,"Incidencia de la enfermedad laboral","OR015",null,null,"(Número de casos nuevos de enfermedad laboral/ Promedio trabajadores en el período)*100000",null,"Profesional salud ocupacional",null,null,null,null,null,"X",null,null,null,0,null,{"$f":"OR015_Analisis!$E$21","v":0},{"$f":"OR015_Analisis!$E$22","v":0},{"$f":"OR015_Analisis!$E$23","v":0},{"$f":"OR015_Analisis!$E$24","v":0},{"$f":"OR015_Analisis!$E$25","v":0},{"$f":"OR015_Analisis!$E$26","v":0},{"$f":"OR015_Analisis!$E$27","v":0},{"$f":"OR015_Analisis!$E$28","v":0},{"$f":"OR015_Analisis!$E$29","v":0},{"$f":"OR015_Analisis!$E$30","v":0},{"$f":"OR015_Analisis!$E$31","v":0},{"$f":"OR015_Analisis!$E$32","v":{"$error":"#DIV/0!"}}]
[null,null,"Personal capacitado en seguridad vial","OR016",null,null,"Número de personas capacitadas en seguridad vial/ total de personas a formar en seguridad vial",null,"Profesional talento humano",null,null,null,"X",null,null,null,null,null,0.2,1,{"$f":"OR016_Analisis!$E$21","v":{"$error":"#DIV/0!"}},{"$f":"OR016_Analisis!$E$21","v":{"$error":"#DIV/0!"}},{"$f":"OR016_Analisis!$E$21","v":{"$error":"#DIV/0!"}},{"$f":"OR016_Analisis!$E$21","v":{"$error":"#DIV/0!"}},{"$f":"OR016_Analisis!$E$21","v":{"$error":"#DIV/0!"}},{"$f":"OR016_Analisis!$E$21","v":{"$error":"#DIV/0!"}},{"$f":"OR016_Analisis!$E$21","v":{"$error":"#DIV/0!"}},{"$f":"OR016_Analisis!$E$21","v":{"$error":"#DIV/0!"}},{"$f":"OR016_Analisis!$E$21","v":{"$error":"#DIV/0!"}},{"$f":"OR016_Analisis!$E$21","v":{"$error":"#DIV/0!"}},{"$f":"OR016_Analisis!$E$21","v":{"$error":"#DIV/0!"}},{"$f":"OR016_Analisis!$E$21","v":{"$error":"#DIV/0!"}}]
[null,null,"Evaluaciones a conductores","OR017",null,null,"Número de evaluaciones realizadas / Número de evaluaciones programadas",null,"Profesional talento humano",null,null,null,"X",null,null,null,null,null,1,1,{"$f":"OR017_Analisis!$E$21","v":{"$error":"#DIV/0!"}},{"$f":"OR017_Analisis!$E$21","v":{"$error":"#DIV/0!"}},{"$f":"OR017_Analisis!$E$21","v":{"$error":"#DIV/0!"}},{"$f":"OR017_Analisis!$E$21","v":{"$error":"#DIV/0!"}},{"$f":"OR017_Analisis!$E$21","v":{"$error":"#DIV/0!"}},{"$f":"OR017_Analisis!$E$21","v":{"$error":"#DIV/0!"}},{"$f":"OR017_Analisis!$E$21","v":{"$error":"#DIV/0!"}},{"$f":"OR017_Analisis!$E$21","v":{"$error":"#DIV/0!"}},{"$f":"OR017_Analisis!$E$21","v":{"$error":"#DIV/0!"}},{"$f":"OR017_Analisis!$E$21","v":{"$error":"#DIV/0!"}},{"$f":"OR017_Analisis!$E$21","v":{"$error":"#DIV/0!"}},{"$f":"OR017_Analisis!$E$21","v":{"$error":"#DIV/0!"}}]
[null,null,"Valoración médica de condiciones físicas","OR018",null,null,"Número de exámenes realizados/ total conductores",null,"Profesional talento humano",null,null,null,"X",null,null,null,null,null,1,1,{"$f":"OR018_Analisis!$E$21","v":{"$error":"#DIV/0!"}},{"$f":"OR018_Analisis!$E$21","v":{"$error":"#DIV/0!"}},{"$f":"OR018_Analisis!$E$21","v":{"$error":"#DIV/0!"}},{"$f":"OR018_Analisis!$E$21","v":{"$error":"#DIV/0!"}},{"$f":"OR018_Analisis!$E$21","v":{"$error":"#DIV/0!"}},{"$f":"OR018_Analisis!$E$21","v":{"$error":"#DIV/0!"}},{"$f":"OR018_Analisis!$E$21","v":{"$error":"#DIV/0!"}},{"$f":"OR018_Analisis!$E$21","v":{"$error":"#DIV/0!"}},{"$f":"OR018_Analisis!$E$21","v":{"$error":"#DIV/0!"}},{"$f":"OR018_Analisis!$E$21","v":{"$error":"#DIV/0!"}},{"$f":"OR018_Analisis!$E$21","v":{"$error":"#DIV/0!"}},{"$f":"OR018_Analisis!$E$21","v":{"$error":"#DIV/0!"}}]
[null,null,"Eficiencia del PIC ","OR019",null,null,"No. De capacitaciones ejecutadas / No. Capacitaciones programadas ",null,"Profesional talento humano",null,null,null,null,null,null,null,"X",null,1,1,{"$f":"OR019_Analisis!$E$21","v":{"$error":"#DIV/0!"}},{"$f":"OR019_Analisis!$E$21","v":{"$error":"#DIV/0!"}},{"$f":"OR019_Analisis!$E$21","v":{"$error":"#DIV/0!"}},{"$f":"OR019_Analisis!$E$21","v":{"$error":"#DIV/0!"}},{"$f":"OR019_Analisis!$E$21","v":{"$error":"#DIV/0!"}},{"$f":"OR019_Analisis!$E$21","v":{"$error":"#DIV/0!"}},{"$f":"OR019_Analisis!$E$22","v":{"$error":"#DIV/0!"}},{"$f":"OR019_Analisis!$E$22","v":{"$error":"#DIV/0!"}},{"$f":"OR019_Analisis!$E$22","v":{"$error":"#DIV/0!"}},{"$f":"OR019_Analisis!$E$22","v":{"$error":"#DIV/0!"}},{"$f":"OR019_Analisis!$E$22","v":{"$error":"#DIV/0!"}},{"$f":"OR019_Analisis!$E$22","v":{"$error":"#DIV/0!"}}]
[null,null,"Cumplimento del PGR — CPGR","OR020",null,null," [INTAB1 / N1] ","Gobierno y transparencia","Subgerente de Planeación ","X",null,null,null,null,null,null,null,null,90,100,{"$f":"OR020_Analisis!$E$21","v":{"$error":"#DIV/0!"}},{"$f":"OR020_Analisis!$E$21","v":{"$error":"#DIV/0!"}},{"$f":"OR020_Analisis!$E$21","v":{"$error":"#DIV/0!"}},{"$f":"OR020_Analisis!$E$21","v":{"$error":"#DIV/0!"}},{"$f":"OR020_Analisis!$E$21","v":{"$error":"#DIV/0!"}},{"$f":"OR020_Analisis!$E$21","v":{"$error":"#DIV/0!"}},{"$f":"OR020_Analisis!$E$21","v":{"$error":"#DIV/0!"}},{"$f":"OR020_Analisis!$E$21","v":{"$error":"#DIV/0!"}},{"$f":"OR020_Analisis!$E$21","v":{"$error":"#DIV/0!"}},{"$f":"OR020_Analisis!$E$21","v":{"$error":"#DIV/0!"}},{"$f":"OR020_Analisis!$E$21","v":{"$error":"#DIV/0!"}},{"$f":"OR020_Analisis!$E$21","v":{"$error":"#DIV/0!"}}]
["INNOVACIÓN ORGANIZACIONAL",null,"Inversión en actualización tecnológica","IV001",null,null,"Inversión ejecutada en la actualización tecnológica/presupuesto total de inversión en actualización tecnológica",null,"Profesional presupuesto",null,null,null,null,null,null,null,"X",null,1,1,{"$f":"IV001_Analisis!$E$21","v":{"$error":"#DIV/0!"}},{"$f":"IV001_Analisis!$E$21","v":{"$error":"#DIV/0!"}},{"$f":"IV001_Analisis!$E$21","v":{"$error":"#DIV/0!"}},{"$f":"IV001_Analisis!$E$21","v":{"$error":"#DIV/0!"}},{"$f":"IV001_Analisis!$E$21","v":{"$error":"#DIV/0!"}},{"$f":"IV001_Analisis!$E$21","v":{"$error":"#DIV/0!"}},{"$f":"IV001_Analisis!$E$21","v":{"$error":"#DIV/0!"}},{"$f":"IV001_Analisis!$E$21","v":{"$error":"#DIV/0!"}},{"$f":"IV001_Analisis!$E$21","v":{"$error":"#DIV/0!"}},{"$f":"IV001_Analisis!$E$21","v":{"$error":"#DIV/0!"}},{"$f":"IV001_Analisis!$E$21","v":{"$error":"#DIV/0!"}},{"$f":"IV001_Analisis!$E$21","v":{"$error":"#DIV/0!"}}]
[null,null,"Actualización de Hardware","IV002",null,null,"Equipos con menos de 5 años de antigüedad/Total Equipos",null,"Técnico Sistemas",null,null,null,null,null,null,null,"X",null,0.85,null,{"$f":"IV002_Analisis!$E$21","v":{"$error":"#DIV/0!"}},{"$f":"IV002_Analisis!$E$21","v":{"$error":"#DIV/0!"}},{"$f":"IV002_Analisis!$E$21","v":{"$error":"#DIV/0!"}},{"$f":"IV002_Analisis!$E$21","v":{"$error":"#DIV/0!"}},{"$f":"IV002_Analisis!$E$21","v":{"$error":"#DIV/0!"}},{"$f":"IV002_Analisis!$E$21","v":{"$error":"#DIV/0!"}},{"$f":"IV002_Analisis!$E$21","v":{"$error":"#DIV/0!"}},{"$f":"IV002_Analisis!$E$21","v":{"$error":"#DIV/0!"}},{"$f":"IV002_Analisis!$E$21","v":{"$error":"#DIV/0!"}},{"$f":"IV002_Analisis!$E$21","v":{"$error":"#DIV/0!"}},{"$f":"IV002_Analisis!$E$21","v":{"$error":"#DIV/0!"}},{"$f":"IV002_Analisis!$E$21","v":{"$error":"#DIV/0!"}}]
[null,null,"Ingresos por nuevos negocios","IV003",null,null,"Valor ingresos por nuevos negocios/Valor total ingresos para el año 2017",null,"Subgerente de planeación",null,null,null,null,null,null,null,"X",null,0.85,null,{"$f":"IV003_Analisis!$E$21","v":{"$error":"#DIV/0!"}},{"$f":"IV003_Analisis!$E$21","v":{"$error":"#DIV/0!"}},{"$f":"IV003_Analisis!$E$21","v":{"$error":"#DIV/0!"}},{"$f":"IV003_Analisis!$E$21","v":{"$error":"#DIV/0!"}},{"$f":"IV003_Analisis!$E$21","v":{"$error":"#DIV/0!"}},{"$f":"IV003_Analisis!$E$21","v":{"$error":"#DIV/0!"}},{"$f":"IV003_Analisis!$E$21","v":{"$error":"#DIV/0!"}},{"$f":"IV003_Analisis!$E$21","v":{"$error":"#DIV/0!"}},{"$f":"IV003_Analisis!$E$21","v":{"$error":"#DIV/0!"}},{"$f":"IV003_Analisis!$E$21","v":{"$error":"#DIV/0!"}},{"$f":"IV003_Analisis!$E$21","v":{"$error":"#DIV/0!"}},{"$f":"IV003_Analisis!$E$21","v":{"$error":"#DIV/0!"}}]

{"sheet":"Parametros","index":1,"n_rows":133,"n_cols":16,"rows_kept":133,"cut":false,"hidden":false,"merged":[]}
["INDICADOR","PROCESO","VARIABLE","UNIDADES DE MEDIDA","SOPORTE LEGAL","FRECUENCIA DE CALCULO","ESTILO DE CÁLCULO","TENDENCIA DEL INDICADOR (Creciente o decreciente)","Tipo de indicador Eficiencia","Tipo de indicador Eficacia","Tipo de indicador Efectividad","Tipo de indicador Economia","Tipo de indicador Ambiental","Número de variables","Objetivo","FORMULA"]
[{"$f":"Indicadores!C5","v":"Ejecución de las inversiones Acueducto"},"CONDUCCIÓN Y  DISTRIBUCIÓN DE AGUA POTABLE - POTABILIZACIÓN DE AGUA","Inversión Realizada:  Valor en pesos corrientes de los desembolsos realizados por la entidad durante un período de análisis, con cargo a recursos generados por la propia empresa y a otras fuentes de financiación, para la realización del plan de inversiones.\nInversión Presupuestada: Valor  en pesos corrientes de la inversión prevista a realizar por la entidad, durante ese mismo  período, según el  plan de inversiones.","%","Resolución CRA 12/1995","Mensual","Último dato","Creciente",null,"X",null,null,null,2,"Reflejar la capacidad de ejecutar las inversiones programadas","V1/V2"]
[{"$f":"Indicadores!C6","v":"IRCA"},"CONDUCCIÓN Y  DISTRIBUCIÓN DE AGUA POTABLE","Dar cumplimiento a la normatividad vigente expedida por el Ministerio de Salud.","%","Resolución CRA 1575/2007","Mensual","Promedio","Decreciente",null,null,"X",null,null,2,"Establecer el índice de riesgo de la calidad del agua del municipio para el consumo humano","V1-V2"]
[{"$f":"Indicadores!C7","v":"Indice de Reporte y Calidad de Agua Potable- IRCAP"},"CONDUCCIÓN Y  DISTRIBUCIÓN DE AGUA POTABLE","Dar cumplimiento a la normatividad vigente expedida por la CRA resolución 906/19","Número","Resolución CRA 906/2019","Mensual","Promedio","Creciente",null,null,"X",null,null,1,"Reporta la información de calidad de agua potable suministrada y si esta es apta para el consumo humano","V1"]
[{"$f":"Indicadores!C8","v":"IRABA"},"CONDUCCIÓN Y  DISTRIBUCIÓN DE AGUA POTABLE","IT: índice de tratamiento. Es el puntaje que se le asigna al evaluar los procesos de tratamiento, ensayos básicos de laboratorio en planta de tratamiento y trabajadores certificados de la persona prestadora. El máximo puntaje equivale a 80 puntos. IC: Índice de continuidad. Es el puntaje que se le asigna a la persona prestadora, con la información de continuidad de su área de influencia. El máximo puntaje equivale a 20 puntos.","Número","Resolución CRA 2115/2007","Mensual","Promedio","Decreciente",null,null,"X",null,null,2,"Determinar si el suministro de agua cumple con los criterios de tratamiento, distribución y continuidad del servicio","1-(V1+V2)"]
[{"$f":"Indicadores!C9","v":"Indice de Continuidad — IC"},"CONDUCCIÓN Y  DISTRIBUCIÓN DE AGUA POTABLE","IC: Índice De Continuidad, redondeado a dos (2) cifras decimales. \ng:  Período de facturación, durante el año de evaluación en el que se prestó el servicio público domiciliario de  acueducto, g = (1,2,3,...,PF}. En donde g = 1 corresponde al primer período de facturación que tenga su fecha de inicio dentro del añade evaluación, mientras que g = PF corresponderá al último período de facturación que inicie en el año de evaluación, independiente de que su fecha de terminación no se encuentre en el año de evaluación.\nPF: Número de periodos de facturación en los cuales se presto el servicio público domiciliario de acueducto durante el período evaluación (año fiscal). ","Número","Resolución CRA 906/2019","Mensual","Promedio","Creciente",null,null,"X",null,null,1,"Determinar el promedio mensual del número de horas/día de prestación efectiva del servicio público domicliario de acueducto.","V1"]
[{"$f":"Indicadores!C10","v":"Indice de Inversiones Acumuladas de Acueducto — IIAAC"},"CONDUCCIÓN Y  DISTRIBUCIÓN DE AGUA POTABLE","VPIejecp: Valor presente de las inversiones ejecutadas del plan de inversiones del servicio público domiciliario de acueducto. en el período de evaluación p (expresado en peso del a la base). Lasa cuales corresponden a la erogaciones realizadas por el prestador sin discriminación del avance del proyecto y/o inversión, ya sea que la misma se encuentre en \"curso\" o \"financiada\".\nVPIproyp: Valor presente de las inversiones proyectadas del plan de inversiones del servicio publico domiciliario de acueducto desde en el período de evaluación (expresado en pesos del año base)","%","Resolución CRA 906/2019","Semestral","Promedio","Creciente",null,"X",null,"X",null,2,"Determina el porcentaje acumulado del valor de las inversiones ejecutadas frente al valor de lasinversines proyectadas","(V1/V2)*100"]
[{"$f":"Indicadores!C11","v":"Indice de Ejecución Anual de Inversiones de Acueducto —IEAIAC"},"CONDUCCIÓN Y  DISTRIBUCIÓN DE AGUA POTABLE","VEPa: Valor (en pesos corrientes) del activo y/o proyecto \"a\" ejecutado establecido dentro del plan de inversiones o POIR del prestador para el servicio público domiciliario de acueducto. Los cuales corresponderán a la erogaciones realizadas por el prestador, ya sea que la misma se encuentre \"en curso\" o \"financiada\".                  \nPAa: Porcentaje de avance físico del activo y/o proyecto \"a\" al cierre del periodo de evaluación, el cual será definido por el prestador entre 0% y el 100%.\nVPa: Valor (en pesos corrientes) de los proyectos y/o activos \"a\" establecidos en el plan de  Inversiones del prestador para el servicio público domiciliario de acueducto. Lo anterior, debe corresponder al período tarifario que finaliza en el período de evaluación del indicador.","%","Resolución CRA 906/2019","Semestral","Promedio","Creciente",null,"X",null,"X",null,3,"Determinar el porcentaje de cumplimiento anual del valor de las inversiones ejecutadas con respecto a las inversines proyectadas","((V1*V2)/V3)*100"]
[{"$f":"Indicadores!C12","v":"Indicador de Plan de Emergencias y Contingencias para Acueducto — PECAC"},"CONDUCCIÓN Y  DISTRIBUCIÓN DE AGUA POTABLE","Componentes que conforman el PEC.\nDonde, r = (1=  Aseguramiento de infraestructura, \n                     2= Identificación de Amenazas,\n                     3= Registro de eventos,\n                     4= Inventario y  \n                     5= Reporte del PEC en el SUI).","%","Resolución CRA 906/2019","Semestral","Último dato","Creciente",null,"X",null,null,null,1,"Verificar la planificación de las acciones que se deberán poner en marcha en caso de emergencia, y los planes de contingencia establecidos para recuperar la normalidad de la prestación del servicio en el menor tiempo posible, logrando reducir los impactos negativos en beneficio de los usuarios.","(V1/5)*100"]
[{"$f":"Indicadores!C13","v":"Agua Controlada en Puntos de Uso y Consumo — ACPUC"},"CONDUCCIÓN Y  DISTRIBUCIÓN DE AGUA POTABLE","CFM: Volumen de consumo anual facturado medido durante el período de evaluación (m3).\nCFNM: Volumen de consumo anual facturado no medido durante el período de evaluación (m3).\nVE: Volumen anual de entrada al sistema durante el período de evaluación (m3), el cual debe incluir el volumen saliente del sistema de tratamiento y/o al volumen de contratos de suministro.\nIPUF: Índice de perdidas pos suscriptor facturado aceptable en la regulación vigente, establecidos en 6m3/suscriptor/mes.","%","Resolución CRA 906/2019","Mensual","Promedio","Creciente",null,"X",null,null,null,5,"Medir la la proporción que es consumida por los usuarios frenta el volumen total de agua que se ingresa al sistema.","((V1+V2)/(V3-(V4*V5)))*100"]
[{"$f":"Indicadores!C14","v":"Modelo Hidráulico — MH"},"CONDUCCIÓN Y  DISTRIBUCIÓN DE AGUA POTABLE","MH: Modelo Hidráulico","Número","Resolución CRA 906/2019","Mensual","Último dato","Creciente",null,"X",null,null,null,1,"Evaluar el cumplimiento de la exigencia de contar con un modelo hidráulico por parte de los prestadores, de comformidad con los establecido por la Rsolucón 330 de 2017 del MVCT,","V1"]
[{"$f":"Indicadores!C15","v":"Fallas en la Red Transporte y Distribución de Acueducto — FAC"},"CONDUCCIÓN Y  DISTRIBUCIÓN DE AGUA POTABLE","NFRTi: Número de fallas en las redes de distribución ( redes de conducción). por parte de las persona prestadora. se deberán incluir las fallas causadas por terceros.\nNFRDi: Número de fallas en las redes de distribución (redes de conducción y distribución). se entiende por falla aquellas que generen acciones de reparación (correctivas) por parte de la persona prestadora. No se deberán incluir fallas sobre las acometidas.\nLRTi; Longitud de redes de transporte (res de acueducto).\nLRDi: Longitud de redes de distribución de agua (red de conducción y distribución) (km), longitud de la red de distribución irá hasta las acometidas.","Número","Resolución CRA 906/2019","Mensual","Promedio","Decreciente",null,"X",null,null,null,4,"Medir la proporción de daños en la red de transporte y distribución frente a la longitud de esta.","(V1+V2)/(V3+V4)"]
[{"$f":"Indicadores!C16","v":"Consumo Energético del Sistema de Tratamiento de Agua Potable Acueducto — CEAC"},"CONDUCCIÓN Y  DISTRIBUCIÓN DE AGUA POTABLE","EET: Energía total consumida por los procesos de tratamiento del sistema de acueducto, durante el período de evaluación (kwh).\nVTAP: Volumen anual de agua potable producido en el período de evaluación (m3)\nVTAP: Volumen total de agua producida en el periodo de evaluación (m3/año).","Número","Resolución CRA 906/2019","Mensual","Promedio","Creciente",null,"X",null,null,null,2,"Determinar la relación entre consumo de energía eléctrica y volumen de agua potable producida por la Plantas de Tratamiento que hacen parte del sistema de acueducto.","V1/V2"]
[{"$f":"Indicadores!C17","v":"Cumplimiento del PUEAA — CPUEAA"},"CONDUCCIÓN Y  DISTRIBUCIÓN DE AGUA POTABLE",null,"Número","Resolución CRA 906/2019","Semestral","Promedio","Creciente",null,"X",null,null,null,1,"Verificar el cumplimiento del Plan de Uso Eficiente y Ahorro del Agua, enmarcado en la Ley\n373 de 1997, o aquella que las modifique, adicione, sustituya o aclare.","V1"]
[{"$f":"Indicadores!C18","v":"Utilización del Recurso Agua - UA"},"CONDUCCIÓN Y  DISTRIBUCIÓN DE AGUA POTABLE","VCM,: Volumen de agua cruda (m3) captado del medio natural para el suministro del servicio, durante el mes i.\nVCAA,: Volumen de agua cruda (m3) correspondiente al caudal otorgado por la autoridad, ambiental durante el mes i.","%","Resolución CRA 906/2019","Mensual","Promedio","Decreciente",null,"X",null,null,"X",2,"Medir el volumen de agua que es captado de medios naturales para el suministro del servicio de acueducto con relación al caudal ambiental otorgado por la autoridad ambiental, evidenciando de esta forma, el posible estrés hídrico generado sobre la fuente de abastecimiento.","V1/V2"]
[{"$f":"Indicadores!C19","v":"Reporte de Afectación Hídrica asociada a Fenómenos Climáticos - RAHC"},"CONDUCCIÓN Y  DISTRIBUCIÓN DE AGUA POTABLE","NHAFe: Número de horas de duración del evento de afectación e, durante el período de facturación g.\nNAFe: Número de suscriptores afectados durante el evento de afectación e, durante el período de facturación g.\nNhtg: Número de horas totales, calculado como 24 horas por el número de días del período de facturación g. \nNSg: Número total de suscriptores de la persona prestadora en el período de facturación g.","Número","Resolución CRA 906/2019","Mensual","Promedio","Decreciente","X",null,null,null,"X",4,"Medir el grado de fragilidad del sistema hídrico para mantener una oferta en el abastecimiento de agua, durante períodos climáticos atípicos, indicando el promedio de días por evento de afectación.","((V1*V2)/(V3*V4))*24"]
[{"$f":"Indicadores!C20","v":"Cumplimiento Metas en Reducción de Pérdidas -  CMPER"},"CONDUCCIÓN Y  DISTRIBUCIÓN DE AGUA POTABLE","Metap: Meta establecida por el prestador para el estándar de reducción de pérdidas (IPUF) en el año tarifario p evaluado, siguiendo lo establecido en el TÍTULO IX de la Resolución CRA 688 de 2014, o aquella que la modifique, adicione, sustituya o aclare. \nRealp: Índice de pérdidas por usuario facturado del servicio público domiciliario de acueducto del prestador en el año tarifario p evaluado.","%","Resolución CRA 906/2019","Mensual","Promedio","Creciente",null,"X",null,null,null,2,"Medir el avance obtenido por el prestador, en relación con la reducción de pérdidas técnicas y comerciales de agua en su(s) APS con relación al valor establecido regulatoriamente.","(V1/V2)*100"]
[{"$f":"Indicadores!C21","v":"IANC"},"CONDUCCIÓN Y  DISTRIBUCIÓN DE AGUA POTABLE","Volumen Producido: Volumen de agua ( m3 ) que la entidad introdujo al sistema de distribución durante los últimos doce meses, medida a la salida de tanques de almacenamiento, menos desperdicios por mantenimiento.\nVolumen Facturado: Volumen de agua  que la empresa facturó durante los últimos doce meses.\n","%","Resolución CRA 12/1995","Mensual","Suma de componentes","Decreciente","X",null,null,null,null,2," ","V1/V2"]
[{"$f":"Indicadores!C22","v":"IANC villa santana"},"CONDUCCIÓN Y  DISTRIBUCIÓN DE AGUA POTABLE",null,"%",null,"Mensual","Suma de componentes","Decreciente","X",null,null,null,null,2,"Disminuir las perdidas técnicas que se presentan en la planta ","V1/V2"]
[{"$f":"Indicadores!C23","v":"IPUF"},"CONDUCCIÓN Y  DISTRIBUCIÓN DE AGUA POTABLE","Pérdidas en m3: m3 Comprados - m3 facturados. Número de suscriptores mes: Suscriptores comerciales del servicio de acueducto","M3/sucriptor","Resolución CRA 688/2014 y 735/2015","Mensual","Suma de componentes","Decreciente","X",null,null,null,null,2,"Medir el volumen de pérdidas de agua facturada por suscriptor","V1/V2"]
[{"$f":"Indicadores!C24","v":"ISUF "},"CONDUCCIÓN Y  DISTRIBUCIÓN DE AGUA POTABLE","Suministro en m3: Metros cúbicos comprados de la empresa. Número de suscriptores mes: Suscriptores comerciales del servicio de acueducto.\nSuscriptores totales de acueducto del mes","M3/sucriptor","Resolución CRA 688/2014 y 735/2015","Mensual","Suma de componentes","Decreciente","X",null,null,null,null,2,"Representar el volumen de agua suministrada por suscriptor","V1/V2"]
[{"$f":"Indicadores!C25","v":"ICUF"},"CONDUCCIÓN Y  DISTRIBUCIÓN DE AGUA POTABLE","Valor Facturado en metros cúbicos de acueducto del mes\nSuscriptores totales de acueducto del mes","M3/sucriptor","Resolución CRA 688/2014 y 735/2015","Mensual","Suma de componentes","Creciente","X",null,null,null,null,2,"Representar el volumen de agua facturada por suscriptor","V1/V2"]
[{"$f":"Indicadores!C26","v":"Continuidad acueducto (ICTAC)"},"CONDUCCIÓN Y  DISTRIBUCIÓN DE AGUA POTABLE","Registro sobre tiempo de suspensión del servicio y registro de suscriptores donde: \nlmn: lpm-lpmmax Si lpm>=lpmmax\nlmn: 0 Si lpm<lpmmax\nlpmmax: máximo permisible para las suspensiones programas\nlp=∑30-i=1 ∑ n-j=1  lm*Clm/30*24*Clt\nlpm: promedio ponderado de suspensiones avisadas","%","Resolución CRA 315/2005","Mensual","Promedio","Creciente",null,"X",null,null,null,2,"Medir y registrar en terminos de porcentaje y horas al día la continuidad con la cual es entregado el servicio a los usuarios","1-(V1+V2)"]
[{"$f":"Indicadores!C27","v":"Indicador de continuidad (ICON)"},"CONDUCCIÓN Y  DISTRIBUCIÓN DE AGUA POTABLE","Hi: Tiempo de discontinuidad del servicio. Si: Suscriptores afectados por la discontinuidad. S: Suscriptores totales de acueducto. Dci: Días calendario del mes. M: número del mes actual. Dfm: Discontinuidad máxima permitida mensual. Actualmente ésta variable toma el valor de 0,5.","%","Resolución CRA 688/2014 y 735/2015","Mensual","Último dato","Creciente",null,"X",null,null,null,3,"Reflejar la continuidad en la prestación del servicio público domiciliario de acueducto, con base en los días de suspensión del servicio ","1-(V1/(V2*V3))"]
[{"$f":"Indicadores!C28","v":"Cobertura real de mercado (ICBNAC)"},"CONDUCCIÓN Y  DISTRIBUCIÓN DE AGUA POTABLE","SEACi: Suscriptores acueducto. Di: Suscriptores energía SUI.","%","Resolución CRA 688/2014 y 735/2015, Resolución 315/05","Mensual","Último dato","Creciente",null,null,"X",null,null,2,"Determinar el índice real de cobertura de usuarios del servicio de acueducto en el municipio","V1/V2"]
[{"$f":"Indicadores!C29","v":"Ejecución de las inversiones Alcantarillado"},"RECOLECCIÓN, TRANSPORTE Y DISPOSICIÓN FINAL DE AGUAS RESIDUALES","Inversión Realizada:  Valor en pesos corrientes de los desembolsos realizados por la entidad durante un período de análisis, con cargo a recursos generados por la propia empresa y a otras fuentes de financiación, para la realización del plan de inversiones.\nInversión Presupuestada: Valor  en pesos corrientes de la inversión prevista a realizar por  la entidad, durante ese mismo  período, según  el  plan de inversiones.","%","Resolución CRA 12/1995","Mensual","Último dato","Creciente",null,"X",null,null,null,2,"Medir el nivel de cumplimiento de la  ejecución de los recursos presupuestales","V1/V2"]
[{"$f":"+Indicadores!C30","v":"Indice de Inversiones Acumuladas de Alcantarillado — IIAALC"},"RECOLECCIÓN, TRANSPORTE Y DISPOSICIÓN FINAL DE AGUAS RESIDUALES","VPejecp: Valor presente de las inversiones ejecutadas del plan de inversiones del servicio publico domiciliario de alcantarillado en el período de evaluación p (expresado en pesos del año base). Las cuales corresponden a las erogaciones realizadas por el prestador sin discriminación del avance del proyecto y/o inversión, ya sea que la misma se encuentre \"en curso\" o \"financiada\".\nVPIproyp: El valor presente (expresado en pesos del año base) de las inversiones proyectadas del plan de inversiones del servicio publico domiciliario de alcantarillado desde en el período de evaluación. ","%","Resolución CRA 906/2019","Semestral","Promedio","Creciente",null,"X",null,"X",null,2,"Determina el porcentaje acumulado del valor de las inversiones ejecutadas frente al valor de las inversiones proyectadas","(V1/V2)*100"]
[{"$f":"+Indicadores!C31","v":"Indice de Ejecución Anual de Inversiones de Alcantarillado — IEAIAL"},"RECOLECCIÓN, TRANSPORTE Y DISPOSICIÓN FINAL DE AGUAS RESIDUALES","VEPa: Valor (en pesos corrientes) del activo y/o proyecto \"a\" ejecutado establecido dentro del plan de inversiones o POIR del prestador para el servicio público domiciliario de Alcantarillado. Los cuales corresponderán a la erogaciones realizadas por el prestador, ya sea que la misma se encuentre \"en curso\" o \"financiada\".\nPAa: Porcentaje de avance físico del activo y/o proyecto \"a\" al cierre del periodo de evaluación, el cual será definido por el prestador entre 0% y el 100%.\nVPa: Valor (en pesos corrientes) de los proyectos y/o activos \"a\" establecidos en el plan de  Inversiones del prestador para el servicio público domiciliario de acueducto. Lo anterior, debe corresponder al período tarifario que finaliza en el período de evaluación del indicador.","%","Resolución CRA 906/2019","Semestral","Promedio","Creciente",null,"X",null,"X",null,3,"Determinar el porcentaje de cumplimiento anual de las inversiones ejecutadas con respecto a las inversines proyectadas, en el plan de inversiones ","((V1*V2)/V3)*100"]
[{"$f":"+Indicadores!C32","v":"Indicador de Plan de Emergencias y Contingencias para Alcantarillado — PECAL "},"RECOLECCIÓN, TRANSPORTE Y DISPOSICIÓN FINAL DE AGUAS RESIDUALES","Componentes que conforman el PEC.\nDonde, r = (1=  Aseguramiento de infraestructura, \n                     2= Identificación de Amenazas,\n                     3= Registro de eventos,\n                     4= Inventario y  \n                     5= Reporte del PEC en el SUI).","%","Resolución CRA 906/2019","Semestral","Promedio","Creciente",null,"X",null,null,null,1,"Verificar la planificación de las acciones que deberá poner en marcha el prestador del servicio público domiciliario de Alcantarillado en caso de emergencia, y los planes de contingencia establecidos por el prestador para recuperar la normalidad de la prestación del servicio en el menor tiempo posible","(V1/5)*100"]
[{"$f":"+Indicadores!C33","v":"Fallas en la Red de Alcantarillado — FAL"},"RECOLECCIÓN, TRANSPORTE Y DISPOSICIÓN FINAL DE AGUAS RESIDUALES","NTFi: Número total de fallas en la red de alcantarillado. \nLRi: Longitud total de redes del sistema de alcantarillado (Km).","Número","Resolución CRA 906/2019","Mensual","Promedio","Decreciente",null,"X",null,null,null,2,"Medir la proporción de daños en la red de de servicio de alcantarillado frente a la longitud de esta.","V1/V2"]
[{"$f":"+Indicadores!C34","v":"Aprobación del PSMV — AproPSMV"},"RECOLECCIÓN, TRANSPORTE Y DISPOSICIÓN FINAL DE AGUAS RESIDUALES",null,"Número","Resolución CRA 906/2019","Semestral","Último dato","Creciente",null,"X",null,null,"X",1,"Verificar que la persona prestadora cuente con un Plan de Saneamiento y Manejo de Vertimientos — PSMV aprobado por la autoridad ambiental o con un Permiso de Vertimientos, acorde con lo establecido en la Resolución 1433 del Ministerio de Ambiente y Desarrollo Sostenible, o aquella que la modifique, adicione, sustituya o aclare, y lo establecido por el artículo 2.2.3.3.4.18 del Decreto 1076 de 2015 del Ministerio del Ministerio de Ambiente y Desarrollo Sostenible, o aquella que lo modifique, adicione, sustituya o aclare.","V1"]
[{"$f":"+Indicadores!C35","v":"Cumplimiento del PSMV -  CPSMV"},"RECOLECCIÓN, TRANSPORTE Y DISPOSICIÓN FINAL DE AGUAS RESIDUALES",null,"Número","Resolución CRA 906/2019","Semestral","Último dato","Creciente",null,"X",null,null,"X",1,"Verificación del cumplimiento del Plan de Saneamiento y Manejo de Vertimientos de la persona prestadora. El cumplimiento del PSMV permite llevar un mejor control y manejo de los vertimientos, su calidad y del daño ambiental ocasionado a los cuerpos de agua receptores","V1"]
[{"$f":"Indicadores!C36","v":"Continuidad alcantarillado"},"RECOLECCIÓN, TRANSPORTE Y DISPOSICIÓN FINAL DE AGUAS RESIDUALES",null,"%","Resolución CRA 688/2014 y 735/2015","Mensual","Último dato","Creciente",null,"X",null,null,null,2,"Determinar la continuidad en la prestación del servicio de alcantarillado","V1/V2"]
[{"$f":"Indicadores!C37","v":"Calidad alcantarillado cumplimiento PSMV"},"RECOLECCIÓN, TRANSPORTE Y DISPOSICIÓN FINAL DE AGUAS RESIDUALES",null,"%","Resolución CRA 688/2014 y 735/2015","Mensual","Promedio","Creciente",null,null,"X",null,null,2,"Determinar la calidad de las obras ejecutadas según el POIR","V1/V2"]
[{"$f":"Indicadores!C38","v":"Cobertura nominal Alcantarillado (ICBNAL)"},"RECOLECCIÓN, TRANSPORTE Y DISPOSICIÓN FINAL DE AGUAS RESIDUALES",null,"%",null,"Mensual","Último dato","Creciente",null,"X",null,null,null,2,"Determinar el número de la cobertura real de usuarios de alcantarillados en el municipio","V1/V2"]
[{"$f":"Indicadores!C39","v":"Ejecución de las inversiones Aseo"},"RECOLECCIÓN, TRANSPORTE Y DISPOSICIÓN FINAL DE RESIDUOS SÓLIDOS ORDINARIOS","Inversión Realizada:  Valor en pesos corrientes de los desembolsos realizados por la entidad durante un período de análisis, con cargo a recursos generados por la propia empresa y a otras fuentes de financiación, para la realización del plan de inversiones.\nInversión Presupuestada: Valor  en pesos corrientes de la inversión prevista a realizar por  la entidad, durante ese mismo  período, según  el  plan de inversiones.","%","Resolución CRA 12/1995","Mensual","Último dato","Creciente",null,"X",null,null,null,2,"Medir el nivel de cumplimiento de la  ejecución de los recursos presupuestales","V1/V2"]
[{"$f":"Indicadores!C40","v":"Cobertura  recolección"},"RECOLECCIÓN, TRANSPORTE Y DISPOSICIÓN FINAL DE RESIDUOS SÓLIDOS ORDINARIOS","Basura recogida: Toneladas recolectadas en los últimos doce meses.\nBasura producida: estimativo  de la basura producida en los últimos doce meses. (Suscriptores energía sui*3.7usuarios por casa*0.52kg/(habitante*día))*30 días)\n","%","Resolución CRA 12/1995","Mensual","Último dato","Creciente",null,null,"X",null,null,2,"Medir la cobertura del servicio de aseo respecto a los residuos sólidos ordinarios producidos en toda la ciudad.","V1/V2"]
[{"$f":"Indicadores!C41","v":"Cobertura de mercado aseo"},"RECOLECCIÓN, TRANSPORTE Y DISPOSICIÓN FINAL DE RESIDUOS SÓLIDOS ORDINARIOS",null,"%",null,"Mensual","Último dato","Creciente",null,null,"X",null,null,2,"Medir la cobertura del servicio de aseo respecto al número de suscriptores.","V1/V2"]
[{"$f":"Indicadores!C42","v":"Continuidad o frecuencia recolección (IFR-NA)"},"RECOLECCIÓN, TRANSPORTE Y DISPOSICIÓN FINAL DE RESIDUOS SÓLIDOS ORDINARIOS","NRLIts: Número de frecuencias dejadas de prestar en la microrruta de recolección /, para cada semana s. En los casos en los que una semana pertenezca a dos meses diferentes, para el cálculo del indicador únicamente se contarán las microrrutas dejadas de prestar en los días que pertenecen al mes de análisis. ndm: Corresponde al número de días que posee el mes de análisis. F_CCU/: Frecuencia de recolección establecida en el Contrato de Condiciones Uniformes (CCU) para la microrruta de recolección I. I: Microrruta de recolección analizada. s: Corresponde a la semana del mes analizada. nsm: Corresponde al número de semanas calendario que posee el mes de análisis. Se contará una semana dentro de esta variable si por lo menos un día de la semana calendario analizada está dentro del mes analizado. ","%","Resolución CRA 720/2015","Mensual","Promedio","Creciente",null,"X",null,null,null,3,"Medir el cumplimiento en la frecuencia de recolección de residuos sólidos","1-(V1/((V2/7)*V3))"]
[{"$f":"Indicadores!C43","v":"Continuidad recoleccón (ICTR)"},"RECOLECCIÓN, TRANSPORTE Y DISPOSICIÓN FINAL DE RESIDUOS SÓLIDOS ORDINARIOS","FR: número de veces que se dejó de prestar el servicio durante el período de facturación. PR: Número de veces que se debe prestar el servicio de recolección en el período de facturación. SAR: Número de suscriptores del servicio de recolección. STR: Número total de suscriptores. n: Número de períodos de facturación","%","Resolución CRA 315/05","Mensual","Promedio","Creciente",null,"X",null,null,null,3,"Medir la calidad global del servicio de recolección de residuos sólidos no aprovechables, teniendo en cuenta el incumplimiento de las frecuencias y los horarios de recolección","1-(V1/(V2*V3))"]
[{"$f":"Indicadores!C44","v":"Disposición final relleno sanitario"},"RECOLECCIÓN, TRANSPORTE Y DISPOSICIÓN FINAL DE RESIDUOS SÓLIDOS ORDINARIOS",null,"%","Resolución CRA 720/2015","Mensual","Último dato","Creciente",null,null,"X",null,null,2,"Reflejar la calidad del servicio en la disposición de los residuos ","V1/V2"]
[{"$f":"Indicadores!C45","v":"Horario recolección (IHR-NA)"},"RECOLECCIÓN, TRANSPORTE Y DISPOSICIÓN FINAL DE RESIDUOS SÓLIDOS ORDINARIOS","NRRLs: Número de frecuencias prestadas con retraso superior a tres (3) horas en la macrorruta de recolección L, para cada semana s. Una frecuencia se catalogará con retraso no aceptado o superior a tres (3) horas si: HFccv  +3 < HFR Donde: HFccu: Hora final del horario de recolección que se estableció en el contrato de condiciones uniformes (CCU) para la macrorruta de recolección analizada L. HFR:  Hora final real de la frecuencia analizada que pertenece a la macrorruta de recolección analizada L. ndm:  Corresponde al número de días que posee el mes de análisis. F_CCUL:  Frecuencia de recolección establecida en el contrato de condiciones uniformes (CCU) para la macrorruta de recolección L. L: Macrorruta de recolección analizada. s:  Corresponde a la semana del mes analizada. nsm:  Corresponde al número de semanas calendario parciales o completas que posee el mes de análisis. Se contará una semana dentro de esta variable si por lo menos un día de la semana calendario analizada está dentro del mes analizado.","%","Resolución CRA 720/2015","Mensual","Promedio","Creciente",null,null,"X",null,null,3,"Medir la calidad en el horario de recolección de los residuos sólidos","1-(V1/((V2/7)*V3))"]
[{"$f":"Indicadores!C46","v":"Calidad tecnica recolección (ICTR-NA)"},"RECOLECCIÓN, TRANSPORTE Y DISPOSICIÓN FINAL DE RESIDUOS SÓLIDOS ORDINARIOS","p: Corresponde a cada uno de los seis meses continuos analizados dentro del semestre de análisis y toma valores entre 1 y 6 hasta alcanzar el mes m. m: Es el número del mes analizado dentro del semestre de estudio, que varía entre 1 y 6. l: Microrruta de recolección analizada. ICTR_NAI: Indicador de calidad técnica en la recolección de residuos sólidos no aprovechables de la microrruta de recolección /. 0,5:  Factor de ponderación de cada uno de los indicadores relacionados con el servicio de recolección de residuos sólidos no aprovechables. IFR_NAI:  Indicador de frecuencia de recolección de residuos no aprovechables para la microrruta de recolección 1, de conformidad con lo dispuesto en el ARTÍCULO 55 de la presente resolución. IHR_NAI: Indicador del horario de recolección de residuos no aprovechables para la microrruta de recolección /. El valor de este indicador para cada microrruta de recolección será igual al valor del indicador de la macrorruta a la cual pertenece (IHR_NAL), que fue calculado de conformidad con lo dispuesto en el ARTÍCULO 56 de la presente resolución. ","%","Resolución CRA 720/2015","Mensual","Promedio","Creciente",null,null,"X",null,null,2,"Medir la calidad global del servicio de recolección de residuos sólidos no aprovechables, teniendo en cuenta el incumplimiento de las frecuencias y los horarios de recolección","0.5*(V1+V2)"]
[{"$f":"Indicadores!C47","v":"Cobertura barrido"},"BARRIDO Y LIMPIEZA DE ÁREAS PÚBLICAS",null,"%","Resolución CRA 720/2015","Mensual","Último dato","Creciente",null,null,"X",null,null,2,"Determinar la cobertura de kilometros de barrido al mes ","V1/V2"]
[{"$f":"Indicadores!C48","v":"Continuidad barrido (ICTBL)"},"BARRIDO Y LIMPIEZA DE ÁREAS PÚBLICAS",null,"%","Resolución CRA 720/2015","Mensual","Último dato","Creciente",null,"X",null,null,null,2,"Medir la continuidad y ejecución de las rutas de barrido","V1/V2"]
[{"$f":"Indicadores!C49","v":"Cobertura cesped"},"CORTE DE CÉSPED",null,"%","Decreto 1077 2015 ministerio de vivienda","Mensual","Último dato","Creciente",null,null,"X",null,null,2,"Medir la cantidad de áreas de corte de cesped","V1/V2"]
[{"$f":"Indicadores!C50","v":"Continuidad cesped"},"CORTE DE CÉSPED",null,"%","Decreto 1077 2015 ministerio de vivienda","Mensual","Último dato","Creciente",null,"X",null,null,null,2,"Medir la continuidad de corte de cesped ","V1/V2"]
[{"$f":"Indicadores!C51","v":"Cobertura poda arboles"},"PODA DE ÁRBOLES",null,"%","Decreto 1077 2015 ministerio de vivienda","Mensual","Último dato","Creciente",null,null,"X",null,null,2,"Medir la cobertura de poda de árboles","V1/V2"]
[{"$f":"Indicadores!C52","v":"Cobertura lavado"},"LAVADO DE CANASTILLAS",null,"%","Decreto 1077 2015 ministerio de vivienda","Mensual","Último dato","Creciente",null,null,"X",null,null,2,"Medir la cobertura de lavado de áreas públicas","V1/V2"]
[{"$f":"Indicadores!C53","v":"Cobertura canastillas"},"INSTALACIÓN DE CANASTILAS",null,"%","Decreto 1077 2015 ministerio de vivienda","Mensual","Último dato","Creciente",null,null,"X",null,null,2,"Medir el dato de canastillas instaladas en el municipio","V1/V2"]
[{"$f":"Indicadores!C54","v":"Calidad canastillas"},"INSTALACIÓN DE CANASTILAS",null,"%","Decreto 1077 2015 ministerio de vivienda","Mensual","Último dato","Creciente",null,null,"X",null,null,2,"Medir el número de canastillas en buen estado","V1/V2"]
[{"$f":"Indicadores!C55","v":"Mantenimiento de los vehículos "},"MANTENIMIENTO DE VEHÍCULOS",null,"%",null,"Mensual","Último dato","Creciente","X",null,null,null,null,2,"Cumplir con los mantenimientos preventivos en los vehículos de la empresa.","V1/V2"]
[{"$f":"Indicadores!C56","v":"Efectividad de los Vehículos"},"MANTENIMIENTO DE VEHÍCULOS",null,"%","Resolucion 1565/2014","Mensual","Último dato","Creciente",null,"X",null,null,null,2,"Reflejar el porcentaje promedio ponderado de tiempo en funcionamiento de los vehículos de la empresa.","V1/V2"]
[{"$f":"Indicadores!C57","v":"Efectividad de los Recolectores"},"MANTENIMIENTO DE VEHÍCULOS",null,"%",null,"Mensual","Último dato","Creciente",null,"X",null,null,null,2,"Reflejar el porcentaje de tiempo en funcionamiento de los vehículos recolectores de la empresa.","V1/V2"]
[{"$f":"Indicadores!C58","v":"EBITDA"},"GESTIÓN FINANCIERA","UAO: Utilidad de actividades ordinarias; es el valor contable que mide el resultado obtenido directamente relacionado con la operación de los servicios públicos domiciliarios de acueducto y alcantarillado. Se obtiene restándole a la Ganancia bruta los gastos de administración. \nDepr: Depreciaciones, mecanismo mediante el cual se reconoce el desgaste y pérdida de valor que sufre un activo fijo por el uso del mismo en la generación de ingresos a través del tiempo. \nAmort: Amortizaciones; distribución del costo de una inversión como gasto a lo largo de los períodos en que esa inversión va a permitir obtener ingresos. \nDete:  Deterioro; valor que se genera cuando el valor en libros de un activo es superior al valor recuperable. \nProvi: Provisiones; recursos que conserva el prestador por haber contraído una obligación, con el objetivo de guardar esos recursos hasta el momento en el que deba satisfacer la factura, se excluye la renta","Pesos corrientes (Miles COP)","Resolución CRA 906/2019","Trimestral","Último dato","Creciente",null,null,null,"X",null,5,"Corresponde al cálculo de la utilidad del prestador, teniendo en cuenta la depuración antes de intereses, impuestos, depreciaciones y.amortizaciones,","VA+V2+V3+V4+V5"]
[{"$f":"Indicadores!C59","v":"EBITDA Acueducto"},"GESTIÓN FINANCIERA",null,"Pesos corrientes (Miles COP)",null,"Trimestral","Último dato","Creciente",null,null,null,"X",null,1,"Determinar las ganancias o la utilidad obtenida, sin tener en cuenta los gastos financieros, los impuestos y demás gastos contables.","V1"]
[{"$f":"Indicadores!C60","v":"EBITDA Alcantarillado"},"GESTIÓN FINANCIERA",null,"Pesos corrientes (Miles COP)",null,"Trimestral","Último dato","Creciente",null,null,null,"X",null,1,"Determinar las ganancias o la utilidad obtenida, sin tener en cuenta los gastos financieros, los impuestos y demás gastos contables.","V1"]
[{"$f":"Indicadores!C61","v":"EBITDA Aseo"},"GESTIÓN FINANCIERA",null,"Pesos corrientes (Miles COP)",null,"Trimestral","Último dato","Creciente",null,null,null,"X",null,1,"Determinar las ganancias o la utilidad obtenida, sin tener en cuenta los gastos financieros, los impuestos y demás gastos contables.","V1"]
[{"$f":"Indicadores!C62","v":"Eficiencia en el Recaudo — ER"},"GESTIÓN FINANCIERA","RI: Recaudo en el período de evaluación por prestación de los servicios públicos domiciliarios de acueducto y/o alcantarillado. Los valores recaudados no deben incluir el recaudo de cartera de años anteriores\nIe:Ingresos de actividades ordinarias del período a evaluar.","%","Resolución CRA 906/2019","Trimestral","Último dato","Creciente",null,null,null,"X",null,2,"Determinar la proporción de los ingresos por prestación de los servicios públicos domiciliarios de acuedcuto y/o alcantarillado facturados y que se pretenden recuadar en un periodo corriente","(V1/V2)*100"]
[{"$f":"Indicadores!C63","v":"Cubrimiento de Costos y Gastos — CG"},"GESTIÓN FINANCIERA","RI:  Recaudo en el período de evaluación por prestación de los servicios públicos domiciliarios de acueducto y/o alcantarillado. Los valores recaudados no deben incluir el recaudo de cartera de años anteriores. \nGOA: Costos operativos y gastos administrativos generados durante el período de evaluación. Se deben incluir todas las erogaciones asociadas a la prestación de los servicios públicos domiciliarios de acueducto y/o alcantarillado, incluidas las generadas por la actividad comercial, así como las depreciaciones y amortizaciones.","Número","Resolución CRA 906/2019","Trimestral","Último dato","Creciente",null,null,null,"X",null,2,"Determinar la capacidad del prestador para cubrir todas las erogaciones derivadas de la prestación de los servicios domiciliarios de acueducto y/o alacantarillado con los ingresos de actividades ordinarias.","V1/V2"]
[{"$f":"Indicadores!C64","v":"Relación de Endeudamiento — RDP"},"GESTIÓN FINANCIERA","PsT: Pasivo total. Se incluirá el saldo total de los pasivos reportados por el prestador en el formulario correspondiente. \nP:  Patrimonio total. Se incluirá el saldo total del patrimonio reportado por el prestador en el formulario correspondiente. ","Número","Resolución CRA 906/2019","Trimestral","Último dato","Creciente",null,null,null,"X",null,2,"Medir la estructura de financiamiento que se utiliza, mediante la relación entre el pasivo exigible a corto y largo plazo y el patrimonio. También se conoce como factor de apalancamiento","V1/V2"]
[{"$f":"Indicadores!C65","v":"Rotación de Cartera de Servicios Públicos en días de pago — RC"},"GESTIÓN FINANCIERA","CCPC: Saldo de cuentas por cobrar por la prestación de los servicios públicos domiciliarios de acueducto y/o alcantarillado. Se incluirá el saldo total de las cuentas comerciales por cobrar corrientes y no corrientes reportadas por el prestador en el formulario correspondiente.\nRI:  Recaudo en el período de evaluación por prestación de los servicios públicos domiciliarios de acueducto y/o alcantarillado. Los valores recaudados no deben incluir el recaudo de cartera de años anteriores","Número","Resolución CRA 906/2019","Trimestral","Último dato","Decreciente",null,null,null,"X",null,2,"Identificar el tiempo promedio en que se recibe el pago por parte de los suscriptores por concepto de la cartera generada por la prestación de los servicios públicos domiciliaios de acueducto y /o alcantarillado","(V1*360)/V2"]
[{"$f":"Indicadores!C66","v":"Flujos Comprometidos — FC"},"GESTIÓN FINANCIERA","PsT:  Pasivo total. Se incluirá el saldo total de los pasivos reportados por el prestador en el formulario correspondiente. \nEBITDA: Beneficio antes de intereses, impuestos, depreciaciones y amortizaciones","Número","Resolución CRA 906/2019","Trimestral","Último dato","Decreciente",null,null,null,"X",null,2,"Corresponde a la relación entre la rentabilidad y el pasivo total del prestador. El indicador de Flujos Comprometidos muestra cuantas veces el EBITDA alcanzaría para cubrir las obligaciones con los terceros. ","V1/V2"]
[{"$f":"Indicadores!C67","v":"Liquidez — L"},"GESTIÓN FINANCIERA","AC: activos corrientes totales. Se incluirá el saldo total de los activos corrientes, reportados por el prestador para el período de evaluación\nPC Pasivos corriente totales. se incluirá el saldo total de los pasivos corrientes, reportados por el prestador para el período de evaluación.","Número","Resolución CRA 906/2019","Trimestral","Último dato","Creciente",null,null,null,"X",null,2,"Determinar la capacidad de solventar las dudas exigidas hasta un año de plazo respecto a la fecha de cierre del ejercicio de la vigencia.","V1/V2"]
[{"$f":"Indicadores!C68","v":"Liquidez Ajustada — LA"},"GESTIÓN FINANCIERA","LAAC  Liquidez ajustada asociada al servicio público domiciliario de acueducto en el período de evalúa\nLAAL. Liquidez ajustada asociada al servicio público domiciliario de alcantarillado en el período de evaluación\n","Número","Resolución CRA 906/2019","Trimestral","Último dato","Creciente",null,null,null,"X",null,2,"Determinar la capacidad de solventar las deudas exigibles hasta un año de plazo respecto a la fecha de cierre del ejercicio del período de evaluación, con relación al saldo de las inversiones . de acuerdo con el POIR establecido por el prestador.","(V1*0.5)+(V2*0.5)"]
[{"$f":"Indicadores!C69","v":"Liquidez ajustada (Li) Acueducto"},"GESTIÓN FINANCIERA","Donde i = período de análisis\nCCNP: CxC de mas 180 días - provisiones de CxC de mas de 180 días.\nSi las CxC de mas de 180 días son mayores a las provisiones, entonces CCNP se resta el numerador, de lo contrario, CCNP es igual a cero","Número (veces)","Resolución CRA 315/05","Trimestral","Último dato","Creciente",null,null,null,"X",null,5,"Índicar la capacidad que tiene la empresa para cumplir sus obligaciones financieras, deudas, pasivos a corto plazo","(V1-V2-V3-V4)/V5"]
[{"$f":"Indicadores!C70","v":"Liquidez ajustada (Li) Alcantarillado"},"GESTIÓN FINANCIERA","Donde i = período de análisis\nCCNP: CxC de mas 180 días - provisiones de CxC de mas de 180 días.\nSi las CxC de mas de 180 días son mayores a las provisiones, entonces CCNP se resta el numerador, de lo contrario, CCNP es igual a cero","Número (veces)","Resolución CRA 315/05","Trimestral","Último dato","Creciente",null,null,null,"X",null,5,"Índicar la capacidad que tiene la empresa para cumplir sus obligaciones financieras, deudas, pasivos a corto plazo","(V1-V2-V3-V4)/V5"]
[{"$f":"Indicadores!C71","v":"Liquidez ajustada (Li) Aseo"},"GESTIÓN FINANCIERA","Donde i = período de análisis\nCCNP: CxC de mas 180 días - provisiones de CxC de mas de 180 días.\nSi las CxC de mas de 180 días son mayores a las provisiones, entonces CCNP se resta el numerador, de lo contrario, CCNP es igual a cero","Número (veces)","Resolución CRA 315/05","Trimestral","Último dato","Creciente",null,null,null,"X",null,5,"Índicar la capacidad que tiene la empresa para cumplir sus obligaciones financieras, deudas, pasivos a corto plazo","(V1-V2-V3-V4)/V5"]
[{"$f":"Indicadores!C72","v":"Endeudamiento - E"},"GESTIÓN FINANCIERA","E= (Endeudamiento CRA 906/2019)","Número","Resolución CRA 906/2019","Trimestral","Último dato","Creciente",null,null,null,"X",null,1,"Medir el nivel de endeudamiento del prestador, teniendo en cuenta las necesidades de financiación, tanto para la capacidad de aumentar capital de trabajo, como la inversión en activos fijos por parte del prestador.","V1"]
[{"$f":"Indicadores!C73","v":"Endeudamiento (Ei) Acueducto"},"GESTIÓN FINANCIERA","Donde i = período de análisis\nCCNP: CxC de mas 180 días - provisiones de CxC de mas de 180 días.\nSi las CxC de mas de 180 días son mayores a las provisiones, entonces CCNP se resta el numerador, de lo contrario, CCNP es igual a cero","%","Resolución CRA 315/05","Trimestral","Último dato","Decreciente",null,null,null,"X",null,3,"Reflejar el grado de apalancamiento que corresponde a la participación de los acreedores en los activos de la empresa.","(V1-V2)/V3"]
[{"$f":"Indicadores!C74","v":"Endeudamiento (Ei) Alcantarillado"},"GESTIÓN FINANCIERA","Donde i = período de análisis\nCCNP: CxC de mas 180 días - provisiones de CxC de mas de 180 días.\nSi las CxC de mas de 180 días son mayores a las provisiones, entonces CCNP se resta el numerador, de lo contrario, CCNP es igual a cero","%","Resolución CRA 315/05","Trimestral","Último dato","Decreciente",null,null,null,"X",null,3,"Reflejar el grado de apalancamiento que corresponde a la participación de los acreedores en los activos de la empresa.","(V1-V2)/V3"]
[{"$f":"Indicadores!C75","v":"Endeudamiento (Ei) Aseo"},"GESTIÓN FINANCIERA","Donde i = período de análisis\nCCNP: CxC de mas 180 días - provisiones de CxC de mas de 180 días.\nSi las CxC de mas de 180 días son mayores a las provisiones, entonces CCNP se resta el numerador, de lo contrario, CCNP es igual a cero","%","Resolución CRA 315/05","Trimestral","Último dato","Decreciente",null,null,null,"X",null,3,"Reflejar el grado de apalancamiento que corresponde a la participación de los acreedores en los activos de la empresa.","(V1-V2)/V3"]
[{"$f":"Indicadores!C76","v":"Indice Financiero asociado a la Eficiencia Operativa —IEO"},"GESTIÓN FINANCIERA","IEOAC: Índice financiero asociado a la eficiencia operativa para el servicio público domiciliario de acueducto\nIROAal: Índice financiero asociado a la eficiencia operativa para el servicio público domiciliario de alcantarillado\n","Número","Resolución CRA 906/2019","Trimestral","Último dato","Creciente",null,null,null,"X",null,2,"Medir la capacidad del prestador para cubrir sus costos y gastos operacionales, teniendo en cuenta los gastos asociados a la prestación del servicio y los ingresos por concepto de Costo Medio de Operación -CM0 y Costo Medio de Administración -  CMA. ","(V1*0.5)+(V2*0.5)"]
[{"$f":"Indicadores!C77","v":"Relación Deuda a Inversiones — RDI"},"GESTIÓN FINANCIERA","RDIAL: Relación deuda a inversiones asociado a la eficiencia operativa para el servicio público domiciliario de alcantarillado\nRD/Ac: Relación deuda a inversiones asociado a la eficiencia operativa para el servicio público domiciliario de acueducto\n","Número","Resolución CRA 906/2019","Trimestral","Último dato","Creciente",null,null,null,"X",null,2,"Medir la relación de los ingresos por concepto del Costo Medio de   Inversión - CMI para atender el servicio a la deuda de largo plazo.","(V1*0.5)+(V2*0.5)"]
[{"$f":"Indicadores!C78","v":"Valor Económico Agregado — EVA"},"GESTIÓN FINANCIERA","UODI: Utilidad operativa después de Impuestos\nwacc: Tasa del costo promedio ponderado de capital regulatorio, de acuerdo con el marco tarifario que le aplique a la persona prestadora.\nCI:  Capital invertido\n","Número","Resolución CRA 906/2019","Trimestral","Promedio","Creciente",null,null,null,"X",null,3,"Medir la creación de valor por parte del prestador, después de deducir el costo de oportunidad del capital empleado. Es una medida de rentabilidad de la empresa, ya que permite visualizar el desempeño de ésta, a través de las ganancias obtenidas luego de cubrir la totalidad de los gastos y la rentabilidad mínima esperada por los accionistas","V1-(V2*V3)"]
[{"$f":"Indicadores!C79","v":"Cobertura de intereses (Cli) Acueducto"},"GESTIÓN FINANCIERA","Donde i = período de análisis\nCCNP: CxC de mas 180 días - provisiones de CxC de mas de 180 días.\nSi las CxC de mas de 180 días son mayores a las provisiones, entonces CCNP se resta el numerador, de lo contrario, CCNP es igual a cero","%","Resolución CRA 315/05","Trimestral","Último dato","Creciente",null,null,null,"X",null,2,"Establecer la incidencia que tienen los gastos financieros sobre las utilidades operacionales de la empresa","V1/V2"]
[{"$f":"Indicadores!C80","v":"Cobertura de intereses (Cli) Alcantarillado"},"GESTIÓN FINANCIERA","Donde i = período de análisis\nCCNP: CxC de mas 180 días - provisiones de CxC de mas de 180 días.\nSi las CxC de mas de 180 días son mayores a las provisiones, entonces CCNP se resta el numerador, de lo contrario, CCNP es igual a cero","%","Resolución CRA 315/05","Trimestral","Último dato","Creciente",null,null,null,"X",null,2,"Establecer la incidencia que tienen los gastos financieros sobre las utilidades operacionales de la empresa","V1/V2"]
[{"$f":"Indicadores!C81","v":"Cobertura de intereses (Cli) Aseo"},"GESTIÓN FINANCIERA","Donde i = período de análisis\nCCNP: CxC de mas 180 días - provisiones de CxC de mas de 180 días.\nSi las CxC de mas de 180 días son mayores a las provisiones, entonces CCNP se resta el numerador, de lo contrario, CCNP es igual a cero","%","Resolución CRA 315/05","Trimestral","Último dato","Creciente",null,null,null,"X",null,2,"Establecer la incidencia que tienen los gastos financieros sobre las utilidades operacionales de la empresa","V1/V2"]
[{"$f":"Indicadores!C82","v":"Costo eficiente de administracion (CAU) Acueducto"},"GESTIÓN FINANCIERA","CAUei: Costos administrativos eficientes por suscriptor mensual del año i (pesos/suscriptor/mes) para cada servicio público domiciliario. CAU0: Costos administrativos por suscriptor mensual del año base (pesos/suscriptor/mes). Costos administrativos eficientes estándar por suscriptor mensual (pesos/suscriptor/mes) para cada servicio público domiciliario, según lo definido en el ARTÍCULO 26 de la presente resolución. ","Pesos corrientes/Suscriptor","Resolución CRA 315/05","Trimestral","Último dato","Decreciente","X",null,null,"X",null,2,"Mantener controlado el costo medio de administración del servicio de acueducto.","V1/V2"]
[{"$f":"Indicadores!C83","v":"Costo eficiente de operación (COU) Acueducto"},"GESTIÓN FINANCIERA","COUei: Costos operativos comparables eficientes por suscriptor mensual del año i (pesos/suscriptor/mes) para cada servicio público domiciliario. COU0: Costos operativos comparables por suscriptor mensual del año base (pesos/suscriptor/mes) para cada servicio público domiciliario. COU*: Costos operativos comparables eficientes estándar por suscriptor mensual (pesos/suscriptor/mes) para cada servicio público domiciliario, según lo definido en el ARTÍCULO 33 de la presente resolución. ","Pesos corrientes/Suscriptor","Resolución CRA 315/05","Trimestral","Último dato","Decreciente","X",null,null,"X",null,2,"Mantener controlado el costo medio de operación del servicio de acueducto.","V1/V2"]
[{"$f":"Indicadores!C84","v":"Costos unitarios particulares (CUP) acueducto insumos químicos"},"GESTIÓN FINANCIERA",null,"Pesos corrientes/m3","Resolución CRA 315/05","Trimestral","Último dato","Decreciente","X",null,null,"X",null,2,"Mantener controlado el costo de insumos químicos del servicio de acueducto.","V1/V2"]
[{"$f":"Indicadores!C85","v":"Costos unitarios particulares (CUP) acueducto energía eléctrica"},"GESTIÓN FINANCIERA",null,"Pesos corrientes/m3","Resolución CRA 315/05","Trimestral","Último dato","Decreciente","X",null,null,"X",null,2,"Mantener controlado el costo de energía eléctrica del servicio de acueducto.","V1/V2"]
[{"$f":"Indicadores!C86","v":"Costo eficiente de administracion (CAU) Alcantarillado"},"GESTIÓN FINANCIERA","CAUei: Costos administrativos eficientes por suscriptor mensual del año i (pesos/suscriptor/mes) para cada servicio público domiciliario. CAU0: Costos administrativos por suscriptor mensual del año base (pesos/suscriptor/mes). Costos administrativos eficientes estándar por suscriptor mensual (pesos/suscriptor/mes) para cada servicio público domiciliario, según lo definido en el ARTÍCULO 26 de la presente resolución. ","Pesos corrientes/Suscriptor","Resolución CRA 315/05","Trimestral","Último dato","Decreciente","X",null,null,"X",null,2,"Mantener controlado el costo medio de administración del servicio de alcantarillado.","V1/V2"]
[{"$f":"Indicadores!C87","v":"Costo eficiente de operación (COU) Alcantarillado"},"GESTIÓN FINANCIERA","COUei: Costos operativos comparables eficientes por suscriptor mensual del año i (pesos/suscriptor/mes) para cada servicio público domiciliario. COU0: Costos operativos comparables por suscriptor mensual del año base (pesos/suscriptor/mes) para cada servicio público domiciliario. COU*: Costos operativos comparables eficientes estándar por suscriptor mensual (pesos/suscriptor/mes) para cada servicio público domiciliario, según lo definido en el ARTÍCULO 33 de la presente resolución. ","Pesos corrientes/Suscriptor","Resolución CRA 315/05","Trimestral","Último dato","Decreciente","X",null,null,"X",null,2,"Mantener controlado el costo medio de operación del servicio de alcantarillado.","V1/V2"]
[{"$f":"Indicadores!C88","v":"Nivel de satisfaccion de suscriptores"},"ATENCIÓN AL CLIENTE",null,"%",null,"Trimestral","Suma","Creciente",null,null,"X",null,null,1,"Medir el grado de satisfacción de los usuarios respecto al servicio","V1"]
[{"$f":"Indicadores!C89","v":"Indice de Atención de PQR Acueducto — IPQRAC"},"ATENCIÓN AL CLIENTE","NDNA: Número de PQR del servicio público domiciliario de acueducto no atendidos dentro del tiempo estipulado por la normatividad vigente en el período de evaluación.\nNTD: Número total de PQR del servicio público domiciliario de acueducto resueltas en el período de evaluación, incluyendo aquellas que fueron abiertas a pruebas.","%","Resolución CRA 906/2019","Mensual","Suma de componentes","Decreciente",null,"X",null,null,null,2,"Medir la eficiencia en la atención a las PQR del servicio de acueducto, independiente de su naturaleza.","(V1/V2)*100"]
[{"$f":"Indicadores!C90","v":"Indice de Atención de PQR Alcantarillado — IPQRAL"},"ATENCIÓN AL CLIENTE","NDNA: Número de PQR del servicio público domiciliario de alcantarillado no atendidos dentro del tirmpo estipulado por la normatividad vigente en el período de evaluación.\nNTD: Número total de PQR del servicio púclico domiciliario de alcantarillado resueltas en el período de evaluación, incluyendo aquellas que fueron abiertas a pruebas.","%","Resolución CRA 906/2019","Mensual","Suma de componentes","Decreciente",null,"X",null,null,null,2,"Medir la eficiencia en la atención a las PQR del servicio de alcantarillado, independiente de su naturaleza.","(V1/V2)*100"]
[{"$f":"Indicadores!C91","v":"Eficiencia de recaudo Acueducto (ERi)"},"FACTURACIÓN",null,"%","Resolución CRA 12/1995","Mensual","Último dato","Creciente","X",null,null,null,null,2,"Medir la frecuencia con que se recauda la calidad del proceso de facturación en acueducto","V1/V2"]
[{"$f":"Indicadores!C92","v":"Eficiencia de recaudo Alcantarillado (ERi)"},"FACTURACIÓN",null,"%","Resolución CRA 12/1995","Mensual","Último dato","Creciente","X",null,null,null,null,2,"Medir la frecuencia con que se recauda la calidad del proceso de facturación en alcnatarillado","V1/V2"]
[{"$f":"Indicadores!C93","v":"Eficiencia de recaudo (ERi) Aseo"},"FACTURACIÓN",null,"%","Resolución CRA 12/1995","Mensual","Último dato","Creciente","X",null,null,null,null,2,"Medir la frecuencia con que se recauda la calidad del proceso de facturación en aseo","V1/V2"]
[{"$f":"Indicadores!C94","v":"Rotación de cartera acueducto"},"FACTURACIÓN","Cuentas por Cobrar: Saldo en pesos corrientes al finalizar el período de análisis, de los pagos pendientes por concepto de la facturación en los últimos doce meses  del servicio a los usuarios del sector oficial o particular, según el caso. Incluye cargos fijos, consumos, cargos de conexión, reconexión, multas e intereses de mora.\nValor Facturado: Valor en pesos corrientes de las facturas expedidas  para la totalidad de los usuarios en los últimos doce meses. Incluye cargos fijos, consumos, conexión, reconexión, intereses, multas.  ","Días","Resolución CRA 12/1995","Trimestral","Suma de componentes","Decreciente","X",null,null,null,null,2,"Determinar el tiempo en que la cuentas por cobrar toman en convertirse en efectivo","365*V1/V2"]
[{"$f":"Indicadores!C95","v":"Rotación de cartera alcantarillado"},"FACTURACIÓN","Cuentas por Cobrar: Saldo en pesos corrientes al finalizar el período de análisis, de los pagos pendientes por concepto de la facturación en los últimos doce meses  del servicio a los usuarios del sector oficial o particular, según el caso. Incluye cargos fijos, consumos, cargos de conexión, reconexión, multas e intereses de mora.\nValor Facturado: Valor en pesos corrientes de las facturas expedidas  para la totalidad de los usuarios en los últimos doce meses. Incluye cargos fijos, consumos, conexión, reconexión, intereses, multas.  ","Días","Resolución CRA 12/1995","Trimestral","Suma de componentes","Decreciente","X",null,null,null,null,2,"Determinar el tiempo en que la cuentas por cobrar toman en convertirse en efectivo","365*V1/V2"]
[{"$f":"Indicadores!C96","v":"Rotación de cartera aseo"},"FACTURACIÓN","Cuentas por Cobrar: Saldo en pesos corrientes al finalizar el período de análisis, de los pagos pendientes por concepto de la facturación en los últimos doce meses  del servicio a los usuarios del sector oficial o particular, según el caso. Incluye cargos fijos, consumos, cargos de conexión, reconexión, multas e intereses de mora.\nValor Facturado: Valor en pesos corrientes de las facturas expedidas  para la totalidad de los usuarios en los últimos doce meses. Incluye cargos fijos, consumos, conexión, reconexión, intereses, multas.  ","Días","Resolución CRA 12/1995","Trimestral","Suma de componentes","Decreciente","X",null,null,null,null,2,"Determinar el tiempo en que la cuentas por cobrar toman en convertirse en efectivo","365*V1/V2"]
[{"$f":"Indicadores!C97","v":"índice de micromedición nominal (IMN) cobertura medición"},"FACTURACIÓN","Número de medidores: Número de medidores instalados en operación a una fecha determinada.\nNúmero de suscriptores: Número de Personas naturales o jurídicas con las cuales se ha celebrado un contrato de condiciones uniformes de servicios públicos.\n","%","Resolución CRA 12/1995","Mensual","Último dato","Creciente",null,null,"X",null,null,2,"Reflejar el grado de cobertura de medidores operando en el área atendida por la entidad.","V1/V2"]
[{"$f":"Indicadores!C98","v":"IMR (Estado) micro"},"FACTURACIÓN",null,"%",null,"Mensual","Último dato","Creciente",null,"X",null,null,null,2,"Determinar el grado de cumplimiento de la meta propuesta para la micromedición","V1/V2"]
[{"$f":"Indicadores!C99","v":"Indice de Micromedición Efectiva.- IMI"},"FACTURACIÓN","MFLg: Número de micromedidores en buen estado y funcionando con lectura en el período de facturación g. Entiéndase por \"funcionando con lectura aquellos medidores cuyo valor medido se emplea para la facturación.\nNSg: Número total de suscriptores donde sea técnicamente viable la medición en el período de facturación g. El término \"donde sea técnicamente viable la medición\" se incluye de conformidad con el artículo 2 de la Resolución CRA 319 de 2005 o aquella que modifique, adicione, sustituya o aclare, referente a las existencia de usuarios a los cuales técnicamente no es viable la medición individual. En este sentido, un multiusuario, en el marco del artículo ibídem, será considerados como un (1) suscriptor para el caculo de la variable.","%","Resolución CRA 906/2019","Mensual","Promedio","Creciente",null,"X",null,null,null,2,"Medir el porcentaje de micromedidores que están efectivamente en funcionamiento con respecto al número de suscriptores del servicio público domiciliario de acueducto","(V1/V2)*100"]
[{"$f":"Indicadores!C100","v":"Catastro de Medidores - CM"},"FACTURACIÓN","CM: Catastro de Medidores.","Número","Resolución CRA 906/2019","Mensual","Promedio","Creciente",null,"X",null,null,null,1,"Verificar que los pretadores cuenten con la información necesaria para mentener un catastro de medidores actualizado a la vigencia del período de evaluación","V1"]
[{"$f":"Indicadores!C101","v":"Indice de Macromedición Efectiva — IMA"},"FACTURACIÓN","NTi: Número de tuberías de salida de la PTAP y de los tanques de almacenamiento con\nmacromedición en funcionamiento.\nNTTi: Número total de tuberías de salida de la PTAP y de tanques de almacenamiento. ","%","Resolución CRA 906/2019","Mensual","Promedio","Creciente",null,"X",null,null,null,2,"Determinar el porcentaje de macromedición a las salidas de los sistemas de potabilización tanques de almacenamiento de agua potable y/o sistema de bombeo.","(V1/V2)*100"]
[{"$f":"Indicadores!C102","v":"Aplicación de Costos de Referencia Aprobados de Acueducto -  ACU"},"FACTURACIÓN","ACU: Aplicación de Costos de Referencia Aprobados de Acueducto, redondeado a dos (2) cifras decimales.\nACUcf: Aplicación del costo de referencia aprobado para el servicio público domiciliario de acueducto para el componente de cargo fijo, en valor absoluto, de acuerdo con la siguiente fórmula:","%","Resolución CRA 906/2019","Trimestral","Promedio","Decreciente",null,"X",null,null,null,2,"Verificar si el prestador está aplicando los costos de referencia (por cargo fijo y cargo por consumo, respectivamente) resultantes de aplicar la metodología tarifaria para el servicio público domiciliario de acueducto.","(V1*0.5)+(V2*0.5)"]
[{"$f":"Indicadores!C103","v":"Cumplimiento Metas de Cobertura Acueducto -CMCOBAC"},"FACTURACIÓN","Realp: Número de nuevos suscriptores del servicio público domiciliario de acueducto del prestador en el año tarifario p evaluado.\nMetap: Meta establecida por prestador para el estándar de cobertura en el año tarifario p evaluado, de acuerdo con lo definido en el TÍTULO IX de la Resolución CRA 688 de 2014, o aquella que la modifique, adicione, sustituye o aclare.","%","Resolución CRA 906/2019","Mensual","Promedio","Creciente",null,"X",null,null,null,2,"Evaluar el cumplimiento de las metas de cobertura establecidas por el prestador en su estudio de costos vigente para el servicio público domiciliario de acueducto.","(V1/V2)*100"]
[{"$f":"Indicadores!C104","v":"Cumplimiento Metas de Continuidad Acueducto - CMCON"},"FACTURACIÓN","Realp: Relación entre el número de días de prestación del servicio de acueducto con respecto a los días totales del año tarifario p evaluado.\nMetap: Meta establecida por el prestador para el estándar de continuidad en el año tarifario p evaluado. Para grandes prestadores, de acuerdo con lo definido en el TITULO IX de la Resolución CRA 688 de 2014, o aquella que la modifique, adicione, sustituya o aclare. Para pequeños prestadores y prestadores rurales, de acuerdo con lo definido en los artículos 12y 24 de la Resolución CRA 825 de 2017, o aquella que la modifique, adicione, sustituya o aclare.","%","Resolución CRA 906/2019","Mensual","Promedio","Creciente",null,"X",null,null,null,2,"Evaluar el cumplimiento de las metas de continuidad establecidas por el prestador en el estudio de costos vigente para el servicio público domiciliario de acueducto","(V1/V2)*100"]
[{"$f":"Indicadores!C105","v":"Aplicación de Costos de Referencia Aprobados Alcantarillado - AL"},"FACTURACIÓN","CCALp: Valor cobrado por concepto de cargo por consumo para el servicio público domiciliario de alcantarillado en la tarifa del servicio del prestador.\nCCRALp: Último valor aprobado por la entidad tarifa local, por concepto de cargo por consumo para el servicio público domiciliario de alcantarillado en el estudio de costos, incluyendo actualizaciones por índices de precios.","%","Resolución CRA 906/2019","Trimestral","Promedio","Creciente",null,"X",null,null,null,2,"Verificar si el prestador está aplicando los costos de referencia (por cargo fijo y cargo por consumo, respectivamente) resultantes de aplicar la metodología tarifaria para el servicio público j domiciliario de alcantarillado","(V1*0.5)+(V2*0.5)"]
[{"$f":"Indicadores!C106","v":"Cumplimiento Metas de Cobertura Alcantarillado - CMCOBAL"},"FACTURACIÓN","Realp: Número de nuevos suscriptores del servicio público domiciliario de alcantarillado del prestador en el año tarifario p evaluado.\nMetap : Meta establecida por el prestador para el estándar de cobertura en el año tarifario p evaluado, siguiendo lo establecido el TÍTULO IX de la Resolución CRA 688 de 2014, o aquella que la modifique, adicione, sustituye o aclare.","%","Resolución CRA 906/2019","Mensual","Promedio","Creciente",null,"X",null,null,null,2,"Evaluar el cumplimiento de las metas de cobertura establecidas por el prestador en su estudio de costos vigente para el servicio público domiciliario de alcantarillado","(V1/V2)*100"]
[{"$f":"Indicadores!C107","v":"Nuevos suscriptores Acueducto"},"ATENCIÓN AL CLIENTE",null,"Suscriptores","Resolución CRA 688/2014 y 735/2019","Mensual","Último dato","Creciente",null,null,"X",null,null,2,"Medir el incremento de usuarios nuevos mes a mes","V1-V2"]
[{"$f":"Indicadores!C108","v":"Nuevos suscriptores Alcantarillado"},"ATENCIÓN AL CLIENTE",null,"Suscriptores","Resolución CRA 688/2014 y 735/2019","Mensual","Último dato","Creciente",null,null,"X",null,null,2,"Medir el incremento de usuarios nuevos mes a mes","V1-V2"]
[{"$f":"Indicadores!C109","v":"Nuevos suscriptores Aseo"},"ATENCIÓN AL CLIENTE",null,"Suscriptores","Resolución CRA 151/2001","Mensual","Último dato","Creciente",null,null,"X",null,null,2,"Medir el incremento de usuarios nuevos mes a mes","V1-V2"]
[{"$f":"Indicadores!C110","v":"Nuevos suscriptores residenciales Acueducto"},"ATENCIÓN AL CLIENTE",null,"%","Resolución CRA 688/2014 y 735/2019","Mensual","Último dato","Creciente",null,null,"X",null,null,2,"Determinar el número de suscritores residenciales de acueducto que tiene la empresa","V1-V2"]
[{"$f":"Indicadores!C111","v":"Nuevos suscriptores residenciales Alcantarillado"},"ATENCIÓN AL CLIENTE",null,"%","Resolución CRA 688/2014 y 735/2019","Mensual","Último dato","Creciente",null,null,"X",null,null,2,"Determinar el número de suscritores residenciales de alacantarillado que tiene la empresa","V1-V2"]
[{"$f":"Indicadores!C112","v":"IQR índice reclamos comerciales (Acueducto y Alcantarillado)"},"ATENCIÓN AL CLIENTE","Rc: Reclamos comerciales por diferencia de la factura que pasan a segunda instancia a favor del suscriptor. mf: Número de meses en el ciclo de facturación. NTU: número de suscriptores del mes","Reclamos comerciales/1000 suscriptores","Resolución CRA 688/2014 y 735/2019","Mensual","Último dato","Decreciente",null,null,"X",null,null,3,"Evalúar el comportamiento de los servicios públicos domiciliarios de acueducto y alcantarillado, en relación con los reclamos comerciales por facturación","1000*V1*V2/V3"]
[{"$f":"Indicadores!C113","v":"IRCF índice reclamos comerciales por facturación Aseo"},"ATENCIÓN AL CLIENTE","Rc: Reclamos comerciales por diferencia de la factura que pasan a segunda instancia a favor del suscriptor. mf: Número de meses en el ciclo de facturación. NTU: número de suscriptores del mes","Reclamos comerciales/1000 suscriptores","Resolución CRA 688/2014 y 735/2019","Mensual","Último dato","Decreciente",null,null,"X",null,null,3,"Evalúar el comportamiento del servicio público domiciliario de acueducto, en relación con los reclamos comerciales por facturación","1000*V1*V2/V3"]
[{"$f":"Indicadores!C114","v":"Eficiencia laboral acueducto"},"TALENTO HUMANO","Costos de Personal: Valor en pesos corrientes del total de pagos, durante los últimos doce meses,  por salarios, prestaciones, horas extras, y demás conceptos para el personal de planta administrativo y operativo, más servicios contratados con terceros.\nVolumen Facturado: Volumen de agua  que la empresa facturó durante los últimos doce meses. ","$","Resolución CRA 12/1995","Trimestral","Suma de componentes","Decreciente","X",null,null,"X",null,2,"Determinar el costo de personal por Metro 3 de Agua facturado","V1/V2"]
[{"$f":"Indicadores!C115","v":"Productividad del Personal Administrativo del Prestador — PPAP"},"TALENTO HUMANO","NTAg: Número total de personal administrativo en el período de facturación g, se incluyen el personal que e realice labores administrativas sin discriminación del servicio prestado, siempre que estos sean; Acueducto y/o Alcantarillado y/o Aseo; del mismo modo, no se discrimina por tipo de vinculación ni por el número de horas laboradas,\nNSg: Número de suscriptores atendidos en el período de facturación g. Para lo cual se empleará la información asociada al servicio que presente el mayor número de suscriptores.","Número","Resolución CRA 906/2019","Mensual","Promedio","Creciente",null,"X",null,null,null,2,"Medir la proporción de trabajadores administrativos existentes por cada 1000 suscriptores.","V1/(V2/1000)"]
[{"$f":"Indicadores!C116","v":"Productividad del Personal Operativo Acueducto — POAC"},"TALENTO HUMANO","NTOACg: Número total de personal operativo para el servicio público domiciliario de acueducto en el período de facturación g. Hace referencia a la clasificación de la planta de personal autorizado y debe incluir toda el personal definido en el indicador, sin discriminación de su tipo de vinculación, profesión y/o dedicación de tiempo en su labores realizadas.\nNSACg: Número de suscriptores del servicio público domiciliario de acueducto en el período de facturación g.\nCuando un trabajador tenga funciones asignada a más de un servicio, al estimar la variable NTOACg se deberá efectuar la proporción de dedicación de cada trabajador a realizar labores para el servicio público domiciliario de acueducto, de acuerdo con la siguiente formula:","Número","Resolución CRA 906/2019","Mensual","Promedio","Creciente",null,"X",null,null,null,2,"Medir la proporción de trabajadores opretativos exixtentes por cada 1000 suscriptores para el servicio público domiciliario de acueductos.","V1/(V2/1000)"]
[{"$f":"Indicadores!C117","v":"Productividad del Personal Operativo Alcantarillado — POALC"},"TALENTO HUMANO","NTOALg: Número total de personal operativo para el servicio público domiciliario de alcantarillado en el período de facturación g. Hace referencia a la clasificación de la planta de personal autorizado y debe incluir toda el personal definido en el indicador, sin discriminación de su tipo de vinculación, profesión y/o dedicación de tiempo en su labores realizadas.\nNSALg: Número de suscriptores del servicio público domiciliario de alcantarillado el período de facturación g.\nCuando un trabajador tenga funciones asignada a más de un servicio, al estimar la variable NTOACg se deberá efectuar la proporción de dedicación de cada trabajador a realizar labores para el servicio público domiciliario de alcantarillado, de acuerdo con la siguiente formula:","Número","Resolución CRA 906/2019","Mensual","Promedio","Creciente",null,"X",null,null,null,2,"Medir la proporción de trabajadores opretativos exixtentes por cada 1000 suscriptores para el servicio público domiciliario de alacantarillado","V1/(V2/1000)"]
[{"$f":"Indicadores!C118","v":"Relación de Costos y Gastos Administrativos por Gestión Social — GS "},"ATENCIÓN AL CLIENTE","CGGS: Costos y gastos totales destinados a gestión social, hacen referencia a los costos y gatos intangibles realizados por el prestador, sin incluir impuestos. corresponde al valor registrado en la contabilidad del prestador por concepto de erogaciones que realizó, durante el periodo de evaluación, con el fin de mejorar la relación con el suscritor, así como las actividades que inciden en es mejoramiento de la cultura ciudadana frente aspectos relacionado con la prestación de los servicios públicos domiciliarios de acueducto y/o alcantarillado. Se incluyen las cuentas representan los recursos destinados por la empresa prestadora en educación ambienta, uso eficiente de agua, y saneamiento, de conformidad con las disposiciones legales.\nGOAAA: Costos operativos y gastos administrativos generados durante el período de evaluación correspondientes a la proporción para los servicios públicos domiciliarios de acueducto y /o alcantarillado. Se deben incluir todas las erogaciones asociadas a la prestación de los públicos domiciliarios de acueducto y/o alcantarillado, incluidas las generadas por la actividad comercial, así como los depreciaciones y amortizaciones.","%","Resolución CRA 906/2019","Mensual","Promedio","Creciente",null,"X",null,null,null,2,"Medir el gasto y costo por suscriptor relacionado a La gestión social dasrrolladora por el prestador en los servicios públicos domiciliarios de acueducto y/o alcantarilldo.","(V1/V2)*100"]
[{"$f":"Indicadores!C119","v":"Indice de Rotación de Personal Directivo — IRDP"},"TALENTO HUMANO","l:  Personal directivo correspondiente al gerente general o presidente, y/o a los directivos de áreas, quienes laboren y/o hayan laborado desde el año 2012  hasta el período de evaluación, donde / = [1,2,3,4  L}. El personal directivo será definido por cada prestador, de acuerdo con su estructura organizacional. \nL:  Número de personal directiva que hayan laborado desde el año 2012  hasta el período de evaluación.\nAL/:  Años laborados del personal directivo 1, a partir del año 2012. \nPara la aplicación de esta fórmula se debe tener en cuenta los siguientes aspectos: \n• Cada vez que se genere un cambio de cargo, reincorporación y/o contratación de nuevo personal, deberá reportarse como personas diferentes y/o nuevas\n• Para el caso de reemplazos y encargos, se contará como un solo cargo y una misma persona, siempre que el tiempo no supere seis (6) meses.\n• Se tendrá en cuenta el año de inicio de operación del prestador. \n• El indicador es aplicable a prestadores que empleen una fórmula tarifaria contractual en los términos del parágrafo 1 del artículo 87 de la Ley 142 de 1994, lo anterior, de acuerdo con el alcance de lo previsto en el contrato. ","Número","Resolución CRA 906/2019","Trimestral","Promedio","Creciente",null,"X",null,null,null,2,"Medir el nivel de rotación del personal directivo del prestador, siendo este el responsable de la toma de decisiones estratégicas en la  prestación del servicio. ","V1/V2"]
[{"$f":"Indicadores!C120","v":"Carga administrativa — ICA"},"TALENTO HUMANO","GPA: Gastos anuales del personal administrativo. Los cuales corresponden a los gastos anuales asociados a nómina y derivados de la relación contractual individual o colectiva con el prestador. \n/e: Ingresos de actividades ordinarias del período a evaluar. ","Número","Resolución CRA 906/2019","Trimestral","Promedio","Creciente",null,null,"X",null,null,2,"Medir la proporción de costos y gastos asociados al personal administrativo con respecto al total de los ingresos operacionales del prestador.","(V1/V2)*100"]
[{"$f":"Indicadores!C121","v":"Eficiencia laboral alcantarillado"},"TALENTO HUMANO","Costos de Personal: Valor en pesos corrientes del total de pagos, durante los últimos doce meses,  por salarios, prestaciones, horas extras, y demás conceptos para el personal de planta administrativo y operativo, más servicios contratados con terceros.\nVolumen Facturado: Volumen de agua  que la empresa facturó durante los últimos doce meses. ","$","Resolución CRA 12/1995","Trimestral","Suma de componentes","Decreciente","X",null,null,"X",null,2,"Determinar el costo de personal por Metro 3 de Agua vertido","V1/V2"]
[{"$f":"Indicadores!C122","v":"Eficiencia laboral aseo"},"TALENTO HUMANO","Costos de Personal: Valor en pesos corrientes del total de pagos, durante los últimos doce meses,  por salarios, prestaciones, horas extras, y demás conceptos para el personal de planta administrativo y operativo, más servicios contratados con terceros.\nBasura Recogida: Toneladas de basura recolectada en los últimos doce meses.\n","$","Resolución CRA 12/1995","Trimestral","Suma de componentes","Decreciente","X",null,null,"X",null,2,"Determinar el costo de personal por Metro 3 facturado","V1/V2"]
[{"$f":"Indicadores!C123","v":"Frecuencia de los accidentes laborales"},"TALENTO HUMANO",null,"Accidentes/trabajador","Resolución 1111 de 2017","Mensual","Promedio","Decreciente",null,null,"X",null,null,2,"Reflejar el número de accidentes que se presentaron durante la jornada de trabajo ","240000*V1/V2"]
[{"$f":"Indicadores!C124","v":"Severidad de los accidentes laborales"},"TALENTO HUMANO",null,"Número","Resolución 1111 de 2017","Mensual","Promedio","Decreciente",null,null,"X",null,null,3,"Reflejar el número de dias de trabajo perdidos por accidentes de trabajo","240000*(V1+V2)/V3"]
[{"$f":"Indicadores!C125","v":"Ausentismo "},"TALENTO HUMANO",null,"Número","Resolución 1111 de 2017","Mensual","Promedio","Decreciente",null,null,"X",null,null,2,"Mostrar el Número de días de ausencia por incapacidad laboral y común","V1/V2"]
[{"$f":"Indicadores!C126","v":"Proporción de Accidentes de trabajos mortales"},"TALENTO HUMANO",null,"Número","Resolución 1111 de 2017","Mensual","Promedio","Decreciente",null,null,"X",null,null,2,"Reflejar el número de accidentes de trabajo mortales que se presentaron en el período laboral","V1/V2"]
[{"$f":"Indicadores!C127","v":"Prevalencia de la enfermedad laboral"},"TALENTO HUMANO",null,"Enfermedades laborales/Trabajadores","Resolución 1111 de 2017","Mensual","Promedio","Decreciente",null,null,"X",null,null,2,"Calcular el número de casos nuevos y antiguos de enfermedad laboral en el período profesional","100*V1/V2"]
[{"$f":"Indicadores!C128","v":"Incidencia de la enfermedad laboral"},"TALENTO HUMANO",null,"Enfermedades laborales/Trabajadores","Resolución 1111 de 2017","Mensual","Promedio","Decreciente",null,null,"X",null,null,2,"Estimar el número de casos nuevos de enfermedad que se presentaron en el período laboral","100*V1/V2"]
[{"$f":"Indicadores!C129","v":"Personal capacitado en seguridad vial"},"TALENTO HUMANO",null,"%","Resolucion 1565/2014","Anual","Último dato","Creciente",null,"X",null,null,null,2,"Medir la eficiencia del plan de capacitaciones de seguridad vial de los funcionarios de la empresa","V1/V2"]
[{"$f":"Indicadores!C130","v":"Evaluaciones a conductores"},"TALENTO HUMANO",null,"%","Resolucion 1565/2014","Anual","Último dato","Creciente",null,"X",null,null,null,2,"Medir las competencias de los conductores","V1/V2"]
[{"$f":"Indicadores!C131","v":"Valoración médica de condiciones físicas"},"TALENTO HUMANO",null,"%","Resolucion 1565/2014","Anual","Último dato","Creciente",null,"X",null,null,null,2,"Determinar el estado de salud de los conductores","V1/V2"]
[{"$f":"Indicadores!C132","v":"Eficiencia del PIC "},"TALENTO HUMANO",null,"%",null,"Semestral","Último dato","Creciente",null,"X",null,null,null,2,"Medir la eficiencia del plan de capacitaciones de los funcionarios de la empresa","V1/V2"]
[{"$f":"Indicadores!C133","v":"Cumplimento del PGR — CPGR"},"PLANEACIÓN ESTRATÉGICA",null,"Número","Resolución CRA 906/2019","Anual","Último dato","Último dato",null,"X",null,null,null,2,"Medir el cumplimiento de las acciones de mejora establecidas dentro del Plan de Gestión y Resultados del prestador — PGR, destinadas a un progreso continuo en la prestación del servicio.","V1/V2"]
[{"$f":"Indicadores!C134","v":"Inversión en actualización tecnológica"},"PLANEACIÓN ESTRATÉGICA",null,"%",null,"Anual","Último dato","Creciente",null,"X",null,null,null,2,"Mejorar los equipos tecnológicos e implementar software para el mejoramiento de procesos","V1/V2"]
[{"$f":"Indicadores!C135","v":"Actualización de Hardware"},"PLANEACIÓN ESTRATÉGICA",null,"%",null,"Anual","Último dato","Creciente",null,null,null,null,null,2,"Realizar la reposición de los equipos de cómputo obsoletos.","V1/V2"]
[{"$f":"Indicadores!C136","v":"Ingresos por nuevos negocios"},"PLANEACIÓN ESTRATÉGICA",null,"%",null,"Anual","Último dato","Creciente",null,null,null,"X",null,2,"Diversificar los ingresos de la empresa a través de nuevas unidades de negocio","V1/V2"]

{"sheet":"Semaforo","index":2,"n_rows":6,"n_cols":2,"rows_kept":6,"cut":false,"hidden":false,"merged":[]}
["PARAMETROS DEL SEMAFORO"]
["COLOR","LIMITE"]
["VERDE",1]
["AMARILLO",0.8]
["NARANJA",0.5]
["ROJO","MENORES"]

{"sheet":"Formato Ficha Tecnica","index":3,"n_rows":33,"n_cols":14,"rows_kept":33,"cut":false,"hidden":false,"merged":[[30,1,31,2],[30,3,31,9],[32,2,32,5],[32,7,32,9],[23,1,26,2],[23,7,23,8],[24,7,24,8],[25,7,25,8],[27,1,27,9],[28,1,29,2],[28,7,28,8],[29,7,29,8],[22,1,22,2],[22,3,22,9],[15,1,15,9],[19,1,19,2],[19,3,19,9],[20,1,20,2],[20,3,20,9],[21,1,21,2],[21,4,21,6],[21,8,21,9],[16,1,17,2],[16,3,17,9],[18,1,18,2],[18,3,18,9],[11,1,12,2],[11,3,11,4],[12,3,12,4],[13,1,14,2],[13,3,13,4],[14,3,14,4],[10,1,10,2],[10,3,10,9],[1,1,6,2],[1,3,3,7],[1,8,3,8],[1,9,3,9],[4,3,6,7],[4,8,6,9],[7,1,7,9],[8,1,8,2],[8,3,8,7],[9,1,9,2],[9,3,9,8]]}
[]
[null,null,null,"SERVICIUDAD ESP",null,null,null,null,"Código SPFO-11","Versión 03"]
[]
[]
[null,null,null,"FICHA TECNICA DEL INDICADOR",null,null,null,null,"PAGINA 01"]
[]
[]
[]
[null,"Nombre del índicador",null,null,null,null,null,null,"Código: "]
[null,"Nombre del plan o proceso"]
[null,"Propósito u objetivo del indicador"]
[null,"Tipo de indicador",null,"Eficiencia",null,null,"Eficacia",null,"Efectividad"]
[null,null,null,"Económia",null,null,"Ambiental"]
[null,"Estilo de cálculo",null,"Promedio",null,null,"Último dato"]
[null,null,null,"Suma",null,null,"Suma de componentes"]
[null,"MEDICIÓN DEL INDICADOR",null,null,null,null,null,null,null,null,null,null,null," "]
[null,"Fórmula de cálculo"]
[]
[null,"Número de variables"]
[null,"Definición variables (variables a medir)"]
[null,"Unidad de medida"]
[null,"Tendencia del indicador",null,"Creciente",null,null,null,"Decreciente"]
[null,"Soporte legal"]
[null,"Planes y programas a los que le hace seguimiento",null,"PESV",null,"PGR",null,"Resolución 315/05"]
[null,null,null,"Programa Aseo",null,"Plan Tarifario",null,"Resolución 151/01"]
[null,null,null,"SG-SST"]
[]
[null,"FRECUENCIAS Y RESPONSABLES"]
[null,"Frecuencia de Cálculo y Análisis",null,"Mensual",null,"Trimestral",null,"Otro"]
[null,null,null,"Semestral",null,"Anual",null,"Cual"]
[null,"Responsable de la medición y análisis Cargo y Dependencia"]
[]
[null,"Elaboró","Subgerencia de planeación",null,null,null,"Fecha",2020]

{"sheet":"Formato Ficha Analisis","index":4,"n_rows":17,"n_cols":10,"rows_kept":17,"cut":false,"hidden":false,"merged":[[1,1,6,2],[1,3,3,7],[1,8,3,8],[1,9,3,9],[4,3,6,7],[4,8,6,9],[7,1,7,9],[8,1,8,2],[8,3,8,7],[9,1,9,2],[9,3,9,8],[16,2,16,5],[16,7,16,9],[14,1,14,2],[14,3,14,9],[10,1,10,2],[10,3,10,9],[13,1,13,2],[12,1,12,2],[12,3,12,9],[13,3,13,9],[11,1,11,2],[11,3,11,9],[15,1,15,2],[15,3,15,9]]}
[]
[null,null,null,"SERVICIUDAD ESP",null,null,null,null,"Código SPFO-21","Versión 01"]
[]
[]
[null,null,null,"FICHA DE ANÁLISIS DEL INDICADOR",null,null,null,null,"PAGINA 01"]
[]
[]
[]
[null,"Nombre del índicador",null,null,null,null,null,null,"Código: "]
[null,"Estilo de cálculo"]
[null,"Fórmula de cálculo"]
[null,"Número de variables"]
[null,"Variables"]
[null,"Tendencia del indicador"]
[null,"Frecuencia de Cálculo y Análisis"]
[null,"Meta"]
[null,"Elaboró","Sugerencia de planeación",null,null,null,"Fecha",2020]

{"sheet":"IF001","index":5,"n_rows":33,"n_cols":14,"rows_kept":33,"cut":false,"hidden":false,"merged":[[30,1,31,2],[30,3,31,9],[32,2,32,5],[32,7,32,9],[23,1,26,2],[23,7,23,8],[24,7,24,8],[25,7,25,8],[27,1,27,9],[28,1,29,2],[28,7,28,8],[29,7,29,8],[22,1,22,2],[22,3,22,9],[15,1,15,9],[16,1,17,2],[16,3,17,9],[18,1,18,2],[18,3,18,9],[19,1,19,2],[19,3,19,9],[20,1,20,2],[20,3,20,9],[21,1,21,2],[21,4,21,6],[21,8,21,9],[11,1,12,2],[11,3,11,4],[12,3,12,4],[13,1,14,2],[13,3,13,4],[14,3,14,4],[10,1,10,2],[10,3,10,9],[1,1,6,2],[1,3,3,7],[1,8,3,8],[1,9,3,9],[4,3,6,7],[4,8,6,9],[7,1,7,9],[8,1,8,2],[8,3,8,7],[9,1,9,2],[9,3,9,8]]}
[]
[null,null,null,"SERVICIUDAD ESP",null,null,null,null,"Código SPFO-11","Versión 03"]
[]
[]
[null,null,null,"FICHA TECNICA DEL INDICADOR",null,null,null,null,"PAGINA 01"]
[]
[]
[]
[null,"Nombre del índicador",null,"Ejecución de las inversiones Acueducto",null,null,null,null,"Código: ","IF001"]
[null,"Nombre del plan o proceso",null,"CONDUCCIÓN Y  DISTRIBUCIÓN DE AGUA POTABLE - POTABILIZACIÓN DE AGUA"]
[null,"Propósito u objetivo del indicador",null,"Reflejar la capacidad de ejecutar las inversiones programadas"]
[null,"Tipo de indicador",null,"Eficiencia",null,null,"Eficacia","X","Efectividad"]
[null,null,null,"Económia",null,null,"Ambiental"]
[null,"Estilo de cálculo",null,"Promedio",null,null,"Último dato","X"]
[null,null,null,"Suma",null,null,"Suma de componentes"]
[null,"MEDICIÓN DEL INDICADOR",null,null,null,null,null,null,null,null,null,null,null," "]
[null,"Fórmula de cálculo",null,"Inversión realizada plan de inveriónes AC/Inversión presupuestada plan de inversiones AC"]
[]
[null,"Número de variables",null,2]
[null,"Definición variables (variables a medir)",null,"Inversión Realizada:  Valor en pesos corrientes de los desembolsos realizados por la entidad durante un período de análisis, con cargo a recursos generados por la propia empresa y a otras fuentes de financiación, para la realización del plan de inversiones.\nInversión Presupuestada: Valor  en pesos corrientes de la inversión prevista a realizar por la entidad, durante ese mismo  período, según el  plan de inversiones."]
[null,"Unidad de medida",null,"%"]
[null,"Tendencia del indicador",null,"Creciente","X",null,null,"Decreciente"]
[null,"Soporte legal",null,"Resolución CRA 12/1995"]
[null,"Planes y programas a los que le hace seguimiento",null,"PESV",null,"PGR",null,"Resolución 315/05"]
[null,null,null,"Programa Aseo",null,"Plan Tarifario",null,"Resolución 151/01"]
[null,null,null,"SG-SST","X"]
[]
[null,"FRECUENCIAS Y RESPONSABLES"]
[null,"Frecuencia de Cálculo y Análisis",null,"Mensual","X","Trimestral",null,"Otro"]
[null,null,null,"Semestral",null,"Anual",null,"Cual"]
[null,"Responsable de la medición y análisis Cargo y Dependencia",null,"Profesional presupuesto"]
[]
[null,"Elaboró","Subgerencia de planeación",null,null,null,"Fecha",2020]

{"sheet":"IF002","index":6,"n_rows":33,"n_cols":14,"rows_kept":33,"cut":false,"hidden":false,"merged":[[30,1,31,2],[30,3,31,9],[32,2,32,5],[32,7,32,9],[23,1,26,2],[23,7,23,8],[24,7,24,8],[25,7,25,8],[27,1,27,9],[28,1,29,2],[28,7,28,8],[29,7,29,8],[22,1,22,2],[22,3,22,9],[15,1,15,9],[16,1,17,2],[16,3,17,9],[18,1,18,2],[18,3,18,9],[19,1,19,2],[19,3,19,9],[20,1,20,2],[20,3,20,9],[21,1,21,2],[21,4,21,6],[21,8,21,9],[11,1,12,2],[11,3,11,4],[12,3,12,4],[13,1,14,2],[13,3,13,4],[14,3,14,4],[10,1,10,2],[10,3,10,9],[1,1,6,2],[1,3,3,7],[1,8,3,8],[1,9,3,9],[4,3,6,7],[4,8,6,9],[7,1,7,9],[8,1,8,2],[8,3,8,7],[9,1,9,2],[9,3,9,8]]}
[]
[null,null,null,"SERVICIUDAD ESP",null,null,null,null,"Código SPFO-11","Versión 03"]
[]
[]
[null,null,null,"FICHA TECNICA DEL INDICADOR",null,null,null,null,"PAGINA 01"]
[]
[]
[]
[null,"Nombre del índicador",null,"IRCA",null,null,null,null,"Código: ","IF002"]
[null,"Nombre del plan o proceso",null,"CONDUCCIÓN Y  DISTRIBUCIÓN DE AGUA POTABLE"]
[null,"Propósito u objetivo del indicador",null,"Establecer el índice de riesgo de la calidad del agua del municipio para el consumo humano"]
[null,"Tipo de indicador",null,"Eficiencia",null,null,"Eficacia",null,"Efectividad","X"]
[null,null,null,"Económia",null,null,"Ambiental"]
[null,"Estilo de cálculo",null,"Promedio",null,"X","Último dato"]
[null,null,null,"Suma",null,null,"Suma de componentes"]
[null,"MEDICIÓN DEL INDICADOR",null,null,null,null,null,null,null,null,null,null,null," "]
[null,"Fórmula de cálculo",null,"IRCA Sivicapp <5%"]
[]
[null,"Número de variables",null,2]
[null,"Definición variables (variables a medir)",null,"Dar cumplimiento a la normatividad vigente expedida por el Ministerio de Salud."]
[null,"Unidad de medida",null,"%"]
[null,"Tendencia del indicador",null,"Creciente",null,null,null,"Decreciente","X"]
[null,"Soporte legal",null,"Resolución CRA 1575/2007"]
[null,"Planes y programas a los que le hace seguimiento",null,"PESV",null,"PGR",null,"Resolución 315/05",null,"X"]
[null,null,null,"Programa Aseo",null,"Plan Tarifario",null,"Resolución 151/01",null,"X"]
[null,null,null,"SG-SST","X"]
[]
[null,"FRECUENCIAS Y RESPONSABLES"]
[null,"Frecuencia de Cálculo y Análisis",null,"Mensual","X","Trimestral",null,"Otro"]
[null,null,null,"Semestral",null,"Anual",null,"Cual"]
[null,"Responsable de la medición y análisis Cargo y Dependencia",null,"Profesional especializado acueducto"]
[]
[null,"Elaboró","Subgerencia de planeación",null,null,null,"Fecha",2020]

{"sheet":"IF003","index":7,"n_rows":33,"n_cols":14,"rows_kept":33,"cut":false,"hidden":false,"merged":[[30,1,31,2],[30,3,31,9],[32,2,32,5],[32,7,32,9],[23,1,26,2],[23,7,23,8],[24,7,24,8],[25,7,25,8],[27,1,27,9],[28,1,29,2],[28,7,28,8],[29,7,29,8],[22,1,22,2],[22,3,22,9],[15,1,15,9],[16,1,17,2],[16,3,17,9],[18,1,18,2],[18,3,18,9],[19,1,19,2],[19,3,19,9],[20,1,20,2],[20,3,20,9],[21,1,21,2],[21,4,21,6],[21,8,21,9],[11,1,12,2],[11,3,11,4],[12,3,12,4],[13,1,14,2],[13,3,13,4],[14,3,14,4],[10,1,10,2],[10,3,10,9],[1,1,6,2],[1,3,3,7],[1,8,3,8],[1,9,3,9],[4,3,6,7],[4,8,6,9],[7,1,7,9],[8,1,8,2],[8,3,8,7],[9,1,9,2],[9,3,9,8]]}
[]
[null,null,null,"SERVICIUDAD ESP",null,null,null,null,"Código SPFO-11","Versión 03"]
[]
[]
[null,null,null,"FICHA TECNICA DEL INDICADOR",null,null,null,null,"PAGINA 01"]
[]
[]
[]
[null,"Nombre del índicador",null,"Indice de Reporte y Calidad de Agua Potable- IRCAP",null,null,null,null,"Código: ","IF003"]
[null,"Nombre del plan o proceso",null,"CONDUCCIÓN Y  DISTRIBUCIÓN DE AGUA POTABLE"]
[null,"Propósito u objetivo del indicador",null,"Reporta la información de calidad de agua potable suministrada y si esta es apta para el consumo humano"]
[null,"Tipo de indicador",null,"Eficiencia",null,null,"Eficacia",null,"Efectividad","X"]
[null,null,null,"Económia",null,null,"Ambiental"]
[null,"Estilo de cálculo",null,"Promedio",null,"X","Último dato"]
[null,null,null,"Suma",null,null,"Suma de componentes"]
[null,"MEDICIÓN DEL INDICADOR",null,null,null,null,null,null,null,null,null,null,null," "]
[null,"Fórmula de cálculo",null,"1, si IRCAi ≤  5%\n0, si IRCAi ˃ 5% \ny/o no se reporta la información "]
[]
[null,"Número de variables",null,1]
[null,"Definición variables (variables a medir)",null,"Dar cumplimiento a la normatividad vigente expedida por la CRA resolución 906/19"]
[null,"Unidad de medida",null,"Número"]
[null,"Tendencia del indicador",null,"Creciente","X",null,null,"Decreciente"]
[null,"Soporte legal",null,"Resolución CRA 906/2019"]
[null,"Planes y programas a los que le hace seguimiento",null,"PESV",null,"PGR","X","Resolución 315/05"]
[null,null,null,"Programa Aseo",null,"Plan Tarifario",null,"Resolución 151/01"]
[null,null,null,"SG-SST"]
[]
[null,"FRECUENCIAS Y RESPONSABLES"]
[null,"Frecuencia de Cálculo y Análisis",null,"Mensual","X","Trimestral",null,"Otro"]
[null,null,null,"Semestral",null,"Anual",null,"Cual"]
[null,"Responsable de la medición y análisis Cargo y Dependencia",null,"Profesional Especializado de Acueducto  - Auxiliar Toma de Muestras"]
[]
[null,"Elaboró","Subgerencia de planeación",null,null,null,"Fecha",2020]

{"sheet":"IF004","index":8,"n_rows":33,"n_cols":14,"rows_kept":33,"cut":false,"hidden":false,"merged":[[30,1,31,2],[30,3,31,9],[32,2,32,5],[32,7,32,9],[23,1,26,2],[23,7,23,8],[24,7,24,8],[25,7,25,8],[27,1,27,9],[28,1,29,2],[28,7,28,8],[29,7,29,8],[22,1,22,2],[22,3,22,9],[15,1,15,9],[16,1,17,2],[16,3,17,9],[18,1,18,2],[18,3,18,9],[19,1,19,2],[19,3,19,9],[20,1,20,2],[20,3,20,9],[21,1,21,2],[21,4,21,6],[21,8,21,9],[11,1,12,2],[11,3,11,4],[12,3,12,4],[13,1,14,2],[13,3,13,4],[14,3,14,4],[10,1,10,2],[10,3,10,9],[1,1,6,2],[1,3,3,7],[1,8,3,8],[1,9,3,9],[4,3,6,7],[4,8,6,9],[7,1,7,9],[8,1,8,2],[8,3,8,7],[9,1,9,2],[9,3,9,8]]}
[]
[null,null,null,"SERVICIUDAD ESP",null,null,null,null,"Código SPFO-11","Versión 03"]
[]
[]
[null,null,null,"FICHA TECNICA DEL INDICADOR",null,null,null,null,"PAGINA 01"]
[]
[]
[]
[null,"Nombre del índicador",null,"IRABA",null,null,null,null,"Código: ","IF004"]
[null,"Nombre del plan o proceso",null,"CONDUCCIÓN Y  DISTRIBUCIÓN DE AGUA POTABLE"]
[null,"Propósito u objetivo del indicador",null,"Determinar si el suministro de agua cumple con los criterios de tratamiento, distribución y continuidad del servicio"]
[null,"Tipo de indicador",null,"Eficiencia",null,null,"Eficacia",null,"Efectividad","X"]
[null,null,null,"Económia",null,null,"Ambiental"]
[null,"Estilo de cálculo",null,"Promedio",null,"X","Último dato"]
[null,null,null,"Suma",null,null,"Suma de componentes"]
[null,"MEDICIÓN DEL INDICADOR",null,null,null,null,null,null,null,null,null,null,null," "]
[null,"Fórmula de cálculo",null,"100-(IT+IC)"]
[]
[null,"Número de variables",null,2]
[null,"Definición variables (variables a medir)",null,"IT: índice de tratamiento. Es el puntaje que se le asigna al evaluar los procesos de tratamiento, ensayos básicos de laboratorio en planta de tratamiento y trabajadores certificados de la persona prestadora. El máximo puntaje equivale a 80 puntos. IC: Índice de continuidad. Es el puntaje que se le asigna a la persona prestadora, con la información de continuidad de su área de influencia. El máximo puntaje equivale a 20 puntos."]
[null,"Unidad de medida",null,"Número"]
[null,"Tendencia del indicador",null,"Creciente",null,null,null,"Decreciente","X"]
[null,"Soporte legal",null,"Resolución CRA 2115/2007"]
[null,"Planes y programas a los que le hace seguimiento",null,"PESV",null,"PGR","X","Resolución 315/05"]
[null,null,null,"Programa Aseo",null,"Plan Tarifario",null,"Resolución 151/01"]
[null,null,null,"SG-SST"]
[]
[null,"FRECUENCIAS Y RESPONSABLES"]
[null,"Frecuencia de Cálculo y Análisis",null,"Mensual","X","Trimestral",null,"Otro"]
[null,null,null,"Semestral",null,"Anual",null,"Cual"]
[null,"Responsable de la medición y análisis Cargo y Dependencia",null,"Profesional Especializado de Acueducto - Profesional Planta de Tratamiento "]
[]
[null,"Elaboró","Subgerencia de planeación",null,null,null,"Fecha",2020]

{"sheet":"IF005","index":9,"n_rows":33,"n_cols":14,"rows_kept":33,"cut":false,"hidden":false,"merged":[[30,1,31,2],[30,3,31,9],[32,2,32,5],[32,7,32,9],[23,1,26,2],[23,7,23,8],[24,7,24,8],[25,7,25,8],[27,1,27,9],[28,1,29,2],[28,7,28,8],[29,7,29,8],[22,1,22,2],[22,3,22,9],[15,1,15,9],[16,1,17,2],[16,3,17,9],[18,1,18,2],[18,3,18,9],[19,1,19,2],[19,3,19,9],[20,1,20,2],[20,3,20,9],[21,1,21,2],[21,4,21,6],[21,8,21,9],[11,1,12,2],[11,3,11,4],[12,3,12,4],[13,1,14,2],[13,3,13,4],[14,3,14,4],[10,1,10,2],[10,3,10,9],[1,1,6,2],[1,3,3,7],[1,8,3,8],[1,9,3,9],[4,3,6,7],[4,8,6,9],[7,1,7,9],[8,1,8,2],[8,3,8,7],[9,1,9,2],[9,3,9,8]]}
[]
[null,null,null,"SERVICIUDAD ESP",null,null,null,null,"Código SPFO-11","Versión 03"]
[]
[]
[null,null,null,"FICHA TECNICA DEL INDICADOR",null,null,null,null,"PAGINA 01"]
[]
[]
[]
[null,"Nombre del índicador",null,"Indice de Continuidad — IC",null,null,null,null,"Código: ","IF005"]
[null,"Nombre del plan o proceso",null,"CONDUCCIÓN Y  DISTRIBUCIÓN DE AGUA POTABLE"]
[null,"Propósito u objetivo del indicador",null,"Determinar el promedio mensual del número de horas/día de prestación efectiva del servicio público domicliario de acueducto."]
[null,"Tipo de indicador",null,"Eficiencia",null,null,"Eficacia",null,"Efectividad","X"]
[null,null,null,"Económia",null,null,"Ambiental"]
[null,"Estilo de cálculo",null,"Promedio",null,"X","Último dato"]
[null,null,null,"Suma",null,null,"Suma de componentes"]
[null,"MEDICIÓN DEL INDICADOR",null,null,null,null,null,null,null,null,null,null,null," "]
[null,"Fórmula de cálculo",null,"∑PFg=1ICg / PF"]
[]
[null,"Número de variables",null,1]
[null,"Definición variables (variables a medir)",null,"IC: Índice De Continuidad, redondeado a dos (2) cifras decimales. \ng:  Período de facturación, durante el año de evaluación en el que se prestó el servicio público domiciliario de  acueducto, g = (1,2,3,...,PF}. En donde g = 1 corresponde al primer período de facturación que tenga su fecha de inicio dentro del añade evaluación, mientras que g = PF corresponderá al último período de facturación que inicie en el año de evaluación, independiente de que su fecha de terminación no se encuentre en el año de evaluación.\nPF: Número de periodos de facturación en los cuales se presto el servicio público domiciliario de acueducto durante el período evaluación (año fiscal). "]
[null,"Unidad de medida",null,"Número"]
[null,"Tendencia del indicador",null,"Creciente","X",null,null,"Decreciente"]
[null,"Soporte legal",null,"Resolución CRA 906/2019"]
[null,"Planes y programas a los que le hace seguimiento",null,"PESV",null,"PGR","X","Resolución 315/05"]
[null,null,null,"Programa Aseo",null,"Plan Tarifario",null,"Resolución 151/01"]
[null,null,null,"SG-SST"]
[]
[null,"FRECUENCIAS Y RESPONSABLES"]
[null,"Frecuencia de Cálculo y Análisis",null,"Mensual","X","Trimestral",null,"Otro"]
[null,null,null,"Semestral",null,"Anual",null,"Cual"]
[null,"Responsable de la medición y análisis Cargo y Dependencia",null,"Profesional Especializado de Acueducto "]
[]
[null,"Elaboró","Subgerencia de planeación",null,null,null,"Fecha",2020]

{"sheet":"IF006","index":10,"n_rows":33,"n_cols":14,"rows_kept":33,"cut":false,"hidden":false,"merged":[[30,1,31,2],[30,3,31,9],[32,2,32,5],[32,7,32,9],[23,1,26,2],[23,7,23,8],[24,7,24,8],[25,7,25,8],[27,1,27,9],[28,1,29,2],[28,7,28,8],[29,7,29,8],[22,1,22,2],[22,3,22,9],[15,1,15,9],[16,1,17,2],[16,3,17,9],[18,1,18,2],[18,3,18,9],[19,1,19,2],[19,3,19,9],[20,1,20,2],[20,3,20,9],[21,1,21,2],[21,4,21,6],[21,8,21,9],[11,1,12,2],[11,3,11,4],[12,3,12,4],[13,1,14,2],[13,3,13,4],[14,3,14,4],[10,1,10,2],[10,3,10,9],[1,1,6,2],[1,3,3,7],[1,8,3,8],[1,9,3,9],[4,3,6,7],[4,8,6,9],[7,1,7,9],[8,1,8,2],[8,3,8,7],[9,1,9,2],[9,3,9,8]]}
[]
[null,null,null,"SERVICIUDAD ESP",null,null,null,null,"Código SPFO-11","Versión 03"]
[]
[]
[null,null,null,"FICHA TECNICA DEL INDICADOR",null,null,null,null,"PAGINA 01"]
[]
[]
[]
[null,"Nombre del índicador",null,"Indice de Inversiones Acumuladas de Acueducto — IIAAC",null,null,null,null,"Código: ","IF006"]
[null,"Nombre del plan o proceso",null,"CONDUCCIÓN Y  DISTRIBUCIÓN DE AGUA POTABLE"]
[null,"Propósito u objetivo del indicador",null,"Determina el porcentaje acumulado del valor de las inversiones ejecutadas frente al valor de lasinversines proyectadas"]
[null,"Tipo de indicador",null,"Eficiencia",null,null,"Eficacia","X","Efectividad"]
[null,null,null,"Económia",null,"X","Ambiental"]
[null,"Estilo de cálculo",null,"Promedio",null,"X","Último dato"]
[null,null,null,"Suma",null,null,"Suma de componentes"]
[null,"MEDICIÓN DEL INDICADOR",null,null,null,null,null,null,null,null,null,null,null," "]
[null,"Fórmula de cálculo",null,"(∑atp=1VPIejecp / ∑atp=1VPIproyp) x 100"]
[]
[null,"Número de variables",null,2]
[null,"Definición variables (variables a medir)",null,"VPIejecp: Valor presente de las inversiones ejecutadas del plan de inversiones del servicio público domiciliario de acueducto. en el período de evaluación p (expresado en peso del a la base). Lasa cuales corresponden a la erogaciones realizadas por el prestador sin discriminación del avance del proyecto y/o inversión, ya sea que la misma se encuentre en \"curso\" o \"financiada\".\nVPIproyp: Valor presente de las inversiones proyectadas del plan de inversiones del servicio publico domiciliario de acueducto desde en el período de evaluación (expresado en pesos del año base)"]
[null,"Unidad de medida",null,"%"]
[null,"Tendencia del indicador",null,"Creciente","X",null,null,"Decreciente"]
[null,"Soporte legal",null,"Resolución CRA 906/2019"]
[null,"Planes y programas a los que le hace seguimiento",null,"PESV",null,"PGR","X","Resolución 315/05"]
[null,null,null,"Programa Aseo",null,"Plan Tarifario",null,"Resolución 151/01"]
[null,null,null,"SG-SST"]
[]
[null,"FRECUENCIAS Y RESPONSABLES"]
[null,"Frecuencia de Cálculo y Análisis",null,"Mensual",null,"Trimestral",null,"Otro"]
[null,null,null,"Semestral","X","Anual",null,"Cual"]
[null,"Responsable de la medición y análisis Cargo y Dependencia",null,"Profesional en Gestión Técnica de Proyectos "]
[]
[null,"Elaboró","Subgerencia de planeación",null,null,null,"Fecha",2020]

{"sheet":"IF007","index":11,"n_rows":33,"n_cols":14,"rows_kept":33,"cut":false,"hidden":false,"merged":[[30,1,31,2],[30,3,31,9],[32,2,32,5],[32,7,32,9],[23,1,26,2],[23,7,23,8],[24,7,24,8],[25,7,25,8],[27,1,27,9],[28,1,29,2],[28,7,28,8],[29,7,29,8],[22,1,22,2],[22,3,22,9],[15,1,15,9],[16,1,17,2],[16,3,17,9],[18,1,18,2],[18,3,18,9],[19,1,19,2],[19,3,19,9],[20,1,20,2],[20,3,20,9],[21,1,21,2],[21,4,21,6],[21,8,21,9],[11,1,12,2],[11,3,11,4],[12,3,12,4],[13,1,14,2],[13,3,13,4],[14,3,14,4],[10,1,10,2],[10,3,10,9],[1,1,6,2],[1,3,3,7],[1,8,3,8],[1,9,3,9],[4,3,6,7],[4,8,6,9],[7,1,7,9],[8,1,8,2],[8,3,8,7],[9,1,9,2],[9,3,9,8]]}
[]
[null,null,null,"SERVICIUDAD ESP",null,null,null,null,"Código SPFO-11","Versión 03"]
[]
[]
[null,null,null,"FICHA TECNICA DEL INDICADOR",null,null,null,null,"PAGINA 01"]
[]
[]
[]
[null,"Nombre del índicador",null,"Indice de Ejecución Anual de Inversiones de Acueducto —IEAIAC",null,null,null,null,"Código: ","IF007"]
[null,"Nombre del plan o proceso",null,"CONDUCCIÓN Y  DISTRIBUCIÓN DE AGUA POTABLE"]
[null,"Propósito u objetivo del indicador",null,"Determinar el porcentaje de cumplimiento anual del valor de las inversiones ejecutadas con respecto a las inversines proyectadas"]
[null,"Tipo de indicador",null,"Eficiencia",null,null,"Eficacia","X","Efectividad"]
[null,null,null,"Económia",null,"X","Ambiental"]
[null,"Estilo de cálculo",null,"Promedio",null,"X","Último dato"]
[null,null,null,"Suma",null,null,"Suma de componentes"]
[null,"MEDICIÓN DEL INDICADOR",null,null,null,null,null,null,null,null,null,null,null," "]
[null,"Fórmula de cálculo",null,"(∑ba=1(VEPa * PAa) / ∑ba=1 VPa) x 100"]
[]
[null,"Número de variables",null,3]
[null,"Definición variables (variables a medir)",null,"VEPa: Valor (en pesos corrientes) del activo y/o proyecto \"a\" ejecutado establecido dentro del plan de inversiones o POIR del prestador para el servicio público domiciliario de acueducto. Los cuales corresponderán a la erogaciones realizadas por el prestador, ya sea que la misma se encuentre \"en curso\" o \"financiada\".                  \nPAa: Porcentaje de avance físico del activo y/o proyecto \"a\" al cierre del periodo de evaluación, el cual será definido por el prestador entre 0% y el 100%.\nVPa: Valor (en pesos corrientes) de los proyectos y/o activos \"a\" establecidos en el plan de  Inversiones del prestador para el servicio público domiciliario de acueducto. Lo anterior, debe corresponder al período tarifario que finaliza en el período de evaluación del indicador."]
[null,"Unidad de medida",null,"%"]
[null,"Tendencia del indicador",null,"Creciente","X",null,null,"Decreciente"]
[null,"Soporte legal",null,"Resolución CRA 906/2019"]
[null,"Planes y programas a los que le hace seguimiento",null,"PESV",null,"PGR","X","Resolución 315/05"]
[null,null,null,"Programa Aseo",null,"Plan Tarifario",null,"Resolución 151/01"]
[null,null,null,"SG-SST"]
[]
[null,"FRECUENCIAS Y RESPONSABLES"]
[null,"Frecuencia de Cálculo y Análisis",null,"Mensual",null,"Trimestral",null,"Otro"]
[null,null,null,"Semestral","X","Anual",null,"Cual"]
[null,"Responsable de la medición y análisis Cargo y Dependencia",null,"Profesional en Gestión Técnica de Proyectos "]
[]
[null,"Elaboró","Subgerencia de planeación",null,null,null,"Fecha",2020]

{"sheet":"IF008","index":12,"n_rows":33,"n_cols":14,"rows_kept":33,"cut":false,"hidden":false,"merged":[[30,1,31,2],[30,3,31,9],[32,2,32,5],[32,7,32,9],[23,1,26,2],[23,7,23,8],[24,7,24,8],[25,7,25,8],[27,1,27,9],[28,1,29,2],[28,7,28,8],[29,7,29,8],[22,1,22,2],[22,3,22,9],[15,1,15,9],[16,1,17,2],[16,3,17,9],[18,1,18,2],[18,3,18,9],[19,1,19,2],[19,3,19,9],[20,1,20,2],[20,3,20,9],[21,1,21,2],[21,4,21,6],[21,8,21,9],[11,1,12,2],[11,3,11,4],[12,3,12,4],[13,1,14,2],[13,3,13,4],[14,3,14,4],[10,1,10,2],[10,3,10,9],[1,1,6,2],[1,3,3,7],[1,8,3,8],[1,9,3,9],[4,3,6,7],[4,8,6,9],[7,1,7,9],[8,1,8,2],[8,3,8,7],[9,1,9,2],[9,3,9,8]]}
[]
[null,null,null,"SERVICIUDAD ESP",null,null,null,null,"Código SPFO-11","Versión 03"]
[]
[]
[null,null,null,"FICHA TECNICA DEL INDICADOR",null,null,null,null,"PAGINA 01"]
[]
[]
[]
[null,"Nombre del índicador",null,"Indicador de Plan de Emergencias y Contingencias para Acueducto — PECAC",null,null,null,null,"Código: ","IF008"]
[null,"Nombre del plan o proceso",null,"CONDUCCIÓN Y  DISTRIBUCIÓN DE AGUA POTABLE"]
[null,"Propósito u objetivo del indicador",null,"Verificar la planificación de las acciones que se deberán poner en marcha en caso de emergencia, y los planes de contingencia establecidos para recuperar la normalidad de la prestación del servicio en el menor tiempo posible, logrando reducir los impactos negativos en beneficio de los usuarios."]
[null,"Tipo de indicador",null,"Eficiencia",null,null,"Eficacia","X","Efectividad"]
[null,null,null,"Económia",null,null,"Ambiental"]
[null,"Estilo de cálculo",null,"Promedio",null,null,"Último dato","X"]
[null,null,null,"Suma",null,null,"Suma de componentes"]
[null,"MEDICIÓN DEL INDICADOR",null,null,null,null,null,null,null,null,null,null,null," "]
[null,"Fórmula de cálculo",null,"(∑5t=1Reporter / 5) x 100"]
[]
[null,"Número de variables",null,1]
[null,"Definición variables (variables a medir)",null,"Componentes que conforman el PEC.\nDonde, r = (1=  Aseguramiento de infraestructura, \n                     2= Identificación de Amenazas,\n                     3= Registro de eventos,\n                     4= Inventario y  \n                     5= Reporte del PEC en el SUI)."]
[null,"Unidad de medida",null,"%"]
[null,"Tendencia del indicador",null,"Creciente","X",null,null,"Decreciente"]
[null,"Soporte legal",null,"Resolución CRA 906/2019"]
[null,"Planes y programas a los que le hace seguimiento",null,"PESV",null,"PGR","X","Resolución 315/05"]
[null,null,null,"Programa Aseo",null,"Plan Tarifario",null,"Resolución 151/01"]
[null,null,null,"SG-SST"]
[]
[null,"FRECUENCIAS Y RESPONSABLES"]
[null,"Frecuencia de Cálculo y Análisis",null,"Mensual",null,"Trimestral",null,"Otro"]
[null,null,null,"Semestral","X","Anual",null,"Cual"]
[null,"Responsable de la medición y análisis Cargo y Dependencia",null,"Subgerente Técnico y Operativo  - Auxiliar Técnica"]
[]
[null,"Elaboró","Subgerencia de planeación",null,null,null,"Fecha",2020]

{"sheet":"IF009","index":13,"n_rows":33,"n_cols":14,"rows_kept":33,"cut":false,"hidden":false,"merged":[[30,1,31,2],[30,3,31,9],[32,2,32,5],[32,7,32,9],[23,1,26,2],[23,7,23,8],[24,7,24,8],[25,7,25,8],[27,1,27,9],[28,1,29,2],[28,7,28,8],[29,7,29,8],[22,1,22,2],[22,3,22,9],[15,1,15,9],[16,1,17,2],[16,3,17,9],[18,1,18,2],[18,3,18,9],[19,1,19,2],[19,3,19,9],[20,1,20,2],[20,3,20,9],[21,1,21,2],[21,4,21,6],[21,8,21,9],[11,1,12,2],[11,3,11,4],[12,3,12,4],[13,1,14,2],[13,3,13,4],[14,3,14,4],[10,1,10,2],[10,3,10,9],[1,1,6,2],[1,3,3,7],[1,8,3,8],[1,9,3,9],[4,3,6,7],[4,8,6,9],[7,1,7,9],[8,1,8,2],[8,3,8,7],[9,1,9,2],[9,3,9,8]]}
[]
[null,null,null,"SERVICIUDAD ESP",null,null,null,null,"Código SPFO-11","Versión 03"]
[]
[]
[null,null,null,"FICHA TECNICA DEL INDICADOR",null,null,null,null,"PAGINA 01"]
[]
[]
[]
[null,"Nombre del índicador",null,"Agua Controlada en Puntos de Uso y Consumo — ACPUC",null,null,null,null,"Código: ","IF009"]
[null,"Nombre del plan o proceso",null,"CONDUCCIÓN Y  DISTRIBUCIÓN DE AGUA POTABLE"]
[null,"Propósito u objetivo del indicador",null,"Medir la la proporción que es consumida por los usuarios frenta el volumen total de agua que se ingresa al sistema."]
[null,"Tipo de indicador",null,"Eficiencia",null,null,"Eficacia","X","Efectividad"]
[null,null,null,"Económia",null,null,"Ambiental"]
[null,"Estilo de cálculo",null,"Promedio",null,"X","Último dato"]
[null,null,null,"Suma",null,null,"Suma de componentes"]
[null,"MEDICIÓN DEL INDICADOR",null,null,null,null,null,null,null,null,null,null,null," "]
[null,"Fórmula de cálculo",null,"(CFM + CFNM / VE - (IPUF* x NS)) x 100 "]
[]
[null,"Número de variables",null,5]
[null,"Definición variables (variables a medir)",null,"CFM: Volumen de consumo anual facturado medido durante el período de evaluación (m3).\nCFNM: Volumen de consumo anual facturado no medido durante el período de evaluación (m3).\nVE: Volumen anual de entrada al sistema durante el período de evaluación (m3), el cual debe incluir el volumen saliente del sistema de tratamiento y/o al volumen de contratos de suministro.\nIPUF: Índice de perdidas pos suscriptor facturado aceptable en la regulación vigente, establecidos en 6m3/suscriptor/mes."]
[null,"Unidad de medida",null,"%"]
[null,"Tendencia del indicador",null,"Creciente","X",null,null,"Decreciente"]
[null,"Soporte legal",null,"Resolución CRA 906/2019"]
[null,"Planes y programas a los que le hace seguimiento",null,"PESV",null,"PGR","X","Resolución 315/05"]
[null,null,null,"Programa Aseo",null,"Plan Tarifario",null,"Resolución 151/01"]
[null,null,null,"SG-SST"]
[]
[null,"FRECUENCIAS Y RESPONSABLES"]
[null,"Frecuencia de Cálculo y Análisis",null,"Mensual","X","Trimestral",null,"Otro"]
[null,null,null,"Semestral",null,"Anual",null,"Cual"]
[null,"Responsable de la medición y análisis Cargo y Dependencia",null,"Profesional en control de pérdidas y agua no contabilizada "]
[]
[null,"Elaboró","Subgerencia de planeación",null,null,null,"Fecha",2020]

{"sheet":"IF010","index":14,"n_rows":33,"n_cols":14,"rows_kept":33,"cut":false,"hidden":false,"merged":[[30,1,31,2],[30,3,31,9],[32,2,32,5],[32,7,32,9],[23,1,26,2],[23,7,23,8],[24,7,24,8],[25,7,25,8],[27,1,27,9],[28,1,29,2],[28,7,28,8],[29,7,29,8],[22,1,22,2],[22,3,22,9],[15,1,15,9],[16,1,17,2],[16,3,17,9],[18,1,18,2],[18,3,18,9],[19,1,19,2],[19,3,19,9],[20,1,20,2],[20,3,20,9],[21,1,21,2],[21,4,21,6],[21,8,21,9],[11,1,12,2],[11,3,11,4],[12,3,12,4],[13,1,14,2],[13,3,13,4],[14,3,14,4],[10,1,10,2],[10,3,10,9],[1,1,6,2],[1,3,3,7],[1,8,3,8],[1,9,3,9],[4,3,6,7],[4,8,6,9],[7,1,7,9],[8,1,8,2],[8,3,8,7],[9,1,9,2],[9,3,9,8]]}
[]
[null,null,null,"SERVICIUDAD ESP",null,null,null,null,"Código SPFO-11","Versión 03"]
[]
[]
[null,null,null,"FICHA TECNICA DEL INDICADOR",null,null,null,null,"PAGINA 01"]
[]
[]
[]
[null,"Nombre del índicador",null,"Modelo Hidráulico — MH",null,null,null,null,"Código: ","IF010"]
[null,"Nombre del plan o proceso",null,"CONDUCCIÓN Y  DISTRIBUCIÓN DE AGUA POTABLE"]
[null,"Propósito u objetivo del indicador",null,"Evaluar el cumplimiento de la exigencia de contar con un modelo hidráulico por parte de los prestadores, de comformidad con los establecido por la Rsolucón 330 de 2017 del MVCT,"]
[null,"Tipo de indicador",null,"Eficiencia",null,null,"Eficacia","X","Efectividad"]
[null,null,null,"Económia",null,null,"Ambiental"]
[null,"Estilo de cálculo",null,"Promedio",null,null,"Último dato","X"]
[null,null,null,"Suma",null,null,"Suma de componentes"]
[null,"MEDICIÓN DEL INDICADOR",null,null,null,null,null,null,null,null,null,null,null," "]
[null,"Fórmula de cálculo",null,"(Si se tiene = 1: No riene o no reporta = 0)"]
[]
[null,"Número de variables",null,1]
[null,"Definición variables (variables a medir)",null,"MH: Modelo Hidráulico"]
[null,"Unidad de medida",null,"Número"]
[null,"Tendencia del indicador",null,"Creciente","X",null,null,"Decreciente"]
[null,"Soporte legal",null,"Resolución CRA 906/2019"]
[null,"Planes y programas a los que le hace seguimiento",null,"PESV",null,"PGR","X","Resolución 315/05"]
[null,null,null,"Programa Aseo",null,"Plan Tarifario",null,"Resolución 151/01"]
[null,null,null,"SG-SST"]
[]
[null,"FRECUENCIAS Y RESPONSABLES"]
[null,"Frecuencia de Cálculo y Análisis",null,"Mensual","X","Trimestral",null,"Otro"]
[null,null,null,"Semestral",null,"Anual",null,"Cual"]
[null,"Responsable de la medición y análisis Cargo y Dependencia",null,"Profesional en control de pérdidas y agua no contabilizada "]
[]
[null,"Elaboró","Subgerencia de planeación",null,null,null,"Fecha",2020]

{"sheet":"IF011","index":15,"n_rows":33,"n_cols":14,"rows_kept":33,"cut":false,"hidden":false,"merged":[[30,1,31,2],[30,3,31,9],[32,2,32,5],[32,7,32,9],[23,1,26,2],[23,7,23,8],[24,7,24,8],[25,7,25,8],[27,1,27,9],[28,1,29,2],[28,7,28,8],[29,7,29,8],[22,1,22,2],[22,3,22,9],[15,1,15,9],[16,1,17,2],[16,3,17,9],[18,1,18,2],[18,3,18,9],[19,1,19,2],[19,3,19,9],[20,1,20,2],[20,3,20,9],[21,1,21,2],[21,4,21,6],[21,8,21,9],[11,1,12,2],[11,3,11,4],[12,3,12,4],[13,1,14,2],[13,3,13,4],[14,3,14,4],[10,1,10,2],[10,3,10,9],[1,1,6,2],[1,3,3,7],[1,8,3,8],[1,9,3,9],[4,3,6,7],[4,8,6,9],[7,1,7,9],[8,1,8,2],[8,3,8,7],[9,1,9,2],[9,3,9,8]]}
[]
[null,null,null,"SERVICIUDAD ESP",null,null,null,null,"Código SPFO-11","Versión 03"]
[]
[]
[null,null,null,"FICHA TECNICA DEL INDICADOR",null,null,null,null,"PAGINA 01"]
[]
[]
[]
[null,"Nombre del índicador",null,"Fallas en la Red Transporte y Distribución de Acueducto — FAC",null,null,null,null,"Código: ","IF011"]
[null,"Nombre del plan o proceso",null,"CONDUCCIÓN Y  DISTRIBUCIÓN DE AGUA POTABLE"]
[null,"Propósito u objetivo del indicador",null,"Medir la proporción de daños en la red de transporte y distribución frente a la longitud de esta."]
[null,"Tipo de indicador",null,"Eficiencia",null,null,"Eficacia","X","Efectividad"]
[null,null,null,"Económia",null,null,"Ambiental"]
[null,"Estilo de cálculo",null,"Promedio",null,"X","Último dato"]
[null,null,null,"Suma",null,null,"Suma de componentes"]
[null,"MEDICIÓN DEL INDICADOR",null,null,null,null,null,null,null,null,null,null,null," "]
[null,"Fórmula de cálculo",null,"NFRTi + NFRDi/ LRTi + LRDi"]
[]
[null,"Número de variables",null,4]
[null,"Definición variables (variables a medir)",null,"NFRTi: Número de fallas en las redes de distribución ( redes de conducción). por parte de las persona prestadora. se deberán incluir las fallas causadas por terceros.\nNFRDi: Número de fallas en las redes de distribución (redes de conducción y distribución). se entiende por falla aquellas que generen acciones de reparación (correctivas) por parte de la persona prestadora. No se deberán incluir fallas sobre las acometidas.\nLRTi; Longitud de redes de transporte (res de acueducto).\nLRDi: Longitud de redes de distribución de agua (red de conducción y distribución) (km), longitud de la red de distribución irá hasta las acometidas."]
[null,"Unidad de medida",null,"Número"]
[null,"Tendencia del indicador",null,"Creciente",null,null,null,"Decreciente","X"]
[null,"Soporte legal",null,"Resolución CRA 906/2019"]
[null,"Planes y programas a los que le hace seguimiento",null,"PESV",null,"PGR","X","Resolución 315/05"]
[null,null,null,"Programa Aseo",null,"Plan Tarifario",null,"Resolución 151/01"]
[null,null,null,"SG-SST"]
[]
[null,"FRECUENCIAS Y RESPONSABLES"]
[null,"Frecuencia de Cálculo y Análisis",null,"Mensual","X","Trimestral",null,"Otro"]
[null,null,null,"Semestral",null,"Anual",null,"Cual"]
[null,"Responsable de la medición y análisis Cargo y Dependencia",null,"Profesional Especializado de Acueducto "]
[]
[null,"Elaboró","Subgerencia de planeación",null,null,null,"Fecha",2020]

{"sheet":"IF012","index":16,"n_rows":33,"n_cols":14,"rows_kept":33,"cut":false,"hidden":false,"merged":[[30,1,31,2],[30,3,31,9],[32,2,32,5],[32,7,32,9],[23,1,26,2],[23,7,23,8],[24,7,24,8],[25,7,25,8],[27,1,27,9],[28,1,29,2],[28,7,28,8],[29,7,29,8],[22,1,22,2],[22,3,22,9],[15,1,15,9],[16,1,17,2],[16,3,17,9],[18,1,18,2],[18,3,18,9],[19,1,19,2],[19,3,19,9],[20,1,20,2],[20,3,20,9],[21,1,21,2],[21,4,21,6],[21,8,21,9],[11,1,12,2],[11,3,11,4],[12,3,12,4],[13,1,14,2],[13,3,13,4],[14,3,14,4],[10,1,10,2],[10,3,10,9],[1,1,6,2],[1,3,3,7],[1,8,3,8],[1,9,3,9],[4,3,6,7],[4,8,6,9],[7,1,7,9],[8,1,8,2],[8,3,8,7],[9,1,9,2],[9,3,9,8]]}
[]
[null,null,null,"SERVICIUDAD ESP",null,null,null,null,"Código SPFO-11","Versión 03"]
[]
[]
[null,null,null,"FICHA TECNICA DEL INDICADOR",null,null,null,null,"PAGINA 01"]
[]
[]
[]
[null,"Nombre del índicador",null,"Consumo Energético del Sistema de Tratamiento de Agua Potable Acueducto — CEAC",null,null,null,null,"Código: ","IF012"]
[null,"Nombre del plan o proceso",null,"CONDUCCIÓN Y  DISTRIBUCIÓN DE AGUA POTABLE"]
[null,"Propósito u objetivo del indicador",null,"Determinar la relación entre consumo de energía eléctrica y volumen de agua potable producida por la Plantas de Tratamiento que hacen parte del sistema de acueducto."]
[null,"Tipo de indicador",null,"Eficiencia",null,null,"Eficacia","X","Efectividad"]
[null,null,null,"Económia",null,null,"Ambiental"]
[null,"Estilo de cálculo",null,"Promedio",null,"X","Último dato"]
[null,null,null,"Suma",null,null,"Suma de componentes"]
[null,"MEDICIÓN DEL INDICADOR",null,null,null,null,null,null,null,null,null,null,null," "]
[null,"Fórmula de cálculo",null,"EET/ VTPA"]
[]
[null,"Número de variables",null,2]
[null,"Definición variables (variables a medir)",null,"EET: Energía total consumida por los procesos de tratamiento del sistema de acueducto, durante el período de evaluación (kwh).\nVTAP: Volumen anual de agua potable producido en el período de evaluación (m3)\nVTAP: Volumen total de agua producida en el periodo de evaluación (m3/año)."]
[null,"Unidad de medida",null,"Número"]
[null,"Tendencia del indicador",null,"Creciente","X",null,null,"Decreciente"]
[null,"Soporte legal",null,"Resolución CRA 906/2019"]
[null,"Planes y programas a los que le hace seguimiento",null,"PESV",null,"PGR","X","Resolución 315/05"]
[null,null,null,"Programa Aseo",null,"Plan Tarifario",null,"Resolución 151/01"]
[null,null,null,"SG-SST"]
[]
[null,"FRECUENCIAS Y RESPONSABLES"]
[null,"Frecuencia de Cálculo y Análisis",null,"Mensual","X","Trimestral",null,"Otro"]
[null,null,null,"Semestral",null,"Anual",null,"Cual"]
[null,"Responsable de la medición y análisis Cargo y Dependencia",null,"Profesional Planta de Tratamiento "]
[]
[null,"Elaboró","Subgerencia de planeación",null,null,null,"Fecha",2020]

{"sheet":"IF013","index":17,"n_rows":33,"n_cols":14,"rows_kept":33,"cut":false,"hidden":false,"merged":[[30,1,31,2],[30,3,31,9],[32,2,32,5],[32,7,32,9],[23,1,26,2],[23,7,23,8],[24,7,24,8],[25,7,25,8],[27,1,27,9],[28,1,29,2],[28,7,28,8],[29,7,29,8],[22,1,22,2],[22,3,22,9],[15,1,15,9],[16,1,17,2],[16,3,17,9],[18,1,18,2],[18,3,18,9],[19,1,19,2],[19,3,19,9],[20,1,20,2],[20,3,20,9],[21,1,21,2],[21,4,21,6],[21,8,21,9],[11,1,12,2],[11,3,11,4],[12,3,12,4],[13,1,14,2],[13,3,13,4],[14,3,14,4],[10,1,10,2],[10,3,10,9],[1,1,6,2],[1,3,3,7],[1,8,3,8],[1,9,3,9],[4,3,6,7],[4,8,6,9],[7,1,7,9],[8,1,8,2],[8,3,8,7],[9,1,9,2],[9,3,9,8]]}
[]
[null,null,null,"SERVICIUDAD ESP",null,null,null,null,"Código SPFO-11","Versión 03"]
[]
[]
[null,null,null,"FICHA TECNICA DEL INDICADOR",null,null,null,null,"PAGINA 01"]
[]
[]
[]
[null,"Nombre del índicador",null,"Cumplimiento del PUEAA — CPUEAA",null,null,null,null,"Código: ","IF013"]
[null,"Nombre del plan o proceso",null,"CONDUCCIÓN Y  DISTRIBUCIÓN DE AGUA POTABLE"]
[null,"Propósito u objetivo del indicador",null,"Verificar el cumplimiento del Plan de Uso Eficiente y Ahorro del Agua, enmarcado en la Ley\n373 de 1997, o aquella que las modifique, adicione, sustituya o aclare."]
[null,"Tipo de indicador",null,"Eficiencia",null,null,"Eficacia","X","Efectividad"]
[null,null,null,"Económia",null,null,"Ambiental"]
[null,"Estilo de cálculo",null,"Promedio",null,"X","Último dato"]
[null,null,null,"Suma",null,null,"Suma de componentes"]
[null,"MEDICIÓN DEL INDICADOR",null,null,null,null,null,null,null,null,null,null,null," "]
[null,"Fórmula de cálculo",null,"  0 Sino se cumplió lo establecido por el PUEAA para el periodo de evaluación\n 100 Si se cumplió lo establecido por el PUEAA para el periodo de evaluación"]
[]
[null,"Número de variables",null,1]
[null,"Definición variables (variables a medir)"]
[null,"Unidad de medida",null,"Número"]
[null,"Tendencia del indicador",null,"Creciente","X",null,null,"Decreciente"]
[null,"Soporte legal",null,"Resolución CRA 906/2019"]
[null,"Planes y programas a los que le hace seguimiento",null,"PESV",null,"PGR","X","Resolución 315/05"]
[null,null,null,"Programa Aseo",null,"Plan Tarifario",null,"Resolución 151/01"]
[null,null,null,"SG-SST"]
[]
[null,"FRECUENCIAS Y RESPONSABLES"]
[null,"Frecuencia de Cálculo y Análisis",null,"Mensual",null,"Trimestral",null,"Otro"]
[null,null,null,"Semestral","X","Anual",null,"Cual"]
[null,"Responsable de la medición y análisis Cargo y Dependencia",null,"Profesional en control de pérdidas y agua no contabilizada "]
[]
[null,"Elaboró","Subgerencia de planeación",null,null,null,"Fecha",2020]

{"sheet":"IF014","index":18,"n_rows":33,"n_cols":14,"rows_kept":33,"cut":false,"hidden":false,"merged":[[30,1,31,2],[30,3,31,9],[32,2,32,5],[32,7,32,9],[23,1,26,2],[23,7,23,8],[24,7,24,8],[25,7,25,8],[27,1,27,9],[28,1,29,2],[28,7,28,8],[29,7,29,8],[22,1,22,2],[22,3,22,9],[15,1,15,9],[16,1,17,2],[16,3,17,9],[18,1,18,2],[18,3,18,9],[19,1,19,2],[19,3,19,9],[20,1,20,2],[20,3,20,9],[21,1,21,2],[21,4,21,6],[21,8,21,9],[11,1,12,2],[11,3,11,4],[12,3,12,4],[13,1,14,2],[13,3,13,4],[14,3,14,4],[10,1,10,2],[10,3,10,9],[1,1,6,2],[1,3,3,7],[1,8,3,8],[1,9,3,9],[4,3,6,7],[4,8,6,9],[7,1,7,9],[8,1,8,2],[8,3,8,7],[9,1,9,2],[9,3,9,8]]}
[]
[null,null,null,"SERVICIUDAD ESP",null,null,null,null,"Código SPFO-11","Versión 03"]
[]
[]
[null,null,null,"FICHA TECNICA DEL INDICADOR",null,null,null,null,"PAGINA 01"]
[]
[]
[]
[null,"Nombre del índicador",null,"Utilización del Recurso Agua - UA",null,null,null,null,"Código: ","IF014"]
[null,"Nombre del plan o proceso",null,"CONDUCCIÓN Y  DISTRIBUCIÓN DE AGUA POTABLE"]
[null,"Propósito u objetivo del indicador",null,"Medir el volumen de agua que es captado de medios naturales para el suministro del servicio de acueducto con relación al caudal ambiental otorgado por la autoridad ambiental, evidenciando de esta forma, el posible estrés hídrico generado sobre la fuente de abastecimiento."]
[null,"Tipo de indicador",null,"Eficiencia",null,null,"Eficacia","X","Efectividad"]
[null,null,null,"Económia",null,null,"Ambiental","X"]
[null,"Estilo de cálculo",null,"Promedio",null,"X","Último dato"]
[null,null,null,"Suma",null,null,"Suma de componentes"]
[null,"MEDICIÓN DEL INDICADOR",null,null,null,null,null,null,null,null,null,null,null," "]
[null,"Fórmula de cálculo",null,"(VCMi / VCAAi) x 100"]
[]
[null,"Número de variables",null,2]
[null,"Definición variables (variables a medir)",null,"VCM,: Volumen de agua cruda (m3) captado del medio natural para el suministro del servicio, durante el mes i.\nVCAA,: Volumen de agua cruda (m3) correspondiente al caudal otorgado por la autoridad, ambiental durante el mes i."]
[null,"Unidad de medida",null,"%"]
[null,"Tendencia del indicador",null,"Creciente",null,null,null,"Decreciente","X"]
[null,"Soporte legal",null,"Resolución CRA 906/2019"]
[null,"Planes y programas a los que le hace seguimiento",null,"PESV",null,"PGR","X","Resolución 315/05"]
[null,null,null,"Programa Aseo",null,"Plan Tarifario",null,"Resolución 151/01"]
[null,null,null,"SG-SST"]
[]
[null,"FRECUENCIAS Y RESPONSABLES"]
[null,"Frecuencia de Cálculo y Análisis",null,"Mensual","X","Trimestral",null,"Otro"]
[null,null,null,"Semestral",null,"Anual",null,"Cual"]
[null,"Responsable de la medición y análisis Cargo y Dependencia",null,"Profesional en control de pérdidas y agua no contabilizada "]
[]
[null,"Elaboró","Subgerencia de planeación",null,null,null,"Fecha",2020]

{"sheet":"IF015","index":19,"n_rows":33,"n_cols":14,"rows_kept":33,"cut":false,"hidden":false,"merged":[[30,1,31,2],[30,3,31,9],[32,2,32,5],[32,7,32,9],[23,1,26,2],[23,7,23,8],[24,7,24,8],[25,7,25,8],[27,1,27,9],[28,1,29,2],[28,7,28,8],[29,7,29,8],[22,1,22,2],[22,3,22,9],[15,1,15,9],[16,1,17,2],[16,3,17,9],[18,1,18,2],[18,3,18,9],[19,1,19,2],[19,3,19,9],[20,1,20,2],[20,3,20,9],[21,1,21,2],[21,4,21,6],[21,8,21,9],[11,1,12,2],[11,3,11,4],[12,3,12,4],[13,1,14,2],[13,3,13,4],[14,3,14,4],[10,1,10,2],[10,3,10,9],[1,1,6,2],[1,3,3,7],[1,8,3,8],[1,9,3,9],[4,3,6,7],[4,8,6,9],[7,1,7,9],[8,1,8,2],[8,3,8,7],[9,1,9,2],[9,3,9,8]]}
[]
[null,null,null,"SERVICIUDAD ESP",null,null,null,null,"Código SPFO-11","Versión 03"]
[]
[]
[null,null,null,"FICHA TECNICA DEL INDICADOR",null,null,null,null,"PAGINA 01"]
[]
[]
[]
[null,"Nombre del índicador",null,"Reporte de Afectación Hídrica asociada a Fenómenos Climáticos - RAHC",null,null,null,null,"Código: ","IF015"]
[null,"Nombre del plan o proceso",null,"CONDUCCIÓN Y  DISTRIBUCIÓN DE AGUA POTABLE"]
[null,"Propósito u objetivo del indicador",null,"Medir el grado de fragilidad del sistema hídrico para mantener una oferta en el abastecimiento de agua, durante períodos climáticos atípicos, indicando el promedio de días por evento de afectación."]
[null,"Tipo de indicador",null,"Eficiencia",null,"X","Eficacia",null,"Efectividad"]
[null,null,null,"Económia",null,null,"Ambiental","X"]
[null,"Estilo de cálculo",null,"Promedio",null,"X","Último dato"]
[null,null,null,"Suma",null,null,"Suma de componentes"]
[null,"MEDICIÓN DEL INDICADOR",null,null,null,null,null,null,null,null,null,null,null," "]
[null,"Fórmula de cálculo",null,"(∑ETe=1(NHAFe * NAFe / Nhtg * NSg)) x (24 h/día)"]
[]
[null,"Número de variables",null,4]
[null,"Definición variables (variables a medir)",null,"NHAFe: Número de horas de duración del evento de afectación e, durante el período de facturación g.\nNAFe: Número de suscriptores afectados durante el evento de afectación e, durante el período de facturación g.\nNhtg: Número de horas totales, calculado como 24 horas por el número de días del período de facturación g. \nNSg: Número total de suscriptores de la persona prestadora en el período de facturación g."]
[null,"Unidad de medida",null,"Número"]
[null,"Tendencia del indicador",null,"Creciente",null,null,null,"Decreciente","X"]
[null,"Soporte legal"]
[null,"Planes y programas a los que le hace seguimiento",null,"PESV",null,"PGR","X","Resolución 315/05"]
[null,null,null,"Programa Aseo",null,"Plan Tarifario",null,"Resolución 151/01"]
[null,null,null,"SG-SST"]
[]
[null,"FRECUENCIAS Y RESPONSABLES"]
[null,"Frecuencia de Cálculo y Análisis",null,"Mensual","X","Trimestral",null,"Otro"]
[null,null,null,"Semestral",null,"Anual",null,"Cual"]
[null,"Responsable de la medición y análisis Cargo y Dependencia",null,"Profesional Especializado de Acueducto "]
[]
[null,"Elaboró","Subgerencia de planeación",null,null,null,"Fecha",2020]

{"sheet":"IF016","index":20,"n_rows":33,"n_cols":14,"rows_kept":33,"cut":false,"hidden":false,"merged":[[30,1,31,2],[30,3,31,9],[32,2,32,5],[32,7,32,9],[23,1,26,2],[23,7,23,8],[24,7,24,8],[25,7,25,8],[27,1,27,9],[28,1,29,2],[28,7,28,8],[29,7,29,8],[22,1,22,2],[22,3,22,9],[15,1,15,9],[16,1,17,2],[16,3,17,9],[18,1,18,2],[18,3,18,9],[19,1,19,2],[19,3,19,9],[20,1,20,2],[20,3,20,9],[21,1,21,2],[21,4,21,6],[21,8,21,9],[11,1,12,2],[11,3,11,4],[12,3,12,4],[13,1,14,2],[13,3,13,4],[14,3,14,4],[10,1,10,2],[10,3,10,9],[1,1,6,2],[1,3,3,7],[1,8,3,8],[1,9,3,9],[4,3,6,7],[4,8,6,9],[7,1,7,9],[8,1,8,2],[8,3,8,7],[9,1,9,2],[9,3,9,8]]}
[]
[null,null,null,"SERVICIUDAD ESP",null,null,null,null,"Código SPFO-11","Versión 03"]
[]
[]
[null,null,null,"FICHA TECNICA DEL INDICADOR",null,null,null,null,"PAGINA 01"]
[]
[]
[]
[null,"Nombre del índicador",null,"Cumplimiento Metas en Reducción de Pérdidas -  CMPER",null,null,null,null,"Código: ","IF016"]
[null,"Nombre del plan o proceso",null,"CONDUCCIÓN Y  DISTRIBUCIÓN DE AGUA POTABLE"]
[null,"Propósito u objetivo del indicador",null,"Medir el avance obtenido por el prestador, en relación con la reducción de pérdidas técnicas y comerciales de agua en su(s) APS con relación al valor establecido regulatoriamente."]
[null,"Tipo de indicador",null,"Eficiencia",null,null,"Eficacia","X","Efectividad"]
[null,null,null,"Económia",null,null,"Ambiental"]
[null,"Estilo de cálculo",null,"Promedio",null,"X","Último dato"]
[null,null,null,"Suma",null,null,"Suma de componentes"]
[null,"MEDICIÓN DEL INDICADOR",null,null,null,null,null,null,null,null,null,null,null," "]
[null,"Fórmula de cálculo",null,"(Metap / Realp) x 100"]
[]
[null,"Número de variables",null,2]
[null,"Definición variables (variables a medir)",null,"Metap: Meta establecida por el prestador para el estándar de reducción de pérdidas (IPUF) en el año tarifario p evaluado, siguiendo lo establecido en el TÍTULO IX de la Resolución CRA 688 de 2014, o aquella que la modifique, adicione, sustituya o aclare. \nRealp: Índice de pérdidas por usuario facturado del servicio público domiciliario de acueducto del prestador en el año tarifario p evaluado."]
[null,"Unidad de medida",null,"%"]
[null,"Tendencia del indicador",null,"Creciente","X",null,null,"Decreciente"]
[null,"Soporte legal",null,"Resolución CRA 906/2019"]
[null,"Planes y programas a los que le hace seguimiento",null,"PESV",null,"PGR","X","Resolución 315/05"]
[null,null,null,"Programa Aseo",null,"Plan Tarifario",null,"Resolución 151/01"]
[null,null,null,"SG-SST"]
[]
[null,"FRECUENCIAS Y RESPONSABLES"]
[null,"Frecuencia de Cálculo y Análisis",null,"Mensual","X","Trimestral",null,"Otro"]
[null,null,null,"Semestral",null,"Anual",null,"Cual"]
[null,"Responsable de la medición y análisis Cargo y Dependencia",null,"Profesional en control de pérdidas y agua no contabilizada "]
[]
[null,"Elaboró","Subgerencia de planeación",null,null,null,"Fecha",2020]

{"sheet":"IF017","index":21,"n_rows":33,"n_cols":14,"rows_kept":33,"cut":false,"hidden":false,"merged":[[30,1,31,2],[30,3,31,9],[32,2,32,5],[32,7,32,9],[23,1,26,2],[23,7,23,8],[24,7,24,8],[25,7,25,8],[27,1,27,9],[28,1,29,2],[28,7,28,8],[29,7,29,8],[22,1,22,2],[22,3,22,9],[15,1,15,9],[16,1,17,2],[16,3,17,9],[18,1,18,2],[18,3,18,9],[19,1,19,2],[19,3,19,9],[20,1,20,2],[20,3,20,9],[21,1,21,2],[21,4,21,6],[21,8,21,9],[11,1,12,2],[11,3,11,4],[12,3,12,4],[13,1,14,2],[13,3,13,4],[14,3,14,4],[10,1,10,2],[10,3,10,9],[1,1,6,2],[1,3,3,7],[1,8,3,8],[1,9,3,9],[4,3,6,7],[4,8,6,9],[7,1,7,9],[8,1,8,2],[8,3,8,7],[9,1,9,2],[9,3,9,8]]}
[]
[null,null,null,"SERVICIUDAD ESP",null,null,null,null,"Código SPFO-11","Versión 03"]
[]
[]
[null,null,null,"FICHA TECNICA DEL INDICADOR",null,null,null,null,"PAGINA 01"]
[]
[]
[]
[null,"Nombre del índicador",null,"IANC",null,null,null,null,"Código: ","IF017"]
[null,"Nombre del plan o proceso",null,"CONDUCCIÓN Y  DISTRIBUCIÓN DE AGUA POTABLE"]
[null,"Propósito u objetivo del indicador",null," "]
[null,"Tipo de indicador",null,"Eficiencia",null,"X","Eficacia",null,"Efectividad"]
[null,null,null,"Económia",null,null,"Ambiental"]
[null,"Estilo de cálculo",null,"Promedio",null,null,"Último dato"]
[null,null,null,"Suma",null,null,"Suma de componentes","X"]
[null,"MEDICIÓN DEL INDICADOR",null,null,null,null,null,null,null,null,null,null,null," "]
[null,"Fórmula de cálculo",null,"M3 comprados-M3 factrados/M3 comprados*100"]
[]
[null,"Número de variables",null,2]
[null,"Definición variables (variables a medir)",null,"Volumen Producido: Volumen de agua ( m3 ) que la entidad introdujo al sistema de distribución durante los últimos doce meses, medida a la salida de tanques de almacenamiento, menos desperdicios por mantenimiento.\nVolumen Facturado: Volumen de agua  que la empresa facturó durante los últimos doce meses.\n"]
[null,"Unidad de medida",null,"%"]
[null,"Tendencia del indicador",null,"Creciente",null,null,null,"Decreciente","X"]
[null,"Soporte legal",null,"Resolución CRA 12/1995"]
[null,"Planes y programas a los que le hace seguimiento",null,"PESV",null,"PGR",null,"Resolución 315/05"]
[null,null,null,"Programa Aseo",null,"Plan Tarifario",null,"Resolución 151/01"]
[null,null,null,"SG-SST","X"]
[]
[null,"FRECUENCIAS Y RESPONSABLES"]
[null,"Frecuencia de Cálculo y Análisis",null,"Mensual","X","Trimestral",null,"Otro"]
[null,null,null,"Semestral",null,"Anual",null,"Cual"]
[null,"Responsable de la medición y análisis Cargo y Dependencia",null,"Profesional agua no contabilizada"]
[]
[null,"Elaboró","Subgerencia de planeación",null,null,null,"Fecha",2020]

{"sheet":"IF018","index":22,"n_rows":33,"n_cols":14,"rows_kept":33,"cut":false,"hidden":false,"merged":[[30,1,31,2],[30,3,31,9],[32,2,32,5],[32,7,32,9],[23,1,26,2],[23,7,23,8],[24,7,24,8],[25,7,25,8],[27,1,27,9],[28,1,29,2],[28,7,28,8],[29,7,29,8],[22,1,22,2],[22,3,22,9],[15,1,15,9],[16,1,17,2],[16,3,17,9],[18,1,18,2],[18,3,18,9],[19,1,19,2],[19,3,19,9],[20,1,20,2],[20,3,20,9],[21,1,21,2],[21,4,21,6],[21,8,21,9],[11,1,12,2],[11,3,11,4],[12,3,12,4],[13,1,14,2],[13,3,13,4],[14,3,14,4],[10,1,10,2],[10,3,10,9],[1,1,6,2],[1,3,3,7],[1,8,3,8],[1,9,3,9],[4,3,6,7],[4,8,6,9],[7,1,7,9],[8,1,8,2],[8,3,8,7],[9,1,9,2],[9,3,9,8]]}
[]
[null,null,null,"SERVICIUDAD ESP",null,null,null,null,"Código SPFO-11","Versión 03"]
[]
[]
[null,null,null,"FICHA TECNICA DEL INDICADOR",null,null,null,null,"PAGINA 01"]
[]
[]
[]
[null,"Nombre del índicador",null,"IANC villa santana",null,null,null,null,"Código: ","IF018"]
[null,"Nombre del plan o proceso",null,"CONDUCCIÓN Y  DISTRIBUCIÓN DE AGUA POTABLE"]
[null,"Propósito u objetivo del indicador",null,"Disminuir las perdidas técnicas que se presentan en la planta "]
[null,"Tipo de indicador",null,"Eficiencia",null,"X","Eficacia",null,"Efectividad"]
[null,null,null,"Económia",null,null,"Ambiental"]
[null,"Estilo de cálculo",null,"Promedio",null,null,"Último dato"]
[null,null,null,"Suma",null,null,"Suma de componentes","X"]
[null,"MEDICIÓN DEL INDICADOR",null,null,null,null,null,null,null,null,null,null,null," "]
[null,"Fórmula de cálculo",null,"(M3 Agua cruda entrante a PTAP Villasantana-M3 agua tratada saliente )/M3 Agua cruda entrante"]
[]
[null,"Número de variables",null,2]
[null,"Definición variables (variables a medir)"]
[null,"Unidad de medida",null,"%"]
[null,"Tendencia del indicador",null,"Creciente",null,null,null,"Decreciente","X"]
[null,"Soporte legal"]
[null,"Planes y programas a los que le hace seguimiento",null,"PESV",null,"PGR",null,"Resolución 315/05"]
[null,null,null,"Programa Aseo",null,"Plan Tarifario",null,"Resolución 151/01"]
[null,null,null,"SG-SST"]
[]
[null,"FRECUENCIAS Y RESPONSABLES"]
[null,"Frecuencia de Cálculo y Análisis",null,"Mensual","X","Trimestral",null,"Otro"]
[null,null,null,"Semestral",null,"Anual",null,"Cual"]
[null,"Responsable de la medición y análisis Cargo y Dependencia",null,"Profesional Jefe de planta Villa Santana"]
[]
[null,"Elaboró","Subgerencia de planeación",null,null,null,"Fecha",2020]

{"sheet":"IF019","index":23,"n_rows":33,"n_cols":14,"rows_kept":33,"cut":false,"hidden":false,"merged":[[30,1,31,2],[30,3,31,9],[32,2,32,5],[32,7,32,9],[23,1,26,2],[23,7,23,8],[24,7,24,8],[25,7,25,8],[27,1,27,9],[28,1,29,2],[28,7,28,8],[29,7,29,8],[22,1,22,2],[22,3,22,9],[15,1,15,9],[16,1,17,2],[16,3,17,9],[18,1,18,2],[18,3,18,9],[19,1,19,2],[19,3,19,9],[20,1,20,2],[20,3,20,9],[21,1,21,2],[21,4,21,6],[21,8,21,9],[11,1,12,2],[11,3,11,4],[12,3,12,4],[13,1,14,2],[13,3,13,4],[14,3,14,4],[10,1,10,2],[10,3,10,9],[1,1,6,2],[1,3,3,7],[1,8,3,8],[1,9,3,9],[4,3,6,7],[4,8,6,9],[7,1,7,9],[8,1,8,2],[8,3,8,7],[9,1,9,2],[9,3,9,8]]}
[]
[null,null,null,"SERVICIUDAD ESP",null,null,null,null,"Código SPFO-11","Versión 03"]
[]
[]
[null,null,null,"FICHA TECNICA DEL INDICADOR",null,null,null,null,"PAGINA 01"]
[]
[]
[]
[null,"Nombre del índicador",null,"IPUF",null,null,null,null,"Código: ","IF019"]
[null,"Nombre del plan o proceso",null,"CONDUCCIÓN Y  DISTRIBUCIÓN DE AGUA POTABLE"]
[null,"Propósito u objetivo del indicador",null,"Medir el volumen de pérdidas de agua facturada por suscriptor"]
[null,"Tipo de indicador",null,"Eficiencia",null,"X","Eficacia",null,"Efectividad"]
[null,null,null,"Económia",null,null,"Ambiental"]
[null,"Estilo de cálculo",null,"Promedio",null,null,"Último dato"]
[null,null,null,"Suma",null,null,"Suma de componentes","X"]
[null,"MEDICIÓN DEL INDICADOR",null,null,null,null,null,null,null,null,null,null,null," "]
[null,"Fórmula de cálculo",null,"Perdidas en M3 mes/Número de suscriptores mes"]
[]
[null,"Número de variables",null,2]
[null,"Definición variables (variables a medir)",null,"Pérdidas en m3: m3 Comprados - m3 facturados. Número de suscriptores mes: Suscriptores comerciales del servicio de acueducto"]
[null,"Unidad de medida",null,"M3/sucriptor"]
[null,"Tendencia del indicador",null,"Creciente",null,null,null,"Decreciente","X"]
[null,"Soporte legal",null,"Resolución CRA 688/2014 y 735/2015"]
[null,"Planes y programas a los que le hace seguimiento",null,"PESV",null,"PGR",null,"Resolución 315/05",null,"X"]
[null,null,null,"Programa Aseo",null,"Plan Tarifario",null,"Resolución 151/01"]
[null,null,null,"SG-SST"]
[]
[null,"FRECUENCIAS Y RESPONSABLES"]
[null,"Frecuencia de Cálculo y Análisis",null,"Mensual","X","Trimestral",null,"Otro"]
[null,null,null,"Semestral",null,"Anual",null,"Cual"]
[null,"Responsable de la medición y análisis Cargo y Dependencia",null,"Profesional agua no contabilizada"]
[]
[null,"Elaboró","Subgerencia de planeación",null,null,null,"Fecha",2020]

{"sheet":"IF020","index":24,"n_rows":33,"n_cols":14,"rows_kept":33,"cut":false,"hidden":false,"merged":[[30,1,31,2],[30,3,31,9],[32,2,32,5],[32,7,32,9],[23,1,26,2],[23,7,23,8],[24,7,24,8],[25,7,25,8],[27,1,27,9],[28,1,29,2],[28,7,28,8],[29,7,29,8],[22,1,22,2],[22,3,22,9],[15,1,15,9],[16,1,17,2],[16,3,17,9],[18,1,18,2],[18,3,18,9],[19,1,19,2],[19,3,19,9],[20,1,20,2],[20,3,20,9],[21,1,21,2],[21,4,21,6],[21,8,21,9],[11,1,12,2],[11,3,11,4],[12,3,12,4],[13,1,14,2],[13,3,13,4],[14,3,14,4],[10,1,10,2],[10,3,10,9],[1,1,6,2],[1,3,3,7],[1,8,3,8],[1,9,3,9],[4,3,6,7],[4,8,6,9],[7,1,7,9],[8,1,8,2],[8,3,8,7],[9,1,9,2],[9,3,9,8]]}
[]
[null,null,null,"SERVICIUDAD ESP",null,null,null,null,"Código SPFO-11","Versión 03"]
[]
[]
[null,null,null,"FICHA TECNICA DEL INDICADOR",null,null,null,null,"PAGINA 01"]
[]
[]
[]
[null,"Nombre del índicador",null,"ISUF ",null,null,null,null,"Código: ","IF020"]
[null,"Nombre del plan o proceso",null,"CONDUCCIÓN Y  DISTRIBUCIÓN DE AGUA POTABLE"]
[null,"Propósito u objetivo del indicador",null,"Representar el volumen de agua suministrada por suscriptor"]
[null,"Tipo de indicador",null,"Eficiencia",null,"X","Eficacia",null,"Efectividad"]
[null,null,null,"Económia",null,null,"Ambiental"]
[null,"Estilo de cálculo",null,"Promedio",null,null,"Último dato"]
[null,null,null,"Suma",null,null,"Suma de componentes","X"]
[null,"MEDICIÓN DEL INDICADOR",null,null,null,null,null,null,null,null,null,null,null," "]
[null,"Fórmula de cálculo",null,"Suministro en M3 mes/Número de suscriptores mes"]
[]
[null,"Número de variables",null,2]
[null,"Definición variables (variables a medir)",null,"Suministro en m3: Metros cúbicos comprados de la empresa. Número de suscriptores mes: Suscriptores comerciales del servicio de acueducto.\nSuscriptores totales de acueducto del mes"]
[null,"Unidad de medida",null,"M3/sucriptor"]
[null,"Tendencia del indicador",null,"Creciente",null,null,null,"Decreciente","X"]
[null,"Soporte legal"]
[null,"Planes y programas a los que le hace seguimiento",null,"PESV",null,"PGR",null,"Resolución 315/05",null,"X"]
[null,null,null,"Programa Aseo",null,"Plan Tarifario",null,"Resolución 151/01"]
[null,null,null,"SG-SST"]
[]
[null,"FRECUENCIAS Y RESPONSABLES"]
[null,"Frecuencia de Cálculo y Análisis",null,"Mensual","X","Trimestral",null,"Otro"]
[null,null,null,"Semestral",null,"Anual",null,"Cual"]
[null,"Responsable de la medición y análisis Cargo y Dependencia",null,"Profesional agua no contabilizada"]
[]
[null,"Elaboró","Subgerencia de planeación",null,null,null,"Fecha",2020]

{"sheet":"IF021","index":25,"n_rows":33,"n_cols":14,"rows_kept":33,"cut":false,"hidden":false,"merged":[[30,1,31,2],[30,3,31,9],[32,2,32,5],[32,7,32,9],[23,1,26,2],[23,7,23,8],[24,7,24,8],[25,7,25,8],[27,1,27,9],[28,1,29,2],[28,7,28,8],[29,7,29,8],[22,1,22,2],[22,3,22,9],[15,1,15,9],[16,1,17,2],[16,3,17,9],[18,1,18,2],[18,3,18,9],[19,1,19,2],[19,3,19,9],[20,1,20,2],[20,3,20,9],[21,1,21,2],[21,4,21,6],[21,8,21,9],[11,1,12,2],[11,3,11,4],[12,3,12,4],[13,1,14,2],[13,3,13,4],[14,3,14,4],[10,1,10,2],[10,3,10,9],[1,1,6,2],[1,3,3,7],[1,8,3,8],[1,9,3,9],[4,3,6,7],[4,8,6,9],[7,1,7,9],[8,1,8,2],[8,3,8,7],[9,1,9,2],[9,3,9,8]]}
[]
[null,null,null,"SERVICIUDAD ESP",null,null,null,null,"Código SPFO-11","Versión 03"]
[]
[]
[null,null,null,"FICHA TECNICA DEL INDICADOR",null,null,null,null,"PAGINA 01"]
[]
[]
[]
[null,"Nombre del índicador",null,"ICUF",null,null,null,null,"Código: ","IF021"]
[null,"Nombre del plan o proceso",null,"CONDUCCIÓN Y  DISTRIBUCIÓN DE AGUA POTABLE"]
[null,"Propósito u objetivo del indicador",null,"Representar el volumen de agua facturada por suscriptor"]
[null,"Tipo de indicador",null,"Eficiencia",null,"X","Eficacia",null,"Efectividad"]
[null,null,null,"Económia",null,null,"Ambiental"]
[null,"Estilo de cálculo",null,"Promedio",null,null,"Último dato"]
[null,null,null,"Suma",null,null,"Suma de componentes","X"]
[null,"MEDICIÓN DEL INDICADOR",null,null,null,null,null,null,null,null,null,null,null," "]
[null,"Fórmula de cálculo",null,"Facturación en M3 mes/Número de suscriptores mes"]
[]
[null,"Número de variables",null,2]
[null,"Definición variables (variables a medir)",null,"Valor Facturado en metros cúbicos de acueducto del mes\nSuscriptores totales de acueducto del mes"]
[null,"Unidad de medida",null,"M3/sucriptor"]
[null,"Tendencia del indicador",null,"Creciente","X",null,null,"Decreciente"]
[null,"Soporte legal",null,"Resolución CRA 688/2014 y 735/2015"]
[null,"Planes y programas a los que le hace seguimiento",null,"PESV",null,"PGR",null,"Resolución 315/05",null,"X"]
[null,null,null,"Programa Aseo",null,"Plan Tarifario",null,"Resolución 151/01"]
[null,null,null,"SG-SST"]
[]
[null,"FRECUENCIAS Y RESPONSABLES"]
[null,"Frecuencia de Cálculo y Análisis",null,"Mensual","X","Trimestral",null,"Otro"]
[null,null,null,"Semestral",null,"Anual",null,"Cual"]
[null,"Responsable de la medición y análisis Cargo y Dependencia",null,"Profesional especializado control y seguimiento"]
[]
[null,"Elaboró","Subgerencia de planeación",null,null,null,"Fecha",2020]

{"sheet":"IF022","index":26,"n_rows":33,"n_cols":14,"rows_kept":33,"cut":false,"hidden":false,"merged":[[30,1,31,2],[30,3,31,9],[32,2,32,5],[32,7,32,9],[23,1,26,2],[23,7,23,8],[24,7,24,8],[25,7,25,8],[27,1,27,9],[28,1,29,2],[28,7,28,8],[29,7,29,8],[22,1,22,2],[22,3,22,9],[15,1,15,9],[16,1,17,2],[16,3,17,9],[18,1,18,2],[18,3,18,9],[19,1,19,2],[19,3,19,9],[20,1,20,2],[20,3,20,9],[21,1,21,2],[21,4,21,6],[21,8,21,9],[11,1,12,2],[11,3,11,4],[12,3,12,4],[13,1,14,2],[13,3,13,4],[14,3,14,4],[10,1,10,2],[10,3,10,9],[1,1,6,2],[1,3,3,7],[1,8,3,8],[1,9,3,9],[4,3,6,7],[4,8,6,9],[7,1,7,9],[8,1,8,2],[8,3,8,7],[9,1,9,2],[9,3,9,8]]}
[]
[null,null,null,"SERVICIUDAD ESP",null,null,null,null,"Código SPFO-11","Versión 03"]
[]
[]
[null,null,null,"FICHA TECNICA DEL INDICADOR",null,null,null,null,"PAGINA 01"]
[]
[]
[]
[null,"Nombre del índicador",null,"Continuidad acueducto (ICTAC)",null,null,null,null,"Código: ","IF022"]
[null,"Nombre del plan o proceso",null,"CONDUCCIÓN Y  DISTRIBUCIÓN DE AGUA POTABLE"]
[null,"Propósito u objetivo del indicador",null,"Medir y registrar en terminos de porcentaje y horas al día la continuidad con la cual es entregado el servicio a los usuarios"]
[null,"Tipo de indicador",null,"Eficiencia",null,null,"Eficacia","X","Efectividad"]
[null,null,null,"Económia",null,null,"Ambiental"]
[null,"Estilo de cálculo",null,"Promedio",null,"X","Último dato"]
[null,null,null,"Suma",null,null,"Suma de componentes"]
[null,"MEDICIÓN DEL INDICADOR",null,null,null,null,null,null,null,null,null,null,null," "]
[null,"Fórmula de cálculo",null,"1-(Imm+Inn)"]
[]
[null,"Número de variables",null,2]
[null,"Definición variables (variables a medir)",null,"Registro sobre tiempo de suspensión del servicio y registro de suscriptores donde: \nlmn: lpm-lpmmax Si lpm>=lpmmax\nlmn: 0 Si lpm<lpmmax\nlpmmax: máximo permisible para las suspensiones programas\nlp=∑30-i=1 ∑ n-j=1  lm*Clm/30*24*Clt\nlpm: promedio ponderado de suspensiones avisadas"]
[null,"Unidad de medida",null,"%"]
[null,"Tendencia del indicador",null,"Creciente","X",null,null,"Decreciente"]
[null,"Soporte legal",null,"Resolución CRA 315/2005"]
[null,"Planes y programas a los que le hace seguimiento",null,"PESV",null,"PGR",null,"Resolución 315/05"]
[null,null,null,"Programa Aseo",null,"Plan Tarifario",null,"Resolución 151/01"]
[null,null,null,"SG-SST","X"]
[]
[null,"FRECUENCIAS Y RESPONSABLES"]
[null,"Frecuencia de Cálculo y Análisis",null,"Mensual","X","Trimestral",null,"Otro"]
[null,null,null,"Semestral",null,"Anual",null,"Cual"]
[null,"Responsable de la medición y análisis Cargo y Dependencia",null,"Profesional especializado acueducto"]
[]
[null,"Elaboró","Subgerencia de planeación",null,null,null,"Fecha",2020]

{"sheet":"IF023","index":27,"n_rows":33,"n_cols":14,"rows_kept":33,"cut":false,"hidden":false,"merged":[[30,1,31,2],[30,3,31,9],[32,2,32,5],[32,7,32,9],[23,1,26,2],[23,7,23,8],[24,7,24,8],[25,7,25,8],[27,1,27,9],[28,1,29,2],[28,7,28,8],[29,7,29,8],[22,1,22,2],[22,3,22,9],[15,1,15,9],[16,1,17,2],[16,3,17,9],[18,1,18,2],[18,3,18,9],[19,1,19,2],[19,3,19,9],[20,1,20,2],[20,3,20,9],[21,1,21,2],[21,4,21,6],[21,8,21,9],[11,1,12,2],[11,3,11,4],[12,3,12,4],[13,1,14,2],[13,3,13,4],[14,3,14,4],[10,1,10,2],[10,3,10,9],[1,1,6,2],[1,3,3,7],[1,8,3,8],[1,9,3,9],[4,3,6,7],[4,8,6,9],[7,1,7,9],[8,1,8,2],[8,3,8,7],[9,1,9,2],[9,3,9,8]]}
[]
[null,null,null,"SERVICIUDAD ESP",null,null,null,null,"Código SPFO-11","Versión 03"]
[]
[]
[null,null,null,"FICHA TECNICA DEL INDICADOR",null,null,null,null,"PAGINA 01"]
[]
[]
[]
[null,"Nombre del índicador",null,"Indicador de continuidad (ICON)",null,null,null,null,"Código: ","IF023"]
[null,"Nombre del plan o proceso",null,"CONDUCCIÓN Y  DISTRIBUCIÓN DE AGUA POTABLE"]
[null,"Propósito u objetivo del indicador",null,"Reflejar la continuidad en la prestación del servicio público domiciliario de acueducto, con base en los días de suspensión del servicio "]
[null,"Tipo de indicador",null,"Eficiencia",null,null,"Eficacia","X","Efectividad"]
[null,null,null,"Económia",null,null,"Ambiental"]
[null,"Estilo de cálculo",null,"Promedio",null,null,"Último dato","X"]
[null,null,null,"Suma",null,null,"Suma de componentes"]
[null,"MEDICIÓN DEL INDICADOR",null,null,null,null,null,null,null,null,null,null,null," "]
[null,"Fórmula de cálculo",null,"1-((Σ Hi*Si)/(S*(Σ dci -(m+dfm)))"]
[]
[null,"Número de variables",null,3]
[null,"Definición variables (variables a medir)",null,"Hi: Tiempo de discontinuidad del servicio. Si: Suscriptores afectados por la discontinuidad. S: Suscriptores totales de acueducto. Dci: Días calendario del mes. M: número del mes actual. Dfm: Discontinuidad máxima permitida mensual. Actualmente ésta variable toma el valor de 0,5."]
[null,"Unidad de medida",null,"%"]
[null,"Tendencia del indicador",null,"Creciente","X",null,null,"Decreciente"]
[null,"Soporte legal",null,"Resolución CRA 688/2014 y 735/2015"]
[null,"Planes y programas a los que le hace seguimiento",null,"PESV",null,"PGR",null,"Resolución 315/05",null,"X"]
[null,null,null,"Programa Aseo",null,"Plan Tarifario",null,"Resolución 151/01"]
[null,null,null,"SG-SST"]
[]
[null,"FRECUENCIAS Y RESPONSABLES"]
[null,"Frecuencia de Cálculo y Análisis",null,"Mensual","X","Trimestral",null,"Otro"]
[null,null,null,"Semestral",null,"Anual",null,"Cual"]
[null,"Responsable de la medición y análisis Cargo y Dependencia",null,"Profesional especializado acueducto"]
[]
[null,"Elaboró","Subgerencia de planeación",null,null,null,"Fecha",2020]

{"sheet":"IF024","index":28,"n_rows":33,"n_cols":14,"rows_kept":33,"cut":false,"hidden":false,"merged":[[30,1,31,2],[30,3,31,9],[32,2,32,5],[32,7,32,9],[23,1,26,2],[23,7,23,8],[24,7,24,8],[25,7,25,8],[27,1,27,9],[28,1,29,2],[28,7,28,8],[29,7,29,8],[22,1,22,2],[22,3,22,9],[15,1,15,9],[16,1,17,2],[16,3,17,9],[18,1,18,2],[18,3,18,9],[19,1,19,2],[19,3,19,9],[20,1,20,2],[20,3,20,9],[21,1,21,2],[21,4,21,6],[21,8,21,9],[11,1,12,2],[11,3,11,4],[12,3,12,4],[13,1,14,2],[13,3,13,4],[14,3,14,4],[10,1,10,2],[10,3,10,9],[1,1,6,2],[1,3,3,7],[1,8,3,8],[1,9,3,9],[4,3,6,7],[4,8,6,9],[7,1,7,9],[8,1,8,2],[8,3,8,7],[9,1,9,2],[9,3,9,8]]}
[]
[null,null,null,"SERVICIUDAD ESP",null,null,null,null,"Código SPFO-11","Versión 03"]
[]
[]
[null,null,null,"FICHA TECNICA DEL INDICADOR",null,null,null,null,"PAGINA 01"]
[]
[]
[]
[null,"Nombre del índicador",null,"Cobertura real de mercado (ICBNAC)",null,null,null,null,"Código: ","IF024"]
[null,"Nombre del plan o proceso",null,"CONDUCCIÓN Y  DISTRIBUCIÓN DE AGUA POTABLE"]
[null,"Propósito u objetivo del indicador",null,"Determinar el índice real de cobertura de usuarios del servicio de acueducto en el municipio"]
[null,"Tipo de indicador",null,"Eficiencia",null,null,"Eficacia",null,"Efectividad","X"]
[null,null,null,"Económia",null,null,"Ambiental"]
[null,"Estilo de cálculo",null,"Promedio",null,null,"Último dato","X"]
[null,null,null,"Suma",null,null,"Suma de componentes"]
[null,"MEDICIÓN DEL INDICADOR",null,null,null,null,null,null,null,null,null,null,null," "]
[null,"Fórmula de cálculo",null,"(SEACi/Di) No. Suscriptores Serviciudad /Dato SUI Energia  No. Suscriptores"]
[]
[null,"Número de variables",null,2]
[null,"Definición variables (variables a medir)",null,"SEACi: Suscriptores acueducto. Di: Suscriptores energía SUI."]
[null,"Unidad de medida",null,"%"]
[null,"Tendencia del indicador",null,"Creciente","X",null,null,"Decreciente"]
[null,"Soporte legal",null,"Resolución CRA 688/2014 y 735/2015, Resolución 315/05"]
[null,"Planes y programas a los que le hace seguimiento",null,"PESV",null,"PGR",null,"Resolución 315/05",null,"X"]
[null,null,null,"Programa Aseo",null,"Plan Tarifario",null,"Resolución 151/01"]
[null,null,null,"SG-SST","X"]
[]
[null,"FRECUENCIAS Y RESPONSABLES"]
[null,"Frecuencia de Cálculo y Análisis",null,"Mensual","X","Trimestral",null,"Otro"]
[null,null,null,"Semestral",null,"Anual",null,"Cual"]
[null,"Responsable de la medición y análisis Cargo y Dependencia",null,"Auxiliar administrativo comercial"]
[]
[null,"Elaboró","Subgerencia de planeación",null,null,null,"Fecha",2020]

{"sheet":"IF025","index":29,"n_rows":33,"n_cols":14,"rows_kept":33,"cut":false,"hidden":false,"merged":[[30,1,31,2],[30,3,31,9],[32,2,32,5],[32,7,32,9],[23,1,26,2],[23,7,23,8],[24,7,24,8],[25,7,25,8],[27,1,27,9],[28,1,29,2],[28,7,28,8],[29,7,29,8],[22,1,22,2],[22,3,22,9],[15,1,15,9],[16,1,17,2],[16,3,17,9],[18,1,18,2],[18,3,18,9],[19,1,19,2],[19,3,19,9],[20,1,20,2],[20,3,20,9],[21,1,21,2],[21,4,21,6],[21,8,21,9],[11,1,12,2],[11,3,11,4],[12,3,12,4],[13,1,14,2],[13,3,13,4],[14,3,14,4],[10,1,10,2],[10,3,10,9],[1,1,6,2],[1,3,3,7],[1,8,3,8],[1,9,3,9],[4,3,6,7],[4,8,6,9],[7,1,7,9],[8,1,8,2],[8,3,8,7],[9,1,9,2],[9,3,9,8]]}
[]
[null,null,null,"SERVICIUDAD ESP",null,null,null,null,"Código SPFO-11","Versión 03"]
[]
[]
[null,null,null,"FICHA TECNICA DEL INDICADOR",null,null,null,null,"PAGINA 01"]
[]
[]
[]
[null,"Nombre del índicador",null,"Ejecución de las inversiones Alcantarillado",null,null,null,null,"Código: ","IF025"]
[null,"Nombre del plan o proceso",null,"RECOLECCIÓN, TRANSPORTE Y DISPOSICIÓN FINAL DE AGUAS RESIDUALES"]
[null,"Propósito u objetivo del indicador",null,"Medir el nivel de cumplimiento de la  ejecución de los recursos presupuestales"]
[null,"Tipo de indicador",null,"Eficiencia",null,null,"Eficacia","X","Efectividad"]
[null,null,null,"Económia",null,null,"Ambiental"]
[null,"Estilo de cálculo",null,"Promedio",null,null,"Último dato","X"]
[null,null,null,"Suma",null,null,"Suma de componentes"]
[null,"MEDICIÓN DEL INDICADOR",null,null,null,null,null,null,null,null,null,null,null," "]
[null,"Fórmula de cálculo",null,"Inversión realizada Alcantarillado/Inversión presupuestada Alcantarillado"]
[]
[null,"Número de variables",null,2]
[null,"Definición variables (variables a medir)",null,"Inversión Realizada:  Valor en pesos corrientes de los desembolsos realizados por la entidad durante un período de análisis, con cargo a recursos generados por la propia empresa y a otras fuentes de financiación, para la realización del plan de inversiones.\nInversión Presupuestada: Valor  en pesos corrientes de la inversión prevista a realizar por  la entidad, durante ese mismo  período, según  el  plan de inversiones."]
[null,"Unidad de medida",null,"%"]
[null,"Tendencia del indicador",null,"Creciente","X",null,null,"Decreciente"]
[null,"Soporte legal",null,"Resolución CRA 12/1995"]
[null,"Planes y programas a los que le hace seguimiento",null,"PESV",null,"PGR",null,"Resolución 315/05"]
[null,null,null,"Programa Aseo",null,"Plan Tarifario",null,"Resolución 151/01"]
[null,null,null,"SG-SST","X"]
[]
[null,"FRECUENCIAS Y RESPONSABLES"]
[null,"Frecuencia de Cálculo y Análisis",null,"Mensual","X","Trimestral",null,"Otro"]
[null,null,null,"Semestral",null,"Anual",null,"Cual"]
[null,"Responsable de la medición y análisis Cargo y Dependencia",null,"Profesional presupuesto"]
[]
[null,"Elaboró","Subgerencia de planeación",null,null,null,"Fecha",2020]

{"sheet":"IF026","index":30,"n_rows":33,"n_cols":14,"rows_kept":33,"cut":false,"hidden":false,"merged":[[30,1,31,2],[30,3,31,9],[32,2,32,5],[32,7,32,9],[23,1,26,2],[23,7,23,8],[24,7,24,8],[25,7,25,8],[27,1,27,9],[28,1,29,2],[28,7,28,8],[29,7,29,8],[22,1,22,2],[22,3,22,9],[15,1,15,9],[16,1,17,2],[16,3,17,9],[18,1,18,2],[18,3,18,9],[19,1,19,2],[19,3,19,9],[20,1,20,2],[20,3,20,9],[21,1,21,2],[21,4,21,6],[21,8,21,9],[11,1,12,2],[11,3,11,4],[12,3,12,4],[13,1,14,2],[13,3,13,4],[14,3,14,4],[10,1,10,2],[10,3,10,9],[1,1,6,2],[1,3,3,7],[1,8,3,8],[1,9,3,9],[4,3,6,7],[4,8,6,9],[7,1,7,9],[8,1,8,2],[8,3,8,7],[9,1,9,2],[9,3,9,8]]}
[]
[null,null,null,"SERVICIUDAD ESP",null,null,null,null,"Código SPFO-11","Versión 03"]
[]
[]
[null,null,null,"FICHA TECNICA DEL INDICADOR",null,null,null,null,"PAGINA 01"]
[]
[]
[]
[null,"Nombre del índicador",null,"Indice de Inversiones Acumuladas de Alcantarillado — IIAALC",null,null,null,null,"Código: ","IF026"]
[null,"Nombre del plan o proceso",null,"RECOLECCIÓN, TRANSPORTE Y DISPOSICIÓN FINAL DE AGUAS RESIDUALES"]
[null,"Propósito u objetivo del indicador",null,"Determina el porcentaje acumulado del valor de las inversiones ejecutadas frente al valor de las inversiones proyectadas"]
[null,"Tipo de indicador",null,"Eficiencia",null,null,"Eficacia","X","Efectividad"]
[null,null,null,"Económia",null,"X","Ambiental"]
[null,"Estilo de cálculo",null,"Promedio",null,"X","Último dato"]
[null,null,null,"Suma",null,null,"Suma de componentes"]
[null,"MEDICIÓN DEL INDICADOR",null,null,null,null,null,null,null,null,null,null,null," "]
[null,"Fórmula de cálculo",null,"(∑aa=1VPIejecp  / ∑aa=1VPIproyp) x 100       "]
[]
[null,"Número de variables",null,2]
[null,"Definición variables (variables a medir)",null,"VPejecp: Valor presente de las inversiones ejecutadas del plan de inversiones del servicio publico domiciliario de alcantarillado en el período de evaluación p (expresado en pesos del año base). Las cuales corresponden a las erogaciones realizadas por el prestador sin discriminación del avance del proyecto y/o inversión, ya sea que la misma se encuentre \"en curso\" o \"financiada\".\nVPIproyp: El valor presente (expresado en pesos del año base) de las inversiones proyectadas del plan de inversiones del servicio publico domiciliario de alcantarillado desde en el período de evaluación. "]
[null,"Unidad de medida",null,"%"]
[null,"Tendencia del indicador",null,"Creciente","X",null,null,"Decreciente"]
[null,"Soporte legal",null,"Resolución CRA 906/2019"]
[null,"Planes y programas a los que le hace seguimiento",null,"PESV",null,"PGR","X","Resolución 315/05"]
[null,null,null,"Programa Aseo",null,"Plan Tarifario",null,"Resolución 151/01"]
[null,null,null,"SG-SST"]
[]
[null,"FRECUENCIAS Y RESPONSABLES"]
[null,"Frecuencia de Cálculo y Análisis",null,"Mensual",null,"Trimestral",null,"Otro"]
[null,null,null,"Semestral","X","Anual",null,"Cual"]
[null,"Responsable de la medición y análisis Cargo y Dependencia",null,"Profesional en Gestión Técnica de Proyectos "]
[]
[null,"Elaboró","Subgerencia de planeación",null,null,null,"Fecha",2020]

{"sheet":"IF027","index":31,"n_rows":33,"n_cols":14,"rows_kept":33,"cut":false,"hidden":false,"merged":[[30,1,31,2],[30,3,31,9],[32,2,32,5],[32,7,32,9],[23,1,26,2],[23,7,23,8],[24,7,24,8],[25,7,25,8],[27,1,27,9],[28,1,29,2],[28,7,28,8],[29,7,29,8],[22,1,22,2],[22,3,22,9],[15,1,15,9],[16,1,17,2],[16,3,17,9],[18,1,18,2],[18,3,18,9],[19,1,19,2],[19,3,19,9],[20,1,20,2],[20,3,20,9],[21,1,21,2],[21,4,21,6],[21,8,21,9],[11,1,12,2],[11,3,11,4],[12,3,12,4],[13,1,14,2],[13,3,13,4],[14,3,14,4],[10,1,10,2],[10,3,10,9],[1,1,6,2],[1,3,3,7],[1,8,3,8],[1,9,3,9],[4,3,6,7],[4,8,6,9],[7,1,7,9],[8,1,8,2],[8,3,8,7],[9,1,9,2],[9,3,9,8]]}
[]
[null,null,null,"SERVICIUDAD ESP",null,null,null,null,"Código SPFO-11","Versión 03"]
[]
[]
[null,null,null,"FICHA TECNICA DEL INDICADOR",null,null,null,null,"PAGINA 01"]
[]
[]
[]
[null,"Nombre del índicador",null,"Indice de Ejecución Anual de Inversiones de Alcantarillado — IEAIAL",null,null,null,null,"Código: ","IF027"]
[null,"Nombre del plan o proceso",null,"RECOLECCIÓN, TRANSPORTE Y DISPOSICIÓN FINAL DE AGUAS RESIDUALES"]
[null,"Propósito u objetivo del indicador",null,"Determinar el porcentaje de cumplimiento anual de las inversiones ejecutadas con respecto a las inversines proyectadas, en el plan de inversiones "]
[null,"Tipo de indicador",null,"Eficiencia",null,null,"Eficacia","X","Efectividad"]
[null,null,null,"Económia",null,"X","Ambiental"]
[null,"Estilo de cálculo",null,"Promedio",null,"X","Último dato"]
[null,null,null,"Suma",null,null,"Suma de componentes"]
[null,"MEDICIÓN DEL INDICADOR",null,null,null,null,null,null,null,null,null,null,null," "]
[null,"Fórmula de cálculo",null,"(∑aa=1(VEPa x PAa) / ∑aa=1VPa) x 100 "]
[]
[null,"Número de variables",null,3]
[null,"Definición variables (variables a medir)",null,"VEPa: Valor (en pesos corrientes) del activo y/o proyecto \"a\" ejecutado establecido dentro del plan de inversiones o POIR del prestador para el servicio público domiciliario de Alcantarillado. Los cuales corresponderán a la erogaciones realizadas por el prestador, ya sea que la misma se encuentre \"en curso\" o \"financiada\".\nPAa: Porcentaje de avance físico del activo y/o proyecto \"a\" al cierre del periodo de evaluación, el cual será definido por el prestador entre 0% y el 100%.\nVPa: Valor (en pesos corrientes) de los proyectos y/o activos \"a\" establecidos en el plan de  Inversiones del prestador para el servicio público domiciliario de acueducto. Lo anterior, debe corresponder al período tarifario que finaliza en el período de evaluación del indicador."]
[null,"Unidad de medida",null,"%"]
[null,"Tendencia del indicador",null,"Creciente","X",null,null,"Decreciente"]
[null,"Soporte legal",null,"Resolución CRA 906/2019"]
[null,"Planes y programas a los que le hace seguimiento",null,"PESV",null,"PGR","X","Resolución 315/05"]
[null,null,null,"Programa Aseo",null,"Plan Tarifario",null,"Resolución 151/01"]
[null,null,null,"SG-SST"]
[]
[null,"FRECUENCIAS Y RESPONSABLES"]
[null,"Frecuencia de Cálculo y Análisis",null,"Mensual",null,"Trimestral",null,"Otro"]
[null,null,null,"Semestral","X","Anual",null,"Cual"]
[null,"Responsable de la medición y análisis Cargo y Dependencia",null,"Profesional en Gestión Técnica de Proyectos "]
[]
[null,"Elaboró","Subgerencia de planeación",null,null,null,"Fecha",2020]

{"sheet":"IF028","index":32,"n_rows":33,"n_cols":14,"rows_kept":33,"cut":false,"hidden":false,"merged":[[30,1,31,2],[30,3,31,9],[32,2,32,5],[32,7,32,9],[23,1,26,2],[23,7,23,8],[24,7,24,8],[25,7,25,8],[27,1,27,9],[28,1,29,2],[28,7,28,8],[29,7,29,8],[22,1,22,2],[22,3,22,9],[15,1,15,9],[16,1,17,2],[16,3,17,9],[18,1,18,2],[18,3,18,9],[19,1,19,2],[19,3,19,9],[20,1,20,2],[20,3,20,9],[21,1,21,2],[21,4,21,6],[21,8,21,9],[11,1,12,2],[11,3,11,4],[12,3,12,4],[13,1,14,2],[13,3,13,4],[14,3,14,4],[10,1,10,2],[10,3,10,9],[1,1,6,2],[1,3,3,7],[1,8,3,8],[1,9,3,9],[4,3,6,7],[4,8,6,9],[7,1,7,9],[8,1,8,2],[8,3,8,7],[9,1,9,2],[9,3,9,8]]}
[]
[null,null,null,"SERVICIUDAD ESP",null,null,null,null,"Código SPFO-11","Versión 03"]
[]
[]
[null,null,null,"FICHA TECNICA DEL INDICADOR",null,null,null,null,"PAGINA 01"]
[]
[]
[]
[null,"Nombre del índicador",null,"Indicador de Plan de Emergencias y Contingencias para Alcantarillado — PECAL ",null,null,null,null,"Código: ","IF028"]
[null,"Nombre del plan o proceso",null,"RECOLECCIÓN, TRANSPORTE Y DISPOSICIÓN FINAL DE AGUAS RESIDUALES"]
[null,"Propósito u objetivo del indicador",null,"Verificar la planificación de las acciones que deberá poner en marcha el prestador del servicio público domiciliario de Alcantarillado en caso de emergencia, y los planes de contingencia establecidos por el prestador para recuperar la normalidad de la prestación del servicio en el menor tiempo posible"]
[null,"Tipo de indicador",null,"Eficiencia",null,null,"Eficacia","X","Efectividad"]
[null,null,null,"Económia",null,null,"Ambiental"]
[null,"Estilo de cálculo",null,"Promedio",null,"X","Último dato"]
[null,null,null,"Suma",null,null,"Suma de componentes"]
[null,"MEDICIÓN DEL INDICADOR",null,null,null,null,null,null,null,null,null,null,null," "]
[null,"Fórmula de cálculo",null,"PECAL  (CRA 906/2019)"]
[]
[null,"Número de variables",null,1]
[null,"Definición variables (variables a medir)",null,"Componentes que conforman el PEC.\nDonde, r = (1=  Aseguramiento de infraestructura, \n                     2= Identificación de Amenazas,\n                     3= Registro de eventos,\n                     4= Inventario y  \n                     5= Reporte del PEC en el SUI)."]
[null,"Unidad de medida",null,"%"]
[null,"Tendencia del indicador",null,"Creciente","X",null,null,"Decreciente"]
[null,"Soporte legal",null,"Resolución CRA 906/2019"]
[null,"Planes y programas a los que le hace seguimiento",null,"PESV",null,"PGR","X","Resolución 315/05"]
[null,null,null,"Programa Aseo",null,"Plan Tarifario",null,"Resolución 151/01"]
[null,null,null,"SG-SST"]
[]
[null,"FRECUENCIAS Y RESPONSABLES"]
[null,"Frecuencia de Cálculo y Análisis",null,"Mensual",null,"Trimestral",null,"Otro"]
[null,null,null,"Semestral","X","Anual",null,"Cual"]
[null,"Responsable de la medición y análisis Cargo y Dependencia",null,"Subgerente Técnico y Operativo  - Auxiliar Técnica"]
[]
[null,"Elaboró","Subgerencia de planeación",null,null,null,"Fecha",2020]

{"sheet":"IF029","index":33,"n_rows":33,"n_cols":14,"rows_kept":33,"cut":false,"hidden":false,"merged":[[30,1,31,2],[30,3,31,9],[32,2,32,5],[32,7,32,9],[23,1,26,2],[23,7,23,8],[24,7,24,8],[25,7,25,8],[27,1,27,9],[28,1,29,2],[28,7,28,8],[29,7,29,8],[22,1,22,2],[22,3,22,9],[15,1,15,9],[16,1,17,2],[16,3,17,9],[18,1,18,2],[18,3,18,9],[19,1,19,2],[19,3,19,9],[20,1,20,2],[20,3,20,9],[21,1,21,2],[21,4,21,6],[21,8,21,9],[11,1,12,2],[11,3,11,4],[12,3,12,4],[13,1,14,2],[13,3,13,4],[14,3,14,4],[10,1,10,2],[10,3,10,9],[1,1,6,2],[1,3,3,7],[1,8,3,8],[1,9,3,9],[4,3,6,7],[4,8,6,9],[7,1,7,9],[8,1,8,2],[8,3,8,7],[9,1,9,2],[9,3,9,8]]}
[]
[null,null,null,"SERVICIUDAD ESP",null,null,null,null,"Código SPFO-11","Versión 03"]
[]
[]
[null,null,null,"FICHA TECNICA DEL INDICADOR",null,null,null,null,"PAGINA 01"]
[]
[]
[]
[null,"Nombre del índicador",null,"Fallas en la Red de Alcantarillado — FAL",null,null,null,null,"Código: ","IF029"]
[null,"Nombre del plan o proceso",null,"RECOLECCIÓN, TRANSPORTE Y DISPOSICIÓN FINAL DE AGUAS RESIDUALES"]
[null,"Propósito u objetivo del indicador",null,"Medir la proporción de daños en la red de de servicio de alcantarillado frente a la longitud de esta."]
[null,"Tipo de indicador",null,"Eficiencia",null,null,"Eficacia","X","Efectividad"]
[null,null,null,"Económia",null,null,"Ambiental"]
[null,"Estilo de cálculo",null,"Promedio",null,"X","Último dato"]
[null,null,null,"Suma",null,null,"Suma de componentes"]
[null,"MEDICIÓN DEL INDICADOR",null,null,null,null,null,null,null,null,null,null,null," "]
[null,"Fórmula de cálculo",null,"NTFi / LRi "]
[]
[null,"Número de variables",null,2]
[null,"Definición variables (variables a medir)",null,"NTFi: Número total de fallas en la red de alcantarillado. \nLRi: Longitud total de redes del sistema de alcantarillado (Km)."]
[null,"Unidad de medida",null,"Número"]
[null,"Tendencia del indicador",null,"Creciente",null,null,null,"Decreciente","X"]
[null,"Soporte legal",null,"Resolución CRA 906/2019"]
[null,"Planes y programas a los que le hace seguimiento",null,"PESV",null,"PGR","X","Resolución 315/05"]
[null,null,null,"Programa Aseo",null,"Plan Tarifario",null,"Resolución 151/01"]
[null,null,null,"SG-SST"]
[]
[null,"FRECUENCIAS Y RESPONSABLES"]
[null,"Frecuencia de Cálculo y Análisis",null,"Mensual","X","Trimestral",null,"Otro"]
[null,null,null,"Semestral",null,"Anual",null,"Cual"]
[null,"Responsable de la medición y análisis Cargo y Dependencia",null,"Profesional Especializado de Alcantarillado "]
[]
[null,"Elaboró","Subgerencia de planeación",null,null,null,"Fecha",2020]

{"sheet":"IF030","index":34,"n_rows":33,"n_cols":14,"rows_kept":33,"cut":false,"hidden":false,"merged":[[30,1,31,2],[30,3,31,9],[32,2,32,5],[32,7,32,9],[23,1,26,2],[23,7,23,8],[24,7,24,8],[25,7,25,8],[27,1,27,9],[28,1,29,2],[28,7,28,8],[29,7,29,8],[22,1,22,2],[22,3,22,9],[15,1,15,9],[16,1,17,2],[16,3,17,9],[18,1,18,2],[18,3,18,9],[19,1,19,2],[19,3,19,9],[20,1,20,2],[20,3,20,9],[21,1,21,2],[21,4,21,6],[21,8,21,9],[11,1,12,2],[11,3,11,4],[12,3,12,4],[13,1,14,2],[13,3,13,4],[14,3,14,4],[10,1,10,2],[10,3,10,9],[1,1,6,2],[1,3,3,7],[1,8,3,8],[1,9,3,9],[4,3,6,7],[4,8,6,9],[7,1,7,9],[8,1,8,2],[8,3,8,7],[9,1,9,2],[9,3,9,8]]}
[]
[null,null,null,"SERVICIUDAD ESP",null,null,null,null,"Código SPFO-11","Versión 03"]
[]
[]
[null,null,null,"FICHA TECNICA DEL INDICADOR",null,null,null,null,"PAGINA 01"]
[]
[]
[]
[null,"Nombre del índicador",null,"Aprobación del PSMV — AproPSMV",null,null,null,null,"Código: ","IF030"]
[null,"Nombre del plan o proceso",null,"RECOLECCIÓN, TRANSPORTE Y DISPOSICIÓN FINAL DE AGUAS RESIDUALES"]
[null,"Propósito u objetivo del indicador",null,"Verificar que la persona prestadora cuente con un Plan de Saneamiento y Manejo de Vertimientos — PSMV aprobado por la autoridad ambiental o con un Permiso de Vertimientos, acorde con lo establecido en la Resolución 1433 del Ministerio de Ambiente y Desarrollo Sostenible, o aquella que la modifique, adicione, sustituya o aclare, y lo establecido por el artículo 2.2.3.3.4.18 del Decreto 1076 de 2015 del Ministerio del Ministerio de Ambiente y Desarrollo Sostenible, o aquella que lo modifique, adicione, sustituya o aclare."]
[null,"Tipo de indicador",null,"Eficiencia",null,null,"Eficacia","X","Efectividad"]
[null,null,null,"Económia",null,null,"Ambiental","X"]
[null,"Estilo de cálculo",null,"Promedio",null,null,"Último dato","X"]
[null,null,null,"Suma",null,null,"Suma de componentes"]
[null,"MEDICIÓN DEL INDICADOR",null,null,null,null,null,null,null,null,null,null,null," "]
[null,"Fórmula de cálculo",null,"*0 Si el PSMV No se ha Presentado o no reporta información\n*50, Si el PSMV fue Presentado y se espera aprobación\n*100, Si el PMSV se encuentra Aprobado \n*100, Si el prestador cuenta con un Permiso de Vertimiento"]
[]
[null,"Número de variables",null,1]
[null,"Definición variables (variables a medir)"]
[null,"Unidad de medida",null,"Número"]
[null,"Tendencia del indicador",null,"Creciente","X",null,null,"Decreciente"]
[null,"Soporte legal"]
[null,"Planes y programas a los que le hace seguimiento",null,"PESV",null,"PGR","X","Resolución 315/05"]
[null,null,null,"Programa Aseo",null,"Plan Tarifario",null,"Resolución 151/01"]
[null,null,null,"SG-SST"]
[]
[null,"FRECUENCIAS Y RESPONSABLES"]
[null,"Frecuencia de Cálculo y Análisis",null,"Mensual",null,"Trimestral",null,"Otro"]
[null,null,null,"Semestral","X","Anual",null,"Cual"]
[null,"Responsable de la medición y análisis Cargo y Dependencia",null,"Profesional Especializado de Alcantarillado "]
[]
[null,"Elaboró","Subgerencia de planeación",null,null,null,"Fecha",2020]

{"sheet":"IF031","index":35,"n_rows":33,"n_cols":14,"rows_kept":33,"cut":false,"hidden":false,"merged":[[30,1,31,2],[30,3,31,9],[32,2,32,5],[32,7,32,9],[23,1,26,2],[23,7,23,8],[24,7,24,8],[25,7,25,8],[27,1,27,9],[28,1,29,2],[28,7,28,8],[29,7,29,8],[22,1,22,2],[22,3,22,9],[15,1,15,9],[16,1,17,2],[16,3,17,9],[18,1,18,2],[18,3,18,9],[19,1,19,2],[19,3,19,9],[20,1,20,2],[20,3,20,9],[21,1,21,2],[21,4,21,6],[21,8,21,9],[11,1,12,2],[11,3,11,4],[12,3,12,4],[13,1,14,2],[13,3,13,4],[14,3,14,4],[10,1,10,2],[10,3,10,9],[1,1,6,2],[1,3,3,7],[1,8,3,8],[1,9,3,9],[4,3,6,7],[4,8,6,9],[7,1,7,9],[8,1,8,2],[8,3,8,7],[9,1,9,2],[9,3,9,8]]}
[]
[null,null,null,"SERVICIUDAD ESP",null,null,null,null,"Código SPFO-11","Versión 03"]
[]
[]
[null,null,null,"FICHA TECNICA DEL INDICADOR",null,null,null,null,"PAGINA 01"]
[]
[]
[]
[null,"Nombre del índicador",null,"Cumplimiento del PSMV -  CPSMV",null,null,null,null,"Código: ","IF031"]
[null,"Nombre del plan o proceso",null,"RECOLECCIÓN, TRANSPORTE Y DISPOSICIÓN FINAL DE AGUAS RESIDUALES"]
[null,"Propósito u objetivo del indicador",null,"Verificación del cumplimiento del Plan de Saneamiento y Manejo de Vertimientos de la persona prestadora. El cumplimiento del PSMV permite llevar un mejor control y manejo de los vertimientos, su calidad y del daño ambiental ocasionado a los cuerpos de agua receptores"]
[null,"Tipo de indicador",null,"Eficiencia",null,null,"Eficacia","X","Efectividad"]
[null,null,null,"Económia",null,null,"Ambiental","X"]
[null,"Estilo de cálculo",null,"Promedio",null,null,"Último dato","X"]
[null,null,null,"Suma",null,null,"Suma de componentes"]
[null,"MEDICIÓN DEL INDICADOR",null,null,null,null,null,null,null,null,null,null,null," "]
[null,"Fórmula de cálculo",null,"0 , Sino se cumplió lo establecido por el PSMV para el periodo de evaluación \n*100,  Si se cumplió lo establecido por el PSMV para el periodo de evaluación    "]
[]
[null,"Número de variables",null,1]
[null,"Definición variables (variables a medir)"]
[null,"Unidad de medida",null,"Número"]
[null,"Tendencia del indicador",null,"Creciente","X",null,null,"Decreciente"]
[null,"Soporte legal",null,"Resolución CRA 906/2019"]
[null,"Planes y programas a los que le hace seguimiento",null,"PESV",null,"PGR","X","Resolución 315/05"]
[null,null,null,"Programa Aseo",null,"Plan Tarifario",null,"Resolución 151/01"]
[null,null,null,"SG-SST"]
[]
[null,"FRECUENCIAS Y RESPONSABLES"]
[null,"Frecuencia de Cálculo y Análisis",null,"Mensual",null,"Trimestral",null,"Otro"]
[null,null,null,"Semestral","X","Anual",null,"Cual"]
[null,"Responsable de la medición y análisis Cargo y Dependencia",null,"Profesional Especializado de Alcantarillado "]
[]
[null,"Elaboró","Subgerencia de planeación",null,null,null,"Fecha",2020]

{"sheet":"IF032","index":36,"n_rows":33,"n_cols":14,"rows_kept":33,"cut":false,"hidden":false,"merged":[[30,1,31,2],[30,3,31,9],[32,2,32,5],[32,7,32,9],[23,1,26,2],[23,7,23,8],[24,7,24,8],[25,7,25,8],[27,1,27,9],[28,1,29,2],[28,7,28,8],[29,7,29,8],[22,1,22,2],[22,3,22,9],[15,1,15,9],[16,1,17,2],[16,3,17,9],[18,1,18,2],[18,3,18,9],[19,1,19,2],[19,3,19,9],[20,1,20,2],[20,3,20,9],[21,1,21,2],[21,4,21,6],[21,8,21,9],[11,1,12,2],[11,3,11,4],[12,3,12,4],[13,1,14,2],[13,3,13,4],[14,3,14,4],[10,1,10,2],[10,3,10,9],[1,1,6,2],[1,3,3,7],[1,8,3,8],[1,9,3,9],[4,3,6,7],[4,8,6,9],[7,1,7,9],[8,1,8,2],[8,3,8,7],[9,1,9,2],[9,3,9,8]]}
[]
[null,null,null,"SERVICIUDAD ESP",null,null,null,null,"Código SPFO-11","Versión 03"]
[]
[]
[null,null,null,"FICHA TECNICA DEL INDICADOR",null,null,null,null,"PAGINA 01"]
[]
[]
[]
[null,"Nombre del índicador",null,"Continuidad alcantarillado",null,null,null,null,"Código: ","IF032"]
[null,"Nombre del plan o proceso",null,"RECOLECCIÓN, TRANSPORTE Y DISPOSICIÓN FINAL DE AGUAS RESIDUALES"]
[null,"Propósito u objetivo del indicador",null,"Determinar la continuidad en la prestación del servicio de alcantarillado"]
[null,"Tipo de indicador",null,"Eficiencia",null,null,"Eficacia","X","Efectividad"]
[null,null,null,"Económia",null,null,"Ambiental"]
[null,"Estilo de cálculo",null,"Promedio",null,null,"Último dato","X"]
[null,null,null,"Suma",null,null,"Suma de componentes"]
[null,"MEDICIÓN DEL INDICADOR",null,null,null,null,null,null,null,null,null,null,null," "]
[null,"Fórmula de cálculo",null,"Dias de prestación del servicio/Dias totales del año "]
[]
[null,"Número de variables",null,2]
[null,"Definición variables (variables a medir)"]
[null,"Unidad de medida",null,"%"]
[null,"Tendencia del indicador",null,"Creciente","X",null,null,"Decreciente"]
[null,"Soporte legal",null,"Resolución CRA 688/2014 y 735/2015"]
[null,"Planes y programas a los que le hace seguimiento",null,"PESV",null,"PGR",null,"Resolución 315/05",null,"X"]
[null,null,null,"Programa Aseo",null,"Plan Tarifario",null,"Resolución 151/01"]
[null,null,null,"SG-SST"]
[]
[null,"FRECUENCIAS Y RESPONSABLES"]
[null,"Frecuencia de Cálculo y Análisis",null,"Mensual","X","Trimestral",null,"Otro"]
[null,null,null,"Semestral",null,"Anual",null,"Cual"]
[null,"Responsable de la medición y análisis Cargo y Dependencia",null,"Profesional especializado alcantarillado"]
[]
[null,"Elaboró","Subgerencia de planeación",null,null,null,"Fecha",2020]

{"sheet":"IF033","index":37,"n_rows":33,"n_cols":14,"rows_kept":33,"cut":false,"hidden":false,"merged":[[30,1,31,2],[30,3,31,9],[32,2,32,5],[32,7,32,9],[23,1,26,2],[23,7,23,8],[24,7,24,8],[25,7,25,8],[27,1,27,9],[28,1,29,2],[28,7,28,8],[29,7,29,8],[22,1,22,2],[22,3,22,9],[15,1,15,9],[16,1,17,2],[16,3,17,9],[18,1,18,2],[18,3,18,9],[19,1,19,2],[19,3,19,9],[20,1,20,2],[20,3,20,9],[21,1,21,2],[21,4,21,6],[21,8,21,9],[11,1,12,2],[11,3,11,4],[12,3,12,4],[13,1,14,2],[13,3,13,4],[14,3,14,4],[10,1,10,2],[10,3,10,9],[1,1,6,2],[1,3,3,7],[1,8,3,8],[1,9,3,9],[4,3,6,7],[4,8,6,9],[7,1,7,9],[8,1,8,2],[8,3,8,7],[9,1,9,2],[9,3,9,8]]}
[]
[null,null,null,"SERVICIUDAD ESP",null,null,null,null,"Código SPFO-11","Versión 03"]
[]
[]
[null,null,null,"FICHA TECNICA DEL INDICADOR",null,null,null,null,"PAGINA 01"]
[]
[]
[]
[null,"Nombre del índicador",null,"Calidad alcantarillado cumplimiento PSMV",null,null,null,null,"Código: ","IF033"]
[null,"Nombre del plan o proceso",null,"RECOLECCIÓN, TRANSPORTE Y DISPOSICIÓN FINAL DE AGUAS RESIDUALES"]
[null,"Propósito u objetivo del indicador",null,"Determinar la calidad de las obras ejecutadas según el POIR"]
[null,"Tipo de indicador",null,"Eficiencia",null,null,"Eficacia",null,"Efectividad","X"]
[null,null,null,"Económia",null,null,"Ambiental"]
[null,"Estilo de cálculo",null,"Promedio",null,"X","Último dato"]
[null,null,null,"Suma",null,null,"Suma de componentes"]
[null,"MEDICIÓN DEL INDICADOR",null,null,null,null,null,null,null,null,null,null,null," "]
[null,"Fórmula de cálculo",null,"Obras ejecutadas/Obras programadas POIR (mts L)"]
[]
[null,"Número de variables",null,2]
[null,"Definición variables (variables a medir)"]
[null,"Unidad de medida",null,"%"]
[null,"Tendencia del indicador",null,"Creciente","X",null,null,"Decreciente"]
[null,"Soporte legal",null,"Resolución CRA 688/2014 y 735/2015"]
[null,"Planes y programas a los que le hace seguimiento",null,"PESV",null,"PGR",null,"Resolución 315/05",null,"X"]
[null,null,null,"Programa Aseo",null,"Plan Tarifario",null,"Resolución 151/01"]
[null,null,null,"SG-SST"]
[]
[null,"FRECUENCIAS Y RESPONSABLES"]
[null,"Frecuencia de Cálculo y Análisis",null,"Mensual","X","Trimestral",null,"Otro"]
[null,null,null,"Semestral",null,"Anual",null,"Cual"]
[null,"Responsable de la medición y análisis Cargo y Dependencia",null,"Profesional especializado alcantarillado"]
[]
[null,"Elaboró","Subgerencia de planeación",null,null,null,"Fecha",2020]

{"sheet":"IF034","index":38,"n_rows":33,"n_cols":14,"rows_kept":33,"cut":false,"hidden":false,"merged":[[30,1,31,2],[30,3,31,9],[32,2,32,5],[32,7,32,9],[23,1,26,2],[23,7,23,8],[24,7,24,8],[25,7,25,8],[27,1,27,9],[28,1,29,2],[28,7,28,8],[29,7,29,8],[22,1,22,2],[22,3,22,9],[15,1,15,9],[16,1,17,2],[16,3,17,9],[18,1,18,2],[18,3,18,9],[19,1,19,2],[19,3,19,9],[20,1,20,2],[20,3,20,9],[21,1,21,2],[21,4,21,6],[21,8,21,9],[11,1,12,2],[11,3,11,4],[12,3,12,4],[13,1,14,2],[13,3,13,4],[14,3,14,4],[10,1,10,2],[10,3,10,9],[1,1,6,2],[1,3,3,7],[1,8,3,8],[1,9,3,9],[4,3,6,7],[4,8,6,9],[7,1,7,9],[8,1,8,2],[8,3,8,7],[9,1,9,2],[9,3,9,8]]}
[]
[null,null,null,"SERVICIUDAD ESP",null,null,null,null,"Código SPFO-11","Versión 03"]
[]
[]
[null,null,null,"FICHA TECNICA DEL INDICADOR",null,null,null,null,"PAGINA 01"]
[]
[]
[]
[null,"Nombre del índicador",null,"Cobertura nominal Alcantarillado (ICBNAL)",null,null,null,null,"Código: ","IF034"]
[null,"Nombre del plan o proceso",null,"RECOLECCIÓN, TRANSPORTE Y DISPOSICIÓN FINAL DE AGUAS RESIDUALES"]
[null,"Propósito u objetivo del indicador",null,"Determinar el número de la cobertura real de usuarios de alcantarillados en el municipio"]
[null,"Tipo de indicador",null,"Eficiencia",null,null,"Eficacia","X","Efectividad"]
[null,null,null,"Económia",null,null,"Ambiental"]
[null,"Estilo de cálculo",null,"Promedio",null,null,"Último dato","X"]
[null,null,null,"Suma",null,null,"Suma de componentes"]
[null,"MEDICIÓN DEL INDICADOR",null,null,null,null,null,null,null,null,null,null,null," "]
[null,"Fórmula de cálculo",null,"(SEACi/Di) No.Suscriptores alcantarillado / No. Domicilios del Municipio"]
[]
[null,"Número de variables",null,2]
[null,"Definición variables (variables a medir)"]
[null,"Unidad de medida",null,"%"]
[null,"Tendencia del indicador",null,"Creciente","X",null,null,"Decreciente"]
[null,"Soporte legal"]
[null,"Planes y programas a los que le hace seguimiento",null,"PESV",null,"PGR",null,"Resolución 315/05",null,"X"]
[null,null,null,"Programa Aseo",null,"Plan Tarifario",null,"Resolución 151/01"]
[null,null,null,"SG-SST","X"]
[]
[null,"FRECUENCIAS Y RESPONSABLES"]
[null,"Frecuencia de Cálculo y Análisis",null,"Mensual","X","Trimestral",null,"Otro"]
[null,null,null,"Semestral",null,"Anual",null,"Cual"]
[null,"Responsable de la medición y análisis Cargo y Dependencia",null,"Auxiliar administrativo comercial"]
[]
[null,"Elaboró","Subgerencia de planeación",null,null,null,"Fecha",2020]

{"sheet":"IF035","index":39,"n_rows":33,"n_cols":14,"rows_kept":33,"cut":false,"hidden":false,"merged":[[30,1,31,2],[30,3,31,9],[32,2,32,5],[32,7,32,9],[23,1,26,2],[23,7,23,8],[24,7,24,8],[25,7,25,8],[27,1,27,9],[28,1,29,2],[28,7,28,8],[29,7,29,8],[22,1,22,2],[22,3,22,9],[15,1,15,9],[16,1,17,2],[16,3,17,9],[18,1,18,2],[18,3,18,9],[19,1,19,2],[19,3,19,9],[20,1,20,2],[20,3,20,9],[21,1,21,2],[21,4,21,6],[21,8,21,9],[11,1,12,2],[11,3,11,4],[12,3,12,4],[13,1,14,2],[13,3,13,4],[14,3,14,4],[10,1,10,2],[10,3,10,9],[1,1,6,2],[1,3,3,7],[1,8,3,8],[1,9,3,9],[4,3,6,7],[4,8,6,9],[7,1,7,9],[8,1,8,2],[8,3,8,7],[9,1,9,2],[9,3,9,8]]}
[]
[null,null,null,"SERVICIUDAD ESP",null,null,null,null,"Código SPFO-11","Versión 03"]
[]
[]
[null,null,null,"FICHA TECNICA DEL INDICADOR",null,null,null,null,"PAGINA 01"]
[]
[]
[]
[null,"Nombre del índicador",null,"Ejecución de las inversiones Aseo",null,null,null,null,"Código: ","IF035"]
[null,"Nombre del plan o proceso",null,"RECOLECCIÓN, TRANSPORTE Y DISPOSICIÓN FINAL DE RESIDUOS SÓLIDOS ORDINARIOS"]
[null,"Propósito u objetivo del indicador",null,"Medir el nivel de cumplimiento de la  ejecución de los recursos presupuestales"]
[null,"Tipo de indicador",null,"Eficiencia",null,null,"Eficacia","X","Efectividad"]
[null,null,null,"Económia",null,null,"Ambiental"]
[null,"Estilo de cálculo",null,"Promedio",null,null,"Último dato","X"]
[null,null,null,"Suma",null,null,"Suma de componentes"]
[null,"MEDICIÓN DEL INDICADOR",null,null,null,null,null,null,null,null,null,null,null," "]
[null,"Fórmula de cálculo",null,"Inversión realizada Aseo/Inversión presupuestada Aseo"]
[]
[null,"Número de variables",null,2]
[null,"Definición variables (variables a medir)",null,"Inversión Realizada:  Valor en pesos corrientes de los desembolsos realizados por la entidad durante un período de análisis, con cargo a recursos generados por la propia empresa y a otras fuentes de financiación, para la realización del plan de inversiones.\nInversión Presupuestada: Valor  en pesos corrientes de la inversión prevista a realizar por  la entidad, durante ese mismo  período, según  el  plan de inversiones."]
[null,"Unidad de medida",null,"%"]
[null,"Tendencia del indicador",null,"Creciente","X",null,null,"Decreciente"]
[null,"Soporte legal",null,"Resolución CRA 12/1995"]
[null,"Planes y programas a los que le hace seguimiento",null,"PESV","X","PGR",null,"Resolución 315/05"]
[null,null,null,"Programa Aseo",null,"Plan Tarifario",null,"Resolución 151/01",null,"X"]
[null,null,null,"SG-SST","X"]
[]
[null,"FRECUENCIAS Y RESPONSABLES"]
[null,"Frecuencia de Cálculo y Análisis",null,"Mensual","X","Trimestral",null,"Otro"]
[null,null,null,"Semestral",null,"Anual",null,"Cual"]
[null,"Responsable de la medición y análisis Cargo y Dependencia",null,"Profesional presupuesto"]
[]
[null,"Elaboró","Subgerencia de planeación",null,null,null,"Fecha",2020]

{"sheet":"IF036","index":40,"n_rows":33,"n_cols":14,"rows_kept":33,"cut":false,"hidden":false,"merged":[[30,1,31,2],[30,3,31,9],[32,2,32,5],[32,7,32,9],[23,1,26,2],[23,7,23,8],[24,7,24,8],[25,7,25,8],[27,1,27,9],[28,1,29,2],[28,7,28,8],[29,7,29,8],[22,1,22,2],[22,3,22,9],[15,1,15,9],[16,1,17,2],[16,3,17,9],[18,1,18,2],[18,3,18,9],[19,1,19,2],[19,3,19,9],[20,1,20,2],[20,3,20,9],[21,1,21,2],[21,4,21,6],[21,8,21,9],[11,1,12,2],[11,3,11,4],[12,3,12,4],[13,1,14,2],[13,3,13,4],[14,3,14,4],[10,1,10,2],[10,3,10,9],[1,1,6,2],[1,3,3,7],[1,8,3,8],[1,9,3,9],[4,3,6,7],[4,8,6,9],[7,1,7,9],[8,1,8,2],[8,3,8,7],[9,1,9,2],[9,3,9,8]]}
[]
[null,null,null,"SERVICIUDAD ESP",null,null,null,null,"Código SPFO-11","Versión 03"]
[]
[]
[null,null,null,"FICHA TECNICA DEL INDICADOR",null,null,null,null,"PAGINA 01"]
[]
[]
[]
[null,"Nombre del índicador",null,"Cobertura  recolección",null,null,null,null,"Código: ","IF036"]
[null,"Nombre del plan o proceso",null,"RECOLECCIÓN, TRANSPORTE Y DISPOSICIÓN FINAL DE RESIDUOS SÓLIDOS ORDINARIOS"]
[null,"Propósito u objetivo del indicador",null,"Medir la cobertura del servicio de aseo respecto a los residuos sólidos ordinarios producidos en toda la ciudad."]
[null,"Tipo de indicador",null,"Eficiencia",null,null,"Eficacia",null,"Efectividad","X"]
[null,null,null,"Económia",null,null,"Ambiental"]
[null,"Estilo de cálculo",null,"Promedio",null,null,"Último dato","X"]
[null,null,null,"Suma",null,null,"Suma de componentes"]
[null,"MEDICIÓN DEL INDICADOR",null,null,null,null,null,null,null,null,null,null,null," "]
[null,"Fórmula de cálculo",null,"Basura recogida/Basura producida"]
[]
[null,"Número de variables",null,2]
[null,"Definición variables (variables a medir)",null,"Basura recogida: Toneladas recolectadas en los últimos doce meses.\nBasura producida: estimativo  de la basura producida en los últimos doce meses. (Suscriptores energía sui*3.7usuarios por casa*0.52kg/(habitante*día))*30 días)\n"]
[null,"Unidad de medida",null,"%"]
[null,"Tendencia del indicador",null,"Creciente","X",null,null,"Decreciente"]
[null,"Soporte legal",null,"Resolución CRA 12/1995"]
[null,"Planes y programas a los que le hace seguimiento",null,"PESV","X","PGR",null,"Resolución 315/05"]
[null,null,null,"Programa Aseo",null,"Plan Tarifario",null,"Resolución 151/01",null,"X"]
[null,null,null,"SG-SST","X"]
[]
[null,"FRECUENCIAS Y RESPONSABLES"]
[null,"Frecuencia de Cálculo y Análisis",null,"Mensual","X","Trimestral",null,"Otro"]
[null,null,null,"Semestral",null,"Anual",null,"Cual"]
[null,"Responsable de la medición y análisis Cargo y Dependencia",null,"Profesional de aseo"]
[]
[null,"Elaboró","Subgerencia de planeación",null,null,null,"Fecha",2020]

{"sheet":"IF037","index":41,"n_rows":33,"n_cols":14,"rows_kept":33,"cut":false,"hidden":false,"merged":[[30,1,31,2],[30,3,31,9],[32,2,32,5],[32,7,32,9],[23,1,26,2],[23,7,23,8],[24,7,24,8],[25,7,25,8],[27,1,27,9],[28,1,29,2],[28,7,28,8],[29,7,29,8],[22,1,22,2],[22,3,22,9],[15,1,15,9],[16,1,17,2],[16,3,17,9],[18,1,18,2],[18,3,18,9],[19,1,19,2],[19,3,19,9],[20,1,20,2],[20,3,20,9],[21,1,21,2],[21,4,21,6],[21,8,21,9],[11,1,12,2],[11,3,11,4],[12,3,12,4],[13,1,14,2],[13,3,13,4],[14,3,14,4],[10,1,10,2],[10,3,10,9],[1,1,6,2],[1,3,3,7],[1,8,3,8],[1,9,3,9],[4,3,6,7],[4,8,6,9],[7,1,7,9],[8,1,8,2],[8,3,8,7],[9,1,9,2],[9,3,9,8]]}
[]
[null,null,null,"SERVICIUDAD ESP",null,null,null,null,"Código SPFO-11","Versión 03"]
[]
[]
[null,null,null,"FICHA TECNICA DEL INDICADOR",null,null,null,null,"PAGINA 01"]
[]
[]
[]
[null,"Nombre del índicador",null,"Cobertura de mercado aseo",null,null,null,null,"Código: ","IF037"]
[null,"Nombre del plan o proceso",null,"RECOLECCIÓN, TRANSPORTE Y DISPOSICIÓN FINAL DE RESIDUOS SÓLIDOS ORDINARIOS"]
[null,"Propósito u objetivo del indicador",null,"Medir la cobertura del servicio de aseo respecto al número de suscriptores."]
[null,"Tipo de indicador",null,"Eficiencia",null,null,"Eficacia",null,"Efectividad","X"]
[null,null,null,"Económia",null,null,"Ambiental"]
[null,"Estilo de cálculo",null,"Promedio",null,null,"Último dato","X"]
[null,null,null,"Suma",null,null,"Suma de componentes"]
[null,"MEDICIÓN DEL INDICADOR",null,null,null,null,null,null,null,null,null,null,null," "]
[null,"Fórmula de cálculo",null,"Suscriptores Aseo/Domicilios Dosquebradas"]
[]
[null,"Número de variables",null,2]
[null,"Definición variables (variables a medir)"]
[null,"Unidad de medida",null,"%"]
[null,"Tendencia del indicador",null,"Creciente","X",null,null,"Decreciente"]
[null,"Soporte legal"]
[null,"Planes y programas a los que le hace seguimiento",null,"PESV","X","PGR",null,"Resolución 315/05"]
[null,null,null,"Programa Aseo",null,"Plan Tarifario",null,"Resolución 151/01"]
[null,null,null,"SG-SST"]
[]
[null,"FRECUENCIAS Y RESPONSABLES"]
[null,"Frecuencia de Cálculo y Análisis",null,"Mensual","X","Trimestral",null,"Otro"]
[null,null,null,"Semestral",null,"Anual",null,"Cual"]
[null,"Responsable de la medición y análisis Cargo y Dependencia",null,"Auxiliar administrativo comercial"]
[]
[null,"Elaboró","Subgerencia de planeación",null,null,null,"Fecha",2020]

{"sheet":"IF038","index":42,"n_rows":33,"n_cols":14,"rows_kept":33,"cut":false,"hidden":false,"merged":[[30,1,31,2],[30,3,31,9],[32,2,32,5],[32,7,32,9],[23,1,26,2],[23,7,23,8],[24,7,24,8],[25,7,25,8],[27,1,27,9],[28,1,29,2],[28,7,28,8],[29,7,29,8],[22,1,22,2],[22,3,22,9],[15,1,15,9],[16,1,17,2],[16,3,17,9],[18,1,18,2],[18,3,18,9],[19,1,19,2],[19,3,19,9],[20,1,20,2],[20,3,20,9],[21,1,21,2],[21,4,21,6],[21,8,21,9],[11,1,12,2],[11,3,11,4],[12,3,12,4],[13,1,14,2],[13,3,13,4],[14,3,14,4],[10,1,10,2],[10,3,10,9],[1,1,6,2],[1,3,3,7],[1,8,3,8],[1,9,3,9],[4,3,6,7],[4,8,6,9],[7,1,7,9],[8,1,8,2],[8,3,8,7],[9,1,9,2],[9,3,9,8]]}
[]
[null,null,null,"SERVICIUDAD ESP",null,null,null,null,"Código SPFO-11","Versión 03"]
[]
[]
[null,null,null,"FICHA TECNICA DEL INDICADOR",null,null,null,null,"PAGINA 01"]
[]
[]
[]
[null,"Nombre del índicador",null,"Continuidad o frecuencia recolección (IFR-NA)",null,null,null,null,"Código: ","IF038"]
[null,"Nombre del plan o proceso",null,"RECOLECCIÓN, TRANSPORTE Y DISPOSICIÓN FINAL DE RESIDUOS SÓLIDOS ORDINARIOS"]
[null,"Propósito u objetivo del indicador",null,"Medir el cumplimiento en la frecuencia de recolección de residuos sólidos"]
[null,"Tipo de indicador",null,"Eficiencia",null,null,"Eficacia","X","Efectividad"]
[null,null,null,"Económia",null,null,"Ambiental"]
[null,"Estilo de cálculo",null,"Promedio",null,"X","Último dato"]
[null,null,null,"Suma",null,null,"Suma de componentes"]
[null,"MEDICIÓN DEL INDICADOR",null,null,null,null,null,null,null,null,null,null,null," "]
[null,"Fórmula de cálculo",null,"IFR_NAl=1-(Σ NRDls)/((ndm/7)*FCCUl)"]
[]
[null,"Número de variables",null,3]
[null,"Definición variables (variables a medir)",null,"NRLIts: Número de frecuencias dejadas de prestar en la microrruta de recolección /, para cada semana s. En los casos en los que una semana pertenezca a dos meses diferentes, para el cálculo del indicador únicamente se contarán las microrrutas dejadas de prestar en los días que pertenecen al mes de análisis. ndm: Corresponde al número de días que posee el mes de análisis. F_CCU/: Frecuencia de recolección establecida en el Contrato de Condiciones Uniformes (CCU) para la microrruta de recolección I. I: Microrruta de recolección analizada. s: Corresponde a la semana del mes analizada. nsm: Corresponde al número de semanas calendario que posee el mes de análisis. Se contará una semana dentro de esta variable si por lo menos un día de la semana calendario analizada está dentro del mes analizado. "]
[null,"Unidad de medida",null,"%"]
[null,"Tendencia del indicador",null,"Creciente","X",null,null,"Decreciente"]
[null,"Soporte legal",null,"Resolución CRA 720/2015"]
[null,"Planes y programas a los que le hace seguimiento",null,"PESV","X","PGR",null,"Resolución 315/05",null,"X"]
[null,null,null,"Programa Aseo",null,"Plan Tarifario",null,"Resolución 151/01"]
[null,null,null,"SG-SST"]
[]
[null,"FRECUENCIAS Y RESPONSABLES"]
[null,"Frecuencia de Cálculo y Análisis",null,"Mensual","X","Trimestral",null,"Otro"]
[null,null,null,"Semestral",null,"Anual",null,"Cual"]
[null,"Responsable de la medición y análisis Cargo y Dependencia",null,"Profesional de aseo"]
[]
[null,"Elaboró","Subgerencia de planeación",null,null,null,"Fecha",2020]

{"sheet":"IF039","index":43,"n_rows":33,"n_cols":14,"rows_kept":33,"cut":false,"hidden":false,"merged":[[30,1,31,2],[30,3,31,9],[32,2,32,5],[32,7,32,9],[23,1,26,2],[23,7,23,8],[24,7,24,8],[25,7,25,8],[27,1,27,9],[28,1,29,2],[28,7,28,8],[29,7,29,8],[22,1,22,2],[22,3,22,9],[15,1,15,9],[16,1,17,2],[16,3,17,9],[18,1,18,2],[18,3,18,9],[19,1,19,2],[19,3,19,9],[20,1,20,2],[20,3,20,9],[21,1,21,2],[21,4,21,6],[21,8,21,9],[11,1,12,2],[11,3,11,4],[12,3,12,4],[13,1,14,2],[13,3,13,4],[14,3,14,4],[10,1,10,2],[10,3,10,9],[1,1,6,2],[1,3,3,7],[1,8,3,8],[1,9,3,9],[4,3,6,7],[4,8,6,9],[7,1,7,9],[8,1,8,2],[8,3,8,7],[9,1,9,2],[9,3,9,8]]}
[]
[null,null,null,"SERVICIUDAD ESP",null,null,null,null,"Código SPFO-11","Versión 03"]
[]
[]
[null,null,null,"FICHA TECNICA DEL INDICADOR",null,null,null,null,"PAGINA 01"]
[]
[]
[]
[null,"Nombre del índicador",null,"Continuidad recoleccón (ICTR)",null,null,null,null,"Código: ","IF039"]
[null,"Nombre del plan o proceso",null,"RECOLECCIÓN, TRANSPORTE Y DISPOSICIÓN FINAL DE RESIDUOS SÓLIDOS ORDINARIOS"]
[null,"Propósito u objetivo del indicador",null,"Medir la calidad global del servicio de recolección de residuos sólidos no aprovechables, teniendo en cuenta el incumplimiento de las frecuencias y los horarios de recolección"]
[null,"Tipo de indicador",null,"Eficiencia",null,null,"Eficacia","X","Efectividad"]
[null,null,null,"Económia",null,null,"Ambiental"]
[null,"Estilo de cálculo",null,"Promedio",null,"X","Último dato"]
[null,null,null,"Suma",null,null,"Suma de componentes"]
[null,"MEDICIÓN DEL INDICADOR",null,null,null,null,null,null,null,null,null,null,null," "]
[null,"Fórmula de cálculo",null,"ICTR=1-(Σ FR*SAR/Σ PR*STR) - ContinuidadPGR=1-((Σ Di*Ui)/(Up*D))"]
[]
[null,"Número de variables",null,3]
[null,"Definición variables (variables a medir)",null,"FR: número de veces que se dejó de prestar el servicio durante el período de facturación. PR: Número de veces que se debe prestar el servicio de recolección en el período de facturación. SAR: Número de suscriptores del servicio de recolección. STR: Número total de suscriptores. n: Número de períodos de facturación"]
[null,"Unidad de medida",null,"%"]
[null,"Tendencia del indicador",null,"Creciente","X",null,null,"Decreciente"]
[null,"Soporte legal",null,"Resolución CRA 315/05"]
[null,"Planes y programas a los que le hace seguimiento",null,"PESV","X","PGR",null,"Resolución 315/05"]
[null,null,null,"Programa Aseo",null,"Plan Tarifario",null,"Resolución 151/01",null,"X"]
[null,null,null,"SG-SST","X"]
[]
[null,"FRECUENCIAS Y RESPONSABLES"]
[null,"Frecuencia de Cálculo y Análisis",null,"Mensual","X","Trimestral",null,"Otro"]
[null,null,null,"Semestral",null,"Anual",null,"Cual"]
[null,"Responsable de la medición y análisis Cargo y Dependencia",null,"Profesional de aseo"]
[]
[null,"Elaboró","Subgerencia de planeación",null,null,null,"Fecha",2020]

{"sheet":"IF040","index":44,"n_rows":33,"n_cols":14,"rows_kept":33,"cut":false,"hidden":false,"merged":[[30,1,31,2],[30,3,31,9],[32,2,32,5],[32,7,32,9],[23,1,26,2],[23,7,23,8],[24,7,24,8],[25,7,25,8],[27,1,27,9],[28,1,29,2],[28,7,28,8],[29,7,29,8],[22,1,22,2],[22,3,22,9],[15,1,15,9],[16,1,17,2],[16,3,17,9],[18,1,18,2],[18,3,18,9],[19,1,19,2],[19,3,19,9],[20,1,20,2],[20,3,20,9],[21,1,21,2],[21,4,21,6],[21,8,21,9],[11,1,12,2],[11,3,11,4],[12,3,12,4],[13,1,14,2],[13,3,13,4],[14,3,14,4],[10,1,10,2],[10,3,10,9],[1,1,6,2],[1,3,3,7],[1,8,3,8],[1,9,3,9],[4,3,6,7],[4,8,6,9],[7,1,7,9],[8,1,8,2],[8,3,8,7],[9,1,9,2],[9,3,9,8]]}
[]
[null,null,null,"SERVICIUDAD ESP",null,null,null,null,"Código SPFO-11","Versión 03"]
[]
[]
[null,null,null,"FICHA TECNICA DEL INDICADOR",null,null,null,null,"PAGINA 01"]
[]
[]
[]
[null,"Nombre del índicador",null,"Disposición final relleno sanitario",null,null,null,null,"Código: ","IF040"]
[null,"Nombre del plan o proceso",null,"RECOLECCIÓN, TRANSPORTE Y DISPOSICIÓN FINAL DE RESIDUOS SÓLIDOS ORDINARIOS"]
[null,"Propósito u objetivo del indicador",null,"Reflejar la calidad del servicio en la disposición de los residuos "]
[null,"Tipo de indicador",null,"Eficiencia",null,null,"Eficacia",null,"Efectividad","X"]
[null,null,null,"Económia",null,null,"Ambiental"]
[null,"Estilo de cálculo",null,"Promedio",null,null,"Último dato","X"]
[null,null,null,"Suma",null,null,"Suma de componentes"]
[null,"MEDICIÓN DEL INDICADOR",null,null,null,null,null,null,null,null,null,null,null," "]
[null,"Fórmula de cálculo",null,"Basura dispuesta relleno sanitario/Basura producida"]
[]
[null,"Número de variables",null,2]
[null,"Definición variables (variables a medir)"]
[null,"Unidad de medida",null,"%"]
[null,"Tendencia del indicador",null,"Creciente","X",null,null,"Decreciente"]
[null,"Soporte legal",null,"Resolución CRA 720/2015"]
[null,"Planes y programas a los que le hace seguimiento",null,"PESV","X","PGR",null,"Resolución 315/05",null,"X"]
[null,null,null,"Programa Aseo",null,"Plan Tarifario",null,"Resolución 151/01",null,"X"]
[null,null,null,"SG-SST"]
[]
[null,"FRECUENCIAS Y RESPONSABLES"]
[null,"Frecuencia de Cálculo y Análisis",null,"Mensual","X","Trimestral",null,"Otro"]
[null,null,null,"Semestral",null,"Anual",null,"Cual"]
[null,"Responsable de la medición y análisis Cargo y Dependencia",null,"Profesional de aseo"]
[]
[null,"Elaboró","Subgerencia de planeación",null,null,null,"Fecha",2020]

{"sheet":"IF041","index":45,"n_rows":33,"n_cols":14,"rows_kept":33,"cut":false,"hidden":false,"merged":[[30,1,31,2],[30,3,31,9],[32,2,32,5],[32,7,32,9],[23,1,26,2],[23,7,23,8],[24,7,24,8],[25,7,25,8],[27,1,27,9],[28,1,29,2],[28,7,28,8],[29,7,29,8],[22,1,22,2],[22,3,22,9],[15,1,15,9],[16,1,17,2],[16,3,17,9],[18,1,18,2],[18,3,18,9],[19,1,19,2],[19,3,19,9],[20,1,20,2],[20,3,20,9],[21,1,21,2],[21,4,21,6],[21,8,21,9],[11,1,12,2],[11,3,11,4],[12,3,12,4],[13,1,14,2],[13,3,13,4],[14,3,14,4],[10,1,10,2],[10,3,10,9],[1,1,6,2],[1,3,3,7],[1,8,3,8],[1,9,3,9],[4,3,6,7],[4,8,6,9],[7,1,7,9],[8,1,8,2],[8,3,8,7],[9,1,9,2],[9,3,9,8]]}
[]
[null,null,null,"SERVICIUDAD ESP",null,null,null,null,"Código SPFO-11","Versión 03"]
[]
[]
[null,null,null,"FICHA TECNICA DEL INDICADOR",null,null,null,null,"PAGINA 01"]
[]
[]
[]
[null,"Nombre del índicador",null,"Horario recolección (IHR-NA)",null,null,null,null,"Código: ","IF041"]
[null,"Nombre del plan o proceso",null,"RECOLECCIÓN, TRANSPORTE Y DISPOSICIÓN FINAL DE RESIDUOS SÓLIDOS ORDINARIOS"]
[null,"Propósito u objetivo del indicador",null,"Medir la calidad en el horario de recolección de los residuos sólidos"]
[null,"Tipo de indicador",null,"Eficiencia",null,null,"Eficacia",null,"Efectividad","X"]
[null,null,null,"Económia",null,null,"Ambiental"]
[null,"Estilo de cálculo",null,"Promedio",null,"X","Último dato"]
[null,null,null,"Suma",null,null,"Suma de componentes"]
[null,"MEDICIÓN DEL INDICADOR",null,null,null,null,null,null,null,null,null,null,null," "]
[null,"Fórmula de cálculo",null,"IHR_NAL=(Σ NRRLS)/((ndm/7)*F_CCUL)"]
[]
[null,"Número de variables",null,3]
[null,"Definición variables (variables a medir)",null,"NRRLs: Número de frecuencias prestadas con retraso superior a tres (3) horas en la macrorruta de recolección L, para cada semana s. Una frecuencia se catalogará con retraso no aceptado o superior a tres (3) horas si: HFccv  +3 < HFR Donde: HFccu: Hora final del horario de recolección que se estableció en el contrato de condiciones uniformes (CCU) para la macrorruta de recolección analizada L. HFR:  Hora final real de la frecuencia analizada que pertenece a la macrorruta de recolección analizada L. ndm:  Corresponde al número de días que posee el mes de análisis. F_CCUL:  Frecuencia de recolección establecida en el contrato de condiciones uniformes (CCU) para la macrorruta de recolección L. L: Macrorruta de recolección analizada. s:  Corresponde a la semana del mes analizada. nsm:  Corresponde al número de semanas calendario parciales o completas que posee el mes de análisis. Se contará una semana dentro de esta variable si por lo menos un día de la semana calendario analizada está dentro del mes analizado."]
[null,"Unidad de medida",null,"%"]
[null,"Tendencia del indicador",null,"Creciente","X",null,null,"Decreciente"]
[null,"Soporte legal",null,"Resolución CRA 720/2015"]
[null,"Planes y programas a los que le hace seguimiento",null,"PESV","X","PGR",null,"Resolución 315/05",null,"X"]
[null,null,null,"Programa Aseo",null,"Plan Tarifario",null,"Resolución 151/01"]
[null,null,null,"SG-SST"]
[]
[null,"FRECUENCIAS Y RESPONSABLES"]
[null,"Frecuencia de Cálculo y Análisis",null,"Mensual","X","Trimestral",null,"Otro"]
[null,null,null,"Semestral",null,"Anual",null,"Cual"]
[null,"Responsable de la medición y análisis Cargo y Dependencia",null,"Profesional de aseo"]
[]
[null,"Elaboró","Subgerencia de planeación",null,null,null,"Fecha",2020]

{"sheet":"IF042","index":46,"n_rows":33,"n_cols":14,"rows_kept":33,"cut":false,"hidden":false,"merged":[[30,1,31,2],[30,3,31,9],[32,2,32,5],[32,7,32,9],[23,1,26,2],[23,7,23,8],[24,7,24,8],[25,7,25,8],[27,1,27,9],[28,1,29,2],[28,7,28,8],[29,7,29,8],[22,1,22,2],[22,3,22,9],[15,1,15,9],[16,1,17,2],[16,3,17,9],[18,1,18,2],[18,3,18,9],[19,1,19,2],[19,3,19,9],[20,1,20,2],[20,3,20,9],[21,1,21,2],[21,4,21,6],[21,8,21,9],[11,1,12,2],[11,3,11,4],[12,3,12,4],[13,1,14,2],[13,3,13,4],[14,3,14,4],[10,1,10,2],[10,3,10,9],[1,1,6,2],[1,3,3,7],[1,8,3,8],[1,9,3,9],[4,3,6,7],[4,8,6,9],[7,1,7,9],[8,1,8,2],[8,3,8,7],[9,1,9,2],[9,3,9,8]]}
[]
[null,null,null,"SERVICIUDAD ESP",null,null,null,null,"Código SPFO-11","Versión 03"]
[]
[]
[null,null,null,"FICHA TECNICA DEL INDICADOR",null,null,null,null,"PAGINA 01"]
[]
[]
[]
[null,"Nombre del índicador",null,"Calidad tecnica recolección (ICTR-NA)",null,null,null,null,"Código: ","IF042"]
[null,"Nombre del plan o proceso",null,"RECOLECCIÓN, TRANSPORTE Y DISPOSICIÓN FINAL DE RESIDUOS SÓLIDOS ORDINARIOS"]
[null,"Propósito u objetivo del indicador",null,"Medir la calidad global del servicio de recolección de residuos sólidos no aprovechables, teniendo en cuenta el incumplimiento de las frecuencias y los horarios de recolección"]
[null,"Tipo de indicador",null,"Eficiencia",null,null,"Eficacia",null,"Efectividad","X"]
[null,null,null,"Económia",null,null,"Ambiental"]
[null,"Estilo de cálculo",null,"Promedio",null,"X","Último dato"]
[null,null,null,"Suma",null,null,"Suma de componentes"]
[null,"MEDICIÓN DEL INDICADOR",null,null,null,null,null,null,null,null,null,null,null," "]
[null,"Fórmula de cálculo",null,"ICTR_Nal=∑P=1 (0.5*(IFR_NAl+IHR_Nal))p/6"]
[]
[null,"Número de variables",null,2]
[null,"Definición variables (variables a medir)",null,"p: Corresponde a cada uno de los seis meses continuos analizados dentro del semestre de análisis y toma valores entre 1 y 6 hasta alcanzar el mes m. m: Es el número del mes analizado dentro del semestre de estudio, que varía entre 1 y 6. l: Microrruta de recolección analizada. ICTR_NAI: Indicador de calidad técnica en la recolección de residuos sólidos no aprovechables de la microrruta de recolección /. 0,5:  Factor de ponderación de cada uno de los indicadores relacionados con el servicio de recolección de residuos sólidos no aprovechables. IFR_NAI:  Indicador de frecuencia de recolección de residuos no aprovechables para la microrruta de recolección 1, de conformidad con lo dispuesto en el ARTÍCULO 55 de la presente resolución. IHR_NAI: Indicador del horario de recolección de residuos no aprovechables para la microrruta de recolección /. El valor de este indicador para cada microrruta de recolección será igual al valor del indicador de la macrorruta a la cual pertenece (IHR_NAL), que fue calculado de conformidad con lo dispuesto en el ARTÍCULO 56 de la presente resolución. "]
[null,"Unidad de medida",null,"%"]
[null,"Tendencia del indicador",null,"Creciente","X",null,null,"Decreciente"]
[null,"Soporte legal",null,"Resolución CRA 720/2015"]
[null,"Planes y programas a los que le hace seguimiento",null,"PESV","X","PGR",null,"Resolución 315/05",null,"X"]
[null,null,null,"Programa Aseo",null,"Plan Tarifario",null,"Resolución 151/01",null,"X"]
[null,null,null,"SG-SST"]
[]
[null,"FRECUENCIAS Y RESPONSABLES"]
[null,"Frecuencia de Cálculo y Análisis",null,"Mensual","X","Trimestral",null,"Otro"]
[null,null,null,"Semestral",null,"Anual",null,"Cual"]
[null,"Responsable de la medición y análisis Cargo y Dependencia",null,"Profesional de aseo"]
[]
[null,"Elaboró","Subgerencia de planeación",null,null,null,"Fecha",2020]

{"sheet":"IF043","index":47,"n_rows":33,"n_cols":14,"rows_kept":33,"cut":false,"hidden":false,"merged":[[30,1,31,2],[30,3,31,9],[32,2,32,5],[32,7,32,9],[23,1,26,2],[23,7,23,8],[24,7,24,8],[25,7,25,8],[27,1,27,9],[28,1,29,2],[28,7,28,8],[29,7,29,8],[22,1,22,2],[22,3,22,9],[15,1,15,9],[16,1,17,2],[16,3,17,9],[18,1,18,2],[18,3,18,9],[19,1,19,2],[19,3,19,9],[20,1,20,2],[20,3,20,9],[21,1,21,2],[21,4,21,6],[21,8,21,9],[11,1,12,2],[11,3,11,4],[12,3,12,4],[13,1,14,2],[13,3,13,4],[14,3,14,4],[10,1,10,2],[10,3,10,9],[1,1,6,2],[1,3,3,7],[1,8,3,8],[1,9,3,9],[4,3,6,7],[4,8,6,9],[7,1,7,9],[8,1,8,2],[8,3,8,7],[9,1,9,2],[9,3,9,8]]}
[]
[null,null,null,"SERVICIUDAD ESP",null,null,null,null,"Código SPFO-11","Versión 03"]
[]
[]
[null,null,null,"FICHA TECNICA DEL INDICADOR",null,null,null,null,"PAGINA 01"]
[]
[]
[]
[null,"Nombre del índicador",null,"Cobertura barrido",null,null,null,null,"Código: ","IF043"]
[null,"Nombre del plan o proceso",null,"BARRIDO Y LIMPIEZA DE ÁREAS PÚBLICAS"]
[null,"Propósito u objetivo del indicador",null,"Determinar la cobertura de kilometros de barrido al mes "]
[null,"Tipo de indicador",null,"Eficiencia",null,null,"Eficacia",null,"Efectividad","X"]
[null,null,null,"Económia",null,null,"Ambiental"]
[null,"Estilo de cálculo",null,"Promedio",null,null,"Último dato","X"]
[null,null,null,"Suma",null,null,"Suma de componentes"]
[null,"MEDICIÓN DEL INDICADOR",null,null,null,null,null,null,null,null,null,null,null," "]
[null,"Fórmula de cálculo",null,"Total de km vías barrido/total km programados"]
[]
[null,"Número de variables",null,2]
[null,"Definición variables (variables a medir)"]
[null,"Unidad de medida",null,"%"]
[null,"Tendencia del indicador",null,"Creciente","X",null,null,"Decreciente"]
[null,"Soporte legal",null,"Resolución CRA 720/2015"]
[null,"Planes y programas a los que le hace seguimiento",null,"PESV","X","PGR",null,"Resolución 315/05"]
[null,null,null,"Programa Aseo",null,"Plan Tarifario",null,"Resolución 151/01"]
[null,null,null,"SG-SST"]
[]
[null,"FRECUENCIAS Y RESPONSABLES"]
[null,"Frecuencia de Cálculo y Análisis",null,"Mensual","X","Trimestral",null,"Otro"]
[null,null,null,"Semestral",null,"Anual",null,"Cual"]
[null,"Responsable de la medición y análisis Cargo y Dependencia",null,"Profesional de aseo"]
[]
[null,"Elaboró","Subgerencia de planeación",null,null,null,"Fecha",2020]

{"sheet":"IF044","index":48,"n_rows":33,"n_cols":14,"rows_kept":33,"cut":false,"hidden":false,"merged":[[30,1,31,2],[30,3,31,9],[32,2,32,5],[32,7,32,9],[23,1,26,2],[23,7,23,8],[24,7,24,8],[25,7,25,8],[27,1,27,9],[28,1,29,2],[28,7,28,8],[29,7,29,8],[22,1,22,2],[22,3,22,9],[15,1,15,9],[16,1,17,2],[16,3,17,9],[18,1,18,2],[18,3,18,9],[19,1,19,2],[19,3,19,9],[20,1,20,2],[20,3,20,9],[21,1,21,2],[21,4,21,6],[21,8,21,9],[11,1,12,2],[11,3,11,4],[12,3,12,4],[13,1,14,2],[13,3,13,4],[14,3,14,4],[10,1,10,2],[10,3,10,9],[1,1,6,2],[1,3,3,7],[1,8,3,8],[1,9,3,9],[4,3,6,7],[4,8,6,9],[7,1,7,9],[8,1,8,2],[8,3,8,7],[9,1,9,2],[9,3,9,8]]}
[]
[null,null,null,"SERVICIUDAD ESP",null,null,null,null,"Código SPFO-11","Versión 03"]
[]
[]
[null,null,null,"FICHA TECNICA DEL INDICADOR",null,null,null,null,"PAGINA 01"]
[]
[]
[]
[null,"Nombre del índicador",null,"Continuidad barrido (ICTBL)",null,null,null,null,"Código: ","IF044"]
[null,"Nombre del plan o proceso",null,"BARRIDO Y LIMPIEZA DE ÁREAS PÚBLICAS"]
[null,"Propósito u objetivo del indicador",null,"Medir la continuidad y ejecución de las rutas de barrido"]
[null,"Tipo de indicador",null,"Eficiencia",null,null,"Eficacia","X","Efectividad"]
[null,null,null,"Económia",null,null,"Ambiental"]
[null,"Estilo de cálculo",null,"Promedio",null,null,"Último dato","X"]
[null,null,null,"Suma",null,null,"Suma de componentes"]
[null,"MEDICIÓN DEL INDICADOR",null,null,null,null,null,null,null,null,null,null,null," "]
[null,"Fórmula de cálculo",null,"Número Rutas ejecutadas/Número rutas programadas"]
[]
[null,"Número de variables",null,2]
[null,"Definición variables (variables a medir)"]
[null,"Unidad de medida",null,"%"]
[null,"Tendencia del indicador",null,"Creciente","X",null,null,"Decreciente"]
[null,"Soporte legal",null,"Resolución CRA 720/2015"]
[null,"Planes y programas a los que le hace seguimiento",null,"PESV","X","PGR",null,"Resolución 315/05"]
[null,null,null,"Programa Aseo",null,"Plan Tarifario",null,"Resolución 151/01"]
[null,null,null,"SG-SST"]
[]
[null,"FRECUENCIAS Y RESPONSABLES"]
[null,"Frecuencia de Cálculo y Análisis",null,"Mensual","X","Trimestral",null,"Otro"]
[null,null,null,"Semestral",null,"Anual",null,"Cual"]
[null,"Responsable de la medición y análisis Cargo y Dependencia",null,"Profesional de aseo"]
[]
[null,"Elaboró","Subgerencia de planeación",null,null,null,"Fecha",2020]

{"sheet":"IF045","index":49,"n_rows":33,"n_cols":14,"rows_kept":33,"cut":false,"hidden":false,"merged":[[30,1,31,2],[30,3,31,9],[32,2,32,5],[32,7,32,9],[23,1,26,2],[23,7,23,8],[24,7,24,8],[25,7,25,8],[27,1,27,9],[28,1,29,2],[28,7,28,8],[29,7,29,8],[22,1,22,2],[22,3,22,9],[15,1,15,9],[16,1,17,2],[16,3,17,9],[18,1,18,2],[18,3,18,9],[19,1,19,2],[19,3,19,9],[20,1,20,2],[20,3,20,9],[21,1,21,2],[21,4,21,6],[21,8,21,9],[11,1,12,2],[11,3,11,4],[12,3,12,4],[13,1,14,2],[13,3,13,4],[14,3,14,4],[10,1,10,2],[10,3,10,9],[1,1,6,2],[1,3,3,7],[1,8,3,8],[1,9,3,9],[4,3,6,7],[4,8,6,9],[7,1,7,9],[8,1,8,2],[8,3,8,7],[9,1,9,2],[9,3,9,8]]}
[]
[null,null,null,"SERVICIUDAD ESP",null,null,null,null,"Código SPFO-11","Versión 03"]
[]
[]
[null,null,null,"FICHA TECNICA DEL INDICADOR",null,null,null,null,"PAGINA 01"]
[]
[]
[]
[null,"Nombre del índicador",null,"Cobertura cesped",null,null,null,null,"Código: ","IF045"]
[null,"Nombre del plan o proceso",null,"CORTE DE CÉSPED"]
[null,"Propósito u objetivo del indicador",null,"Medir la cantidad de áreas de corte de cesped"]
[null,"Tipo de indicador",null,"Eficiencia",null,null,"Eficacia",null,"Efectividad","X"]
[null,null,null,"Económia",null,null,"Ambiental"]
[null,"Estilo de cálculo",null,"Promedio",null,null,"Último dato","X"]
[null,null,null,"Suma",null,null,"Suma de componentes"]
[null,"MEDICIÓN DEL INDICADOR",null,null,null,null,null,null,null,null,null,null,null," "]
[null,"Fórmula de cálculo",null,"Mts 2 de césped cortado/total Mts 2 programados  "]
[]
[null,"Número de variables",null,2]
[null,"Definición variables (variables a medir)"]
[null,"Unidad de medida",null,"%"]
[null,"Tendencia del indicador",null,"Creciente","X",null,null,"Decreciente"]
[null,"Soporte legal",null,"Decreto 1077 2015 ministerio de vivienda"]
[null,"Planes y programas a los que le hace seguimiento",null,"PESV","X","PGR",null,"Resolución 315/05"]
[null,null,null,"Programa Aseo",null,"Plan Tarifario",null,"Resolución 151/01"]
[null,null,null,"SG-SST"]
[]
[null,"FRECUENCIAS Y RESPONSABLES"]
[null,"Frecuencia de Cálculo y Análisis",null,"Mensual","X","Trimestral",null,"Otro"]
[null,null,null,"Semestral",null,"Anual",null,"Cual"]
[null,"Responsable de la medición y análisis Cargo y Dependencia",null,"Profesional de aseo"]
[]
[null,"Elaboró","Subgerencia de planeación",null,null,null,"Fecha",2020]

{"sheet":"IF046","index":50,"n_rows":33,"n_cols":14,"rows_kept":33,"cut":false,"hidden":false,"merged":[[30,1,31,2],[30,3,31,9],[32,2,32,5],[32,7,32,9],[23,1,26,2],[23,7,23,8],[24,7,24,8],[25,7,25,8],[27,1,27,9],[28,1,29,2],[28,7,28,8],[29,7,29,8],[22,1,22,2],[22,3,22,9],[15,1,15,9],[16,1,17,2],[16,3,17,9],[18,1,18,2],[18,3,18,9],[19,1,19,2],[19,3,19,9],[20,1,20,2],[20,3,20,9],[21,1,21,2],[21,4,21,6],[21,8,21,9],[11,1,12,2],[11,3,11,4],[12,3,12,4],[13,1,14,2],[13,3,13,4],[14,3,14,4],[10,1,10,2],[10,3,10,9],[1,1,6,2],[1,3,3,7],[1,8,3,8],[1,9,3,9],[4,3,6,7],[4,8,6,9],[7,1,7,9],[8,1,8,2],[8,3,8,7],[9,1,9,2],[9,3,9,8]]}
[]
[null,null,null,"SERVICIUDAD ESP",null,null,null,null,"Código SPFO-11","Versión 03"]
[]
[]
[null,null,null,"FICHA TECNICA DEL INDICADOR",null,null,null,null,"PAGINA 01"]
[]
[]
[]
[null,"Nombre del índicador",null,"Continuidad cesped",null,null,null,null,"Código: ","IF046"]
[null,"Nombre del plan o proceso",null,"CORTE DE CÉSPED"]
[null,"Propósito u objetivo del indicador",null,"Medir la continuidad de corte de cesped "]
[null,"Tipo de indicador",null,"Eficiencia",null,null,"Eficacia","X","Efectividad"]
[null,null,null,"Económia",null,null,"Ambiental"]
[null,"Estilo de cálculo",null,"Promedio",null,null,"Último dato","X"]
[null,null,null,"Suma",null,null,"Suma de componentes"]
[null,"MEDICIÓN DEL INDICADOR",null,null,null,null,null,null,null,null,null,null,null," "]
[null,"Fórmula de cálculo",null,"Rutas de cesped realizadas/Rutas cesped programadas"]
[]
[null,"Número de variables",null,2]
[null,"Definición variables (variables a medir)"]
[null,"Unidad de medida",null,"%"]
[null,"Tendencia del indicador",null,"Creciente","X",null,null,"Decreciente"]
[null,"Soporte legal",null,"Decreto 1077 2015 ministerio de vivienda"]
[null,"Planes y programas a los que le hace seguimiento",null,"PESV","X","PGR",null,"Resolución 315/05"]
[null,null,null,"Programa Aseo",null,"Plan Tarifario",null,"Resolución 151/01"]
[null,null,null,"SG-SST"]
[]
[null,"FRECUENCIAS Y RESPONSABLES"]
[null,"Frecuencia de Cálculo y Análisis",null,"Mensual","X","Trimestral",null,"Otro"]
[null,null,null,"Semestral",null,"Anual",null,"Cual"]
[null,"Responsable de la medición y análisis Cargo y Dependencia",null,"Profesional de aseo"]
[]
[null,"Elaboró","Subgerencia de planeación",null,null,null,"Fecha",2020]

{"sheet":"IF047","index":51,"n_rows":33,"n_cols":14,"rows_kept":33,"cut":false,"hidden":false,"merged":[[30,1,31,2],[30,3,31,9],[32,2,32,5],[32,7,32,9],[23,1,26,2],[23,7,23,8],[24,7,24,8],[25,7,25,8],[27,1,27,9],[28,1,29,2],[28,7,28,8],[29,7,29,8],[22,1,22,2],[22,3,22,9],[15,1,15,9],[16,1,17,2],[16,3,17,9],[18,1,18,2],[18,3,18,9],[19,1,19,2],[19,3,19,9],[20,1,20,2],[20,3,20,9],[21,1,21,2],[21,4,21,6],[21,8,21,9],[11,1,12,2],[11,3,11,4],[12,3,12,4],[13,1,14,2],[13,3,13,4],[14,3,14,4],[10,1,10,2],[10,3,10,9],[1,1,6,2],[1,3,3,7],[1,8,3,8],[1,9,3,9],[4,3,6,7],[4,8,6,9],[7,1,7,9],[8,1,8,2],[8,3,8,7],[9,1,9,2],[9,3,9,8]]}
[]
[null,null,null,"SERVICIUDAD ESP",null,null,null,null,"Código SPFO-11","Versión 03"]
[]
[]
[null,null,null,"FICHA TECNICA DEL INDICADOR",null,null,null,null,"PAGINA 01"]
[]
[]
[]
[null,"Nombre del índicador",null,"Cobertura poda arboles",null,null,null,null,"Código: ","IF047"]
[null,"Nombre del plan o proceso",null,"PODA DE ÁRBOLES"]
[null,"Propósito u objetivo del indicador",null,"Medir la cobertura de poda de árboles"]
[null,"Tipo de indicador",null,"Eficiencia",null,null,"Eficacia",null,"Efectividad","X"]
[null,null,null,"Económia",null,null,"Ambiental"]
[null,"Estilo de cálculo",null,"Promedio",null,null,"Último dato","X"]
[null,null,null,"Suma",null,null,"Suma de componentes"]
[null,"MEDICIÓN DEL INDICADOR",null,null,null,null,null,null,null,null,null,null,null," "]
[null,"Fórmula de cálculo",null,"Numero de podas Ejecutadas/numero de podas programadas"]
[]
[null,"Número de variables",null,2]
[null,"Definición variables (variables a medir)"]
[null,"Unidad de medida",null,"%"]
[null,"Tendencia del indicador",null,"Creciente","X",null,null,"Decreciente"]
[null,"Soporte legal",null,"Decreto 1077 2015 ministerio de vivienda"]
[null,"Planes y programas a los que le hace seguimiento",null,"PESV","X","PGR",null,"Resolución 315/05"]
[null,null,null,"Programa Aseo",null,"Plan Tarifario",null,"Resolución 151/01"]
[null,null,null,"SG-SST"]
[]
[null,"FRECUENCIAS Y RESPONSABLES"]
[null,"Frecuencia de Cálculo y Análisis",null,"Mensual","X","Trimestral",null,"Otro"]
[null,null,null,"Semestral",null,"Anual",null,"Cual"]
[null,"Responsable de la medición y análisis Cargo y Dependencia",null,"Profesional de aseo"]
[]
[null,"Elaboró","Subgerencia de planeación",null,null,null,"Fecha",2020]

{"sheet":"IF048","index":52,"n_rows":33,"n_cols":14,"rows_kept":33,"cut":false,"hidden":false,"merged":[[30,1,31,2],[30,3,31,9],[32,2,32,5],[32,7,32,9],[23,1,26,2],[23,7,23,8],[24,7,24,8],[25,7,25,8],[27,1,27,9],[28,1,29,2],[28,7,28,8],[29,7,29,8],[22,1,22,2],[22,3,22,9],[15,1,15,9],[16,1,17,2],[16,3,17,9],[18,1,18,2],[18,3,18,9],[19,1,19,2],[19,3,19,9],[20,1,20,2],[20,3,20,9],[21,1,21,2],[21,4,21,6],[21,8,21,9],[11,1,12,2],[11,3,11,4],[12,3,12,4],[13,1,14,2],[13,3,13,4],[14,3,14,4],[10,1,10,2],[10,3,10,9],[1,1,6,2],[1,3,3,7],[1,8,3,8],[1,9,3,9],[4,3,6,7],[4,8,6,9],[7,1,7,9],[8,1,8,2],[8,3,8,7],[9,1,9,2],[9,3,9,8]]}
[]
[null,null,null,"SERVICIUDAD ESP",null,null,null,null,"Código SPFO-11","Versión 03"]
[]
[]
[null,null,null,"FICHA TECNICA DEL INDICADOR",null,null,null,null,"PAGINA 01"]
[]
[]
[]
[null,"Nombre del índicador",null,"Cobertura lavado",null,null,null,null,"Código: ","IF048"]
[null,"Nombre del plan o proceso",null,"LAVADO DE CANASTILLAS"]
[null,"Propósito u objetivo del indicador",null,"Medir la cobertura de lavado de áreas públicas"]
[null,"Tipo de indicador",null,"Eficiencia",null,null,"Eficacia",null,"Efectividad","X"]
[null,null,null,"Económia",null,null,"Ambiental"]
[null,"Estilo de cálculo",null,"Promedio",null,null,"Último dato","X"]
[null,null,null,"Suma",null,null,"Suma de componentes"]
[null,"MEDICIÓN DEL INDICADOR",null,null,null,null,null,null,null,null,null,null,null," "]
[null,"Fórmula de cálculo",null,"M2 ejcutados de lavado/m2 lavado programados"]
[]
[null,"Número de variables",null,2]
[null,"Definición variables (variables a medir)"]
[null,"Unidad de medida",null,"%"]
[null,"Tendencia del indicador",null,"Creciente","X",null,null,"Decreciente"]
[null,"Soporte legal",null,"Decreto 1077 2015 ministerio de vivienda"]
[null,"Planes y programas a los que le hace seguimiento",null,"PESV","X","PGR",null,"Resolución 315/05"]
[null,null,null,"Programa Aseo",null,"Plan Tarifario",null,"Resolución 151/01"]
[null,null,null,"SG-SST"]
[]
[null,"FRECUENCIAS Y RESPONSABLES"]
[null,"Frecuencia de Cálculo y Análisis",null,"Mensual","X","Trimestral",null,"Otro"]
[null,null,null,"Semestral",null,"Anual",null,"Cual"]
[null,"Responsable de la medición y análisis Cargo y Dependencia",null,"Profesional de aseo"]
[]
[null,"Elaboró","Subgerencia de planeación",null,null,null,"Fecha",2020]

{"sheet":"IF049","index":53,"n_rows":33,"n_cols":14,"rows_kept":33,"cut":false,"hidden":false,"merged":[[30,1,31,2],[30,3,31,9],[32,2,32,5],[32,7,32,9],[23,1,26,2],[23,7,23,8],[24,7,24,8],[25,7,25,8],[27,1,27,9],[28,1,29,2],[28,7,28,8],[29,7,29,8],[22,1,22,2],[22,3,22,9],[15,1,15,9],[16,1,17,2],[16,3,17,9],[18,1,18,2],[18,3,18,9],[19,1,19,2],[19,3,19,9],[20,1,20,2],[20,3,20,9],[21,1,21,2],[21,4,21,6],[21,8,21,9],[11,1,12,2],[11,3,11,4],[12,3,12,4],[13,1,14,2],[13,3,13,4],[14,3,14,4],[10,1,10,2],[10,3,10,9],[1,1,6,2],[1,3,3,7],[1,8,3,8],[1,9,3,9],[4,3,6,7],[4,8,6,9],[7,1,7,9],[8,1,8,2],[8,3,8,7],[9,1,9,2],[9,3,9,8]]}
[]
[null,null,null,"SERVICIUDAD ESP",null,null,null,null,"Código SPFO-11","Versión 03"]
[]
[]
[null,null,null,"FICHA TECNICA DEL INDICADOR",null,null,null,null,"PAGINA 01"]
[]
[]
[]
[null,"Nombre del índicador",null,"Cobertura canastillas",null,null,null,null,"Código: ","IF049"]
[null,"Nombre del plan o proceso",null,"INSTALACIÓN DE CANASTILAS"]
[null,"Propósito u objetivo del indicador",null,"Medir el dato de canastillas instaladas en el municipio"]
[null,"Tipo de indicador",null,"Eficiencia",null,null,"Eficacia",null,"Efectividad","X"]
[null,null,null,"Económia",null,null,"Ambiental"]
[null,"Estilo de cálculo",null,"Promedio",null,null,"Último dato","X"]
[null,null,null,"Suma",null,null,"Suma de componentes"]
[null,"MEDICIÓN DEL INDICADOR",null,null,null,null,null,null,null,null,null,null,null," "]
[null,"Fórmula de cálculo",null,"No de canastillas instaladas/ No. Aprobadas por el PGIRS"]
[]
[null,"Número de variables",null,2]
[null,"Definición variables (variables a medir)"]
[null,"Unidad de medida",null,"%"]
[null,"Tendencia del indicador",null,"Creciente","X",null,null,"Decreciente"]
[null,"Soporte legal",null,"Decreto 1077 2015 ministerio de vivienda"]
[null,"Planes y programas a los que le hace seguimiento",null,"PESV","X","PGR",null,"Resolución 315/05"]
[null,null,null,"Programa Aseo",null,"Plan Tarifario",null,"Resolución 151/01"]
[null,null,null,"SG-SST"]
[]
[null,"FRECUENCIAS Y RESPONSABLES"]
[null,"Frecuencia de Cálculo y Análisis",null,"Mensual","X","Trimestral",null,"Otro"]
[null,null,null,"Semestral",null,"Anual",null,"Cual"]
[null,"Responsable de la medición y análisis Cargo y Dependencia",null,"Profesional de aseo"]
[]
[null,"Elaboró","Subgerencia de planeación",null,null,null,"Fecha",2020]

{"sheet":"IF050","index":54,"n_rows":33,"n_cols":14,"rows_kept":33,"cut":false,"hidden":false,"merged":[[30,1,31,2],[30,3,31,9],[32,2,32,5],[32,7,32,9],[23,1,26,2],[23,7,23,8],[24,7,24,8],[25,7,25,8],[27,1,27,9],[28,1,29,2],[28,7,28,8],[29,7,29,8],[22,1,22,2],[22,3,22,9],[15,1,15,9],[16,1,17,2],[16,3,17,9],[18,1,18,2],[18,3,18,9],[19,1,19,2],[19,3,19,9],[20,1,20,2],[20,3,20,9],[21,1,21,2],[21,4,21,6],[21,8,21,9],[11,1,12,2],[11,3,11,4],[12,3,12,4],[13,1,14,2],[13,3,13,4],[14,3,14,4],[10,1,10,2],[10,3,10,9],[1,1,6,2],[1,3,3,7],[1,8,3,8],[1,9,3,9],[4,3,6,7],[4,8,6,9],[7,1,7,9],[8,1,8,2],[8,3,8,7],[9,1,9,2],[9,3,9,8]]}
[]
[null,null,null,"SERVICIUDAD ESP",null,null,null,null,"Código SPFO-11","Versión 03"]
[]
[]
[null,null,null,"FICHA TECNICA DEL INDICADOR",null,null,null,null,"PAGINA 01"]
[]
[]
[]
[null,"Nombre del índicador",null,"Calidad canastillas",null,null,null,null,"Código: ","IF050"]
[null,"Nombre del plan o proceso",null,"INSTALACIÓN DE CANASTILAS"]
[null,"Propósito u objetivo del indicador",null,"Medir el número de canastillas en buen estado"]
[null,"Tipo de indicador",null,"Eficiencia",null,null,"Eficacia",null,"Efectividad","X"]
[null,null,null,"Económia",null,null,"Ambiental"]
[null,"Estilo de cálculo",null,"Promedio",null,null,"Último dato","X"]
[null,null,null,"Suma",null,null,"Suma de componentes"]
[null,"MEDICIÓN DEL INDICADOR",null,null,null,null,null,null,null,null,null,null,null," "]
[null,"Fórmula de cálculo",null,"No de canastillas en buen estado/ total de canastillas"]
[]
[null,"Número de variables",null,2]
[null,"Definición variables (variables a medir)"]
[null,"Unidad de medida",null,"%"]
[null,"Tendencia del indicador",null,"Creciente","X",null,null,"Decreciente"]
[null,"Soporte legal",null,"Decreto 1077 2015 ministerio de vivienda"]
[null,"Planes y programas a los que le hace seguimiento",null,"PESV","X","PGR",null,"Resolución 315/05"]
[null,null,null,"Programa Aseo",null,"Plan Tarifario",null,"Resolución 151/01"]
[null,null,null,"SG-SST"]
[]
[null,"FRECUENCIAS Y RESPONSABLES"]
[null,"Frecuencia de Cálculo y Análisis",null,"Mensual","X","Trimestral",null,"Otro"]
[null,null,null,"Semestral",null,"Anual",null,"Cual"]
[null,"Responsable de la medición y análisis Cargo y Dependencia",null,"Profesional de aseo"]
[]
[null,"Elaboró","Subgerencia de planeación",null,null,null,"Fecha",2020]

{"sheet":"IF051","index":55,"n_rows":33,"n_cols":14,"rows_kept":33,"cut":false,"hidden":false,"merged":[[30,1,31,2],[30,3,31,9],[32,2,32,5],[32,7,32,9],[23,1,26,2],[23,7,23,8],[24,7,24,8],[25,7,25,8],[27,1,27,9],[28,1,29,2],[28,7,28,8],[29,7,29,8],[22,1,22,2],[22,3,22,9],[15,1,15,9],[16,1,17,2],[16,3,17,9],[18,1,18,2],[18,3,18,9],[19,1,19,2],[19,3,19,9],[20,1,20,2],[20,3,20,9],[21,1,21,2],[21,4,21,6],[21,8,21,9],[11,1,12,2],[11,3,11,4],[12,3,12,4],[13,1,14,2],[13,3,13,4],[14,3,14,4],[10,1,10,2],[10,3,10,9],[1,1,6,2],[1,3,3,7],[1,8,3,8],[1,9,3,9],[4,3,6,7],[4,8,6,9],[7,1,7,9],[8,1,8,2],[8,3,8,7],[9,1,9,2],[9,3,9,8]]}
[]
[null,null,null,"SERVICIUDAD ESP",null,null,null,null,"Código SPFO-11","Versión 03"]
[]
[]
[null,null,null,"FICHA TECNICA DEL INDICADOR",null,null,null,null,"PAGINA 01"]
[]
[]
[]
[null,"Nombre del índicador",null,"Mantenimiento de los vehículos ",null,null,null,null,"Código: ","IF051"]
[null,"Nombre del plan o proceso",null,"MANTENIMIENTO DE VEHÍCULOS"]
[null,"Propósito u objetivo del indicador",null,"Cumplir con los mantenimientos preventivos en los vehículos de la empresa."]
[null,"Tipo de indicador",null,"Eficiencia",null,"X","Eficacia",null,"Efectividad"]
[null,null,null,"Económia",null,null,"Ambiental"]
[null,"Estilo de cálculo",null,"Promedio",null,null,"Último dato","X"]
[null,null,null,"Suma",null,null,"Suma de componentes"]
[null,"MEDICIÓN DEL INDICADOR",null,null,null,null,null,null,null,null,null,null,null," "]
[null,"Fórmula de cálculo",null,"Número de Manteniemientos realizados/Número de mantenimientos programados"]
[]
[null,"Número de variables",null,2]
[null,"Definición variables (variables a medir)"]
[null,"Unidad de medida",null,"%"]
[null,"Tendencia del indicador",null,"Creciente","X",null,null,"Decreciente"]
[null,"Soporte legal"]
[null,"Planes y programas a los que le hace seguimiento",null,"PESV","X","PGR",null,"Resolución 315/05"]
[null,null,null,"Programa Aseo",null,"Plan Tarifario",null,"Resolución 151/01"]
[null,null,null,"SG-SST"]
[]
[null,"FRECUENCIAS Y RESPONSABLES"]
[null,"Frecuencia de Cálculo y Análisis",null,"Mensual","X","Trimestral",null,"Otro"]
[null,null,null,"Semestral",null,"Anual",null,"Cual"]
[null,"Responsable de la medición y análisis Cargo y Dependencia",null,"Técnico parque automotor"]
[]
[null,"Elaboró","Subgerencia de planeación",null,null,null,"Fecha",2020]

{"sheet":"IF052","index":56,"n_rows":33,"n_cols":14,"rows_kept":33,"cut":false,"hidden":false,"merged":[[30,1,31,2],[30,3,31,9],[32,2,32,5],[32,7,32,9],[23,1,26,2],[23,7,23,8],[24,7,24,8],[25,7,25,8],[27,1,27,9],[28,1,29,2],[28,7,28,8],[29,7,29,8],[22,1,22,2],[22,3,22,9],[15,1,15,9],[16,1,17,2],[16,3,17,9],[18,1,18,2],[18,3,18,9],[19,1,19,2],[19,3,19,9],[20,1,20,2],[20,3,20,9],[21,1,21,2],[21,4,21,6],[21,8,21,9],[11,1,12,2],[11,3,11,4],[12,3,12,4],[13,1,14,2],[13,3,13,4],[14,3,14,4],[10,1,10,2],[10,3,10,9],[1,1,6,2],[1,3,3,7],[1,8,3,8],[1,9,3,9],[4,3,6,7],[4,8,6,9],[7,1,7,9],[8,1,8,2],[8,3,8,7],[9,1,9,2],[9,3,9,8]]}
[]
[null,null,null,"SERVICIUDAD ESP",null,null,null,null,"Código SPFO-11","Versión 03"]
[]
[]
[null,null,null,"FICHA TECNICA DEL INDICADOR",null,null,null,null,"PAGINA 01"]
[]
[]
[]
[null,"Nombre del índicador",null,"Efectividad de los Vehículos",null,null,null,null,"Código: ","IF052"]
[null,"Nombre del plan o proceso",null,"MANTENIMIENTO DE VEHÍCULOS"]
[null,"Propósito u objetivo del indicador",null,"Reflejar el porcentaje promedio ponderado de tiempo en funcionamiento de los vehículos de la empresa."]
[null,"Tipo de indicador",null,"Eficiencia",null,null,"Eficacia","X","Efectividad"]
[null,null,null,"Económia",null,null,"Ambiental"]
[null,"Estilo de cálculo",null,"Promedio",null,null,"Último dato","X"]
[null,null,null,"Suma",null,null,"Suma de componentes"]
[null,"MEDICIÓN DEL INDICADOR",null,null,null,null,null,null,null,null,null,null,null," "]
[null,"Fórmula de cálculo",null,"(Sum. Efectividad por Vehiculo/Total de vehículos)"]
[]
[null,"Número de variables",null,2]
[null,"Definición variables (variables a medir)"]
[null,"Unidad de medida",null,"%"]
[null,"Tendencia del indicador",null,"Creciente","X",null,null,"Decreciente"]
[null,"Soporte legal",null,"Resolucion 1565/2014"]
[null,"Planes y programas a los que le hace seguimiento",null,"PESV","X","PGR",null,"Resolución 315/05"]
[null,null,null,"Programa Aseo",null,"Plan Tarifario",null,"Resolución 151/01"]
[null,null,null,"SG-SST"]
[]
[null,"FRECUENCIAS Y RESPONSABLES"]
[null,"Frecuencia de Cálculo y Análisis",null,"Mensual","X","Trimestral",null,"Otro"]
[null,null,null,"Semestral",null,"Anual",null,"Cual"]
[null,"Responsable de la medición y análisis Cargo y Dependencia",null,"Técnico parque automotor"]
[]
[null,"Elaboró","Subgerencia de planeación",null,null,null,"Fecha",2020]

{"sheet":"IF053","index":57,"n_rows":33,"n_cols":14,"rows_kept":33,"cut":false,"hidden":false,"merged":[[30,1,31,2],[30,3,31,9],[32,2,32,5],[32,7,32,9],[23,1,26,2],[23,7,23,8],[24,7,24,8],[25,7,25,8],[27,1,27,9],[28,1,29,2],[28,7,28,8],[29,7,29,8],[22,1,22,2],[22,3,22,9],[15,1,15,9],[16,1,17,2],[16,3,17,9],[18,1,18,2],[18,3,18,9],[19,1,19,2],[19,3,19,9],[20,1,20,2],[20,3,20,9],[21,1,21,2],[21,4,21,6],[21,8,21,9],[11,1,12,2],[11,3,11,4],[12,3,12,4],[13,1,14,2],[13,3,13,4],[14,3,14,4],[10,1,10,2],[10,3,10,9],[1,1,6,2],[1,3,3,7],[1,8,3,8],[1,9,3,9],[4,3,6,7],[4,8,6,9],[7,1,7,9],[8,1,8,2],[8,3,8,7],[9,1,9,2],[9,3,9,8]]}
[]
[null,null,null,"SERVICIUDAD ESP",null,null,null,null,"Código SPFO-11","Versión 03"]
[]
[]
[null,null,null,"FICHA TECNICA DEL INDICADOR",null,null,null,null,"PAGINA 01"]
[]
[]
[]
[null,"Nombre del índicador",null,"Efectividad de los Recolectores",null,null,null,null,"Código: ","IF053"]
[null,"Nombre del plan o proceso",null,"MANTENIMIENTO DE VEHÍCULOS"]
[null,"Propósito u objetivo del indicador",null,"Reflejar el porcentaje de tiempo en funcionamiento de los vehículos recolectores de la empresa."]
[null,"Tipo de indicador",null,"Eficiencia",null,null,"Eficacia","X","Efectividad"]
[null,null,null,"Económia",null,null,"Ambiental"]
[null,"Estilo de cálculo",null,"Promedio",null,null,"Último dato","X"]
[null,null,null,"Suma",null,null,"Suma de componentes"]
[null,"MEDICIÓN DEL INDICADOR",null,null,null,null,null,null,null,null,null,null,null," "]
[null,"Fórmula de cálculo",null,"(Sum. Efectividad por recolector/Total Recolectores)"]
[]
[null,"Número de variables",null,2]
[null,"Definición variables (variables a medir)"]
[null,"Unidad de medida",null,"%"]
[null,"Tendencia del indicador",null,"Creciente","X",null,null,"Decreciente"]
[null,"Soporte legal"]
[null,"Planes y programas a los que le hace seguimiento",null,"PESV","X","PGR",null,"Resolución 315/05"]
[null,null,null,"Programa Aseo",null,"Plan Tarifario",null,"Resolución 151/01"]
[null,null,null,"SG-SST"]
[]
[null,"FRECUENCIAS Y RESPONSABLES"]
[null,"Frecuencia de Cálculo y Análisis",null,"Mensual","X","Trimestral",null,"Otro"]
[null,null,null,"Semestral",null,"Anual",null,"Cual"]
[null,"Responsable de la medición y análisis Cargo y Dependencia",null,"Técnico parque automotor"]
[]
[null,"Elaboró","Subgerencia de planeación",null,null,null,"Fecha",2020]

{"sheet":"IF054","index":58,"n_rows":33,"n_cols":14,"rows_kept":33,"cut":false,"hidden":false,"merged":[[30,1,31,2],[30,3,31,9],[32,2,32,5],[32,7,32,9],[23,1,26,2],[23,7,23,8],[24,7,24,8],[25,7,25,8],[27,1,27,9],[28,1,29,2],[28,7,28,8],[29,7,29,8],[22,1,22,2],[22,3,22,9],[15,1,15,9],[16,1,17,2],[16,3,17,9],[18,1,18,2],[18,3,18,9],[19,1,19,2],[19,3,19,9],[20,1,20,2],[20,3,20,9],[21,1,21,2],[21,4,21,6],[21,8,21,9],[11,1,12,2],[11,3,11,4],[12,3,12,4],[13,1,14,2],[13,3,13,4],[14,3,14,4],[10,1,10,2],[10,3,10,9],[1,1,6,2],[1,3,3,7],[1,8,3,8],[1,9,3,9],[4,3,6,7],[4,8,6,9],[7,1,7,9],[8,1,8,2],[8,3,8,7],[9,1,9,2],[9,3,9,8]]}
[]
[null,null,null,"SERVICIUDAD ESP",null,null,null,null,"Código SPFO-11","Versión 03"]
[]
[]
[null,null,null,"FICHA TECNICA DEL INDICADOR",null,null,null,null,"PAGINA 01"]
[]
[]
[]
[null,"Nombre del índicador",null,"EBITDA",null,null,null,null,"Código: ","IF054"]
[null,"Nombre del plan o proceso",null,"GESTIÓN FINANCIERA"]
[null,"Propósito u objetivo del indicador",null,"Corresponde al cálculo de la utilidad del prestador, teniendo en cuenta la depuración antes de intereses, impuestos, depreciaciones y.amortizaciones,"]
[null,"Tipo de indicador",null,"Eficiencia",null,null,"Eficacia",null,"Efectividad"]
[null,null,null,"Económia",null,"X","Ambiental"]
[null,"Estilo de cálculo",null,"Promedio",null,null,"Último dato","X"]
[null,null,null,"Suma",null,null,"Suma de componentes"]
[null,"MEDICIÓN DEL INDICADOR",null,null,null,null,null,null,null,null,null,null,null," "]
[null,"Fórmula de cálculo",null,"UAO + Depr + Amort + Dete + Provi "]
[]
[null,"Número de variables",null,5]
[null,"Definición variables (variables a medir)",null,"UAO: Utilidad de actividades ordinarias; es el valor contable que mide el resultado obtenido directamente relacionado con la operación de los servicios públicos domiciliarios de acueducto y alcantarillado. Se obtiene restándole a la Ganancia bruta los gastos de administración. \nDepr: Depreciaciones, mecanismo mediante el cual se reconoce el desgaste y pérdida de valor que sufre un activo fijo por el uso del mismo en la generación de ingresos a través del tiempo. \nAmort: Amortizaciones; distribución del costo de una inversión como gasto a lo largo de los períodos en que esa inversión va a permitir obtener ingresos. \nDete:  Deterioro; valor que se genera cuando el valor en libros de un activo es superior al valor recuperable. \nProvi: Provisiones; recursos que conserva el prestador por haber contraído una obligación, con el objetivo de guardar esos recursos hasta el momento en el que deba satisfacer la factura, se excluye la renta"]
[null,"Unidad de medida",null,"Pesos corrientes (Miles COP)"]
[null,"Tendencia del indicador",null,"Creciente","X",null,null,"Decreciente"]
[null,"Soporte legal",null,"Resolución CRA 906/2019"]
[null,"Planes y programas a los que le hace seguimiento",null,"PESV",null,"PGR","X","Resolución 315/05"]
[null,null,null,"Programa Aseo",null,"Plan Tarifario",null,"Resolución 151/01"]
[null,null,null,"SG-SST"]
[]
[null,"FRECUENCIAS Y RESPONSABLES"]
[null,"Frecuencia de Cálculo y Análisis",null,"Mensual",null,"Trimestral","X","Otro"]
[null,null,null,"Semestral",null,"Anual",null,"Cual"]
[null,"Responsable de la medición y análisis Cargo y Dependencia",null,"Contadora"]
[]
[null,"Elaboró","Subgerencia de planeación",null,null,null,"Fecha",2020]

{"sheet":"IF055","index":59,"n_rows":33,"n_cols":14,"rows_kept":33,"cut":false,"hidden":false,"merged":[[30,1,31,2],[30,3,31,9],[32,2,32,5],[32,7,32,9],[23,1,26,2],[23,7,23,8],[24,7,24,8],[25,7,25,8],[27,1,27,9],[28,1,29,2],[28,7,28,8],[29,7,29,8],[22,1,22,2],[22,3,22,9],[15,1,15,9],[16,1,17,2],[16,3,17,9],[18,1,18,2],[18,3,18,9],[19,1,19,2],[19,3,19,9],[20,1,20,2],[20,3,20,9],[21,1,21,2],[21,4,21,6],[21,8,21,9],[11,1,12,2],[11,3,11,4],[12,3,12,4],[13,1,14,2],[13,3,13,4],[14,3,14,4],[10,1,10,2],[10,3,10,9],[1,1,6,2],[1,3,3,7],[1,8,3,8],[1,9,3,9],[4,3,6,7],[4,8,6,9],[7,1,7,9],[8,1,8,2],[8,3,8,7],[9,1,9,2],[9,3,9,8]]}
[]
[null,null,null,"SERVICIUDAD ESP",null,null,null,null,"Código SPFO-11","Versión 03"]
[]
[]
[null,null,null,"FICHA TECNICA DEL INDICADOR",null,null,null,null,"PAGINA 01"]
[]
[]
[]
[null,"Nombre del índicador",null,"EBITDA Acueducto",null,null,null,null,"Código: ","IF055"]
[null,"Nombre del plan o proceso",null,"GESTIÓN FINANCIERA"]
[null,"Propósito u objetivo del indicador",null,"Determinar las ganancias o la utilidad obtenida, sin tener en cuenta los gastos financieros, los impuestos y demás gastos contables."]
[null,"Tipo de indicador",null,"Eficiencia",null,null,"Eficacia",null,"Efectividad"]
[null,null,null,"Económia",null,"X","Ambiental"]
[null,"Estilo de cálculo",null,"Promedio",null,null,"Último dato","X"]
[null,null,null,"Suma",null,null,"Suma de componentes"]
[null,"MEDICIÓN DEL INDICADOR",null,null,null,null,null,null,null,null,null,null,null," "]
[null,"Fórmula de cálculo",null,"Excedentes antes de impuestos, depreciación, impuestos y amortizaciones"]
[]
[null,"Número de variables",null,1]
[null,"Definición variables (variables a medir)"]
[null,"Unidad de medida",null,"Pesos corrientes (Miles COP)"]
[null,"Tendencia del indicador",null,"Creciente","X",null,null,"Decreciente"]
[null,"Soporte legal"]
[null,"Planes y programas a los que le hace seguimiento",null,"PESV",null,"PGR",null,"Resolución 315/05",null,"X"]
[null,null,null,"Programa Aseo",null,"Plan Tarifario",null,"Resolución 151/01"]
[null,null,null,"SG-SST"]
[]
[null,"FRECUENCIAS Y RESPONSABLES"]
[null,"Frecuencia de Cálculo y Análisis",null,"Mensual",null,"Trimestral","X","Otro"]
[null,null,null,"Semestral",null,"Anual",null,"Cual"]
[null,"Responsable de la medición y análisis Cargo y Dependencia",null,"Contadora"]
[]
[null,"Elaboró","Subgerencia de planeación",null,null,null,"Fecha",2020]

{"sheet":"IF056","index":60,"n_rows":33,"n_cols":14,"rows_kept":33,"cut":false,"hidden":false,"merged":[[30,1,31,2],[30,3,31,9],[32,2,32,5],[32,7,32,9],[23,1,26,2],[23,7,23,8],[24,7,24,8],[25,7,25,8],[27,1,27,9],[28,1,29,2],[28,7,28,8],[29,7,29,8],[22,1,22,2],[22,3,22,9],[15,1,15,9],[16,1,17,2],[16,3,17,9],[18,1,18,2],[18,3,18,9],[19,1,19,2],[19,3,19,9],[20,1,20,2],[20,3,20,9],[21,1,21,2],[21,4,21,6],[21,8,21,9],[11,1,12,2],[11,3,11,4],[12,3,12,4],[13,1,14,2],[13,3,13,4],[14,3,14,4],[10,1,10,2],[10,3,10,9],[1,1,6,2],[1,3,3,7],[1,8,3,8],[1,9,3,9],[4,3,6,7],[4,8,6,9],[7,1,7,9],[8,1,8,2],[8,3,8,7],[9,1,9,2],[9,3,9,8]]}
[]
[null,null,null,"SERVICIUDAD ESP",null,null,null,null,"Código SPFO-11","Versión 03"]
[]
[]
[null,null,null,"FICHA TECNICA DEL INDICADOR",null,null,null,null,"PAGINA 01"]
[]
[]
[]
[null,"Nombre del índicador",null,"EBITDA Alcantarillado",null,null,null,null,"Código: ","IF056"]
[null,"Nombre del plan o proceso",null,"GESTIÓN FINANCIERA"]
[null,"Propósito u objetivo del indicador",null,"Determinar las ganancias o la utilidad obtenida, sin tener en cuenta los gastos financieros, los impuestos y demás gastos contables."]
[null,"Tipo de indicador",null,"Eficiencia",null,null,"Eficacia",null,"Efectividad"]
[null,null,null,"Económia",null,"X","Ambiental"]
[null,"Estilo de cálculo",null,"Promedio",null,null,"Último dato","X"]
[null,null,null,"Suma",null,null,"Suma de componentes"]
[null,"MEDICIÓN DEL INDICADOR",null,null,null,null,null,null,null,null,null,null,null," "]
[null,"Fórmula de cálculo",null,"Excedentes antes de impuestos, depreciación, impuestos y amortizaciones"]
[]
[null,"Número de variables",null,1]
[null,"Definición variables (variables a medir)"]
[null,"Unidad de medida",null,"Pesos corrientes (Miles COP)"]
[null,"Tendencia del indicador",null,"Creciente","X",null,null,"Decreciente"]
[null,"Soporte legal"]
[null,"Planes y programas a los que le hace seguimiento",null,"PESV",null,"PGR",null,"Resolución 315/05",null,"X"]
[null,null,null,"Programa Aseo",null,"Plan Tarifario",null,"Resolución 151/01"]
[null,null,null,"SG-SST"]
[]
[null,"FRECUENCIAS Y RESPONSABLES"]
[null,"Frecuencia de Cálculo y Análisis",null,"Mensual",null,"Trimestral","X","Otro"]
[null,null,null,"Semestral",null,"Anual",null,"Cual"]
[null,"Responsable de la medición y análisis Cargo y Dependencia",null,"Contadora"]
[]
[null,"Elaboró","Subgerencia de planeación",null,null,null,"Fecha",2020]

{"sheet":"IF057","index":61,"n_rows":33,"n_cols":14,"rows_kept":33,"cut":false,"hidden":false,"merged":[[30,1,31,2],[30,3,31,9],[32,2,32,5],[32,7,32,9],[23,1,26,2],[23,7,23,8],[24,7,24,8],[25,7,25,8],[27,1,27,9],[28,1,29,2],[28,7,28,8],[29,7,29,8],[22,1,22,2],[22,3,22,9],[15,1,15,9],[16,1,17,2],[16,3,17,9],[18,1,18,2],[18,3,18,9],[19,1,19,2],[19,3,19,9],[20,1,20,2],[20,3,20,9],[21,1,21,2],[21,4,21,6],[21,8,21,9],[11,1,12,2],[11,3,11,4],[12,3,12,4],[13,1,14,2],[13,3,13,4],[14,3,14,4],[10,1,10,2],[10,3,10,9],[1,1,6,2],[1,3,3,7],[1,8,3,8],[1,9,3,9],[4,3,6,7],[4,8,6,9],[7,1,7,9],[8,1,8,2],[8,3,8,7],[9,1,9,2],[9,3,9,8]]}
[]
[null,null,null,"SERVICIUDAD ESP",null,null,null,null,"Código SPFO-11","Versión 03"]
[]
[]
[null,null,null,"FICHA TECNICA DEL INDICADOR",null,null,null,null,"PAGINA 01"]
[]
[]
[]
[null,"Nombre del índicador",null,"EBITDA Aseo",null,null,null,null,"Código: ","IF057"]
[null,"Nombre del plan o proceso",null,"GESTIÓN FINANCIERA"]
[null,"Propósito u objetivo del indicador",null,"Determinar las ganancias o la utilidad obtenida, sin tener en cuenta los gastos financieros, los impuestos y demás gastos contables."]
[null,"Tipo de indicador",null,"Eficiencia",null,null,"Eficacia",null,"Efectividad"]
[null,null,null,"Económia",null,"X","Ambiental"]
[null,"Estilo de cálculo",null,"Promedio",null,null,"Último dato","X"]
[null,null,null,"Suma",null,null,"Suma de componentes"]
[null,"MEDICIÓN DEL INDICADOR",null,null,null,null,null,null,null,null,null,null,null," "]
[null,"Fórmula de cálculo",null,"Excedentes antes de impuestos, depreciación, impuestos y amortizaciones"]
[]
[null,"Número de variables",null,1]
[null,"Definición variables (variables a medir)"]
[null,"Unidad de medida",null,"Pesos corrientes (Miles COP)"]
[null,"Tendencia del indicador",null,"Creciente","X",null,null,"Decreciente"]
[null,"Soporte legal"]
[null,"Planes y programas a los que le hace seguimiento",null,"PESV",null,"PGR",null,"Resolución 315/05"]
[null,null,null,"Programa Aseo",null,"Plan Tarifario",null,"Resolución 151/01",null,"X"]
[null,null,null,"SG-SST"]
[]
[null,"FRECUENCIAS Y RESPONSABLES"]
[null,"Frecuencia de Cálculo y Análisis",null,"Mensual",null,"Trimestral","X","Otro"]
[null,null,null,"Semestral",null,"Anual",null,"Cual"]
[null,"Responsable de la medición y análisis Cargo y Dependencia",null,"Contadora"]
[]
[null,"Elaboró","Subgerencia de planeación",null,null,null,"Fecha",2020]

{"sheet":"IF058","index":62,"n_rows":33,"n_cols":14,"rows_kept":33,"cut":false,"hidden":false,"merged":[[30,1,31,2],[30,3,31,9],[32,2,32,5],[32,7,32,9],[23,1,26,2],[23,7,23,8],[24,7,24,8],[25,7,25,8],[27,1,27,9],[28,1,29,2],[28,7,28,8],[29,7,29,8],[22,1,22,2],[22,3,22,9],[15,1,15,9],[16,1,17,2],[16,3,17,9],[18,1,18,2],[18,3,18,9],[19,1,19,2],[19,3,19,9],[20,1,20,2],[20,3,20,9],[21,1,21,2],[21,4,21,6],[21,8,21,9],[11,1,12,2],[11,3,11,4],[12,3,12,4],[13,1,14,2],[13,3,13,4],[14,3,14,4],[10,1,10,2],[10,3,10,9],[1,1,6,2],[1,3,3,7],[1,8,3,8],[1,9,3,9],[4,3,6,7],[4,8,6,9],[7,1,7,9],[8,1,8,2],[8,3,8,7],[9,1,9,2],[9,3,9,8]]}
[]
[null,null,null,"SERVICIUDAD ESP",null,null,null,null,"Código SPFO-11","Versión 03"]
[]
[]
[null,null,null,"FICHA TECNICA DEL INDICADOR",null,null,null,null,"PAGINA 01"]
[]
[]
[]
[null,"Nombre del índicador",null,"Eficiencia en el Recaudo — ER",null,null,null,null,"Código: ","IF058"]
[null,"Nombre del plan o proceso",null,"GESTIÓN FINANCIERA"]
[null,"Propósito u objetivo del indicador",null,"Determinar la proporción de los ingresos por prestación de los servicios públicos domiciliarios de acuedcuto y/o alcantarillado facturados y que se pretenden recuadar en un periodo corriente"]
[null,"Tipo de indicador",null,"Eficiencia",null,null,"Eficacia",null,"Efectividad"]
[null,null,null,"Económia",null,"X","Ambiental"]
[null,"Estilo de cálculo",null,"Promedio",null,null,"Último dato","X"]
[null,null,null,"Suma",null,null,"Suma de componentes"]
[null,"MEDICIÓN DEL INDICADOR",null,null,null,null,null,null,null,null,null,null,null," "]
[null,"Fórmula de cálculo",null,"(RI/Ie) x 100"]
[]
[null,"Número de variables",null,2]
[null,"Definición variables (variables a medir)",null,"RI: Recaudo en el período de evaluación por prestación de los servicios públicos domiciliarios de acueducto y/o alcantarillado. Los valores recaudados no deben incluir el recaudo de cartera de años anteriores\nIe:Ingresos de actividades ordinarias del período a evaluar."]
[null,"Unidad de medida",null,"%"]
[null,"Tendencia del indicador",null,"Creciente","X",null,null,"Decreciente"]
[null,"Soporte legal",null,"Resolución CRA 906/2019"]
[null,"Planes y programas a los que le hace seguimiento",null,"PESV",null,"PGR","x","Resolución 315/05"]
[null,null,null,"Programa Aseo",null,"Plan Tarifario",null,"Resolución 151/01"]
[null,null,null,"SG-SST"]
[]
[null,"FRECUENCIAS Y RESPONSABLES"]
[null,"Frecuencia de Cálculo y Análisis",null,"Mensual",null,"Trimestral","X","Otro"]
[null,null,null,"Semestral",null,"Anual",null,"Cual"]
[null,"Responsable de la medición y análisis Cargo y Dependencia",null,"Contadora"]
[]
[null,"Elaboró","Subgerencia de planeación",null,null,null,"Fecha",2020]

{"sheet":"IF059","index":63,"n_rows":33,"n_cols":14,"rows_kept":33,"cut":false,"hidden":false,"merged":[[30,1,31,2],[30,3,31,9],[32,2,32,5],[32,7,32,9],[23,1,26,2],[23,7,23,8],[24,7,24,8],[25,7,25,8],[27,1,27,9],[28,1,29,2],[28,7,28,8],[29,7,29,8],[22,1,22,2],[22,3,22,9],[15,1,15,9],[16,1,17,2],[16,3,17,9],[18,1,18,2],[18,3,18,9],[19,1,19,2],[19,3,19,9],[20,1,20,2],[20,3,20,9],[21,1,21,2],[21,4,21,6],[21,8,21,9],[11,1,12,2],[11,3,11,4],[12,3,12,4],[13,1,14,2],[13,3,13,4],[14,3,14,4],[10,1,10,2],[10,3,10,9],[1,1,6,2],[1,3,3,7],[1,8,3,8],[1,9,3,9],[4,3,6,7],[4,8,6,9],[7,1,7,9],[8,1,8,2],[8,3,8,7],[9,1,9,2],[9,3,9,8]]}
[]
[null,null,null,"SERVICIUDAD ESP",null,null,null,null,"Código SPFO-11","Versión 03"]
[]
[]
[null,null,null,"FICHA TECNICA DEL INDICADOR",null,null,null,null,"PAGINA 01"]
[]
[]
[]
[null,"Nombre del índicador",null,"Cubrimiento de Costos y Gastos — CG",null,null,null,null,"Código: ","IF059"]
[null,"Nombre del plan o proceso",null,"GESTIÓN FINANCIERA"]
[null,"Propósito u objetivo del indicador",null,"Determinar la capacidad del prestador para cubrir todas las erogaciones derivadas de la prestación de los servicios domiciliarios de acueducto y/o alacantarillado con los ingresos de actividades ordinarias."]
[null,"Tipo de indicador",null,"Eficiencia",null,null,"Eficacia",null,"Efectividad"]
[null,null,null,"Económia",null,"X","Ambiental"]
[null,"Estilo de cálculo",null,"Promedio",null,null,"Último dato","X"]
[null,null,null,"Suma",null,null,"Suma de componentes"]
[null,"MEDICIÓN DEL INDICADOR",null,null,null,null,null,null,null,null,null,null,null," "]
[null,"Fórmula de cálculo",null,"RI/GOA"]
[]
[null,"Número de variables",null,2]
[null,"Definición variables (variables a medir)",null,"RI:  Recaudo en el período de evaluación por prestación de los servicios públicos domiciliarios de acueducto y/o alcantarillado. Los valores recaudados no deben incluir el recaudo de cartera de años anteriores. \nGOA: Costos operativos y gastos administrativos generados durante el período de evaluación. Se deben incluir todas las erogaciones asociadas a la prestación de los servicios públicos domiciliarios de acueducto y/o alcantarillado, incluidas las generadas por la actividad comercial, así como las depreciaciones y amortizaciones."]
[null,"Unidad de medida",null,"Número"]
[null,"Tendencia del indicador",null,"Creciente","X",null,null,"Decreciente"]
[null,"Soporte legal",null,"Resolución CRA 906/2019"]
[null,"Planes y programas a los que le hace seguimiento",null,"PESV",null,"PGR","X","Resolución 315/05"]
[null,null,null,"Programa Aseo",null,"Plan Tarifario",null,"Resolución 151/01"]
[null,null,null,"SG-SST"]
[]
[null,"FRECUENCIAS Y RESPONSABLES"]
[null,"Frecuencia de Cálculo y Análisis",null,"Mensual",null,"Trimestral","X","Otro"]
[null,null,null,"Semestral",null,"Anual",null,"Cual"]
[null,"Responsable de la medición y análisis Cargo y Dependencia",null,"Contadora"]
[]
[null,"Elaboró","Subgerencia de planeación",null,null,null,"Fecha",2020]

{"sheet":"IF060","index":64,"n_rows":33,"n_cols":14,"rows_kept":33,"cut":false,"hidden":false,"merged":[[30,1,31,2],[30,3,31,9],[32,2,32,5],[32,7,32,9],[23,1,26,2],[23,7,23,8],[24,7,24,8],[25,7,25,8],[27,1,27,9],[28,1,29,2],[28,7,28,8],[29,7,29,8],[22,1,22,2],[22,3,22,9],[15,1,15,9],[16,1,17,2],[16,3,17,9],[18,1,18,2],[18,3,18,9],[19,1,19,2],[19,3,19,9],[20,1,20,2],[20,3,20,9],[21,1,21,2],[21,4,21,6],[21,8,21,9],[11,1,12,2],[11,3,11,4],[12,3,12,4],[13,1,14,2],[13,3,13,4],[14,3,14,4],[10,1,10,2],[10,3,10,9],[1,1,6,2],[1,3,3,7],[1,8,3,8],[1,9,3,9],[4,3,6,7],[4,8,6,9],[7,1,7,9],[8,1,8,2],[8,3,8,7],[9,1,9,2],[9,3,9,8]]}
[]
[null,null,null,"SERVICIUDAD ESP",null,null,null,null,"Código SPFO-11","Versión 03"]
[]
[]
[null,null,null,"FICHA TECNICA DEL INDICADOR",null,null,null,null,"PAGINA 01"]
[]
[]
[]
[null,"Nombre del índicador",null,"Relación de Endeudamiento — RDP",null,null,null,null,"Código: ","IF060"]
[null,"Nombre del plan o proceso",null,"GESTIÓN FINANCIERA"]
[null,"Propósito u objetivo del indicador",null,"Medir la estructura de financiamiento que se utiliza, mediante la relación entre el pasivo exigible a corto y largo plazo y el patrimonio. También se conoce como factor de apalancamiento"]
[null,"Tipo de indicador",null,"Eficiencia",null,null,"Eficacia",null,"Efectividad"]
[null,null,null,"Económia",null,"X","Ambiental"]
[null,"Estilo de cálculo",null,"Promedio",null,null,"Último dato","X"]
[null,null,null,"Suma",null,null,"Suma de componentes"]
[null,"MEDICIÓN DEL INDICADOR",null,null,null,null,null,null,null,null,null,null,null," "]
[null,"Fórmula de cálculo",null,"PsT / P"]
[]
[null,"Número de variables",null,2]
[null,"Definición variables (variables a medir)",null,"PsT: Pasivo total. Se incluirá el saldo total de los pasivos reportados por el prestador en el formulario correspondiente. \nP:  Patrimonio total. Se incluirá el saldo total del patrimonio reportado por el prestador en el formulario correspondiente. "]
[null,"Unidad de medida",null,"Número"]
[null,"Tendencia del indicador",null,"Creciente","X",null,null,"Decreciente"]
[null,"Soporte legal",null,"Resolución CRA 906/2019"]
[null,"Planes y programas a los que le hace seguimiento",null,"PESV",null,"PGR","X","Resolución 315/05"]
[null,null,null,"Programa Aseo",null,"Plan Tarifario",null,"Resolución 151/01"]
[null,null,null,"SG-SST"]
[]
[null,"FRECUENCIAS Y RESPONSABLES"]
[null,"Frecuencia de Cálculo y Análisis",null,"Mensual",null,"Trimestral","X","Otro"]
[null,null,null,"Semestral",null,"Anual",null,"Cual"]
[null,"Responsable de la medición y análisis Cargo y Dependencia",null,"Contadora"]
[]
[null,"Elaboró","Subgerencia de planeación",null,null,null,"Fecha",2020]

{"sheet":"IF061","index":65,"n_rows":33,"n_cols":14,"rows_kept":33,"cut":false,"hidden":false,"merged":[[30,1,31,2],[30,3,31,9],[32,2,32,5],[32,7,32,9],[23,1,26,2],[23,7,23,8],[24,7,24,8],[25,7,25,8],[27,1,27,9],[28,1,29,2],[28,7,28,8],[29,7,29,8],[22,1,22,2],[22,3,22,9],[15,1,15,9],[16,1,17,2],[16,3,17,9],[18,1,18,2],[18,3,18,9],[19,1,19,2],[19,3,19,9],[20,1,20,2],[20,3,20,9],[21,1,21,2],[21,4,21,6],[21,8,21,9],[11,1,12,2],[11,3,11,4],[12,3,12,4],[13,1,14,2],[13,3,13,4],[14,3,14,4],[10,1,10,2],[10,3,10,9],[1,1,6,2],[1,3,3,7],[1,8,3,8],[1,9,3,9],[4,3,6,7],[4,8,6,9],[7,1,7,9],[8,1,8,2],[8,3,8,7],[9,1,9,2],[9,3,9,8]]}
[]
[null,null,null,"SERVICIUDAD ESP",null,null,null,null,"Código SPFO-11","Versión 03"]
[]
[]
[null,null,null,"FICHA TECNICA DEL INDICADOR",null,null,null,null,"PAGINA 01"]
[]
[]
[]
[null,"Nombre del índicador",null,"Rotación de Cartera de Servicios Públicos en días de pago — RC",null,null,null,null,"Código: ","IF061"]
[null,"Nombre del plan o proceso",null,"GESTIÓN FINANCIERA"]
[null,"Propósito u objetivo del indicador",null,"Identificar el tiempo promedio en que se recibe el pago por parte de los suscriptores por concepto de la cartera generada por la prestación de los servicios públicos domiciliaios de acueducto y /o alcantarillado"]
[null,"Tipo de indicador",null,"Eficiencia",null,null,"Eficacia",null,"Efectividad"]
[null,null,null,"Económia",null,"X","Ambiental"]
[null,"Estilo de cálculo",null,"Promedio",null,null,"Último dato","X"]
[null,null,null,"Suma",null,null,"Suma de componentes"]
[null,"MEDICIÓN DEL INDICADOR",null,null,null,null,null,null,null,null,null,null,null," "]
[null,"Fórmula de cálculo",null,"(CCPC x 360) /RI "]
[]
[null,"Número de variables",null,2]
[null,"Definición variables (variables a medir)",null,"CCPC: Saldo de cuentas por cobrar por la prestación de los servicios públicos domiciliarios de acueducto y/o alcantarillado. Se incluirá el saldo total de las cuentas comerciales por cobrar corrientes y no corrientes reportadas por el prestador en el formulario correspondiente.\nRI:  Recaudo en el período de evaluación por prestación de los servicios públicos domiciliarios de acueducto y/o alcantarillado. Los valores recaudados no deben incluir el recaudo de cartera de años anteriores"]
[null,"Unidad de medida",null,"Número"]
[null,"Tendencia del indicador",null,"Creciente",null,null,null,"Decreciente","X"]
[null,"Soporte legal",null,"Resolución CRA 906/2019"]
[null,"Planes y programas a los que le hace seguimiento",null,"PESV",null,"PGR","X","Resolución 315/05"]
[null,null,null,"Programa Aseo",null,"Plan Tarifario",null,"Resolución 151/01"]
[null,null,null,"SG-SST"]
[]
[null,"FRECUENCIAS Y RESPONSABLES"]
[null,"Frecuencia de Cálculo y Análisis",null,"Mensual",null,"Trimestral","X","Otro"]
[null,null,null,"Semestral",null,"Anual",null,"Cual"]
[null,"Responsable de la medición y análisis Cargo y Dependencia",null,"Contadora"]
[]
[null,"Elaboró","Subgerencia de planeación",null,null,null,"Fecha",2020]

{"sheet":"IF062","index":66,"n_rows":33,"n_cols":14,"rows_kept":33,"cut":false,"hidden":false,"merged":[[30,1,31,2],[30,3,31,9],[32,2,32,5],[32,7,32,9],[23,1,26,2],[23,7,23,8],[24,7,24,8],[25,7,25,8],[27,1,27,9],[28,1,29,2],[28,7,28,8],[29,7,29,8],[22,1,22,2],[22,3,22,9],[15,1,15,9],[16,1,17,2],[16,3,17,9],[18,1,18,2],[18,3,18,9],[19,1,19,2],[19,3,19,9],[20,1,20,2],[20,3,20,9],[21,1,21,2],[21,4,21,6],[21,8,21,9],[11,1,12,2],[11,3,11,4],[12,3,12,4],[13,1,14,2],[13,3,13,4],[14,3,14,4],[10,1,10,2],[10,3,10,9],[1,1,6,2],[1,3,3,7],[1,8,3,8],[1,9,3,9],[4,3,6,7],[4,8,6,9],[7,1,7,9],[8,1,8,2],[8,3,8,7],[9,1,9,2],[9,3,9,8]]}
[]
[null,null,null,"SERVICIUDAD ESP",null,null,null,null,"Código SPFO-11","Versión 03"]
[]
[]
[null,null,null,"FICHA TECNICA DEL INDICADOR",null,null,null,null,"PAGINA 01"]
[]
[]
[]
[null,"Nombre del índicador",null,"Flujos Comprometidos — FC",null,null,null,null,"Código: ","IF062"]
[null,"Nombre del plan o proceso",null,"GESTIÓN FINANCIERA"]
[null,"Propósito u objetivo del indicador",null,"Corresponde a la relación entre la rentabilidad y el pasivo total del prestador. El indicador de Flujos Comprometidos muestra cuantas veces el EBITDA alcanzaría para cubrir las obligaciones con los terceros. "]
[null,"Tipo de indicador",null,"Eficiencia",null,null,"Eficacia",null,"Efectividad"]
[null,null,null,"Económia",null,"X","Ambiental"]
[null,"Estilo de cálculo",null,"Promedio",null,null,"Último dato","X"]
[null,null,null,"Suma",null,null,"Suma de componentes"]
[null,"MEDICIÓN DEL INDICADOR",null,null,null,null,null,null,null,null,null,null,null," "]
[null,"Fórmula de cálculo",null,"PsT /EBITDA"]
[]
[null,"Número de variables",null,2]
[null,"Definición variables (variables a medir)",null,"PsT:  Pasivo total. Se incluirá el saldo total de los pasivos reportados por el prestador en el formulario correspondiente. \nEBITDA: Beneficio antes de intereses, impuestos, depreciaciones y amortizaciones"]
[null,"Unidad de medida",null,"Número"]
[null,"Tendencia del indicador",null,"Creciente",null,null,null,"Decreciente","X"]
[null,"Soporte legal"]
[null,"Planes y programas a los que le hace seguimiento",null,"PESV",null,"PGR","X","Resolución 315/05"]
[null,null,null,"Programa Aseo",null,"Plan Tarifario",null,"Resolución 151/01"]
[null,null,null,"SG-SST"]
[]
[null,"FRECUENCIAS Y RESPONSABLES"]
[null,"Frecuencia de Cálculo y Análisis",null,"Mensual",null,"Trimestral","X","Otro"]
[null,null,null,"Semestral",null,"Anual",null,"Cual"]
[null,"Responsable de la medición y análisis Cargo y Dependencia",null,"Contadora"]
[]
[null,"Elaboró","Subgerencia de planeación",null,null,null,"Fecha",2020]

{"sheet":"IF063","index":67,"n_rows":33,"n_cols":14,"rows_kept":33,"cut":false,"hidden":false,"merged":[[30,1,31,2],[30,3,31,9],[32,2,32,5],[32,7,32,9],[23,1,26,2],[23,7,23,8],[24,7,24,8],[25,7,25,8],[27,1,27,9],[28,1,29,2],[28,7,28,8],[29,7,29,8],[22,1,22,2],[22,3,22,9],[15,1,15,9],[16,1,17,2],[16,3,17,9],[18,1,18,2],[18,3,18,9],[19,1,19,2],[19,3,19,9],[20,1,20,2],[20,3,20,9],[21,1,21,2],[21,4,21,6],[21,8,21,9],[11,1,12,2],[11,3,11,4],[12,3,12,4],[13,1,14,2],[13,3,13,4],[14,3,14,4],[10,1,10,2],[10,3,10,9],[1,1,6,2],[1,3,3,7],[1,8,3,8],[1,9,3,9],[4,3,6,7],[4,8,6,9],[7,1,7,9],[8,1,8,2],[8,3,8,7],[9,1,9,2],[9,3,9,8]]}
[]
[null,null,null,"SERVICIUDAD ESP",null,null,null,null,"Código SPFO-11","Versión 03"]
[]
[]
[null,null,null,"FICHA TECNICA DEL INDICADOR",null,null,null,null,"PAGINA 01"]
[]
[]
[]
[null,"Nombre del índicador",null,"Liquidez — L",null,null,null,null,"Código: ","IF063"]
[null,"Nombre del plan o proceso",null,"GESTIÓN FINANCIERA"]
[null,"Propósito u objetivo del indicador",null,"Determinar la capacidad de solventar las dudas exigidas hasta un año de plazo respecto a la fecha de cierre del ejercicio de la vigencia."]
[null,"Tipo de indicador",null,"Eficiencia",null,null,"Eficacia",null,"Efectividad"]
[null,null,null,"Económia",null,"X","Ambiental"]
[null,"Estilo de cálculo",null,"Promedio",null,null,"Último dato","X"]
[null,null,null,"Suma",null,null,"Suma de componentes"]
[null,"MEDICIÓN DEL INDICADOR",null,null,null,null,null,null,null,null,null,null,null," "]
[null,"Fórmula de cálculo",null,"AC/PC"]
[]
[null,"Número de variables",null,2]
[null,"Definición variables (variables a medir)",null,"AC: activos corrientes totales. Se incluirá el saldo total de los activos corrientes, reportados por el prestador para el período de evaluación\nPC Pasivos corriente totales. se incluirá el saldo total de los pasivos corrientes, reportados por el prestador para el período de evaluación."]
[null,"Unidad de medida",null,"Número"]
[null,"Tendencia del indicador",null,"Creciente","X",null,null,"Decreciente"]
[null,"Soporte legal",null,"Resolución CRA 906/2019"]
[null,"Planes y programas a los que le hace seguimiento",null,"PESV",null,"PGR","x","Resolución 315/05"]
[null,null,null,"Programa Aseo",null,"Plan Tarifario",null,"Resolución 151/01"]
[null,null,null,"SG-SST"]
[]
[null,"FRECUENCIAS Y RESPONSABLES"]
[null,"Frecuencia de Cálculo y Análisis",null,"Mensual",null,"Trimestral","X","Otro"]
[null,null,null,"Semestral",null,"Anual",null,"Cual"]
[null,"Responsable de la medición y análisis Cargo y Dependencia",null,"Contadora"]
[]
[null,"Elaboró","Subgerencia de planeación",null,null,null,"Fecha",2020]

{"sheet":"IF064","index":68,"n_rows":33,"n_cols":14,"rows_kept":33,"cut":false,"hidden":false,"merged":[[30,1,31,2],[30,3,31,9],[32,2,32,5],[32,7,32,9],[23,1,26,2],[23,7,23,8],[24,7,24,8],[25,7,25,8],[27,1,27,9],[28,1,29,2],[28,7,28,8],[29,7,29,8],[22,1,22,2],[22,3,22,9],[15,1,15,9],[16,1,17,2],[16,3,17,9],[18,1,18,2],[18,3,18,9],[19,1,19,2],[19,3,19,9],[20,1,20,2],[20,3,20,9],[21,1,21,2],[21,4,21,6],[21,8,21,9],[11,1,12,2],[11,3,11,4],[12,3,12,4],[13,1,14,2],[13,3,13,4],[14,3,14,4],[10,1,10,2],[10,3,10,9],[1,1,6,2],[1,3,3,7],[1,8,3,8],[1,9,3,9],[4,3,6,7],[4,8,6,9],[7,1,7,9],[8,1,8,2],[8,3,8,7],[9,1,9,2],[9,3,9,8]]}
[]
[null,null,null,"SERVICIUDAD ESP",null,null,null,null,"Código SPFO-11","Versión 03"]
[]
[]
[null,null,null,"FICHA TECNICA DEL INDICADOR",null,null,null,null,"PAGINA 01"]
[]
[]
[]
[null,"Nombre del índicador",null,"Liquidez Ajustada — LA",null,null,null,null,"Código: ","IF064"]
[null,"Nombre del plan o proceso",null,"GESTIÓN FINANCIERA"]
[null,"Propósito u objetivo del indicador",null,"Determinar la capacidad de solventar las deudas exigibles hasta un año de plazo respecto a la fecha de cierre del ejercicio del período de evaluación, con relación al saldo de las inversiones . de acuerdo con el POIR establecido por el prestador."]
[null,"Tipo de indicador",null,"Eficiencia",null,null,"Eficacia",null,"Efectividad"]
[null,null,null,"Económia",null,"X","Ambiental"]
[null,"Estilo de cálculo",null,"Promedio",null,null,"Último dato","X"]
[null,null,null,"Suma",null,null,"Suma de componentes"]
[null,"MEDICIÓN DEL INDICADOR",null,null,null,null,null,null,null,null,null,null,null," "]
[null,"Fórmula de cálculo",null,"(LAAc  x 0,5) + (LAAL  x 0,5)"]
[]
[null,"Número de variables",null,2]
[null,"Definición variables (variables a medir)",null,"LAAC  Liquidez ajustada asociada al servicio público domiciliario de acueducto en el período de evalúa\nLAAL. Liquidez ajustada asociada al servicio público domiciliario de alcantarillado en el período de evaluación\n"]
[null,"Unidad de medida",null,"Número"]
[null,"Tendencia del indicador",null,"Creciente","X",null,null,"Decreciente"]
[null,"Soporte legal",null,"Resolución CRA 906/2019"]
[null,"Planes y programas a los que le hace seguimiento",null,"PESV",null,"PGR","X","Resolución 315/05"]
[null,null,null,"Programa Aseo",null,"Plan Tarifario",null,"Resolución 151/01"]
[null,null,null,"SG-SST"]
[]
[null,"FRECUENCIAS Y RESPONSABLES"]
[null,"Frecuencia de Cálculo y Análisis",null,"Mensual",null,"Trimestral","X","Otro"]
[null,null,null,"Semestral",null,"Anual",null,"Cual"]
[null,"Responsable de la medición y análisis Cargo y Dependencia",null,"Contadora"]
[]
[null,"Elaboró","Subgerencia de planeación",null,null,null,"Fecha",2020]

{"sheet":"IF065","index":69,"n_rows":33,"n_cols":14,"rows_kept":33,"cut":false,"hidden":false,"merged":[[30,1,31,2],[30,3,31,9],[32,2,32,5],[32,7,32,9],[23,1,26,2],[23,7,23,8],[24,7,24,8],[25,7,25,8],[27,1,27,9],[28,1,29,2],[28,7,28,8],[29,7,29,8],[22,1,22,2],[22,3,22,9],[15,1,15,9],[16,1,17,2],[16,3,17,9],[18,1,18,2],[18,3,18,9],[19,1,19,2],[19,3,19,9],[20,1,20,2],[20,3,20,9],[21,1,21,2],[21,4,21,6],[21,8,21,9],[11,1,12,2],[11,3,11,4],[12,3,12,4],[13,1,14,2],[13,3,13,4],[14,3,14,4],[10,1,10,2],[10,3,10,9],[1,1,6,2],[1,3,3,7],[1,8,3,8],[1,9,3,9],[4,3,6,7],[4,8,6,9],[7,1,7,9],[8,1,8,2],[8,3,8,7],[9,1,9,2],[9,3,9,8]]}
[]
[null,null,null,"SERVICIUDAD ESP",null,null,null,null,"Código SPFO-11","Versión 03"]
[]
[]
[null,null,null,"FICHA TECNICA DEL INDICADOR",null,null,null,null,"PAGINA 01"]
[]
[]
[]
[null,"Nombre del índicador",null,"Liquidez ajustada (Li) Acueducto",null,null,null,null,"Código: ","IF065"]
[null,"Nombre del plan o proceso",null,"GESTIÓN FINANCIERA"]
[null,"Propósito u objetivo del indicador",null,"Índicar la capacidad que tiene la empresa para cumplir sus obligaciones financieras, deudas, pasivos a corto plazo"]
[null,"Tipo de indicador",null,"Eficiencia",null,null,"Eficacia",null,"Efectividad"]
[null,null,null,"Económia",null,"X","Ambiental"]
[null,"Estilo de cálculo",null,"Promedio",null,null,"Último dato","X"]
[null,null,null,"Suma",null,null,"Suma de componentes"]
[null,"MEDICIÓN DEL INDICADOR",null,null,null,null,null,null,null,null,null,null,null," "]
[null,"Fórmula de cálculo",null,"Li=(activo corriente-CCNP-inventarios-Préstamos vinculados económicos y socios)/Pasivo corriente.\nEi=(pasivo totali +pasivos pensionales por amortización) /Activo totalo"]
[]
[null,"Número de variables",null,5]
[null,"Definición variables (variables a medir)",null,"Donde i = período de análisis\nCCNP: CxC de mas 180 días - provisiones de CxC de mas de 180 días.\nSi las CxC de mas de 180 días son mayores a las provisiones, entonces CCNP se resta el numerador, de lo contrario, CCNP es igual a cero"]
[null,"Unidad de medida",null,"Número (veces)"]
[null,"Tendencia del indicador",null,"Creciente","X",null,null,"Decreciente"]
[null,"Soporte legal",null,"Resolución CRA 315/05"]
[null,"Planes y programas a los que le hace seguimiento",null,"PESV",null,"PGR","X","Resolución 315/05"]
[null,null,null,"Programa Aseo",null,"Plan Tarifario",null,"Resolución 151/01"]
[null,null,null,"SG-SST"]
[]
[null,"FRECUENCIAS Y RESPONSABLES"]
[null,"Frecuencia de Cálculo y Análisis",null,"Mensual",null,"Trimestral","X","Otro"]
[null,null,null,"Semestral",null,"Anual",null,"Cual"]
[null,"Responsable de la medición y análisis Cargo y Dependencia",null,"Contadora"]
[]
[null,"Elaboró","Subgerencia de planeación",null,null,null,"Fecha",2020]

{"sheet":"IF066","index":70,"n_rows":33,"n_cols":14,"rows_kept":33,"cut":false,"hidden":false,"merged":[[30,1,31,2],[30,3,31,9],[32,2,32,5],[32,7,32,9],[23,1,26,2],[23,7,23,8],[24,7,24,8],[25,7,25,8],[27,1,27,9],[28,1,29,2],[28,7,28,8],[29,7,29,8],[22,1,22,2],[22,3,22,9],[15,1,15,9],[16,1,17,2],[16,3,17,9],[18,1,18,2],[18,3,18,9],[19,1,19,2],[19,3,19,9],[20,1,20,2],[20,3,20,9],[21,1,21,2],[21,4,21,6],[21,8,21,9],[11,1,12,2],[11,3,11,4],[12,3,12,4],[13,1,14,2],[13,3,13,4],[14,3,14,4],[10,1,10,2],[10,3,10,9],[1,1,6,2],[1,3,3,7],[1,8,3,8],[1,9,3,9],[4,3,6,7],[4,8,6,9],[7,1,7,9],[8,1,8,2],[8,3,8,7],[9,1,9,2],[9,3,9,8]]}
[]
[null,null,null,"SERVICIUDAD ESP",null,null,null,null,"Código SPFO-11","Versión 03"]
[]
[]
[null,null,null,"FICHA TECNICA DEL INDICADOR",null,null,null,null,"PAGINA 01"]
[]
[]
[]
[null,"Nombre del índicador",null,"Liquidez ajustada (Li) Alcantarillado",null,null,null,null,"Código: ","IF066"]
[null,"Nombre del plan o proceso",null,"GESTIÓN FINANCIERA"]
[null,"Propósito u objetivo del indicador",null,"Índicar la capacidad que tiene la empresa para cumplir sus obligaciones financieras, deudas, pasivos a corto plazo"]
[null,"Tipo de indicador",null,"Eficiencia",null,null,"Eficacia",null,"Efectividad"]
[null,null,null,"Económia",null,"X","Ambiental"]
[null,"Estilo de cálculo",null,"Promedio",null,null,"Último dato","X"]
[null,null,null,"Suma",null,null,"Suma de componentes"]
[null,"MEDICIÓN DEL INDICADOR",null,null,null,null,null,null,null,null,null,null,null," "]
[null,"Fórmula de cálculo",null,"Li=(activo corriente-CCNP-inventarios-Préstamos vinculados económicos y socios)/Pasivo corriente.\nEi=(pasivo totali +pasivos pensionales por amortización) /Activo total"]
[]
[null,"Número de variables",null,5]
[null,"Definición variables (variables a medir)",null,"Donde i = período de análisis\nCCNP: CxC de mas 180 días - provisiones de CxC de mas de 180 días.\nSi las CxC de mas de 180 días son mayores a las provisiones, entonces CCNP se resta el numerador, de lo contrario, CCNP es igual a cero"]
[null,"Unidad de medida",null,"Número (veces)"]
[null,"Tendencia del indicador",null,"Creciente","X",null,null,"Decreciente"]
[null,"Soporte legal",null,"Resolución CRA 315/05"]
[null,"Planes y programas a los que le hace seguimiento",null,"PESV",null,"PGR","X","Resolución 315/05"]
[null,null,null,"Programa Aseo",null,"Plan Tarifario",null,"Resolución 151/01"]
[null,null,null,"SG-SST"]
[]
[null,"FRECUENCIAS Y RESPONSABLES"]
[null,"Frecuencia de Cálculo y Análisis",null,"Mensual",null,"Trimestral","X","Otro"]
[null,null,null,"Semestral",null,"Anual",null,"Cual"]
[null,"Responsable de la medición y análisis Cargo y Dependencia",null,"Contadora"]
[]
[null,"Elaboró","Subgerencia de planeación",null,null,null,"Fecha",2020]

{"sheet":"IF067","index":71,"n_rows":33,"n_cols":14,"rows_kept":33,"cut":false,"hidden":false,"merged":[[30,1,31,2],[30,3,31,9],[32,2,32,5],[32,7,32,9],[23,1,26,2],[23,7,23,8],[24,7,24,8],[25,7,25,8],[27,1,27,9],[28,1,29,2],[28,7,28,8],[29,7,29,8],[22,1,22,2],[22,3,22,9],[15,1,15,9],[16,1,17,2],[16,3,17,9],[18,1,18,2],[18,3,18,9],[19,1,19,2],[19,3,19,9],[20,1,20,2],[20,3,20,9],[21,1,21,2],[21,4,21,6],[21,8,21,9],[11,1,12,2],[11,3,11,4],[12,3,12,4],[13,1,14,2],[13,3,13,4],[14,3,14,4],[10,1,10,2],[10,3,10,9],[1,1,6,2],[1,3,3,7],[1,8,3,8],[1,9,3,9],[4,3,6,7],[4,8,6,9],[7,1,7,9],[8,1,8,2],[8,3,8,7],[9,1,9,2],[9,3,9,8]]}
[]
[null,null,null,"SERVICIUDAD ESP",null,null,null,null,"Código SPFO-11","Versión 03"]
[]
[]
[null,null,null,"FICHA TECNICA DEL INDICADOR",null,null,null,null,"PAGINA 01"]
[]
[]
[]
[null,"Nombre del índicador",null,"Liquidez ajustada (Li) Aseo",null,null,null,null,"Código: ","IF067"]
[null,"Nombre del plan o proceso",null,"GESTIÓN FINANCIERA"]
[null,"Propósito u objetivo del indicador",null,"Índicar la capacidad que tiene la empresa para cumplir sus obligaciones financieras, deudas, pasivos a corto plazo"]
[null,"Tipo de indicador",null,"Eficiencia",null,null,"Eficacia",null,"Efectividad"]
[null,null,null,"Económia",null,"X","Ambiental"]
[null,"Estilo de cálculo",null,"Promedio",null,null,"Último dato","X"]
[null,null,null,"Suma",null,null,"Suma de componentes"]
[null,"MEDICIÓN DEL INDICADOR",null,null,null,null,null,null,null,null,null,null,null," "]
[null,"Fórmula de cálculo",null,"Li=(activo corriente-CCNP-inventarios-Préstamos vinculados económicos y socios)/Pasivo corriente.\nEi=(pasivo totali +pasivos pensionales por amortización) /Activo total"]
[]
[null,"Número de variables",null,5]
[null,"Definición variables (variables a medir)",null,"Donde i = período de análisis\nCCNP: CxC de mas 180 días - provisiones de CxC de mas de 180 días.\nSi las CxC de mas de 180 días son mayores a las provisiones, entonces CCNP se resta el numerador, de lo contrario, CCNP es igual a cero"]
[null,"Unidad de medida",null,"Número (veces)"]
[null,"Tendencia del indicador",null,"Creciente","X",null,null,"Decreciente"]
[null,"Soporte legal",null,"Resolución CRA 315/05"]
[null,"Planes y programas a los que le hace seguimiento",null,"PESV",null,"PGR",null,"Resolución 315/05"]
[null,null,null,"Programa Aseo",null,"Plan Tarifario",null,"Resolución 151/01",null,"X"]
[null,null,null,"SG-SST"]
[]
[null,"FRECUENCIAS Y RESPONSABLES"]
[null,"Frecuencia de Cálculo y Análisis",null,"Mensual",null,"Trimestral","X","Otro"]
[null,null,null,"Semestral",null,"Anual",null,"Cual"]
[null,"Responsable de la medición y análisis Cargo y Dependencia",null,"Contadora"]
[]
[null,"Elaboró","Subgerencia de planeación",null,null,null,"Fecha",2020]

{"sheet":"IF068","index":72,"n_rows":33,"n_cols":14,"rows_kept":33,"cut":false,"hidden":false,"merged":[[30,1,31,2],[30,3,31,9],[32,2,32,5],[32,7,32,9],[23,1,26,2],[23,7,23,8],[24,7,24,8],[25,7,25,8],[27,1,27,9],[28,1,29,2],[28,7,28,8],[29,7,29,8],[22,1,22,2],[22,3,22,9],[15,1,15,9],[16,1,17,2],[16,3,17,9],[18,1,18,2],[18,3,18,9],[19,1,19,2],[19,3,19,9],[20,1,20,2],[20,3,20,9],[21,1,21,2],[21,4,21,6],[21,8,21,9],[11,1,12,2],[11,3,11,4],[12,3,12,4],[13,1,14,2],[13,3,13,4],[14,3,14,4],[10,1,10,2],[10,3,10,9],[1,1,6,2],[1,3,3,7],[1,8,3,8],[1,9,3,9],[4,3,6,7],[4,8,6,9],[7,1,7,9],[8,1,8,2],[8,3,8,7],[9,1,9,2],[9,3,9,8]]}
[]
[null,null,null,"SERVICIUDAD ESP",null,null,null,null,"Código SPFO-11","Versión 03"]
[]
[]
[null,null,null,"FICHA TECNICA DEL INDICADOR",null,null,null,null,"PAGINA 01"]
[]
[]
[]
[null,"Nombre del índicador",null,"Endeudamiento - E",null,null,null,null,"Código: ","IF068"]
[null,"Nombre del plan o proceso",null,"GESTIÓN FINANCIERA"]
[null,"Propósito u objetivo del indicador",null,"Medir el nivel de endeudamiento del prestador, teniendo en cuenta las necesidades de financiación, tanto para la capacidad de aumentar capital de trabajo, como la inversión en activos fijos por parte del prestador."]
[null,"Tipo de indicador",null,"Eficiencia",null,null,"Eficacia",null,"Efectividad"]
[null,null,null,"Económia",null,"X","Ambiental"]
[null,"Estilo de cálculo",null,"Promedio",null,null,"Último dato","X"]
[null,null,null,"Suma",null,null,"Suma de componentes"]
[null,"MEDICIÓN DEL INDICADOR",null,null,null,null,null,null,null,null,null,null,null," "]
[null,"Fórmula de cálculo",null,"E= (Endeudamiento CRA 906/2019)"]
[]
[null,"Número de variables",null,1]
[null,"Definición variables (variables a medir)",null,"E= (Endeudamiento CRA 906/2019)"]
[null,"Unidad de medida",null,"Número"]
[null,"Tendencia del indicador",null,"Creciente","X",null,null,"Decreciente"]
[null,"Soporte legal",null,"Resolución CRA 906/2019"]
[null,"Planes y programas a los que le hace seguimiento",null,"PESV",null,"PGR","X","Resolución 315/05"]
[null,null,null,"Programa Aseo",null,"Plan Tarifario",null,"Resolución 151/01"]
[null,null,null,"SG-SST"]
[]
[null,"FRECUENCIAS Y RESPONSABLES"]
[null,"Frecuencia de Cálculo y Análisis",null,"Mensual",null,"Trimestral","X","Otro"]
[null,null,null,"Semestral",null,"Anual",null,"Cual"]
[null,"Responsable de la medición y análisis Cargo y Dependencia",null,"Contadora"]
[]
[null,"Elaboró","Subgerencia de planeación",null,null,null,"Fecha",2020]

{"sheet":"IF069","index":73,"n_rows":33,"n_cols":14,"rows_kept":33,"cut":false,"hidden":false,"merged":[[30,1,31,2],[30,3,31,9],[32,2,32,5],[32,7,32,9],[23,1,26,2],[23,7,23,8],[24,7,24,8],[25,7,25,8],[27,1,27,9],[28,1,29,2],[28,7,28,8],[29,7,29,8],[22,1,22,2],[22,3,22,9],[15,1,15,9],[16,1,17,2],[16,3,17,9],[18,1,18,2],[18,3,18,9],[19,1,19,2],[19,3,19,9],[20,1,20,2],[20,3,20,9],[21,1,21,2],[21,4,21,6],[21,8,21,9],[11,1,12,2],[11,3,11,4],[12,3,12,4],[13,1,14,2],[13,3,13,4],[14,3,14,4],[10,1,10,2],[10,3,10,9],[1,1,6,2],[1,3,3,7],[1,8,3,8],[1,9,3,9],[4,3,6,7],[4,8,6,9],[7,1,7,9],[8,1,8,2],[8,3,8,7],[9,1,9,2],[9,3,9,8]]}
[]
[null,null,null,"SERVICIUDAD ESP",null,null,null,null,"Código SPFO-11","Versión 03"]
[]
[]
[null,null,null,"FICHA TECNICA DEL INDICADOR",null,null,null,null,"PAGINA 01"]
[]
[]
[]
[null,"Nombre del índicador",null,"Endeudamiento (Ei) Acueducto",null,null,null,null,"Código: ","IF069"]
[null,"Nombre del plan o proceso",null,"GESTIÓN FINANCIERA"]
[null,"Propósito u objetivo del indicador",null,"Reflejar el grado de apalancamiento que corresponde a la participación de los acreedores en los activos de la empresa."]
[null,"Tipo de indicador",null,"Eficiencia",null,null,"Eficacia",null,"Efectividad"]
[null,null,null,"Económia",null,"X","Ambiental"]
[null,"Estilo de cálculo",null,"Promedio",null,null,"Último dato","X"]
[null,null,null,"Suma",null,null,"Suma de componentes"]
[null,"MEDICIÓN DEL INDICADOR",null,null,null,null,null,null,null,null,null,null,null," "]
[null,"Fórmula de cálculo",null,"Ei=(pasivo total + pasivo pensionales por amortización) /Activo total"]
[]
[null,"Número de variables",null,3]
[null,"Definición variables (variables a medir)",null,"Donde i = período de análisis\nCCNP: CxC de mas 180 días - provisiones de CxC de mas de 180 días.\nSi las CxC de mas de 180 días son mayores a las provisiones, entonces CCNP se resta el numerador, de lo contrario, CCNP es igual a cero"]
[null,"Unidad de medida",null,"%"]
[null,"Tendencia del indicador",null,"Creciente",null,null,null,"Decreciente","X"]
[null,"Soporte legal",null,"Resolución CRA 315/05"]
[null,"Planes y programas a los que le hace seguimiento",null,"PESV",null,"PGR","X","Resolución 315/05"]
[null,null,null,"Programa Aseo",null,"Plan Tarifario",null,"Resolución 151/01"]
[null,null,null,"SG-SST"]
[]
[null,"FRECUENCIAS Y RESPONSABLES"]
[null,"Frecuencia de Cálculo y Análisis",null,"Mensual",null,"Trimestral","X","Otro"]
[null,null,null,"Semestral",null,"Anual",null,"Cual"]
[null,"Responsable de la medición y análisis Cargo y Dependencia",null,"Contadora"]
[]
[null,"Elaboró","Subgerencia de planeación",null,null,null,"Fecha",2020]

{"sheet":"IF070","index":74,"n_rows":33,"n_cols":14,"rows_kept":33,"cut":false,"hidden":false,"merged":[[30,1,31,2],[30,3,31,9],[32,2,32,5],[32,7,32,9],[23,1,26,2],[23,7,23,8],[24,7,24,8],[25,7,25,8],[27,1,27,9],[28,1,29,2],[28,7,28,8],[29,7,29,8],[22,1,22,2],[22,3,22,9],[15,1,15,9],[16,1,17,2],[16,3,17,9],[18,1,18,2],[18,3,18,9],[19,1,19,2],[19,3,19,9],[20,1,20,2],[20,3,20,9],[21,1,21,2],[21,4,21,6],[21,8,21,9],[11,1,12,2],[11,3,11,4],[12,3,12,4],[13,1,14,2],[13,3,13,4],[14,3,14,4],[10,1,10,2],[10,3,10,9],[1,1,6,2],[1,3,3,7],[1,8,3,8],[1,9,3,9],[4,3,6,7],[4,8,6,9],[7,1,7,9],[8,1,8,2],[8,3,8,7],[9,1,9,2],[9,3,9,8]]}
[]
[null,null,null,"SERVICIUDAD ESP",null,null,null,null,"Código SPFO-11","Versión 03"]
[]
[]
[null,null,null,"FICHA TECNICA DEL INDICADOR",null,null,null,null,"PAGINA 01"]
[]
[]
[]
[null,"Nombre del índicador",null,"Endeudamiento (Ei) Alcantarillado",null,null,null,null,"Código: ","IF070"]
[null,"Nombre del plan o proceso",null,"GESTIÓN FINANCIERA"]
[null,"Propósito u objetivo del indicador",null,"Reflejar el grado de apalancamiento que corresponde a la participación de los acreedores en los activos de la empresa."]
[null,"Tipo de indicador",null,"Eficiencia",null,null,"Eficacia",null,"Efectividad"]
[null,null,null,"Económia",null,"X","Ambiental"]
[null,"Estilo de cálculo",null,"Promedio",null,null,"Último dato","X"]
[null,null,null,"Suma",null,null,"Suma de componentes"]
[null,"MEDICIÓN DEL INDICADOR",null,null,null,null,null,null,null,null,null,null,null," "]
[null,"Fórmula de cálculo",null,"Ei=(pasivo total + pasivo pensionales por amortización) /Activo total"]
[]
[null,"Número de variables",null,3]
[null,"Definición variables (variables a medir)",null,"Donde i = período de análisis\nCCNP: CxC de mas 180 días - provisiones de CxC de mas de 180 días.\nSi las CxC de mas de 180 días son mayores a las provisiones, entonces CCNP se resta el numerador, de lo contrario, CCNP es igual a cero"]
[null,"Unidad de medida",null,"%"]
[null,"Tendencia del indicador",null,"Creciente",null,null,null,"Decreciente","X"]
[null,"Soporte legal",null,"Resolución CRA 315/05"]
[null,"Planes y programas a los que le hace seguimiento",null,"PESV",null,"PGR","X","Resolución 315/05"]
[null,null,null,"Programa Aseo",null,"Plan Tarifario",null,"Resolución 151/01"]
[null,null,null,"SG-SST"]
[]
[null,"FRECUENCIAS Y RESPONSABLES"]
[null,"Frecuencia de Cálculo y Análisis",null,"Mensual",null,"Trimestral","X","Otro"]
[null,null,null,"Semestral",null,"Anual",null,"Cual"]
[null,"Responsable de la medición y análisis Cargo y Dependencia",null,"Contadora"]
[]
[null,"Elaboró","Subgerencia de planeación",null,null,null,"Fecha",2020]

{"sheet":"IF071","index":75,"n_rows":33,"n_cols":14,"rows_kept":33,"cut":false,"hidden":false,"merged":[[30,1,31,2],[30,3,31,9],[32,2,32,5],[32,7,32,9],[23,1,26,2],[23,7,23,8],[24,7,24,8],[25,7,25,8],[27,1,27,9],[28,1,29,2],[28,7,28,8],[29,7,29,8],[22,1,22,2],[22,3,22,9],[15,1,15,9],[16,1,17,2],[16,3,17,9],[18,1,18,2],[18,3,18,9],[19,1,19,2],[19,3,19,9],[20,1,20,2],[20,3,20,9],[21,1,21,2],[21,4,21,6],[21,8,21,9],[11,1,12,2],[11,3,11,4],[12,3,12,4],[13,1,14,2],[13,3,13,4],[14,3,14,4],[10,1,10,2],[10,3,10,9],[1,1,6,2],[1,3,3,7],[1,8,3,8],[1,9,3,9],[4,3,6,7],[4,8,6,9],[7,1,7,9],[8,1,8,2],[8,3,8,7],[9,1,9,2],[9,3,9,8]]}
[]
[null,null,null,"SERVICIUDAD ESP",null,null,null,null,"Código SPFO-11","Versión 03"]
[]
[]
[null,null,null,"FICHA TECNICA DEL INDICADOR",null,null,null,null,"PAGINA 01"]
[]
[]
[]
[null,"Nombre del índicador",null,"Endeudamiento (Ei) Aseo",null,null,null,null,"Código: ","IF071"]
[null,"Nombre del plan o proceso",null,"GESTIÓN FINANCIERA"]
[null,"Propósito u objetivo del indicador",null,"Reflejar el grado de apalancamiento que corresponde a la participación de los acreedores en los activos de la empresa."]
[null,"Tipo de indicador",null,"Eficiencia",null,null,"Eficacia",null,"Efectividad"]
[null,null,null,"Económia",null,"X","Ambiental"]
[null,"Estilo de cálculo",null,"Promedio",null,null,"Último dato","X"]
[null,null,null,"Suma",null,null,"Suma de componentes"]
[null,"MEDICIÓN DEL INDICADOR",null,null,null,null,null,null,null,null,null,null,null," "]
[null,"Fórmula de cálculo",null,"Ei=(pasivo total + pasivo pensionales por amortización) /Activo total"]
[]
[null,"Número de variables",null,3]
[null,"Definición variables (variables a medir)",null,"Donde i = período de análisis\nCCNP: CxC de mas 180 días - provisiones de CxC de mas de 180 días.\nSi las CxC de mas de 180 días son mayores a las provisiones, entonces CCNP se resta el numerador, de lo contrario, CCNP es igual a cero"]
[null,"Unidad de medida",null,"%"]
[null,"Tendencia del indicador",null,"Creciente",null,null,null,"Decreciente","X"]
[null,"Soporte legal",null,"Resolución CRA 315/05"]
[null,"Planes y programas a los que le hace seguimiento",null,"PESV",null,"PGR",null,"Resolución 315/05"]
[null,null,null,"Programa Aseo",null,"Plan Tarifario",null,"Resolución 151/01",null,"X"]
[null,null,null,"SG-SST"]
[]
[null,"FRECUENCIAS Y RESPONSABLES"]
[null,"Frecuencia de Cálculo y Análisis",null,"Mensual",null,"Trimestral","X","Otro"]
[null,null,null,"Semestral",null,"Anual",null,"Cual"]
[null,"Responsable de la medición y análisis Cargo y Dependencia",null,"Contadora"]
[]
[null,"Elaboró","Subgerencia de planeación",null,null,null,"Fecha",2020]

{"sheet":"IF072","index":76,"n_rows":33,"n_cols":14,"rows_kept":33,"cut":false,"hidden":false,"merged":[[30,1,31,2],[30,3,31,9],[32,2,32,5],[32,7,32,9],[23,1,26,2],[23,7,23,8],[24,7,24,8],[25,7,25,8],[27,1,27,9],[28,1,29,2],[28,7,28,8],[29,7,29,8],[22,1,22,2],[22,3,22,9],[15,1,15,9],[16,1,17,2],[16,3,17,9],[18,1,18,2],[18,3,18,9],[19,1,19,2],[19,3,19,9],[20,1,20,2],[20,3,20,9],[21,1,21,2],[21,4,21,6],[21,8,21,9],[11,1,12,2],[11,3,11,4],[12,3,12,4],[13,1,14,2],[13,3,13,4],[14,3,14,4],[10,1,10,2],[10,3,10,9],[1,1,6,2],[1,3,3,7],[1,8,3,8],[1,9,3,9],[4,3,6,7],[4,8,6,9],[7,1,7,9],[8,1,8,2],[8,3,8,7],[9,1,9,2],[9,3,9,8]]}
[]
[null,null,null,"SERVICIUDAD ESP",null,null,null,null,"Código SPFO-11","Versión 03"]
[]
[]
[null,null,null,"FICHA TECNICA DEL INDICADOR",null,null,null,null,"PAGINA 01"]
[]
[]
[]
[null,"Nombre del índicador",null,"Indice Financiero asociado a la Eficiencia Operativa —IEO",null,null,null,null,"Código: ","IF072"]
[null,"Nombre del plan o proceso",null,"GESTIÓN FINANCIERA"]
[null,"Propósito u objetivo del indicador",null,"Medir la capacidad del prestador para cubrir sus costos y gastos operacionales, teniendo en cuenta los gastos asociados a la prestación del servicio y los ingresos por concepto de Costo Medio de Operación -CM0 y Costo Medio de Administración -  CMA. "]
[null,"Tipo de indicador",null,"Eficiencia",null,null,"Eficacia",null,"Efectividad"]
[null,null,null,"Económia",null,"X","Ambiental"]
[null,"Estilo de cálculo",null,"Promedio",null,null,"Último dato","X"]
[null,null,null,"Suma",null,null,"Suma de componentes"]
[null,"MEDICIÓN DEL INDICADOR",null,null,null,null,null,null,null,null,null,null,null," "]
[null,"Fórmula de cálculo",null," (IE0AC. x 0,5) + (IE0AL  x 0,5) "]
[]
[null,"Número de variables",null,2]
[null,"Definición variables (variables a medir)",null,"IEOAC: Índice financiero asociado a la eficiencia operativa para el servicio público domiciliario de acueducto\nIROAal: Índice financiero asociado a la eficiencia operativa para el servicio público domiciliario de alcantarillado\n"]
[null,"Unidad de medida",null,"Número"]
[null,"Tendencia del indicador",null,"Creciente","X",null,null,"Decreciente"]
[null,"Soporte legal",null,"Resolución CRA 906/2019"]
[null,"Planes y programas a los que le hace seguimiento",null,"PESV",null,"PGR","X","Resolución 315/05"]
[null,null,null,"Programa Aseo",null,"Plan Tarifario",null,"Resolución 151/01"]
[null,null,null,"SG-SST"]
[]
[null,"FRECUENCIAS Y RESPONSABLES"]
[null,"Frecuencia de Cálculo y Análisis",null,"Mensual",null,"Trimestral","X","Otro"]
[null,null,null,"Semestral",null,"Anual",null,"Cual"]
[null,"Responsable de la medición y análisis Cargo y Dependencia",null,"Contadora"]
[]
[null,"Elaboró","Subgerencia de planeación",null,null,null,"Fecha",2020]

{"sheet":"IF073","index":77,"n_rows":33,"n_cols":14,"rows_kept":33,"cut":false,"hidden":false,"merged":[[30,1,31,2],[30,3,31,9],[32,2,32,5],[32,7,32,9],[23,1,26,2],[23,7,23,8],[24,7,24,8],[25,7,25,8],[27,1,27,9],[28,1,29,2],[28,7,28,8],[29,7,29,8],[22,1,22,2],[22,3,22,9],[15,1,15,9],[16,1,17,2],[16,3,17,9],[18,1,18,2],[18,3,18,9],[19,1,19,2],[19,3,19,9],[20,1,20,2],[20,3,20,9],[21,1,21,2],[21,4,21,6],[21,8,21,9],[11,1,12,2],[11,3,11,4],[12,3,12,4],[13,1,14,2],[13,3,13,4],[14,3,14,4],[10,1,10,2],[10,3,10,9],[1,1,6,2],[1,3,3,7],[1,8,3,8],[1,9,3,9],[4,3,6,7],[4,8,6,9],[7,1,7,9],[8,1,8,2],[8,3,8,7],[9,1,9,2],[9,3,9,8]]}
[]
[null,null,null,"SERVICIUDAD ESP",null,null,null,null,"Código SPFO-11","Versión 03"]
[]
[]
[null,null,null,"FICHA TECNICA DEL INDICADOR",null,null,null,null,"PAGINA 01"]
[]
[]
[]
[null,"Nombre del índicador",null,"Relación Deuda a Inversiones — RDI",null,null,null,null,"Código: ","IF073"]
[null,"Nombre del plan o proceso",null,"GESTIÓN FINANCIERA"]
[null,"Propósito u objetivo del indicador",null,"Medir la relación de los ingresos por concepto del Costo Medio de   Inversión - CMI para atender el servicio a la deuda de largo plazo."]
[null,"Tipo de indicador",null,"Eficiencia",null,null,"Eficacia",null,"Efectividad"]
[null,null,null,"Económia",null,"X","Ambiental"]
[null,"Estilo de cálculo",null,"Promedio",null,null,"Último dato","X"]
[null,null,null,"Suma",null,null,"Suma de componentes"]
[null,"MEDICIÓN DEL INDICADOR",null,null,null,null,null,null,null,null,null,null,null," "]
[null,"Fórmula de cálculo",null,"(RDIAC x 0,5) + (RDIAL x 0,5) "]
[]
[null,"Número de variables",null,2]
[null,"Definición variables (variables a medir)",null,"RDIAL: Relación deuda a inversiones asociado a la eficiencia operativa para el servicio público domiciliario de alcantarillado\nRD/Ac: Relación deuda a inversiones asociado a la eficiencia operativa para el servicio público domiciliario de acueducto\n"]
[null,"Unidad de medida",null,"Número"]
[null,"Tendencia del indicador",null,"Creciente","X",null,null,"Decreciente"]
[null,"Soporte legal",null,"Resolución CRA 906/2019"]
[null,"Planes y programas a los que le hace seguimiento",null,"PESV",null,"PGR","X","Resolución 315/05"]
[null,null,null,"Programa Aseo",null,"Plan Tarifario",null,"Resolución 151/01"]
[null,null,null,"SG-SST"]
[]
[null,"FRECUENCIAS Y RESPONSABLES"]
[null,"Frecuencia de Cálculo y Análisis",null,"Mensual",null,"Trimestral","X","Otro"]
[null,null,null,"Semestral",null,"Anual",null,"Cual"]
[null,"Responsable de la medición y análisis Cargo y Dependencia",null,"Contadora"]
[]
[null,"Elaboró","Subgerencia de planeación",null,null,null,"Fecha",2020]

{"sheet":"IF074","index":78,"n_rows":33,"n_cols":14,"rows_kept":33,"cut":false,"hidden":false,"merged":[[30,1,31,2],[30,3,31,9],[32,2,32,5],[32,7,32,9],[23,1,26,2],[23,7,23,8],[24,7,24,8],[25,7,25,8],[27,1,27,9],[28,1,29,2],[28,7,28,8],[29,7,29,8],[22,1,22,2],[22,3,22,9],[15,1,15,9],[16,1,17,2],[16,3,17,9],[18,1,18,2],[18,3,18,9],[19,1,19,2],[19,3,19,9],[20,1,20,2],[20,3,20,9],[21,1,21,2],[21,4,21,6],[21,8,21,9],[11,1,12,2],[11,3,11,4],[12,3,12,4],[13,1,14,2],[13,3,13,4],[14,3,14,4],[10,1,10,2],[10,3,10,9],[1,1,6,2],[1,3,3,7],[1,8,3,8],[1,9,3,9],[4,3,6,7],[4,8,6,9],[7,1,7,9],[8,1,8,2],[8,3,8,7],[9,1,9,2],[9,3,9,8]]}
[]
[null,null,null,"SERVICIUDAD ESP",null,null,null,null,"Código SPFO-11","Versión 03"]
[]
[]
[null,null,null,"FICHA TECNICA DEL INDICADOR",null,null,null,null,"PAGINA 01"]
[]
[]
[]
[null,"Nombre del índicador",null,"Valor Económico Agregado — EVA",null,null,null,null,"Código: ","IF074"]
[null,"Nombre del plan o proceso",null,"GESTIÓN FINANCIERA"]
[null,"Propósito u objetivo del indicador",null,"Medir la creación de valor por parte del prestador, después de deducir el costo de oportunidad del capital empleado. Es una medida de rentabilidad de la empresa, ya que permite visualizar el desempeño de ésta, a través de las ganancias obtenidas luego de cubrir la totalidad de los gastos y la rentabilidad mínima esperada por los accionistas"]
[null,"Tipo de indicador",null,"Eficiencia",null,null,"Eficacia",null,"Efectividad"]
[null,null,null,"Económia",null,"X","Ambiental"]
[null,"Estilo de cálculo",null,"Promedio",null,"X","Último dato"]
[null,null,null,"Suma",null,null,"Suma de componentes"]
[null,"MEDICIÓN DEL INDICADOR",null,null,null,null,null,null,null,null,null,null,null," "]
[null,"Fórmula de cálculo",null,"UODI - (wacc X C1) "]
[]
[null,"Número de variables",null,3]
[null,"Definición variables (variables a medir)",null,"UODI: Utilidad operativa después de Impuestos\nwacc: Tasa del costo promedio ponderado de capital regulatorio, de acuerdo con el marco tarifario que le aplique a la persona prestadora.\nCI:  Capital invertido\n"]
[null,"Unidad de medida",null,"Número"]
[null,"Tendencia del indicador",null,"Creciente","X",null,null,"Decreciente"]
[null,"Soporte legal",null,"Resolución CRA 906/2019"]
[null,"Planes y programas a los que le hace seguimiento",null,"PESV",null,"PGR","X","Resolución 315/05"]
[null,null,null,"Programa Aseo",null,"Plan Tarifario",null,"Resolución 151/01"]
[null,null,null,"SG-SST"]
[]
[null,"FRECUENCIAS Y RESPONSABLES"]
[null,"Frecuencia de Cálculo y Análisis",null,"Mensual",null,"Trimestral","X","Otro"]
[null,null,null,"Semestral",null,"Anual",null,"Cual"]
[null,"Responsable de la medición y análisis Cargo y Dependencia",null,"Contadora"]
[]
[null,"Elaboró","Subgerencia de planeación",null,null,null,"Fecha",2020]

{"sheet":"IF075","index":79,"n_rows":33,"n_cols":14,"rows_kept":33,"cut":false,"hidden":false,"merged":[[30,1,31,2],[30,3,31,9],[32,2,32,5],[32,7,32,9],[23,1,26,2],[23,7,23,8],[24,7,24,8],[25,7,25,8],[27,1,27,9],[28,1,29,2],[28,7,28,8],[29,7,29,8],[22,1,22,2],[22,3,22,9],[15,1,15,9],[16,1,17,2],[16,3,17,9],[18,1,18,2],[18,3,18,9],[19,1,19,2],[19,3,19,9],[20,1,20,2],[20,3,20,9],[21,1,21,2],[21,4,21,6],[21,8,21,9],[11,1,12,2],[11,3,11,4],[12,3,12,4],[13,1,14,2],[13,3,13,4],[14,3,14,4],[10,1,10,2],[10,3,10,9],[1,1,6,2],[1,3,3,7],[1,8,3,8],[1,9,3,9],[4,3,6,7],[4,8,6,9],[7,1,7,9],[8,1,8,2],[8,3,8,7],[9,1,9,2],[9,3,9,8]]}
[]
[null,null,null,"SERVICIUDAD ESP",null,null,null,null,"Código SPFO-11","Versión 03"]
[]
[]
[null,null,null,"FICHA TECNICA DEL INDICADOR",null,null,null,null,"PAGINA 01"]
[]
[]
[]
[null,"Nombre del índicador",null,"Cobertura de intereses (Cli) Acueducto",null,null,null,null,"Código: ","IF075"]
[null,"Nombre del plan o proceso",null,"GESTIÓN FINANCIERA"]
[null,"Propósito u objetivo del indicador",null,"Establecer la incidencia que tienen los gastos financieros sobre las utilidades operacionales de la empresa"]
[null,"Tipo de indicador",null,"Eficiencia",null,null,"Eficacia",null,"Efectividad"]
[null,null,null,"Económia",null,"X","Ambiental"]
[null,"Estilo de cálculo",null,"Promedio",null,null,"Último dato","X"]
[null,null,null,"Suma",null,null,"Suma de componentes"]
[null,"MEDICIÓN DEL INDICADOR",null,null,null,null,null,null,null,null,null,null,null," "]
[null,"Fórmula de cálculo",null,"Cli = EBITDA / Gastos financieros"]
[]
[null,"Número de variables",null,2]
[null,"Definición variables (variables a medir)",null,"Donde i = período de análisis\nCCNP: CxC de mas 180 días - provisiones de CxC de mas de 180 días.\nSi las CxC de mas de 180 días son mayores a las provisiones, entonces CCNP se resta el numerador, de lo contrario, CCNP es igual a cero"]
[null,"Unidad de medida",null,"%"]
[null,"Tendencia del indicador",null,"Creciente","X",null,null,"Decreciente"]
[null,"Soporte legal",null,"Resolución CRA 315/05"]
[null,"Planes y programas a los que le hace seguimiento",null,"PESV",null,"PGR","X","Resolución 315/05"]
[null,null,null,"Programa Aseo",null,"Plan Tarifario",null,"Resolución 151/01"]
[null,null,null,"SG-SST"]
[]
[null,"FRECUENCIAS Y RESPONSABLES"]
[null,"Frecuencia de Cálculo y Análisis",null,"Mensual",null,"Trimestral","X","Otro"]
[null,null,null,"Semestral",null,"Anual",null,"Cual"]
[null,"Responsable de la medición y análisis Cargo y Dependencia",null,"Contadora"]
[]
[null,"Elaboró","Subgerencia de planeación",null,null,null,"Fecha",2020]

{"sheet":"IF076","index":80,"n_rows":33,"n_cols":14,"rows_kept":33,"cut":false,"hidden":false,"merged":[[30,1,31,2],[30,3,31,9],[32,2,32,5],[32,7,32,9],[23,1,26,2],[23,7,23,8],[24,7,24,8],[25,7,25,8],[27,1,27,9],[28,1,29,2],[28,7,28,8],[29,7,29,8],[22,1,22,2],[22,3,22,9],[15,1,15,9],[16,1,17,2],[16,3,17,9],[18,1,18,2],[18,3,18,9],[19,1,19,2],[19,3,19,9],[20,1,20,2],[20,3,20,9],[21,1,21,2],[21,4,21,6],[21,8,21,9],[11,1,12,2],[11,3,11,4],[12,3,12,4],[13,1,14,2],[13,3,13,4],[14,3,14,4],[10,1,10,2],[10,3,10,9],[1,1,6,2],[1,3,3,7],[1,8,3,8],[1,9,3,9],[4,3,6,7],[4,8,6,9],[7,1,7,9],[8,1,8,2],[8,3,8,7],[9,1,9,2],[9,3,9,8]]}
[]
[null,null,null,"SERVICIUDAD ESP",null,null,null,null,"Código SPFO-11","Versión 03"]
[]
[]
[null,null,null,"FICHA TECNICA DEL INDICADOR",null,null,null,null,"PAGINA 01"]
[]
[]
[]
[null,"Nombre del índicador",null,"Cobertura de intereses (Cli) Alcantarillado",null,null,null,null,"Código: ","IF076"]
[null,"Nombre del plan o proceso",null,"GESTIÓN FINANCIERA"]
[null,"Propósito u objetivo del indicador",null,"Establecer la incidencia que tienen los gastos financieros sobre las utilidades operacionales de la empresa"]
[null,"Tipo de indicador",null,"Eficiencia",null,null,"Eficacia",null,"Efectividad"]
[null,null,null,"Económia",null,"X","Ambiental"]
[null,"Estilo de cálculo",null,"Promedio",null,null,"Último dato","X"]
[null,null,null,"Suma",null,null,"Suma de componentes"]
[null,"MEDICIÓN DEL INDICADOR",null,null,null,null,null,null,null,null,null,null,null," "]
[null,"Fórmula de cálculo",null,"Cli = EBITDA / Gastos financieros"]
[]
[null,"Número de variables",null,2]
[null,"Definición variables (variables a medir)",null,"Donde i = período de análisis\nCCNP: CxC de mas 180 días - provisiones de CxC de mas de 180 días.\nSi las CxC de mas de 180 días son mayores a las provisiones, entonces CCNP se resta el numerador, de lo contrario, CCNP es igual a cero"]
[null,"Unidad de medida",null,"%"]
[null,"Tendencia del indicador",null,"Creciente","X",null,null,"Decreciente"]
[null,"Soporte legal",null,"Resolución CRA 315/05"]
[null,"Planes y programas a los que le hace seguimiento",null,"PESV",null,"PGR","X","Resolución 315/05"]
[null,null,null,"Programa Aseo",null,"Plan Tarifario",null,"Resolución 151/01"]
[null,null,null,"SG-SST"]
[]
[null,"FRECUENCIAS Y RESPONSABLES"]
[null,"Frecuencia de Cálculo y Análisis",null,"Mensual",null,"Trimestral","X","Otro"]
[null,null,null,"Semestral",null,"Anual",null,"Cual"]
[null,"Responsable de la medición y análisis Cargo y Dependencia",null,"Contadora"]
[]
[null,"Elaboró","Subgerencia de planeación",null,null,null,"Fecha",2020]

{"sheet":"IF077","index":81,"n_rows":33,"n_cols":14,"rows_kept":33,"cut":false,"hidden":false,"merged":[[30,1,31,2],[30,3,31,9],[32,2,32,5],[32,7,32,9],[23,1,26,2],[23,7,23,8],[24,7,24,8],[25,7,25,8],[27,1,27,9],[28,1,29,2],[28,7,28,8],[29,7,29,8],[22,1,22,2],[22,3,22,9],[15,1,15,9],[16,1,17,2],[16,3,17,9],[18,1,18,2],[18,3,18,9],[19,1,19,2],[19,3,19,9],[20,1,20,2],[20,3,20,9],[21,1,21,2],[21,4,21,6],[21,8,21,9],[11,1,12,2],[11,3,11,4],[12,3,12,4],[13,1,14,2],[13,3,13,4],[14,3,14,4],[10,1,10,2],[10,3,10,9],[1,1,6,2],[1,3,3,7],[1,8,3,8],[1,9,3,9],[4,3,6,7],[4,8,6,9],[7,1,7,9],[8,1,8,2],[8,3,8,7],[9,1,9,2],[9,3,9,8]]}
[]
[null,null,null,"SERVICIUDAD ESP",null,null,null,null,"Código SPFO-11","Versión 03"]
[]
[]
[null,null,null,"FICHA TECNICA DEL INDICADOR",null,null,null,null,"PAGINA 01"]
[]
[]
[]
[null,"Nombre del índicador",null,"Cobertura de intereses (Cli) Aseo",null,null,null,null,"Código: ","IF077"]
[null,"Nombre del plan o proceso",null,"GESTIÓN FINANCIERA"]
[null,"Propósito u objetivo del indicador",null,"Establecer la incidencia que tienen los gastos financieros sobre las utilidades operacionales de la empresa"]
[null,"Tipo de indicador",null,"Eficiencia",null,null,"Eficacia",null,"Efectividad"]
[null,null,null,"Económia",null,"X","Ambiental"]
[null,"Estilo de cálculo",null,"Promedio",null,null,"Último dato","X"]
[null,null,null,"Suma",null,null,"Suma de componentes"]
[null,"MEDICIÓN DEL INDICADOR",null,null,null,null,null,null,null,null,null,null,null," "]
[null,"Fórmula de cálculo",null,"Cli = EBITDA / Gastos financieros"]
[]
[null,"Número de variables",null,2]
[null,"Definición variables (variables a medir)",null,"Donde i = período de análisis\nCCNP: CxC de mas 180 días - provisiones de CxC de mas de 180 días.\nSi las CxC de mas de 180 días son mayores a las provisiones, entonces CCNP se resta el numerador, de lo contrario, CCNP es igual a cero"]
[null,"Unidad de medida",null,"%"]
[null,"Tendencia del indicador",null,"Creciente","X",null,null,"Decreciente"]
[null,"Soporte legal",null,"Resolución CRA 315/05"]
[null,"Planes y programas a los que le hace seguimiento",null,"PESV",null,"PGR",null,"Resolución 315/05"]
[null,null,null,"Programa Aseo",null,"Plan Tarifario",null,"Resolución 151/01",null,"X"]
[null,null,null,"SG-SST"]
[]
[null,"FRECUENCIAS Y RESPONSABLES"]
[null,"Frecuencia de Cálculo y Análisis",null,"Mensual",null,"Trimestral","X","Otro"]
[null,null,null,"Semestral",null,"Anual",null,"Cual"]
[null,"Responsable de la medición y análisis Cargo y Dependencia",null,"Contadora"]
[]
[null,"Elaboró","Subgerencia de planeación",null,null,null,"Fecha",2020]

{"sheet":"IF078","index":82,"n_rows":33,"n_cols":14,"rows_kept":33,"cut":false,"hidden":false,"merged":[[30,1,31,2],[30,3,31,9],[32,2,32,5],[32,7,32,9],[23,1,26,2],[23,7,23,8],[24,7,24,8],[25,7,25,8],[27,1,27,9],[28,1,29,2],[28,7,28,8],[29,7,29,8],[22,1,22,2],[22,3,22,9],[15,1,15,9],[16,1,17,2],[16,3,17,9],[18,1,18,2],[18,3,18,9],[19,1,19,2],[19,3,19,9],[20,1,20,2],[20,3,20,9],[21,1,21,2],[21,4,21,6],[21,8,21,9],[11,1,12,2],[11,3,11,4],[12,3,12,4],[13,1,14,2],[13,3,13,4],[14,3,14,4],[10,1,10,2],[10,3,10,9],[1,1,6,2],[1,3,3,7],[1,8,3,8],[1,9,3,9],[4,3,6,7],[4,8,6,9],[7,1,7,9],[8,1,8,2],[8,3,8,7],[9,1,9,2],[9,3,9,8]]}
[]
[null,null,null,"SERVICIUDAD ESP",null,null,null,null,"Código SPFO-11","Versión 03"]
[]
[]
[null,null,null,"FICHA TECNICA DEL INDICADOR",null,null,null,null,"PAGINA 01"]
[]
[]
[]
[null,"Nombre del índicador",null,"Costo eficiente de administracion (CAU) Acueducto",null,null,null,null,"Código: ","IF078"]
[null,"Nombre del plan o proceso",null,"GESTIÓN FINANCIERA"]
[null,"Propósito u objetivo del indicador",null,"Mantener controlado el costo medio de administración del servicio de acueducto."]
[null,"Tipo de indicador",null,"Eficiencia",null,"X","Eficacia",null,"Efectividad"]
[null,null,null,"Económia",null,"X","Ambiental"]
[null,"Estilo de cálculo",null,"Promedio",null,null,"Último dato","X"]
[null,null,null,"Suma",null,null,"Suma de componentes"]
[null,"MEDICIÓN DEL INDICADOR",null,null,null,null,null,null,null,null,null,null,null," "]
[null,"Fórmula de cálculo",null,"CAUei-1-((CAU0-CAU*)/5)"]
[]
[null,"Número de variables",null,2]
[null,"Definición variables (variables a medir)",null,"CAUei: Costos administrativos eficientes por suscriptor mensual del año i (pesos/suscriptor/mes) para cada servicio público domiciliario. CAU0: Costos administrativos por suscriptor mensual del año base (pesos/suscriptor/mes). Costos administrativos eficientes estándar por suscriptor mensual (pesos/suscriptor/mes) para cada servicio público domiciliario, según lo definido en el ARTÍCULO 26 de la presente resolución. "]
[null,"Unidad de medida",null,"Pesos corrientes/Suscriptor"]
[null,"Tendencia del indicador",null,"Creciente",null,null,null,"Decreciente","X"]
[null,"Soporte legal",null,"Resolución CRA 315/05"]
[null,"Planes y programas a los que le hace seguimiento",null,"PESV",null,"PGR",null,"Resolución 315/05",null,"X"]
[null,null,null,"Programa Aseo",null,"Plan Tarifario",null,"Resolución 151/01"]
[null,null,null,"SG-SST"]
[]
[null,"FRECUENCIAS Y RESPONSABLES"]
[null,"Frecuencia de Cálculo y Análisis",null,"Mensual",null,"Trimestral","X","Otro"]
[null,null,null,"Semestral",null,"Anual",null,"Cual"]
[null,"Responsable de la medición y análisis Cargo y Dependencia",null,"Contadora"]
[]
[null,"Elaboró","Subgerencia de planeación",null,null,null,"Fecha",2020]

{"sheet":"IF079","index":83,"n_rows":33,"n_cols":14,"rows_kept":33,"cut":false,"hidden":false,"merged":[[30,1,31,2],[30,3,31,9],[32,2,32,5],[32,7,32,9],[23,1,26,2],[23,7,23,8],[24,7,24,8],[25,7,25,8],[27,1,27,9],[28,1,29,2],[28,7,28,8],[29,7,29,8],[22,1,22,2],[22,3,22,9],[15,1,15,9],[16,1,17,2],[16,3,17,9],[18,1,18,2],[18,3,18,9],[19,1,19,2],[19,3,19,9],[20,1,20,2],[20,3,20,9],[21,1,21,2],[21,4,21,6],[21,8,21,9],[11,1,12,2],[11,3,11,4],[12,3,12,4],[13,1,14,2],[13,3,13,4],[14,3,14,4],[10,1,10,2],[10,3,10,9],[1,1,6,2],[1,3,3,7],[1,8,3,8],[1,9,3,9],[4,3,6,7],[4,8,6,9],[7,1,7,9],[8,1,8,2],[8,3,8,7],[9,1,9,2],[9,3,9,8]]}
[]
[null,null,null,"SERVICIUDAD ESP",null,null,null,null,"Código SPFO-11","Versión 03"]
[]
[]
[null,null,null,"FICHA TECNICA DEL INDICADOR",null,null,null,null,"PAGINA 01"]
[]
[]
[]
[null,"Nombre del índicador",null,"Costo eficiente de operación (COU) Acueducto",null,null,null,null,"Código: ","IF079"]
[null,"Nombre del plan o proceso",null,"GESTIÓN FINANCIERA"]
[null,"Propósito u objetivo del indicador",null,"Mantener controlado el costo medio de operación del servicio de acueducto."]
[null,"Tipo de indicador",null,"Eficiencia",null,"X","Eficacia",null,"Efectividad"]
[null,null,null,"Económia",null,"X","Ambiental"]
[null,"Estilo de cálculo",null,"Promedio",null,null,"Último dato","X"]
[null,null,null,"Suma",null,null,"Suma de componentes"]
[null,"MEDICIÓN DEL INDICADOR",null,null,null,null,null,null,null,null,null,null,null," "]
[null,"Fórmula de cálculo",null,"COUei-1-((COU0-COU*)/5)"]
[]
[null,"Número de variables",null,2]
[null,"Definición variables (variables a medir)",null,"COUei: Costos operativos comparables eficientes por suscriptor mensual del año i (pesos/suscriptor/mes) para cada servicio público domiciliario. COU0: Costos operativos comparables por suscriptor mensual del año base (pesos/suscriptor/mes) para cada servicio público domiciliario. COU*: Costos operativos comparables eficientes estándar por suscriptor mensual (pesos/suscriptor/mes) para cada servicio público domiciliario, según lo definido en el ARTÍCULO 33 de la presente resolución. "]
[null,"Unidad de medida",null,"Pesos corrientes/Suscriptor"]
[null,"Tendencia del indicador",null,"Creciente",null,null,null,"Decreciente","X"]
[null,"Soporte legal",null,"Resolución CRA 315/05"]
[null,"Planes y programas a los que le hace seguimiento",null,"PESV",null,"PGR",null,"Resolución 315/05",null,"X"]
[null,null,null,"Programa Aseo",null,"Plan Tarifario",null,"Resolución 151/01"]
[null,null,null,"SG-SST"]
[]
[null,"FRECUENCIAS Y RESPONSABLES"]
[null,"Frecuencia de Cálculo y Análisis",null,"Mensual",null,"Trimestral","X","Otro"]
[null,null,null,"Semestral",null,"Anual",null,"Cual"]
[null,"Responsable de la medición y análisis Cargo y Dependencia",null,"Contadora"]
[]
[null,"Elaboró","Subgerencia de planeación",null,null,null,"Fecha",2020]

{"sheet":"IF080","index":84,"n_rows":33,"n_cols":14,"rows_kept":33,"cut":false,"hidden":false,"merged":[[30,1,31,2],[30,3,31,9],[32,2,32,5],[32,7,32,9],[23,1,26,2],[23,7,23,8],[24,7,24,8],[25,7,25,8],[27,1,27,9],[28,1,29,2],[28,7,28,8],[29,7,29,8],[22,1,22,2],[22,3,22,9],[15,1,15,9],[16,1,17,2],[16,3,17,9],[18,1,18,2],[18,3,18,9],[19,1,19,2],[19,3,19,9],[20,1,20,2],[20,3,20,9],[21,1,21,2],[21,4,21,6],[21,8,21,9],[11,1,12,2],[11,3,11,4],[12,3,12,4],[13,1,14,2],[13,3,13,4],[14,3,14,4],[10,1,10,2],[10,3,10,9],[1,1,6,2],[1,3,3,7],[1,8,3,8],[1,9,3,9],[4,3,6,7],[4,8,6,9],[7,1,7,9],[8,1,8,2],[8,3,8,7],[9,1,9,2],[9,3,9,8]]}
[]
[null,null,null,"SERVICIUDAD ESP",null,null,null,null,"Código SPFO-11","Versión 03"]
[]
[]
[null,null,null,"FICHA TECNICA DEL INDICADOR",null,null,null,null,"PAGINA 01"]
[]
[]
[]
[null,"Nombre del índicador",null,"Costos unitarios particulares (CUP) acueducto insumos químicos",null,null,null,null,"Código: ","IF080"]
[null,"Nombre del plan o proceso",null,"GESTIÓN FINANCIERA"]
[null,"Propósito u objetivo del indicador",null,"Mantener controlado el costo de insumos químicos del servicio de acueducto."]
[null,"Tipo de indicador",null,"Eficiencia",null,"X","Eficacia",null,"Efectividad"]
[null,null,null,"Económia",null,"X","Ambiental"]
[null,"Estilo de cálculo",null,"Promedio",null,null,"Último dato","X"]
[null,null,null,"Suma",null,null,"Suma de componentes"]
[null,"MEDICIÓN DEL INDICADOR",null,null,null,null,null,null,null,null,null,null,null," "]
[null,"Fórmula de cálculo",null,"Costos unitarios particulares (CUP) acueducto insumos químicos"]
[]
[null,"Número de variables",null,2]
[null,"Definición variables (variables a medir)"]
[null,"Unidad de medida",null,"Pesos corrientes/m3"]
[null,"Tendencia del indicador",null,"Creciente",null,null,null,"Decreciente","X"]
[null,"Soporte legal",null,"Resolución CRA 315/05"]
[null,"Planes y programas a los que le hace seguimiento",null,"PESV",null,"PGR",null,"Resolución 315/05",null,"X"]
[null,null,null,"Programa Aseo",null,"Plan Tarifario",null,"Resolución 151/01"]
[null,null,null,"SG-SST"]
[]
[null,"FRECUENCIAS Y RESPONSABLES"]
[null,"Frecuencia de Cálculo y Análisis",null,"Mensual",null,"Trimestral","X","Otro"]
[null,null,null,"Semestral",null,"Anual",null,"Cual"]
[null,"Responsable de la medición y análisis Cargo y Dependencia",null,"Contadora"]
[]
[null,"Elaboró","Subgerencia de planeación",null,null,null,"Fecha",2020]

{"sheet":"IF081","index":85,"n_rows":33,"n_cols":14,"rows_kept":33,"cut":false,"hidden":false,"merged":[[30,1,31,2],[30,3,31,9],[32,2,32,5],[32,7,32,9],[23,1,26,2],[23,7,23,8],[24,7,24,8],[25,7,25,8],[27,1,27,9],[28,1,29,2],[28,7,28,8],[29,7,29,8],[22,1,22,2],[22,3,22,9],[15,1,15,9],[16,1,17,2],[16,3,17,9],[18,1,18,2],[18,3,18,9],[19,1,19,2],[19,3,19,9],[20,1,20,2],[20,3,20,9],[21,1,21,2],[21,4,21,6],[21,8,21,9],[11,1,12,2],[11,3,11,4],[12,3,12,4],[13,1,14,2],[13,3,13,4],[14,3,14,4],[10,1,10,2],[10,3,10,9],[1,1,6,2],[1,3,3,7],[1,8,3,8],[1,9,3,9],[4,3,6,7],[4,8,6,9],[7,1,7,9],[8,1,8,2],[8,3,8,7],[9,1,9,2],[9,3,9,8]]}
[]
[null,null,null,"SERVICIUDAD ESP",null,null,null,null,"Código SPFO-11","Versión 03"]
[]
[]
[null,null,null,"FICHA TECNICA DEL INDICADOR",null,null,null,null,"PAGINA 01"]
[]
[]
[]
[null,"Nombre del índicador",null,"Costos unitarios particulares (CUP) acueducto energía eléctrica",null,null,null,null,"Código: ","IF081"]
[null,"Nombre del plan o proceso",null,"GESTIÓN FINANCIERA"]
[null,"Propósito u objetivo del indicador",null,"Mantener controlado el costo de energía eléctrica del servicio de acueducto."]
[null,"Tipo de indicador",null,"Eficiencia",null,"X","Eficacia",null,"Efectividad"]
[null,null,null,"Económia",null,"X","Ambiental"]
[null,"Estilo de cálculo",null,"Promedio",null,null,"Último dato","X"]
[null,null,null,"Suma",null,null,"Suma de componentes"]
[null,"MEDICIÓN DEL INDICADOR",null,null,null,null,null,null,null,null,null,null,null," "]
[null,"Fórmula de cálculo",null,"Costos unitarios particulares (CUP) acueducto energía eléctrica"]
[]
[null,"Número de variables",null,2]
[null,"Definición variables (variables a medir)"]
[null,"Unidad de medida",null,"Pesos corrientes/m3"]
[null,"Tendencia del indicador",null,"Creciente",null,null,null,"Decreciente","X"]
[null,"Soporte legal",null,"Resolución CRA 315/05"]
[null,"Planes y programas a los que le hace seguimiento",null,"PESV",null,"PGR",null,"Resolución 315/05",null,"X"]
[null,null,null,"Programa Aseo",null,"Plan Tarifario",null,"Resolución 151/01"]
[null,null,null,"SG-SST"]
[]
[null,"FRECUENCIAS Y RESPONSABLES"]
[null,"Frecuencia de Cálculo y Análisis",null,"Mensual",null,"Trimestral","X","Otro"]
[null,null,null,"Semestral",null,"Anual",null,"Cual"]
[null,"Responsable de la medición y análisis Cargo y Dependencia",null,"Contadora"]
[]
[null,"Elaboró","Subgerencia de planeación",null,null,null,"Fecha",2020]

{"sheet":"IF082","index":86,"n_rows":33,"n_cols":14,"rows_kept":33,"cut":false,"hidden":false,"merged":[[30,1,31,2],[30,3,31,9],[32,2,32,5],[32,7,32,9],[23,1,26,2],[23,7,23,8],[24,7,24,8],[25,7,25,8],[27,1,27,9],[28,1,29,2],[28,7,28,8],[29,7,29,8],[22,1,22,2],[22,3,22,9],[15,1,15,9],[16,1,17,2],[16,3,17,9],[18,1,18,2],[18,3,18,9],[19,1,19,2],[19,3,19,9],[20,1,20,2],[20,3,20,9],[21,1,21,2],[21,4,21,6],[21,8,21,9],[11,1,12,2],[11,3,11,4],[12,3,12,4],[13,1,14,2],[13,3,13,4],[14,3,14,4],[10,1,10,2],[10,3,10,9],[1,1,6,2],[1,3,3,7],[1,8,3,8],[1,9,3,9],[4,3,6,7],[4,8,6,9],[7,1,7,9],[8,1,8,2],[8,3,8,7],[9,1,9,2],[9,3,9,8]]}
[]
[null,null,null,"SERVICIUDAD ESP",null,null,null,null,"Código SPFO-11","Versión 03"]
[]
[]
[null,null,null,"FICHA TECNICA DEL INDICADOR",null,null,null,null,"PAGINA 01"]
[]
[]
[]
[null,"Nombre del índicador",null,"Costo eficiente de administracion (CAU) Alcantarillado",null,null,null,null,"Código: ","IF082"]
[null,"Nombre del plan o proceso",null,"GESTIÓN FINANCIERA"]
[null,"Propósito u objetivo del indicador",null,"Mantener controlado el costo medio de administración del servicio de alcantarillado."]
[null,"Tipo de indicador",null,"Eficiencia",null,"X","Eficacia",null,"Efectividad"]
[null,null,null,"Económia",null,"X","Ambiental"]
[null,"Estilo de cálculo",null,"Promedio",null,null,"Último dato","X"]
[null,null,null,"Suma",null,null,"Suma de componentes"]
[null,"MEDICIÓN DEL INDICADOR",null,null,null,null,null,null,null,null,null,null,null," "]
[null,"Fórmula de cálculo",null,"CAUei-1-((CAU0-CAU*)/5)"]
[]
[null,"Número de variables",null,2]
[null,"Definición variables (variables a medir)",null,"CAUei: Costos administrativos eficientes por suscriptor mensual del año i (pesos/suscriptor/mes) para cada servicio público domiciliario. CAU0: Costos administrativos por suscriptor mensual del año base (pesos/suscriptor/mes). Costos administrativos eficientes estándar por suscriptor mensual (pesos/suscriptor/mes) para cada servicio público domiciliario, según lo definido en el ARTÍCULO 26 de la presente resolución. "]
[null,"Unidad de medida",null,"Pesos corrientes/Suscriptor"]
[null,"Tendencia del indicador",null,"Creciente",null,null,null,"Decreciente","X"]
[null,"Soporte legal",null,"Resolución CRA 315/05"]
[null,"Planes y programas a los que le hace seguimiento",null,"PESV",null,"PGR",null,"Resolución 315/05",null,"X"]
[null,null,null,"Programa Aseo",null,"Plan Tarifario",null,"Resolución 151/01"]
[null,null,null,"SG-SST"]
[]
[null,"FRECUENCIAS Y RESPONSABLES"]
[null,"Frecuencia de Cálculo y Análisis",null,"Mensual",null,"Trimestral","X","Otro"]
[null,null,null,"Semestral",null,"Anual",null,"Cual"]
[null,"Responsable de la medición y análisis Cargo y Dependencia",null,"Contadora"]
[]
[null,"Elaboró","Subgerencia de planeación",null,null,null,"Fecha",2020]

{"sheet":"IF083","index":87,"n_rows":33,"n_cols":14,"rows_kept":33,"cut":false,"hidden":false,"merged":[[30,1,31,2],[30,3,31,9],[32,2,32,5],[32,7,32,9],[23,1,26,2],[23,7,23,8],[24,7,24,8],[25,7,25,8],[27,1,27,9],[28,1,29,2],[28,7,28,8],[29,7,29,8],[22,1,22,2],[22,3,22,9],[15,1,15,9],[16,1,17,2],[16,3,17,9],[18,1,18,2],[18,3,18,9],[19,1,19,2],[19,3,19,9],[20,1,20,2],[20,3,20,9],[21,1,21,2],[21,4,21,6],[21,8,21,9],[11,1,12,2],[11,3,11,4],[12,3,12,4],[13,1,14,2],[13,3,13,4],[14,3,14,4],[10,1,10,2],[10,3,10,9],[1,1,6,2],[1,3,3,7],[1,8,3,8],[1,9,3,9],[4,3,6,7],[4,8,6,9],[7,1,7,9],[8,1,8,2],[8,3,8,7],[9,1,9,2],[9,3,9,8]]}
[]
[null,null,null,"SERVICIUDAD ESP",null,null,null,null,"Código SPFO-11","Versión 03"]
[]
[]
[null,null,null,"FICHA TECNICA DEL INDICADOR",null,null,null,null,"PAGINA 01"]
[]
[]
[]
[null,"Nombre del índicador",null,"Costo eficiente de operación (COU) Alcantarillado",null,null,null,null,"Código: ","IF083"]
[null,"Nombre del plan o proceso",null,"GESTIÓN FINANCIERA"]
[null,"Propósito u objetivo del indicador",null,"Mantener controlado el costo medio de operación del servicio de alcantarillado."]
[null,"Tipo de indicador",null,"Eficiencia",null,"X","Eficacia",null,"Efectividad"]
[null,null,null,"Económia",null,"X","Ambiental"]
[null,"Estilo de cálculo",null,"Promedio",null,null,"Último dato","X"]
[null,null,null,"Suma",null,null,"Suma de componentes"]
[null,"MEDICIÓN DEL INDICADOR",null,null,null,null,null,null,null,null,null,null,null," "]
[null,"Fórmula de cálculo",null,"COUei-1-((COU0-COU*)/5)"]
[]
[null,"Número de variables",null,2]
[null,"Definición variables (variables a medir)",null,"COUei: Costos operativos comparables eficientes por suscriptor mensual del año i (pesos/suscriptor/mes) para cada servicio público domiciliario. COU0: Costos operativos comparables por suscriptor mensual del año base (pesos/suscriptor/mes) para cada servicio público domiciliario. COU*: Costos operativos comparables eficientes estándar por suscriptor mensual (pesos/suscriptor/mes) para cada servicio público domiciliario, según lo definido en el ARTÍCULO 33 de la presente resolución. "]
[null,"Unidad de medida",null,"Pesos corrientes/Suscriptor"]
[null,"Tendencia del indicador",null,"Creciente",null,null,null,"Decreciente","X"]
[null,"Soporte legal",null,"Resolución CRA 315/05"]
[null,"Planes y programas a los que le hace seguimiento",null,"PESV",null,"PGR",null,"Resolución 315/05",null,"X"]
[null,null,null,"Programa Aseo",null,"Plan Tarifario",null,"Resolución 151/01"]
[null,null,null,"SG-SST"]
[]
[null,"FRECUENCIAS Y RESPONSABLES"]
[null,"Frecuencia de Cálculo y Análisis",null,"Mensual",null,"Trimestral","X","Otro"]
[null,null,null,"Semestral",null,"Anual",null,"Cual"]
[null,"Responsable de la medición y análisis Cargo y Dependencia",null,"Contadora"]
[]
[null,"Elaboró","Subgerencia de planeación",null,null,null,"Fecha",2020]

{"sheet":"US001","index":88,"n_rows":33,"n_cols":14,"rows_kept":33,"cut":false,"hidden":false,"merged":[[30,1,31,2],[30,3,31,9],[32,2,32,5],[32,7,32,9],[23,1,26,2],[23,7,23,8],[24,7,24,8],[25,7,25,8],[27,1,27,9],[28,1,29,2],[28,7,28,8],[29,7,29,8],[22,1,22,2],[22,3,22,9],[15,1,15,9],[16,1,17,2],[16,3,17,9],[18,1,18,2],[18,3,18,9],[19,1,19,2],[19,3,19,9],[20,1,20,2],[20,3,20,9],[21,1,21,2],[21,4,21,6],[21,8,21,9],[11,1,12,2],[11,3,11,4],[12,3,12,4],[13,1,14,2],[13,3,13,4],[14,3,14,4],[10,1,10,2],[10,3,10,9],[1,1,6,2],[1,3,3,7],[1,8,3,8],[1,9,3,9],[4,3,6,7],[4,8,6,9],[7,1,7,9],[8,1,8,2],[8,3,8,7],[9,1,9,2],[9,3,9,8]]}
[]
[null,null,null,"SERVICIUDAD ESP",null,null,null,null,"Código SPFO-11","Versión 03"]
[]
[]
[null,null,null,"FICHA TECNICA DEL INDICADOR",null,null,null,null,"PAGINA 01"]
[]
[]
[]
[null,"Nombre del índicador",null,"Nivel de satisfaccion de suscriptores",null,null,null,null,"Código: ","US001"]
[null,"Nombre del plan o proceso",null,"ATENCIÓN AL CLIENTE"]
[null,"Propósito u objetivo del indicador",null,"Medir el grado de satisfacción de los usuarios respecto al servicio"]
[null,"Tipo de indicador",null,"Eficiencia",null,null,"Eficacia",null,"Efectividad","X"]
[null,null,null,"Económia",null,null,"Ambiental"]
[null,"Estilo de cálculo",null,"Promedio",null,null,"Último dato"]
[null,null,null,"Suma",null,"X","Suma de componentes"]
[null,"MEDICIÓN DEL INDICADOR",null,null,null,null,null,null,null,null,null,null,null," "]
[null,"Fórmula de cálculo",null,"Encuesta de satisfacción de suscriptores anual"]
[]
[null,"Número de variables",null,1]
[null,"Definición variables (variables a medir)"]
[null,"Unidad de medida",null,"%"]
[null,"Tendencia del indicador",null,"Creciente","X",null,null,"Decreciente"]
[null,"Soporte legal"]
[null,"Planes y programas a los que le hace seguimiento",null,"PESV",null,"PGR",null,"Resolución 315/05"]
[null,null,null,"Programa Aseo",null,"Plan Tarifario",null,"Resolución 151/01"]
[null,null,null,"SG-SST"]
[]
[null,"FRECUENCIAS Y RESPONSABLES"]
[null,"Frecuencia de Cálculo y Análisis",null,"Mensual",null,"Trimestral","X","Otro"]
[null,null,null,"Semestral",null,"Anual",null,"Cual"]
[null,"Responsable de la medición y análisis Cargo y Dependencia",null,"Técnico Estadística"]
[]
[null,"Elaboró","Subgerencia de planeación",null,null,null,"Fecha",2020]

{"sheet":"US002","index":89,"n_rows":33,"n_cols":14,"rows_kept":33,"cut":false,"hidden":false,"merged":[[30,1,31,2],[30,3,31,9],[32,2,32,5],[32,7,32,9],[23,1,26,2],[23,7,23,8],[24,7,24,8],[25,7,25,8],[27,1,27,9],[28,1,29,2],[28,7,28,8],[29,7,29,8],[22,1,22,2],[22,3,22,9],[15,1,15,9],[16,1,17,2],[16,3,17,9],[18,1,18,2],[18,3,18,9],[19,1,19,2],[19,3,19,9],[20,1,20,2],[20,3,20,9],[21,1,21,2],[21,4,21,6],[21,8,21,9],[11,1,12,2],[11,3,11,4],[12,3,12,4],[13,1,14,2],[13,3,13,4],[14,3,14,4],[10,1,10,2],[10,3,10,9],[1,1,6,2],[1,3,3,7],[1,8,3,8],[1,9,3,9],[4,3,6,7],[4,8,6,9],[7,1,7,9],[8,1,8,2],[8,3,8,7],[9,1,9,2],[9,3,9,8]]}
[]
[null,null,null,"SERVICIUDAD ESP",null,null,null,null,"Código SPFO-11","Versión 03"]
[]
[]
[null,null,null,"FICHA TECNICA DEL INDICADOR",null,null,null,null,"PAGINA 01"]
[]
[]
[]
[null,"Nombre del índicador",null,"Indice de Atención de PQR Acueducto — IPQRAC",null,null,null,null,"Código: ","US002"]
[null,"Nombre del plan o proceso",null,"ATENCIÓN AL CLIENTE"]
[null,"Propósito u objetivo del indicador",null,"Medir la eficiencia en la atención a las PQR del servicio de acueducto, independiente de su naturaleza."]
[null,"Tipo de indicador",null,"Eficiencia",null,null,"Eficacia","X","Efectividad"]
[null,null,null,"Económia",null,null,"Ambiental"]
[null,"Estilo de cálculo",null,"Promedio",null,null,"Último dato"]
[null,null,null,"Suma",null,null,"Suma de componentes","X"]
[null,"MEDICIÓN DEL INDICADOR",null,null,null,null,null,null,null,null,null,null,null," "]
[null,"Fórmula de cálculo",null," (NDNA / NTD) x 100"]
[]
[null,"Número de variables",null,2]
[null,"Definición variables (variables a medir)",null,"NDNA: Número de PQR del servicio público domiciliario de acueducto no atendidos dentro del tiempo estipulado por la normatividad vigente en el período de evaluación.\nNTD: Número total de PQR del servicio público domiciliario de acueducto resueltas en el período de evaluación, incluyendo aquellas que fueron abiertas a pruebas."]
[null,"Unidad de medida",null,"%"]
[null,"Tendencia del indicador",null,"Creciente",null,null,null,"Decreciente","X"]
[null,"Soporte legal",null,"Resolución CRA 906/2019"]
[null,"Planes y programas a los que le hace seguimiento",null,"PESV",null,"PGR","X","Resolución 315/05"]
[null,null,null,"Programa Aseo",null,"Plan Tarifario",null,"Resolución 151/01"]
[null,null,null,"SG-SST"]
[]
[null,"FRECUENCIAS Y RESPONSABLES"]
[null,"Frecuencia de Cálculo y Análisis",null,"Mensual","X","Trimestral",null,"Otro"]
[null,null,null,"Semestral",null,"Anual",null,"Cual"]
[null,"Responsable de la medición y análisis Cargo y Dependencia",null,"Profesional en Derecho "]
[]
[null,"Elaboró","Subgerencia de planeación",null,null,null,"Fecha",2020]

{"sheet":"US003","index":90,"n_rows":33,"n_cols":14,"rows_kept":33,"cut":false,"hidden":false,"merged":[[30,1,31,2],[30,3,31,9],[32,2,32,5],[32,7,32,9],[23,1,26,2],[23,7,23,8],[24,7,24,8],[25,7,25,8],[27,1,27,9],[28,1,29,2],[28,7,28,8],[29,7,29,8],[22,1,22,2],[22,3,22,9],[15,1,15,9],[16,1,17,2],[16,3,17,9],[18,1,18,2],[18,3,18,9],[19,1,19,2],[19,3,19,9],[20,1,20,2],[20,3,20,9],[21,1,21,2],[21,4,21,6],[21,8,21,9],[11,1,12,2],[11,3,11,4],[12,3,12,4],[13,1,14,2],[13,3,13,4],[14,3,14,4],[10,1,10,2],[10,3,10,9],[1,1,6,2],[1,3,3,7],[1,8,3,8],[1,9,3,9],[4,3,6,7],[4,8,6,9],[7,1,7,9],[8,1,8,2],[8,3,8,7],[9,1,9,2],[9,3,9,8]]}
[]
[null,null,null,"SERVICIUDAD ESP",null,null,null,null,"Código SPFO-11","Versión 03"]
[]
[]
[null,null,null,"FICHA TECNICA DEL INDICADOR",null,null,null,null,"PAGINA 01"]
[]
[]
[]
[null,"Nombre del índicador",null,"Indice de Atención de PQR Alcantarillado — IPQRAL",null,null,null,null,"Código: ","US003"]
[null,"Nombre del plan o proceso",null,"ATENCIÓN AL CLIENTE"]
[null,"Propósito u objetivo del indicador",null,"Medir la eficiencia en la atención a las PQR del servicio de alcantarillado, independiente de su naturaleza."]
[null,"Tipo de indicador",null,"Eficiencia",null,null,"Eficacia","X","Efectividad"]
[null,null,null,"Económia",null,null,"Ambiental"]
[null,"Estilo de cálculo",null,"Promedio",null,null,"Último dato"]
[null,null,null,"Suma",null,null,"Suma de componentes","X"]
[null,"MEDICIÓN DEL INDICADOR",null,null,null,null,null,null,null,null,null,null,null," "]
[null,"Fórmula de cálculo",null,"(NDNA / NTD) x 100 "]
[]
[null,"Número de variables",null,2]
[null,"Definición variables (variables a medir)",null,"NDNA: Número de PQR del servicio público domiciliario de alcantarillado no atendidos dentro del tirmpo estipulado por la normatividad vigente en el período de evaluación.\nNTD: Número total de PQR del servicio púclico domiciliario de alcantarillado resueltas en el período de evaluación, incluyendo aquellas que fueron abiertas a pruebas."]
[null,"Unidad de medida",null,"%"]
[null,"Tendencia del indicador",null,"Creciente",null,null,null,"Decreciente","X"]
[null,"Soporte legal",null,"Resolución CRA 906/2019"]
[null,"Planes y programas a los que le hace seguimiento",null,"PESV",null,"PGR","X","Resolución 315/05"]
[null,null,null,"Programa Aseo",null,"Plan Tarifario",null,"Resolución 151/01"]
[null,null,null,"SG-SST"]
[]
[null,"FRECUENCIAS Y RESPONSABLES"]
[null,"Frecuencia de Cálculo y Análisis",null,"Mensual","X","Trimestral",null,"Otro"]
[null,null,null,"Semestral",null,"Anual",null,"Cual"]
[null,"Responsable de la medición y análisis Cargo y Dependencia",null,"Profesional en Derecho "]
[]
[null,"Elaboró","Subgerencia de planeación",null,null,null,"Fecha",2020]

{"sheet":"US004","index":91,"n_rows":33,"n_cols":14,"rows_kept":33,"cut":false,"hidden":false,"merged":[[30,1,31,2],[30,3,31,9],[32,2,32,5],[32,7,32,9],[23,1,26,2],[23,7,23,8],[24,7,24,8],[25,7,25,8],[27,1,27,9],[28,1,29,2],[28,7,28,8],[29,7,29,8],[22,1,22,2],[22,3,22,9],[15,1,15,9],[16,1,17,2],[16,3,17,9],[18,1,18,2],[18,3,18,9],[19,1,19,2],[19,3,19,9],[20,1,20,2],[20,3,20,9],[21,1,21,2],[21,4,21,6],[21,8,21,9],[11,1,12,2],[11,3,11,4],[12,3,12,4],[13,1,14,2],[13,3,13,4],[14,3,14,4],[10,1,10,2],[10,3,10,9],[1,1,6,2],[1,3,3,7],[1,8,3,8],[1,9,3,9],[4,3,6,7],[4,8,6,9],[7,1,7,9],[8,1,8,2],[8,3,8,7],[9,1,9,2],[9,3,9,8]]}
[]
[null,null,null,"SERVICIUDAD ESP",null,null,null,null,"Código SPFO-11","Versión 03"]
[]
[]
[null,null,null,"FICHA TECNICA DEL INDICADOR",null,null,null,null,"PAGINA 01"]
[]
[]
[]
[null,"Nombre del índicador",null,"Eficiencia de recaudo Acueducto (ERi)",null,null,null,null,"Código: ","US004"]
[null,"Nombre del plan o proceso",null,"FACTURACIÓN"]
[null,"Propósito u objetivo del indicador",null,"Medir la frecuencia con que se recauda la calidad del proceso de facturación en acueducto"]
[null,"Tipo de indicador",null,"Eficiencia",null,"X","Eficacia",null,"Efectividad"]
[null,null,null,"Económia",null,null,"Ambiental"]
[null,"Estilo de cálculo",null,"Promedio",null,null,"Último dato","X"]
[null,null,null,"Suma",null,null,"Suma de componentes"]
[null,"MEDICIÓN DEL INDICADOR",null,null,null,null,null,null,null,null,null,null,null," "]
[null,"Fórmula de cálculo",null,"Valor Recaudado /Valor Facturado"]
[]
[null,"Número de variables",null,2]
[null,"Definición variables (variables a medir)"]
[null,"Unidad de medida",null,"%"]
[null,"Tendencia del indicador",null,"Creciente","X",null,null,"Decreciente"]
[null,"Soporte legal",null,"Resolución CRA 12/1995"]
[null,"Planes y programas a los que le hace seguimiento",null,"PESV",null,"PGR",null,"Resolución 315/05"]
[null,null,null,"Programa Aseo",null,"Plan Tarifario",null,"Resolución 151/01"]
[null,null,null,"SG-SST","X"]
[]
[null,"FRECUENCIAS Y RESPONSABLES"]
[null,"Frecuencia de Cálculo y Análisis",null,"Mensual","X","Trimestral",null,"Otro"]
[null,null,null,"Semestral",null,"Anual",null,"Cual"]
[null,"Responsable de la medición y análisis Cargo y Dependencia",null,"Técnico Cartera"]
[]
[null,"Elaboró","Subgerencia de planeación",null,null,null,"Fecha",2020]

{"sheet":"US005","index":92,"n_rows":33,"n_cols":14,"rows_kept":33,"cut":false,"hidden":false,"merged":[[30,1,31,2],[30,3,31,9],[32,2,32,5],[32,7,32,9],[23,1,26,2],[23,7,23,8],[24,7,24,8],[25,7,25,8],[27,1,27,9],[28,1,29,2],[28,7,28,8],[29,7,29,8],[22,1,22,2],[22,3,22,9],[15,1,15,9],[16,1,17,2],[16,3,17,9],[18,1,18,2],[18,3,18,9],[19,1,19,2],[19,3,19,9],[20,1,20,2],[20,3,20,9],[21,1,21,2],[21,4,21,6],[21,8,21,9],[11,1,12,2],[11,3,11,4],[12,3,12,4],[13,1,14,2],[13,3,13,4],[14,3,14,4],[10,1,10,2],[10,3,10,9],[1,1,6,2],[1,3,3,7],[1,8,3,8],[1,9,3,9],[4,3,6,7],[4,8,6,9],[7,1,7,9],[8,1,8,2],[8,3,8,7],[9,1,9,2],[9,3,9,8]]}
[]
[null,null,null,"SERVICIUDAD ESP",null,null,null,null,"Código SPFO-11","Versión 03"]
[]
[]
[null,null,null,"FICHA TECNICA DEL INDICADOR",null,null,null,null,"PAGINA 01"]
[]
[]
[]
[null,"Nombre del índicador",null,"Eficiencia de recaudo Alcantarillado (ERi)",null,null,null,null,"Código: ","US005"]
[null,"Nombre del plan o proceso",null,"FACTURACIÓN"]
[null,"Propósito u objetivo del indicador",null,"Medir la frecuencia con que se recauda la calidad del proceso de facturación en alcnatarillado"]
[null,"Tipo de indicador",null,"Eficiencia",null,"X","Eficacia",null,"Efectividad"]
[null,null,null,"Económia",null,null,"Ambiental"]
[null,"Estilo de cálculo",null,"Promedio",null,null,"Último dato","X"]
[null,null,null,"Suma",null,null,"Suma de componentes"]
[null,"MEDICIÓN DEL INDICADOR",null,null,null,null,null,null,null,null,null,null,null," "]
[null,"Fórmula de cálculo",null,"Valor Recaudado /Valor Facturado"]
[]
[null,"Número de variables",null,2]
[null,"Definición variables (variables a medir)"]
[null,"Unidad de medida",null,"%"]
[null,"Tendencia del indicador",null,"Creciente","X",null,null,"Decreciente"]
[null,"Soporte legal",null,"Resolución CRA 12/1995"]
[null,"Planes y programas a los que le hace seguimiento",null,"PESV",null,"PGR",null,"Resolución 315/05"]
[null,null,null,"Programa Aseo",null,"Plan Tarifario",null,"Resolución 151/01"]
[null,null,null,"SG-SST","X"]
[]
[null,"FRECUENCIAS Y RESPONSABLES"]
[null,"Frecuencia de Cálculo y Análisis",null,"Mensual","X","Trimestral",null,"Otro"]
[null,null,null,"Semestral",null,"Anual",null,"Cual"]
[null,"Responsable de la medición y análisis Cargo y Dependencia",null,"Técnico Cartera"]
[]
[null,"Elaboró","Subgerencia de planeación",null,null,null,"Fecha",2020]

{"sheet":"US006","index":93,"n_rows":33,"n_cols":14,"rows_kept":33,"cut":false,"hidden":false,"merged":[[30,1,31,2],[30,3,31,9],[32,2,32,5],[32,7,32,9],[23,1,26,2],[23,7,23,8],[24,7,24,8],[25,7,25,8],[27,1,27,9],[28,1,29,2],[28,7,28,8],[29,7,29,8],[22,1,22,2],[22,3,22,9],[15,1,15,9],[16,1,17,2],[16,3,17,9],[18,1,18,2],[18,3,18,9],[19,1,19,2],[19,3,19,9],[20,1,20,2],[20,3,20,9],[21,1,21,2],[21,4,21,6],[21,8,21,9],[11,1,12,2],[11,3,11,4],[12,3,12,4],[13,1,14,2],[13,3,13,4],[14,3,14,4],[10,1,10,2],[10,3,10,9],[1,1,6,2],[1,3,3,7],[1,8,3,8],[1,9,3,9],[4,3,6,7],[4,8,6,9],[7,1,7,9],[8,1,8,2],[8,3,8,7],[9,1,9,2],[9,3,9,8]]}
[]
[null,null,null,"SERVICIUDAD ESP",null,null,null,null,"Código SPFO-11","Versión 03"]
[]
[]
[null,null,null,"FICHA TECNICA DEL INDICADOR",null,null,null,null,"PAGINA 01"]
[]
[]
[]
[null,"Nombre del índicador",null,"Eficiencia de recaudo (ERi) Aseo",null,null,null,null,"Código: ","US006"]
[null,"Nombre del plan o proceso",null,"FACTURACIÓN"]
[null,"Propósito u objetivo del indicador",null,"Medir la frecuencia con que se recauda la calidad del proceso de facturación en aseo"]
[null,"Tipo de indicador",null,"Eficiencia",null,"X","Eficacia",null,"Efectividad"]
[null,null,null,"Económia",null,null,"Ambiental"]
[null,"Estilo de cálculo",null,"Promedio",null,null,"Último dato","X"]
[null,null,null,"Suma",null,null,"Suma de componentes"]
[null,"MEDICIÓN DEL INDICADOR",null,null,null,null,null,null,null,null,null,null,null," "]
[null,"Fórmula de cálculo",null,"Valor Recaudado /Valor Facturado"]
[]
[null,"Número de variables",null,2]
[null,"Definición variables (variables a medir)"]
[null,"Unidad de medida",null,"%"]
[null,"Tendencia del indicador",null,"Creciente","X",null,null,"Decreciente"]
[null,"Soporte legal",null,"Resolución CRA 12/1995"]
[null,"Planes y programas a los que le hace seguimiento",null,"PESV",null,"PGR",null,"Resolución 315/05"]
[null,null,null,"Programa Aseo",null,"Plan Tarifario",null,"Resolución 151/01",null,"X"]
[null,null,null,"SG-SST","X"]
[]
[null,"FRECUENCIAS Y RESPONSABLES"]
[null,"Frecuencia de Cálculo y Análisis",null,"Mensual","X","Trimestral",null,"Otro"]
[null,null,null,"Semestral",null,"Anual",null,"Cual"]
[null,"Responsable de la medición y análisis Cargo y Dependencia",null,"Técnico Cartera"]
[]
[null,"Elaboró","Subgerencia de planeación",null,null,null,"Fecha",2020]

{"sheet":"US007","index":94,"n_rows":33,"n_cols":14,"rows_kept":33,"cut":false,"hidden":false,"merged":[[30,1,31,2],[30,3,31,9],[32,2,32,5],[32,7,32,9],[23,1,26,2],[23,7,23,8],[24,7,24,8],[25,7,25,8],[27,1,27,9],[28,1,29,2],[28,7,28,8],[29,7,29,8],[22,1,22,2],[22,3,22,9],[15,1,15,9],[16,1,17,2],[16,3,17,9],[18,1,18,2],[18,3,18,9],[19,1,19,2],[19,3,19,9],[20,1,20,2],[20,3,20,9],[21,1,21,2],[21,4,21,6],[21,8,21,9],[11,1,12,2],[11,3,11,4],[12,3,12,4],[13,1,14,2],[13,3,13,4],[14,3,14,4],[10,1,10,2],[10,3,10,9],[1,1,6,2],[1,3,3,7],[1,8,3,8],[1,9,3,9],[4,3,6,7],[4,8,6,9],[7,1,7,9],[8,1,8,2],[8,3,8,7],[9,1,9,2],[9,3,9,8]]}
[]
[null,null,null,"SERVICIUDAD ESP",null,null,null,null,"Código SPFO-11","Versión 03"]
[]
[]
[null,null,null,"FICHA TECNICA DEL INDICADOR",null,null,null,null,"PAGINA 01"]
[]
[]
[]
[null,"Nombre del índicador",null,"Rotación de cartera acueducto",null,null,null,null,"Código: ","US007"]
[null,"Nombre del plan o proceso",null,"FACTURACIÓN"]
[null,"Propósito u objetivo del indicador",null,"Determinar el tiempo en que la cuentas por cobrar toman en convertirse en efectivo"]
[null,"Tipo de indicador",null,"Eficiencia",null,"X","Eficacia",null,"Efectividad"]
[null,null,null,"Económia",null,null,"Ambiental"]
[null,"Estilo de cálculo",null,"Promedio",null,null,"Último dato"]
[null,null,null,"Suma",null,null,"Suma de componentes","X"]
[null,"MEDICIÓN DEL INDICADOR",null,null,null,null,null,null,null,null,null,null,null," "]
[null,"Fórmula de cálculo",null,"CxC/ Vr facturado*365"]
[]
[null,"Número de variables",null,2]
[null,"Definición variables (variables a medir)",null,"Cuentas por Cobrar: Saldo en pesos corrientes al finalizar el período de análisis, de los pagos pendientes por concepto de la facturación en los últimos doce meses  del servicio a los usuarios del sector oficial o particular, según el caso. Incluye cargos fijos, consumos, cargos de conexión, reconexión, multas e intereses de mora.\nValor Facturado: Valor en pesos corrientes de las facturas expedidas  para la totalidad de los usuarios en los últimos doce meses. Incluye cargos fijos, consumos, conexión, reconexión, intereses, multas.  "]
[null,"Unidad de medida",null,"Días"]
[null,"Tendencia del indicador",null,"Creciente",null,null,null,"Decreciente","X"]
[null,"Soporte legal"]
[null,"Planes y programas a los que le hace seguimiento",null,"PESV",null,"PGR",null,"Resolución 315/05"]
[null,null,null,"Programa Aseo",null,"Plan Tarifario",null,"Resolución 151/01"]
[null,null,null,"SG-SST"]
[]
[null,"FRECUENCIAS Y RESPONSABLES"]
[null,"Frecuencia de Cálculo y Análisis",null,"Mensual",null,"Trimestral","X","Otro"]
[null,null,null,"Semestral",null,"Anual",null,"Cual"]
[null,"Responsable de la medición y análisis Cargo y Dependencia",null,"Contadora"]
[]
[null,"Elaboró","Subgerencia de planeación",null,null,null,"Fecha",2020]

{"sheet":"US008","index":95,"n_rows":33,"n_cols":14,"rows_kept":33,"cut":false,"hidden":false,"merged":[[30,1,31,2],[30,3,31,9],[32,2,32,5],[32,7,32,9],[23,1,26,2],[23,7,23,8],[24,7,24,8],[25,7,25,8],[27,1,27,9],[28,1,29,2],[28,7,28,8],[29,7,29,8],[22,1,22,2],[22,3,22,9],[15,1,15,9],[16,1,17,2],[16,3,17,9],[18,1,18,2],[18,3,18,9],[19,1,19,2],[19,3,19,9],[20,1,20,2],[20,3,20,9],[21,1,21,2],[21,4,21,6],[21,8,21,9],[11,1,12,2],[11,3,11,4],[12,3,12,4],[13,1,14,2],[13,3,13,4],[14,3,14,4],[10,1,10,2],[10,3,10,9],[1,1,6,2],[1,3,3,7],[1,8,3,8],[1,9,3,9],[4,3,6,7],[4,8,6,9],[7,1,7,9],[8,1,8,2],[8,3,8,7],[9,1,9,2],[9,3,9,8]]}
[]
[null,null,null,"SERVICIUDAD ESP",null,null,null,null,"Código SPFO-11","Versión 03"]
[]
[]
[null,null,null,"FICHA TECNICA DEL INDICADOR",null,null,null,null,"PAGINA 01"]
[]
[]
[]
[null,"Nombre del índicador",null,"Rotación de cartera alcantarillado",null,null,null,null,"Código: ","US008"]
[null,"Nombre del plan o proceso",null,"FACTURACIÓN"]
[null,"Propósito u objetivo del indicador",null,"Determinar el tiempo en que la cuentas por cobrar toman en convertirse en efectivo"]
[null,"Tipo de indicador",null,"Eficiencia",null,"X","Eficacia",null,"Efectividad"]
[null,null,null,"Económia",null,null,"Ambiental"]
[null,"Estilo de cálculo",null,"Promedio",null,null,"Último dato"]
[null,null,null,"Suma",null,null,"Suma de componentes","X"]
[null,"MEDICIÓN DEL INDICADOR",null,null,null,null,null,null,null,null,null,null,null," "]
[null,"Fórmula de cálculo",null,"CxC/ Vr facturado*365"]
[]
[null,"Número de variables",null,2]
[null,"Definición variables (variables a medir)",null,"Cuentas por Cobrar: Saldo en pesos corrientes al finalizar el período de análisis, de los pagos pendientes por concepto de la facturación en los últimos doce meses  del servicio a los usuarios del sector oficial o particular, según el caso. Incluye cargos fijos, consumos, cargos de conexión, reconexión, multas e intereses de mora.\nValor Facturado: Valor en pesos corrientes de las facturas expedidas  para la totalidad de los usuarios en los últimos doce meses. Incluye cargos fijos, consumos, conexión, reconexión, intereses, multas.  "]
[null,"Unidad de medida",null,"Días"]
[null,"Tendencia del indicador",null,"Creciente",null,null,null,"Decreciente","X"]
[null,"Soporte legal",null,"Resolución CRA 12/1995"]
[null,"Planes y programas a los que le hace seguimiento",null,"PESV",null,"PGR",null,"Resolución 315/05"]
[null,null,null,"Programa Aseo",null,"Plan Tarifario",null,"Resolución 151/01"]
[null,null,null,"SG-SST"]
[]
[null,"FRECUENCIAS Y RESPONSABLES"]
[null,"Frecuencia de Cálculo y Análisis",null,"Mensual",null,"Trimestral","X","Otro"]
[null,null,null,"Semestral",null,"Anual",null,"Cual"]
[null,"Responsable de la medición y análisis Cargo y Dependencia",null,"Contadora"]
[]
[null,"Elaboró","Subgerencia de planeación",null,null,null,"Fecha",2020]

{"sheet":"US009","index":96,"n_rows":33,"n_cols":14,"rows_kept":33,"cut":false,"hidden":false,"merged":[[30,1,31,2],[30,3,31,9],[32,2,32,5],[32,7,32,9],[23,1,26,2],[23,7,23,8],[24,7,24,8],[25,7,25,8],[27,1,27,9],[28,1,29,2],[28,7,28,8],[29,7,29,8],[22,1,22,2],[22,3,22,9],[15,1,15,9],[16,1,17,2],[16,3,17,9],[18,1,18,2],[18,3,18,9],[19,1,19,2],[19,3,19,9],[20,1,20,2],[20,3,20,9],[21,1,21,2],[21,4,21,6],[21,8,21,9],[11,1,12,2],[11,3,11,4],[12,3,12,4],[13,1,14,2],[13,3,13,4],[14,3,14,4],[10,1,10,2],[10,3,10,9],[1,1,6,2],[1,3,3,7],[1,8,3,8],[1,9,3,9],[4,3,6,7],[4,8,6,9],[7,1,7,9],[8,1,8,2],[8,3,8,7],[9,1,9,2],[9,3,9,8]]}
[]
[null,null,null,"SERVICIUDAD ESP",null,null,null,null,"Código SPFO-11","Versión 03"]
[]
[]
[null,null,null,"FICHA TECNICA DEL INDICADOR",null,null,null,null,"PAGINA 01"]
[]
[]
[]
[null,"Nombre del índicador",null,"Rotación de cartera aseo",null,null,null,null,"Código: ","US009"]
[null,"Nombre del plan o proceso",null,"FACTURACIÓN"]
[null,"Propósito u objetivo del indicador",null,"Determinar el tiempo en que la cuentas por cobrar toman en convertirse en efectivo"]
[null,"Tipo de indicador",null,"Eficiencia",null,"X","Eficacia",null,"Efectividad"]
[null,null,null,"Económia",null,null,"Ambiental"]
[null,"Estilo de cálculo",null,"Promedio",null,null,"Último dato"]
[null,null,null,"Suma",null,null,"Suma de componentes","X"]
[null,"MEDICIÓN DEL INDICADOR",null,null,null,null,null,null,null,null,null,null,null," "]
[null,"Fórmula de cálculo",null,"CxC/ Vr facturado*365"]
[]
[null,"Número de variables",null,2]
[null,"Definición variables (variables a medir)",null,"Cuentas por Cobrar: Saldo en pesos corrientes al finalizar el período de análisis, de los pagos pendientes por concepto de la facturación en los últimos doce meses  del servicio a los usuarios del sector oficial o particular, según el caso. Incluye cargos fijos, consumos, cargos de conexión, reconexión, multas e intereses de mora.\nValor Facturado: Valor en pesos corrientes de las facturas expedidas  para la totalidad de los usuarios en los últimos doce meses. Incluye cargos fijos, consumos, conexión, reconexión, intereses, multas.  "]
[null,"Unidad de medida",null,"Días"]
[null,"Tendencia del indicador",null,"Creciente",null,null,null,"Decreciente","X"]
[null,"Soporte legal",null,"Resolución CRA 12/1995"]
[null,"Planes y programas a los que le hace seguimiento",null,"PESV",null,"PGR",null,"Resolución 315/05"]
[null,null,null,"Programa Aseo",null,"Plan Tarifario",null,"Resolución 151/01"]
[null,null,null,"SG-SST"]
[]
[null,"FRECUENCIAS Y RESPONSABLES"]
[null,"Frecuencia de Cálculo y Análisis",null,"Mensual",null,"Trimestral","X","Otro"]
[null,null,null,"Semestral",null,"Anual",null,"Cual"]
[null,"Responsable de la medición y análisis Cargo y Dependencia",null,"Contadora"]
[]
[null,"Elaboró","Subgerencia de planeación",null,null,null,"Fecha",2020]

{"sheet":"US010","index":97,"n_rows":33,"n_cols":14,"rows_kept":33,"cut":false,"hidden":false,"merged":[[30,1,31,2],[30,3,31,9],[32,2,32,5],[32,7,32,9],[23,1,26,2],[23,7,23,8],[24,7,24,8],[25,7,25,8],[27,1,27,9],[28,1,29,2],[28,7,28,8],[29,7,29,8],[22,1,22,2],[22,3,22,9],[15,1,15,9],[16,1,17,2],[16,3,17,9],[18,1,18,2],[18,3,18,9],[19,1,19,2],[19,3,19,9],[20,1,20,2],[20,3,20,9],[21,1,21,2],[21,4,21,6],[21,8,21,9],[11,1,12,2],[11,3,11,4],[12,3,12,4],[13,1,14,2],[13,3,13,4],[14,3,14,4],[10,1,10,2],[10,3,10,9],[1,1,6,2],[1,3,3,7],[1,8,3,8],[1,9,3,9],[4,3,6,7],[4,8,6,9],[7,1,7,9],[8,1,8,2],[8,3,8,7],[9,1,9,2],[9,3,9,8]]}
[]
[null,null,null,"SERVICIUDAD ESP",null,null,null,null,"Código SPFO-11","Versión 03"]
[]
[]
[null,null,null,"FICHA TECNICA DEL INDICADOR",null,null,null,null,"PAGINA 01"]
[]
[]
[]
[null,"Nombre del índicador",null,"índice de micromedición nominal (IMN) cobertura medición",null,null,null,null,"Código: ","US010"]
[null,"Nombre del plan o proceso",null,"FACTURACIÓN"]
[null,"Propósito u objetivo del indicador",null,"Reflejar el grado de cobertura de medidores operando en el área atendida por la entidad."]
[null,"Tipo de indicador",null,"Eficiencia",null,null,"Eficacia",null,"Efectividad","X"]
[null,null,null,"Económia",null,null,"Ambiental"]
[null,"Estilo de cálculo",null,"Promedio",null,null,"Último dato","X"]
[null,null,null,"Suma",null,null,"Suma de componentes"]
[null,"MEDICIÓN DEL INDICADOR",null,null,null,null,null,null,null,null,null,null,null," "]
[null,"Fórmula de cálculo",null,"No. Medidor inst./No. Suscrip. Acued."]
[]
[null,"Número de variables",null,2]
[null,"Definición variables (variables a medir)",null,"Número de medidores: Número de medidores instalados en operación a una fecha determinada.\nNúmero de suscriptores: Número de Personas naturales o jurídicas con las cuales se ha celebrado un contrato de condiciones uniformes de servicios públicos.\n"]
[null,"Unidad de medida",null,"%"]
[null,"Tendencia del indicador",null,"Creciente","X",null,null,"Decreciente"]
[null,"Soporte legal",null,"Resolución CRA 12/1995"]
[null,"Planes y programas a los que le hace seguimiento",null,"PESV",null,"PGR",null,"Resolución 315/05"]
[null,null,null,"Programa Aseo",null,"Plan Tarifario",null,"Resolución 151/01"]
[null,null,null,"SG-SST","X"]
[]
[null,"FRECUENCIAS Y RESPONSABLES"]
[null,"Frecuencia de Cálculo y Análisis",null,"Mensual","X","Trimestral",null,"Otro"]
[null,null,null,"Semestral",null,"Anual",null,"Cual"]
[null,"Responsable de la medición y análisis Cargo y Dependencia",null,"Técnico micromedición"]
[]
[null,"Elaboró","Subgerencia de planeación",null,null,null,"Fecha",2020]

{"sheet":"US011","index":98,"n_rows":33,"n_cols":14,"rows_kept":33,"cut":false,"hidden":false,"merged":[[30,1,31,2],[30,3,31,9],[32,2,32,5],[32,7,32,9],[23,1,26,2],[23,7,23,8],[24,7,24,8],[25,7,25,8],[27,1,27,9],[28,1,29,2],[28,7,28,8],[29,7,29,8],[22,1,22,2],[22,3,22,9],[15,1,15,9],[16,1,17,2],[16,3,17,9],[18,1,18,2],[18,3,18,9],[19,1,19,2],[19,3,19,9],[20,1,20,2],[20,3,20,9],[21,1,21,2],[21,4,21,6],[21,8,21,9],[11,1,12,2],[11,3,11,4],[12,3,12,4],[13,1,14,2],[13,3,13,4],[14,3,14,4],[10,1,10,2],[10,3,10,9],[1,1,6,2],[1,3,3,7],[1,8,3,8],[1,9,3,9],[4,3,6,7],[4,8,6,9],[7,1,7,9],[8,1,8,2],[8,3,8,7],[9,1,9,2],[9,3,9,8]]}
[]
[null,null,null,"SERVICIUDAD ESP",null,null,null,null,"Código SPFO-11","Versión 03"]
[]
[]
[null,null,null,"FICHA TECNICA DEL INDICADOR",null,null,null,null,"PAGINA 01"]
[]
[]
[]
[null,"Nombre del índicador",null,"IMR (Estado) micro",null,null,null,null,"Código: ","US011"]
[null,"Nombre del plan o proceso",null,"FACTURACIÓN"]
[null,"Propósito u objetivo del indicador",null,"Determinar el grado de cumplimiento de la meta propuesta para la micromedición"]
[null,"Tipo de indicador",null,"Eficiencia",null,null,"Eficacia","X","Efectividad"]
[null,null,null,"Económia",null,null,"Ambiental"]
[null,"Estilo de cálculo",null,"Promedio",null,null,"Último dato","X"]
[null,null,null,"Suma",null,null,"Suma de componentes"]
[null,"MEDICIÓN DEL INDICADOR",null,null,null,null,null,null,null,null,null,null,null," "]
[null,"Fórmula de cálculo",null,"No. Medido. Estado ok./No. Medido. Instal."]
[]
[null,"Número de variables",null,2]
[null,"Definición variables (variables a medir)"]
[null,"Unidad de medida",null,"%"]
[null,"Tendencia del indicador",null,"Creciente","X",null,null,"Decreciente"]
[null,"Soporte legal"]
[null,"Planes y programas a los que le hace seguimiento",null,"PESV",null,"PGR",null,"Resolución 315/05"]
[null,null,null,"Programa Aseo",null,"Plan Tarifario",null,"Resolución 151/01"]
[null,null,null,"SG-SST","X"]
[]
[null,"FRECUENCIAS Y RESPONSABLES"]
[null,"Frecuencia de Cálculo y Análisis",null,"Mensual","X","Trimestral",null,"Otro"]
[null,null,null,"Semestral",null,"Anual",null,"Cual"]
[null,"Responsable de la medición y análisis Cargo y Dependencia",null,"Técnico micromedición"]
[]
[null,"Elaboró","Subgerencia de planeación",null,null,null,"Fecha",2020]

{"sheet":"US012","index":99,"n_rows":33,"n_cols":14,"rows_kept":33,"cut":false,"hidden":false,"merged":[[30,1,31,2],[30,3,31,9],[32,2,32,5],[32,7,32,9],[23,1,26,2],[23,7,23,8],[24,7,24,8],[25,7,25,8],[27,1,27,9],[28,1,29,2],[28,7,28,8],[29,7,29,8],[22,1,22,2],[22,3,22,9],[15,1,15,9],[16,1,17,2],[16,3,17,9],[18,1,18,2],[18,3,18,9],[19,1,19,2],[19,3,19,9],[20,1,20,2],[20,3,20,9],[21,1,21,2],[21,4,21,6],[21,8,21,9],[11,1,12,2],[11,3,11,4],[12,3,12,4],[13,1,14,2],[13,3,13,4],[14,3,14,4],[10,1,10,2],[10,3,10,9],[1,1,6,2],[1,3,3,7],[1,8,3,8],[1,9,3,9],[4,3,6,7],[4,8,6,9],[7,1,7,9],[8,1,8,2],[8,3,8,7],[9,1,9,2],[9,3,9,8]]}
[]
[null,null,null,"SERVICIUDAD ESP",null,null,null,null,"Código SPFO-11","Versión 03"]
[]
[]
[null,null,null,"FICHA TECNICA DEL INDICADOR",null,null,null,null,"PAGINA 01"]
[]
[]
[]
[null,"Nombre del índicador",null,"Indice de Micromedición Efectiva.- IMI",null,null,null,null,"Código: ","US012"]
[null,"Nombre del plan o proceso",null,"FACTURACIÓN"]
[null,"Propósito u objetivo del indicador",null,"Medir el porcentaje de micromedidores que están efectivamente en funcionamiento con respecto al número de suscriptores del servicio público domiciliario de acueducto"]
[null,"Tipo de indicador",null,"Eficiencia",null,null,"Eficacia","X","Efectividad"]
[null,null,null,"Económia",null,null,"Ambiental"]
[null,"Estilo de cálculo",null,"Promedio",null,"X","Último dato"]
[null,null,null,"Suma",null,null,"Suma de componentes"]
[null,"MEDICIÓN DEL INDICADOR",null,null,null,null,null,null,null,null,null,null,null," "]
[null,"Fórmula de cálculo",null,"(MFLg/ NSg) x 100  "]
[]
[null,"Número de variables",null,2]
[null,"Definición variables (variables a medir)",null,"MFLg: Número de micromedidores en buen estado y funcionando con lectura en el período de facturación g. Entiéndase por \"funcionando con lectura aquellos medidores cuyo valor medido se emplea para la facturación.\nNSg: Número total de suscriptores donde sea técnicamente viable la medición en el período de facturación g. El término \"donde sea técnicamente viable la medición\" se incluye de conformidad con el artículo 2 de la Resolución CRA 319 de 2005 o aquella que modifique, adicione, sustituya o aclare, referente a las existencia de usuarios a los cuales técnicamente no es viable la medición individual. En este sentido, un multiusuario, en el marco del artículo ibídem, será considerados como un (1) suscriptor para el caculo de la variable."]
[null,"Unidad de medida",null,"%"]
[null,"Tendencia del indicador",null,"Creciente","X",null,null,"Decreciente"]
[null,"Soporte legal",null,"Resolución CRA 906/2019"]
[null,"Planes y programas a los que le hace seguimiento",null,"PESV",null,"PGR","X","Resolución 315/05"]
[null,null,null,"Programa Aseo",null,"Plan Tarifario",null,"Resolución 151/01"]
[null,null,null,"SG-SST"]
[]
[null,"FRECUENCIAS Y RESPONSABLES"]
[null,"Frecuencia de Cálculo y Análisis",null,"Mensual","X","Trimestral",null,"Otro"]
[null,null,null,"Semestral",null,"Anual",null,"Cual"]
[null,"Responsable de la medición y análisis Cargo y Dependencia",null,"Técnico de micro medición "]
[]
[null,"Elaboró","Subgerencia de planeación",null,null,null,"Fecha",2020]

{"sheet":"US013","index":100,"n_rows":33,"n_cols":14,"rows_kept":33,"cut":false,"hidden":false,"merged":[[30,1,31,2],[30,3,31,9],[32,2,32,5],[32,7,32,9],[23,1,26,2],[23,7,23,8],[24,7,24,8],[25,7,25,8],[27,1,27,9],[28,1,29,2],[28,7,28,8],[29,7,29,8],[22,1,22,2],[22,3,22,9],[15,1,15,9],[16,1,17,2],[16,3,17,9],[18,1,18,2],[18,3,18,9],[19,1,19,2],[19,3,19,9],[20,1,20,2],[20,3,20,9],[21,1,21,2],[21,4,21,6],[21,8,21,9],[11,1,12,2],[11,3,11,4],[12,3,12,4],[13,1,14,2],[13,3,13,4],[14,3,14,4],[10,1,10,2],[10,3,10,9],[1,1,6,2],[1,3,3,7],[1,8,3,8],[1,9,3,9],[4,3,6,7],[4,8,6,9],[7,1,7,9],[8,1,8,2],[8,3,8,7],[9,1,9,2],[9,3,9,8]]}
[]
[null,null,null,"SERVICIUDAD ESP",null,null,null,null,"Código SPFO-11","Versión 03"]
[]
[]
[null,null,null,"FICHA TECNICA DEL INDICADOR",null,null,null,null,"PAGINA 01"]
[]
[]
[]
[null,"Nombre del índicador",null,"Catastro de Medidores - CM",null,null,null,null,"Código: ","US013"]
[null,"Nombre del plan o proceso",null,"FACTURACIÓN"]
[null,"Propósito u objetivo del indicador",null,"Verificar que los pretadores cuenten con la información necesaria para mentener un catastro de medidores actualizado a la vigencia del período de evaluación"]
[null,"Tipo de indicador",null,"Eficiencia",null,null,"Eficacia","X","Efectividad"]
[null,null,null,"Económia",null,null,"Ambiental"]
[null,"Estilo de cálculo",null,"Promedio",null,"X","Último dato"]
[null,null,null,"Suma",null,null,"Suma de componentes"]
[null,"MEDICIÓN DEL INDICADOR",null,null,null,null,null,null,null,null,null,null,null," "]
[null,"Fórmula de cálculo",null,"(si se tiene = 1; no tiene o no reporta = 0)"]
[]
[null,"Número de variables",null,1]
[null,"Definición variables (variables a medir)",null,"CM: Catastro de Medidores."]
[null,"Unidad de medida",null,"Número"]
[null,"Tendencia del indicador",null,"Creciente","X",null,null,"Decreciente"]
[null,"Soporte legal",null,"Resolución CRA 906/2019"]
[null,"Planes y programas a los que le hace seguimiento",null,"PESV",null,"PGR","X","Resolución 315/05"]
[null,null,null,"Programa Aseo",null,"Plan Tarifario",null,"Resolución 151/01"]
[null,null,null,"SG-SST"]
[]
[null,"FRECUENCIAS Y RESPONSABLES"]
[null,"Frecuencia de Cálculo y Análisis",null,"Mensual","X","Trimestral",null,"Otro"]
[null,null,null,"Semestral",null,"Anual",null,"Cual"]
[null,"Responsable de la medición y análisis Cargo y Dependencia",null,"Técnico de micro medición "]
[]
[null,"Elaboró","Subgerencia de planeación",null,null,null,"Fecha",2020]

{"sheet":"US014","index":101,"n_rows":33,"n_cols":14,"rows_kept":33,"cut":false,"hidden":false,"merged":[[30,1,31,2],[30,3,31,9],[32,2,32,5],[32,7,32,9],[23,1,26,2],[23,7,23,8],[24,7,24,8],[25,7,25,8],[27,1,27,9],[28,1,29,2],[28,7,28,8],[29,7,29,8],[22,1,22,2],[22,3,22,9],[15,1,15,9],[16,1,17,2],[16,3,17,9],[18,1,18,2],[18,3,18,9],[19,1,19,2],[19,3,19,9],[20,1,20,2],[20,3,20,9],[21,1,21,2],[21,4,21,6],[21,8,21,9],[11,1,12,2],[11,3,11,4],[12,3,12,4],[13,1,14,2],[13,3,13,4],[14,3,14,4],[10,1,10,2],[10,3,10,9],[1,1,6,2],[1,3,3,7],[1,8,3,8],[1,9,3,9],[4,3,6,7],[4,8,6,9],[7,1,7,9],[8,1,8,2],[8,3,8,7],[9,1,9,2],[9,3,9,8]]}
[]
[null,null,null,"SERVICIUDAD ESP",null,null,null,null,"Código SPFO-11","Versión 03"]
[]
[]
[null,null,null,"FICHA TECNICA DEL INDICADOR",null,null,null,null,"PAGINA 01"]
[]
[]
[]
[null,"Nombre del índicador",null,"Indice de Macromedición Efectiva — IMA",null,null,null,null,"Código: ","US014"]
[null,"Nombre del plan o proceso",null,"FACTURACIÓN"]
[null,"Propósito u objetivo del indicador",null,"Determinar el porcentaje de macromedición a las salidas de los sistemas de potabilización tanques de almacenamiento de agua potable y/o sistema de bombeo."]
[null,"Tipo de indicador",null,"Eficiencia",null,null,"Eficacia","X","Efectividad"]
[null,null,null,"Económia",null,null,"Ambiental"]
[null,"Estilo de cálculo",null,"Promedio",null,"X","Último dato"]
[null,null,null,"Suma",null,null,"Suma de componentes"]
[null,"MEDICIÓN DEL INDICADOR",null,null,null,null,null,null,null,null,null,null,null," "]
[null,"Fórmula de cálculo",null,"Nti/NTTi*100"]
[]
[null,"Número de variables",null,2]
[null,"Definición variables (variables a medir)",null,"NTi: Número de tuberías de salida de la PTAP y de los tanques de almacenamiento con\nmacromedición en funcionamiento.\nNTTi: Número total de tuberías de salida de la PTAP y de tanques de almacenamiento. "]
[null,"Unidad de medida",null,"%"]
[null,"Tendencia del indicador",null,"Creciente","X",null,null,"Decreciente"]
[null,"Soporte legal",null,"Resolución CRA 906/2019"]
[null,"Planes y programas a los que le hace seguimiento",null,"PESV",null,"PGR","X","Resolución 315/05"]
[null,null,null,"Programa Aseo",null,"Plan Tarifario",null,"Resolución 151/01"]
[null,null,null,"SG-SST"]
[]
[null,"FRECUENCIAS Y RESPONSABLES"]
[null,"Frecuencia de Cálculo y Análisis",null,"Mensual","X","Trimestral",null,"Otro"]
[null,null,null,"Semestral",null,"Anual",null,"Cual"]
[null,"Responsable de la medición y análisis Cargo y Dependencia",null,"Profesional Especializado de Acueducto"]
[]
[null,"Elaboró","Subgerencia de planeación",null,null,null,"Fecha",2020]

{"sheet":"US015","index":102,"n_rows":33,"n_cols":14,"rows_kept":33,"cut":false,"hidden":false,"merged":[[30,1,31,2],[30,3,31,9],[32,2,32,5],[32,7,32,9],[23,1,26,2],[23,7,23,8],[24,7,24,8],[25,7,25,8],[27,1,27,9],[28,1,29,2],[28,7,28,8],[29,7,29,8],[22,1,22,2],[22,3,22,9],[15,1,15,9],[16,1,17,2],[16,3,17,9],[18,1,18,2],[18,3,18,9],[19,1,19,2],[19,3,19,9],[20,1,20,2],[20,3,20,9],[21,1,21,2],[21,4,21,6],[21,8,21,9],[11,1,12,2],[11,3,11,4],[12,3,12,4],[13,1,14,2],[13,3,13,4],[14,3,14,4],[10,1,10,2],[10,3,10,9],[1,1,6,2],[1,3,3,7],[1,8,3,8],[1,9,3,9],[4,3,6,7],[4,8,6,9],[7,1,7,9],[8,1,8,2],[8,3,8,7],[9,1,9,2],[9,3,9,8]]}
[]
[null,null,null,"SERVICIUDAD ESP",null,null,null,null,"Código SPFO-11","Versión 03"]
[]
[]
[null,null,null,"FICHA TECNICA DEL INDICADOR",null,null,null,null,"PAGINA 01"]
[]
[]
[]
[null,"Nombre del índicador",null,"Aplicación de Costos de Referencia Aprobados de Acueducto -  ACU",null,null,null,null,"Código: ","US015"]
[null,"Nombre del plan o proceso",null,"FACTURACIÓN"]
[null,"Propósito u objetivo del indicador",null,"Verificar si el prestador está aplicando los costos de referencia (por cargo fijo y cargo por consumo, respectivamente) resultantes de aplicar la metodología tarifaria para el servicio público domiciliario de acueducto."]
[null,"Tipo de indicador",null,"Eficiencia",null,null,"Eficacia","X","Efectividad"]
[null,null,null,"Económia",null,null,"Ambiental"]
[null,"Estilo de cálculo",null,"Promedio",null,"X","Último dato"]
[null,null,null,"Suma",null,null,"Suma de componentes"]
[null,"MEDICIÓN DEL INDICADOR",null,null,null,null,null,null,null,null,null,null,null," "]
[null,"Fórmula de cálculo",null," (ACUcf x 0,5) + (ACUCC x 0,5)"]
[]
[null,"Número de variables",null,2]
[null,"Definición variables (variables a medir)",null,"ACU: Aplicación de Costos de Referencia Aprobados de Acueducto, redondeado a dos (2) cifras decimales.\nACUcf: Aplicación del costo de referencia aprobado para el servicio público domiciliario de acueducto para el componente de cargo fijo, en valor absoluto, de acuerdo con la siguiente fórmula:"]
[null,"Unidad de medida",null,"%"]
[null,"Tendencia del indicador",null,"Creciente",null,null,null,"Decreciente","X"]
[null,"Soporte legal",null,"Resolución CRA 906/2019"]
[null,"Planes y programas a los que le hace seguimiento",null,"PESV",null,"PGR","X","Resolución 315/05"]
[null,null,null,"Programa Aseo",null,"Plan Tarifario",null,"Resolución 151/01"]
[null,null,null,"SG-SST"]
[]
[null,"FRECUENCIAS Y RESPONSABLES"]
[null,"Frecuencia de Cálculo y Análisis",null,"Mensual",null,"Trimestral","X","Otro"]
[null,null,null,"Semestral",null,"Anual",null,"Cual"]
[null,"Responsable de la medición y análisis Cargo y Dependencia",null,"Profesional Especializado Control y Seguimiento "]
[]
[null,"Elaboró","Subgerencia de planeación",null,null,null,"Fecha",2020]

{"sheet":"US016","index":103,"n_rows":33,"n_cols":14,"rows_kept":33,"cut":false,"hidden":false,"merged":[[30,1,31,2],[30,3,31,9],[32,2,32,5],[32,7,32,9],[23,1,26,2],[23,7,23,8],[24,7,24,8],[25,7,25,8],[27,1,27,9],[28,1,29,2],[28,7,28,8],[29,7,29,8],[22,1,22,2],[22,3,22,9],[15,1,15,9],[16,1,17,2],[16,3,17,9],[18,1,18,2],[18,3,18,9],[19,1,19,2],[19,3,19,9],[20,1,20,2],[20,3,20,9],[21,1,21,2],[21,4,21,6],[21,8,21,9],[11,1,12,2],[11,3,11,4],[12,3,12,4],[13,1,14,2],[13,3,13,4],[14,3,14,4],[10,1,10,2],[10,3,10,9],[1,1,6,2],[1,3,3,7],[1,8,3,8],[1,9,3,9],[4,3,6,7],[4,8,6,9],[7,1,7,9],[8,1,8,2],[8,3,8,7],[9,1,9,2],[9,3,9,8]]}
[]
[null,null,null,"SERVICIUDAD ESP",null,null,null,null,"Código SPFO-11","Versión 03"]
[]
[]
[null,null,null,"FICHA TECNICA DEL INDICADOR",null,null,null,null,"PAGINA 01"]
[]
[]
[]
[null,"Nombre del índicador",null,"Cumplimiento Metas de Cobertura Acueducto -CMCOBAC",null,null,null,null,"Código: ","US016"]
[null,"Nombre del plan o proceso",null,"FACTURACIÓN"]
[null,"Propósito u objetivo del indicador",null,"Evaluar el cumplimiento de las metas de cobertura establecidas por el prestador en su estudio de costos vigente para el servicio público domiciliario de acueducto."]
[null,"Tipo de indicador",null,"Eficiencia",null,null,"Eficacia","X","Efectividad"]
[null,null,null,"Económia",null,null,"Ambiental"]
[null,"Estilo de cálculo",null,"Promedio",null,"X","Último dato"]
[null,null,null,"Suma",null,null,"Suma de componentes"]
[null,"MEDICIÓN DEL INDICADOR",null,null,null,null,null,null,null,null,null,null,null," "]
[null,"Fórmula de cálculo",null,"(Realp / MetaP) x 100"]
[]
[null,"Número de variables",null,2]
[null,"Definición variables (variables a medir)",null,"Realp: Número de nuevos suscriptores del servicio público domiciliario de acueducto del prestador en el año tarifario p evaluado.\nMetap: Meta establecida por prestador para el estándar de cobertura en el año tarifario p evaluado, de acuerdo con lo definido en el TÍTULO IX de la Resolución CRA 688 de 2014, o aquella que la modifique, adicione, sustituye o aclare."]
[null,"Unidad de medida",null,"%"]
[null,"Tendencia del indicador",null,"Creciente","X",null,null,"Decreciente"]
[null,"Soporte legal",null,"Resolución CRA 906/2019"]
[null,"Planes y programas a los que le hace seguimiento",null,"PESV",null,"PGR","X","Resolución 315/05"]
[null,null,null,"Programa Aseo",null,"Plan Tarifario",null,"Resolución 151/01"]
[null,null,null,"SG-SST"]
[]
[null,"FRECUENCIAS Y RESPONSABLES"]
[null,"Frecuencia de Cálculo y Análisis",null,"Mensual","X","Trimestral",null,"Otro"]
[null,null,null,"Semestral",null,"Anual",null,"Cual"]
[null,"Responsable de la medición y análisis Cargo y Dependencia",null,"Subgerente Comercial y de Mercadeo "]
[]
[null,"Elaboró","Subgerencia de planeación",null,null,null,"Fecha",2020]

{"sheet":"US017","index":104,"n_rows":33,"n_cols":14,"rows_kept":33,"cut":false,"hidden":false,"merged":[[30,1,31,2],[30,3,31,9],[32,2,32,5],[32,7,32,9],[23,1,26,2],[23,7,23,8],[24,7,24,8],[25,7,25,8],[27,1,27,9],[28,1,29,2],[28,7,28,8],[29,7,29,8],[22,1,22,2],[22,3,22,9],[15,1,15,9],[16,1,17,2],[16,3,17,9],[18,1,18,2],[18,3,18,9],[19,1,19,2],[19,3,19,9],[20,1,20,2],[20,3,20,9],[21,1,21,2],[21,4,21,6],[21,8,21,9],[11,1,12,2],[11,3,11,4],[12,3,12,4],[13,1,14,2],[13,3,13,4],[14,3,14,4],[10,1,10,2],[10,3,10,9],[1,1,6,2],[1,3,3,7],[1,8,3,8],[1,9,3,9],[4,3,6,7],[4,8,6,9],[7,1,7,9],[8,1,8,2],[8,3,8,7],[9,1,9,2],[9,3,9,8]]}
[]
[null,null,null,"SERVICIUDAD ESP",null,null,null,null,"Código SPFO-11","Versión 03"]
[]
[]
[null,null,null,"FICHA TECNICA DEL INDICADOR",null,null,null,null,"PAGINA 01"]
[]
[]
[]
[null,"Nombre del índicador",null,"Cumplimiento Metas de Continuidad Acueducto - CMCON",null,null,null,null,"Código: ","US017"]
[null,"Nombre del plan o proceso",null,"FACTURACIÓN"]
[null,"Propósito u objetivo del indicador",null,"Evaluar el cumplimiento de las metas de continuidad establecidas por el prestador en el estudio de costos vigente para el servicio público domiciliario de acueducto"]
[null,"Tipo de indicador",null,"Eficiencia",null,null,"Eficacia","X","Efectividad"]
[null,null,null,"Económia",null,null,"Ambiental"]
[null,"Estilo de cálculo",null,"Promedio",null,"X","Último dato"]
[null,null,null,"Suma",null,null,"Suma de componentes"]
[null,"MEDICIÓN DEL INDICADOR",null,null,null,null,null,null,null,null,null,null,null," "]
[null,"Fórmula de cálculo",null,"(Realp / Metap) x 100"]
[]
[null,"Número de variables",null,2]
[null,"Definición variables (variables a medir)",null,"Realp: Relación entre el número de días de prestación del servicio de acueducto con respecto a los días totales del año tarifario p evaluado.\nMetap: Meta establecida por el prestador para el estándar de continuidad en el año tarifario p evaluado. Para grandes prestadores, de acuerdo con lo definido en el TITULO IX de la Resolución CRA 688 de 2014, o aquella que la modifique, adicione, sustituya o aclare. Para pequeños prestadores y prestadores rurales, de acuerdo con lo definido en los artículos 12y 24 de la Resolución CRA 825 de 2017, o aquella que la modifique, adicione, sustituya o aclare."]
[null,"Unidad de medida",null,"%"]
[null,"Tendencia del indicador",null,"Creciente","X",null,null,"Decreciente"]
[null,"Soporte legal",null,"Resolución CRA 906/2019"]
[null,"Planes y programas a los que le hace seguimiento",null,"PESV",null,"PGR","X","Resolución 315/05"]
[null,null,null,"Programa Aseo",null,"Plan Tarifario",null,"Resolución 151/01"]
[null,null,null,"SG-SST"]
[]
[null,"FRECUENCIAS Y RESPONSABLES"]
[null,"Frecuencia de Cálculo y Análisis",null,"Mensual","X","Trimestral",null,"Otro"]
[null,null,null,"Semestral",null,"Anual",null,"Cual"]
[null,"Responsable de la medición y análisis Cargo y Dependencia",null,"Profesional en control de pérdidas y agua no contabilizada "]
[]
[null,"Elaboró","Subgerencia de planeación",null,null,null,"Fecha",2020]

{"sheet":"US018","index":105,"n_rows":33,"n_cols":14,"rows_kept":33,"cut":false,"hidden":false,"merged":[[30,1,31,2],[30,3,31,9],[32,2,32,5],[32,7,32,9],[23,1,26,2],[23,7,23,8],[24,7,24,8],[25,7,25,8],[27,1,27,9],[28,1,29,2],[28,7,28,8],[29,7,29,8],[22,1,22,2],[22,3,22,9],[15,1,15,9],[16,1,17,2],[16,3,17,9],[18,1,18,2],[18,3,18,9],[19,1,19,2],[19,3,19,9],[20,1,20,2],[20,3,20,9],[21,1,21,2],[21,4,21,6],[21,8,21,9],[11,1,12,2],[11,3,11,4],[12,3,12,4],[13,1,14,2],[13,3,13,4],[14,3,14,4],[10,1,10,2],[10,3,10,9],[1,1,6,2],[1,3,3,7],[1,8,3,8],[1,9,3,9],[4,3,6,7],[4,8,6,9],[7,1,7,9],[8,1,8,2],[8,3,8,7],[9,1,9,2],[9,3,9,8]]}
[]
[null,null,null,"SERVICIUDAD ESP",null,null,null,null,"Código SPFO-11","Versión 03"]
[]
[]
[null,null,null,"FICHA TECNICA DEL INDICADOR",null,null,null,null,"PAGINA 01"]
[]
[]
[]
[null,"Nombre del índicador",null,"Aplicación de Costos de Referencia Aprobados Alcantarillado - AL",null,null,null,null,"Código: ","US018"]
[null,"Nombre del plan o proceso",null,"FACTURACIÓN"]
[null,"Propósito u objetivo del indicador",null,"Verificar si el prestador está aplicando los costos de referencia (por cargo fijo y cargo por consumo, respectivamente) resultantes de aplicar la metodología tarifaria para el servicio público j domiciliario de alcantarillado"]
[null,"Tipo de indicador",null,"Eficiencia",null,null,"Eficacia","X","Efectividad"]
[null,null,null,"Económia",null,null,"Ambiental"]
[null,"Estilo de cálculo",null,"Promedio",null,"X","Último dato"]
[null,null,null,"Suma",null,null,"Suma de componentes"]
[null,"MEDICIÓN DEL INDICADOR",null,null,null,null,null,null,null,null,null,null,null," "]
[null,"Fórmula de cálculo",null,"(ALcf  x 0,5) + (Alcc x 0,5)"]
[]
[null,"Número de variables",null,2]
[null,"Definición variables (variables a medir)",null,"CCALp: Valor cobrado por concepto de cargo por consumo para el servicio público domiciliario de alcantarillado en la tarifa del servicio del prestador.\nCCRALp: Último valor aprobado por la entidad tarifa local, por concepto de cargo por consumo para el servicio público domiciliario de alcantarillado en el estudio de costos, incluyendo actualizaciones por índices de precios."]
[null,"Unidad de medida",null,"%"]
[null,"Tendencia del indicador",null,"Creciente","X",null,null,"Decreciente"]
[null,"Soporte legal",null,"Resolución CRA 906/2019"]
[null,"Planes y programas a los que le hace seguimiento",null,"PESV",null,"PGR","X","Resolución 315/05"]
[null,null,null,"Programa Aseo",null,"Plan Tarifario",null,"Resolución 151/01"]
[null,null,null,"SG-SST"]
[]
[null,"FRECUENCIAS Y RESPONSABLES"]
[null,"Frecuencia de Cálculo y Análisis",null,"Mensual",null,"Trimestral","X","Otro"]
[null,null,null,"Semestral",null,"Anual",null,"Cual"]
[null,"Responsable de la medición y análisis Cargo y Dependencia",null,"Profesional Especializado Control y Seguimiento "]
[]
[null,"Elaboró","Subgerencia de planeación",null,null,null,"Fecha",2020]

{"sheet":"US019","index":106,"n_rows":33,"n_cols":14,"rows_kept":33,"cut":false,"hidden":false,"merged":[[30,1,31,2],[30,3,31,9],[32,2,32,5],[32,7,32,9],[23,1,26,2],[23,7,23,8],[24,7,24,8],[25,7,25,8],[27,1,27,9],[28,1,29,2],[28,7,28,8],[29,7,29,8],[22,1,22,2],[22,3,22,9],[15,1,15,9],[16,1,17,2],[16,3,17,9],[18,1,18,2],[18,3,18,9],[19,1,19,2],[19,3,19,9],[20,1,20,2],[20,3,20,9],[21,1,21,2],[21,4,21,6],[21,8,21,9],[11,1,12,2],[11,3,11,4],[12,3,12,4],[13,1,14,2],[13,3,13,4],[14,3,14,4],[10,1,10,2],[10,3,10,9],[1,1,6,2],[1,3,3,7],[1,8,3,8],[1,9,3,9],[4,3,6,7],[4,8,6,9],[7,1,7,9],[8,1,8,2],[8,3,8,7],[9,1,9,2],[9,3,9,8]]}
[]
[null,null,null,"SERVICIUDAD ESP",null,null,null,null,"Código SPFO-11","Versión 03"]
[]
[]
[null,null,null,"FICHA TECNICA DEL INDICADOR",null,null,null,null,"PAGINA 01"]
[]
[]
[]
[null,"Nombre del índicador",null,"Cumplimiento Metas de Cobertura Alcantarillado - CMCOBAL",null,null,null,null,"Código: ","US019"]
[null,"Nombre del plan o proceso",null,"FACTURACIÓN"]
[null,"Propósito u objetivo del indicador",null,"Evaluar el cumplimiento de las metas de cobertura establecidas por el prestador en su estudio de costos vigente para el servicio público domiciliario de alcantarillado"]
[null,"Tipo de indicador",null,"Eficiencia",null,null,"Eficacia","X","Efectividad"]
[null,null,null,"Económia",null,null,"Ambiental"]
[null,"Estilo de cálculo",null,"Promedio",null,"X","Último dato"]
[null,null,null,"Suma",null,null,"Suma de componentes"]
[null,"MEDICIÓN DEL INDICADOR",null,null,null,null,null,null,null,null,null,null,null," "]
[null,"Fórmula de cálculo",null,"(Realp / Metap) x 100"]
[]
[null,"Número de variables",null,2]
[null,"Definición variables (variables a medir)",null,"Realp: Número de nuevos suscriptores del servicio público domiciliario de alcantarillado del prestador en el año tarifario p evaluado.\nMetap : Meta establecida por el prestador para el estándar de cobertura en el año tarifario p evaluado, siguiendo lo establecido el TÍTULO IX de la Resolución CRA 688 de 2014, o aquella que la modifique, adicione, sustituye o aclare."]
[null,"Unidad de medida",null,"%"]
[null,"Tendencia del indicador",null,"Creciente","X",null,null,"Decreciente"]
[null,"Soporte legal",null,"Resolución CRA 906/2019"]
[null,"Planes y programas a los que le hace seguimiento",null,"PESV",null,"PGR","X","Resolución 315/05"]
[null,null,null,"Programa Aseo",null,"Plan Tarifario",null,"Resolución 151/01"]
[null,null,null,"SG-SST"]
[]
[null,"FRECUENCIAS Y RESPONSABLES"]
[null,"Frecuencia de Cálculo y Análisis",null,"Mensual","X","Trimestral",null,"Otro"]
[null,null,null,"Semestral",null,"Anual",null,"Cual"]
[null,"Responsable de la medición y análisis Cargo y Dependencia",null,"Subgerente Comercial y de Mercadeo "]
[]
[null,"Elaboró","Subgerencia de planeación",null,null,null,"Fecha",2020]

{"sheet":"US020","index":107,"n_rows":33,"n_cols":14,"rows_kept":33,"cut":false,"hidden":false,"merged":[[30,1,31,2],[30,3,31,9],[32,2,32,5],[32,7,32,9],[23,1,26,2],[23,7,23,8],[24,7,24,8],[25,7,25,8],[27,1,27,9],[28,1,29,2],[28,7,28,8],[29,7,29,8],[22,1,22,2],[22,3,22,9],[15,1,15,9],[16,1,17,2],[16,3,17,9],[18,1,18,2],[18,3,18,9],[19,1,19,2],[19,3,19,9],[20,1,20,2],[20,3,20,9],[21,1,21,2],[21,4,21,6],[21,8,21,9],[11,1,12,2],[11,3,11,4],[12,3,12,4],[13,1,14,2],[13,3,13,4],[14,3,14,4],[10,1,10,2],[10,3,10,9],[1,1,6,2],[1,3,3,7],[1,8,3,8],[1,9,3,9],[4,3,6,7],[4,8,6,9],[7,1,7,9],[8,1,8,2],[8,3,8,7],[9,1,9,2],[9,3,9,8]]}
[]
[null,null,null,"SERVICIUDAD ESP",null,null,null,null,"Código SPFO-11","Versión 03"]
[]
[]
[null,null,null,"FICHA TECNICA DEL INDICADOR",null,null,null,null,"PAGINA 01"]
[]
[]
[]
[null,"Nombre del índicador",null,"Nuevos suscriptores Acueducto",null,null,null,null,"Código: ","US020"]
[null,"Nombre del plan o proceso",null,"ATENCIÓN AL CLIENTE"]
[null,"Propósito u objetivo del indicador",null,"Medir el incremento de usuarios nuevos mes a mes"]
[null,"Tipo de indicador",null,"Eficiencia",null,null,"Eficacia",null,"Efectividad","X"]
[null,null,null,"Económia",null,null,"Ambiental"]
[null,"Estilo de cálculo",null,"Promedio",null,null,"Último dato","X"]
[null,null,null,"Suma",null,null,"Suma de componentes"]
[null,"MEDICIÓN DEL INDICADOR",null,null,null,null,null,null,null,null,null,null,null," "]
[null,"Fórmula de cálculo",null,"Numero suscriptores mes actual-Número de suscriptores Diciembre año anterior"]
[]
[null,"Número de variables",null,2]
[null,"Definición variables (variables a medir)"]
[null,"Unidad de medida",null,"Suscriptores"]
[null,"Tendencia del indicador",null,"Creciente","X",null,null,"Decreciente"]
[null,"Soporte legal",null,"Resolución CRA 688/2014 y 735/2019"]
[null,"Planes y programas a los que le hace seguimiento",null,"PESV",null,"PGR",null,"Resolución 315/05",null,"X"]
[null,null,null,"Programa Aseo",null,"Plan Tarifario",null,"Resolución 151/01"]
[null,null,null,"SG-SST"]
[]
[null,"FRECUENCIAS Y RESPONSABLES"]
[null,"Frecuencia de Cálculo y Análisis",null,"Mensual","X","Trimestral",null,"Otro"]
[null,null,null,"Semestral",null,"Anual",null,"Cual"]
[null,"Responsable de la medición y análisis Cargo y Dependencia",null,"Técnico nuevos usuarios"]
[]
[null,"Elaboró","Subgerencia de planeación",null,null,null,"Fecha",2020]

{"sheet":"US021","index":108,"n_rows":33,"n_cols":14,"rows_kept":33,"cut":false,"hidden":false,"merged":[[30,1,31,2],[30,3,31,9],[32,2,32,5],[32,7,32,9],[23,1,26,2],[23,7,23,8],[24,7,24,8],[25,7,25,8],[27,1,27,9],[28,1,29,2],[28,7,28,8],[29,7,29,8],[22,1,22,2],[22,3,22,9],[15,1,15,9],[16,1,17,2],[16,3,17,9],[18,1,18,2],[18,3,18,9],[19,1,19,2],[19,3,19,9],[20,1,20,2],[20,3,20,9],[21,1,21,2],[21,4,21,6],[21,8,21,9],[11,1,12,2],[11,3,11,4],[12,3,12,4],[13,1,14,2],[13,3,13,4],[14,3,14,4],[10,1,10,2],[10,3,10,9],[1,1,6,2],[1,3,3,7],[1,8,3,8],[1,9,3,9],[4,3,6,7],[4,8,6,9],[7,1,7,9],[8,1,8,2],[8,3,8,7],[9,1,9,2],[9,3,9,8]]}
[]
[null,null,null,"SERVICIUDAD ESP",null,null,null,null,"Código SPFO-11","Versión 03"]
[]
[]
[null,null,null,"FICHA TECNICA DEL INDICADOR",null,null,null,null,"PAGINA 01"]
[]
[]
[]
[null,"Nombre del índicador",null,"Nuevos suscriptores Alcantarillado",null,null,null,null,"Código: ","US021"]
[null,"Nombre del plan o proceso",null,"ATENCIÓN AL CLIENTE"]
[null,"Propósito u objetivo del indicador",null,"Medir el incremento de usuarios nuevos mes a mes"]
[null,"Tipo de indicador",null,"Eficiencia",null,null,"Eficacia",null,"Efectividad","X"]
[null,null,null,"Económia",null,null,"Ambiental"]
[null,"Estilo de cálculo",null,"Promedio",null,null,"Último dato","X"]
[null,null,null,"Suma",null,null,"Suma de componentes"]
[null,"MEDICIÓN DEL INDICADOR",null,null,null,null,null,null,null,null,null,null,null," "]
[null,"Fórmula de cálculo",null,"Numero suscriptores mes actual-Número de suscriptores Diciembre año anterior"]
[]
[null,"Número de variables",null,2]
[null,"Definición variables (variables a medir)"]
[null,"Unidad de medida",null,"Suscriptores"]
[null,"Tendencia del indicador",null,"Creciente","X",null,null,"Decreciente"]
[null,"Soporte legal",null,"Resolución CRA 688/2014 y 735/2019"]
[null,"Planes y programas a los que le hace seguimiento",null,"PESV",null,"PGR",null,"Resolución 315/05",null,"X"]
[null,null,null,"Programa Aseo",null,"Plan Tarifario",null,"Resolución 151/01"]
[null,null,null,"SG-SST"]
[]
[null,"FRECUENCIAS Y RESPONSABLES"]
[null,"Frecuencia de Cálculo y Análisis",null,"Mensual","X","Trimestral",null,"Otro"]
[null,null,null,"Semestral",null,"Anual",null,"Cual"]
[null,"Responsable de la medición y análisis Cargo y Dependencia",null,"Técnico nuevos usuarios"]
[]
[null,"Elaboró","Subgerencia de planeación",null,null,null,"Fecha",2020]

{"sheet":"US022","index":109,"n_rows":33,"n_cols":14,"rows_kept":33,"cut":false,"hidden":false,"merged":[[30,1,31,2],[30,3,31,9],[32,2,32,5],[32,7,32,9],[23,1,26,2],[23,7,23,8],[24,7,24,8],[25,7,25,8],[27,1,27,9],[28,1,29,2],[28,7,28,8],[29,7,29,8],[22,1,22,2],[22,3,22,9],[15,1,15,9],[16,1,17,2],[16,3,17,9],[18,1,18,2],[18,3,18,9],[19,1,19,2],[19,3,19,9],[20,1,20,2],[20,3,20,9],[21,1,21,2],[21,4,21,6],[21,8,21,9],[11,1,12,2],[11,3,11,4],[12,3,12,4],[13,1,14,2],[13,3,13,4],[14,3,14,4],[10,1,10,2],[10,3,10,9],[1,1,6,2],[1,3,3,7],[1,8,3,8],[1,9,3,9],[4,3,6,7],[4,8,6,9],[7,1,7,9],[8,1,8,2],[8,3,8,7],[9,1,9,2],[9,3,9,8]]}
[]
[null,null,null,"SERVICIUDAD ESP",null,null,null,null,"Código SPFO-11","Versión 03"]
[]
[]
[null,null,null,"FICHA TECNICA DEL INDICADOR",null,null,null,null,"PAGINA 01"]
[]
[]
[]
[null,"Nombre del índicador",null,"Nuevos suscriptores Aseo",null,null,null,null,"Código: ","US022"]
[null,"Nombre del plan o proceso",null,"ATENCIÓN AL CLIENTE"]
[null,"Propósito u objetivo del indicador",null,"Medir el incremento de usuarios nuevos mes a mes"]
[null,"Tipo de indicador",null,"Eficiencia",null,null,"Eficacia",null,"Efectividad","X"]
[null,null,null,"Económia",null,null,"Ambiental"]
[null,"Estilo de cálculo",null,"Promedio",null,null,"Último dato","X"]
[null,null,null,"Suma",null,null,"Suma de componentes"]
[null,"MEDICIÓN DEL INDICADOR",null,null,null,null,null,null,null,null,null,null,null," "]
[null,"Fórmula de cálculo",null,"Numero suscriptores mes actual-Número de suscriptores Diciembre año anterior"]
[]
[null,"Número de variables",null,2]
[null,"Definición variables (variables a medir)"]
[null,"Unidad de medida",null,"Suscriptores"]
[null,"Tendencia del indicador",null,"Creciente","X",null,null,"Decreciente"]
[null,"Soporte legal",null,"Resolución CRA 151/2001"]
[null,"Planes y programas a los que le hace seguimiento",null,"PESV","X","PGR",null,"Resolución 315/05"]
[null,null,null,"Programa Aseo",null,"Plan Tarifario",null,"Resolución 151/01"]
[null,null,null,"SG-SST"]
[]
[null,"FRECUENCIAS Y RESPONSABLES"]
[null,"Frecuencia de Cálculo y Análisis",null,"Mensual","X","Trimestral",null,"Otro"]
[null,null,null,"Semestral",null,"Anual",null,"Cual"]
[null,"Responsable de la medición y análisis Cargo y Dependencia",null,"Técnico nuevos usuarios"]
[]
[null,"Elaboró","Subgerencia de planeación",null,null,null,"Fecha",2020]

{"sheet":"US023","index":110,"n_rows":33,"n_cols":14,"rows_kept":33,"cut":false,"hidden":false,"merged":[[30,1,31,2],[30,3,31,9],[32,2,32,5],[32,7,32,9],[23,1,26,2],[23,7,23,8],[24,7,24,8],[25,7,25,8],[27,1,27,9],[28,1,29,2],[28,7,28,8],[29,7,29,8],[22,1,22,2],[22,3,22,9],[15,1,15,9],[16,1,17,2],[16,3,17,9],[18,1,18,2],[18,3,18,9],[19,1,19,2],[19,3,19,9],[20,1,20,2],[20,3,20,9],[21,1,21,2],[21,4,21,6],[21,8,21,9],[11,1,12,2],[11,3,11,4],[12,3,12,4],[13,1,14,2],[13,3,13,4],[14,3,14,4],[10,1,10,2],[10,3,10,9],[1,1,6,2],[1,3,3,7],[1,8,3,8],[1,9,3,9],[4,3,6,7],[4,8,6,9],[7,1,7,9],[8,1,8,2],[8,3,8,7],[9,1,9,2],[9,3,9,8]]}
[]
[null,null,null,"SERVICIUDAD ESP",null,null,null,null,"Código SPFO-11","Versión 03"]
[]
[]
[null,null,null,"FICHA TECNICA DEL INDICADOR",null,null,null,null,"PAGINA 01"]
[]
[]
[]
[null,"Nombre del índicador",null,"Nuevos suscriptores residenciales Acueducto",null,null,null,null,"Código: ","US023"]
[null,"Nombre del plan o proceso",null,"ATENCIÓN AL CLIENTE"]
[null,"Propósito u objetivo del indicador",null,"Determinar el número de suscritores residenciales de acueducto que tiene la empresa"]
[null,"Tipo de indicador",null,"Eficiencia",null,null,"Eficacia",null,"Efectividad","X"]
[null,null,null,"Económia",null,null,"Ambiental"]
[null,"Estilo de cálculo",null,"Promedio",null,null,"Último dato","X"]
[null,null,null,"Suma",null,null,"Suma de componentes"]
[null,"MEDICIÓN DEL INDICADOR",null,null,null,null,null,null,null,null,null,null,null," "]
[null,"Fórmula de cálculo",null,"Numero suscriptores residenciales actual-Número de suscriptores residenciales Diciembre año anterior"]
[]
[null,"Número de variables",null,2]
[null,"Definición variables (variables a medir)"]
[null,"Unidad de medida",null,"%"]
[null,"Tendencia del indicador",null,"Creciente","X",null,null,"Decreciente"]
[null,"Soporte legal",null,"Resolución CRA 688/2014 y 735/2019"]
[null,"Planes y programas a los que le hace seguimiento",null,"PESV",null,"PGR",null,"Resolución 315/05",null,"X"]
[null,null,null,"Programa Aseo",null,"Plan Tarifario",null,"Resolución 151/01"]
[null,null,null,"SG-SST"]
[]
[null,"FRECUENCIAS Y RESPONSABLES"]
[null,"Frecuencia de Cálculo y Análisis",null,"Mensual","X","Trimestral",null,"Otro"]
[null,null,null,"Semestral",null,"Anual",null,"Cual"]
[null,"Responsable de la medición y análisis Cargo y Dependencia",null,"Técnico nuevos usuarios"]
[]
[null,"Elaboró","Subgerencia de planeación",null,null,null,"Fecha",2020]

{"sheet":"US024","index":111,"n_rows":33,"n_cols":14,"rows_kept":33,"cut":false,"hidden":false,"merged":[[30,1,31,2],[30,3,31,9],[32,2,32,5],[32,7,32,9],[23,1,26,2],[23,7,23,8],[24,7,24,8],[25,7,25,8],[27,1,27,9],[28,1,29,2],[28,7,28,8],[29,7,29,8],[22,1,22,2],[22,3,22,9],[15,1,15,9],[16,1,17,2],[16,3,17,9],[18,1,18,2],[18,3,18,9],[19,1,19,2],[19,3,19,9],[20,1,20,2],[20,3,20,9],[21,1,21,2],[21,4,21,6],[21,8,21,9],[11,1,12,2],[11,3,11,4],[12,3,12,4],[13,1,14,2],[13,3,13,4],[14,3,14,4],[10,1,10,2],[10,3,10,9],[1,1,6,2],[1,3,3,7],[1,8,3,8],[1,9,3,9],[4,3,6,7],[4,8,6,9],[7,1,7,9],[8,1,8,2],[8,3,8,7],[9,1,9,2],[9,3,9,8]]}
[]
[null,null,null,"SERVICIUDAD ESP",null,null,null,null,"Código SPFO-11","Versión 03"]
[]
[]
[null,null,null,"FICHA TECNICA DEL INDICADOR",null,null,null,null,"PAGINA 01"]
[]
[]
[]
[null,"Nombre del índicador",null,"Nuevos suscriptores residenciales Alcantarillado",null,null,null,null,"Código: ","US024"]
[null,"Nombre del plan o proceso",null,"ATENCIÓN AL CLIENTE"]
[null,"Propósito u objetivo del indicador",null,"Determinar el número de suscritores residenciales de alacantarillado que tiene la empresa"]
[null,"Tipo de indicador",null,"Eficiencia",null,null,"Eficacia",null,"Efectividad","X"]
[null,null,null,"Económia",null,null,"Ambiental"]
[null,"Estilo de cálculo",null,"Promedio",null,null,"Último dato","X"]
[null,null,null,"Suma",null,null,"Suma de componentes"]
[null,"MEDICIÓN DEL INDICADOR",null,null,null,null,null,null,null,null,null,null,null," "]
[null,"Fórmula de cálculo",null,"Numero suscriptores residenciales actual-Número de suscriptores residenciales Diciembre año anterior"]
[]
[null,"Número de variables",null,2]
[null,"Definición variables (variables a medir)"]
[null,"Unidad de medida",null,"%"]
[null,"Tendencia del indicador",null,"Creciente","X",null,null,"Decreciente"]
[null,"Soporte legal",null,"Resolución CRA 688/2014 y 735/2019"]
[null,"Planes y programas a los que le hace seguimiento",null,"PESV",null,"PGR",null,"Resolución 315/05",null,"X"]
[null,null,null,"Programa Aseo",null,"Plan Tarifario",null,"Resolución 151/01"]
[null,null,null,"SG-SST"]
[]
[null,"FRECUENCIAS Y RESPONSABLES"]
[null,"Frecuencia de Cálculo y Análisis",null,"Mensual","X","Trimestral",null,"Otro"]
[null,null,null,"Semestral",null,"Anual",null,"Cual"]
[null,"Responsable de la medición y análisis Cargo y Dependencia",null,"Técnico nuevos usuarios"]
[]
[null,"Elaboró","Subgerencia de planeación",null,null,null,"Fecha",2020]

{"sheet":"US025","index":112,"n_rows":33,"n_cols":14,"rows_kept":33,"cut":false,"hidden":false,"merged":[[30,1,31,2],[30,3,31,9],[32,2,32,5],[32,7,32,9],[23,1,26,2],[23,7,23,8],[24,7,24,8],[25,7,25,8],[27,1,27,9],[28,1,29,2],[28,7,28,8],[29,7,29,8],[22,1,22,2],[22,3,22,9],[15,1,15,9],[16,1,17,2],[16,3,17,9],[18,1,18,2],[18,3,18,9],[19,1,19,2],[19,3,19,9],[20,1,20,2],[20,3,20,9],[21,1,21,2],[21,4,21,6],[21,8,21,9],[11,1,12,2],[11,3,11,4],[12,3,12,4],[13,1,14,2],[13,3,13,4],[14,3,14,4],[10,1,10,2],[10,3,10,9],[1,1,6,2],[1,3,3,7],[1,8,3,8],[1,9,3,9],[4,3,6,7],[4,8,6,9],[7,1,7,9],[8,1,8,2],[8,3,8,7],[9,1,9,2],[9,3,9,8]]}
[]
[null,null,null,"SERVICIUDAD ESP",null,null,null,null,"Código SPFO-11","Versión 03"]
[]
[]
[null,null,null,"FICHA TECNICA DEL INDICADOR",null,null,null,null,"PAGINA 01"]
[]
[]
[]
[null,"Nombre del índicador",null,"IQR índice reclamos comerciales (Acueducto y Alcantarillado)",null,null,null,null,"Código: ","US025"]
[null,"Nombre del plan o proceso",null,"ATENCIÓN AL CLIENTE"]
[null,"Propósito u objetivo del indicador",null,"Evalúar el comportamiento de los servicios públicos domiciliarios de acueducto y alcantarillado, en relación con los reclamos comerciales por facturación"]
[null,"Tipo de indicador",null,"Eficiencia",null,null,"Eficacia",null,"Efectividad","X"]
[null,null,null,"Económia",null,null,"Ambiental"]
[null,"Estilo de cálculo",null,"Promedio",null,null,"Último dato","X"]
[null,null,null,"Suma",null,null,"Suma de componentes"]
[null,"MEDICIÓN DEL INDICADOR",null,null,null,null,null,null,null,null,null,null,null," "]
[null,"Fórmula de cálculo",null,"IQRm = ΣRc*mf/NTU*1000"]
[]
[null,"Número de variables",null,3]
[null,"Definición variables (variables a medir)",null,"Rc: Reclamos comerciales por diferencia de la factura que pasan a segunda instancia a favor del suscriptor. mf: Número de meses en el ciclo de facturación. NTU: número de suscriptores del mes"]
[null,"Unidad de medida",null,"Reclamos comerciales/1000 suscriptores"]
[null,"Tendencia del indicador",null,"Creciente",null,null,null,"Decreciente","X"]
[null,"Soporte legal",null,"Resolución CRA 688/2014 y 735/2019"]
[null,"Planes y programas a los que le hace seguimiento",null,"PESV",null,"PGR",null,"Resolución 315/05",null,"X"]
[null,null,null,"Programa Aseo",null,"Plan Tarifario",null,"Resolución 151/01"]
[null,null,null,"SG-SST"]
[]
[null,"FRECUENCIAS Y RESPONSABLES"]
[null,"Frecuencia de Cálculo y Análisis",null,"Mensual","X","Trimestral",null,"Otro"]
[null,null,null,"Semestral",null,"Anual",null,"Cual"]
[null,"Responsable de la medición y análisis Cargo y Dependencia",null,"Subgerente comercial"]
[]
[null,"Elaboró","Subgerencia de planeación",null,null,null,"Fecha",2020]

{"sheet":"US026","index":113,"n_rows":33,"n_cols":14,"rows_kept":33,"cut":false,"hidden":false,"merged":[[30,1,31,2],[30,3,31,9],[32,2,32,5],[32,7,32,9],[23,1,26,2],[23,7,23,8],[24,7,24,8],[25,7,25,8],[27,1,27,9],[28,1,29,2],[28,7,28,8],[29,7,29,8],[22,1,22,2],[22,3,22,9],[15,1,15,9],[16,1,17,2],[16,3,17,9],[18,1,18,2],[18,3,18,9],[19,1,19,2],[19,3,19,9],[20,1,20,2],[20,3,20,9],[21,1,21,2],[21,4,21,6],[21,8,21,9],[11,1,12,2],[11,3,11,4],[12,3,12,4],[13,1,14,2],[13,3,13,4],[14,3,14,4],[10,1,10,2],[10,3,10,9],[1,1,6,2],[1,3,3,7],[1,8,3,8],[1,9,3,9],[4,3,6,7],[4,8,6,9],[7,1,7,9],[8,1,8,2],[8,3,8,7],[9,1,9,2],[9,3,9,8]]}
[]
[null,null,null,"SERVICIUDAD ESP",null,null,null,null,"Código SPFO-11","Versión 03"]
[]
[]
[null,null,null,"FICHA TECNICA DEL INDICADOR",null,null,null,null,"PAGINA 01"]
[]
[]
[]
[null,"Nombre del índicador",null,"IRCF índice reclamos comerciales por facturación Aseo",null,null,null,null,"Código: ","US026"]
[null,"Nombre del plan o proceso",null,"ATENCIÓN AL CLIENTE"]
[null,"Propósito u objetivo del indicador",null,"Evalúar el comportamiento del servicio público domiciliario de acueducto, en relación con los reclamos comerciales por facturación"]
[null,"Tipo de indicador",null,"Eficiencia",null,null,"Eficacia",null,"Efectividad","X"]
[null,null,null,"Económia",null,null,"Ambiental"]
[null,"Estilo de cálculo",null,"Promedio",null,null,"Último dato","X"]
[null,null,null,"Suma",null,null,"Suma de componentes"]
[null,"MEDICIÓN DEL INDICADOR",null,null,null,null,null,null,null,null,null,null,null," "]
[null,"Fórmula de cálculo",null,"IRCFm = ΣRc*mf/NTU*1000"]
[]
[null,"Número de variables",null,3]
[null,"Definición variables (variables a medir)",null,"Rc: Reclamos comerciales por diferencia de la factura que pasan a segunda instancia a favor del suscriptor. mf: Número de meses en el ciclo de facturación. NTU: número de suscriptores del mes"]
[null,"Unidad de medida",null,"Reclamos comerciales/1000 suscriptores"]
[null,"Tendencia del indicador",null,"Creciente",null,null,null,"Decreciente","X"]
[null,"Soporte legal",null,"Resolución CRA 688/2014 y 735/2019"]
[null,"Planes y programas a los que le hace seguimiento",null,"PESV",null,"PGR",null,"Resolución 315/05",null,"X"]
[null,null,null,"Programa Aseo",null,"Plan Tarifario",null,"Resolución 151/01"]
[null,null,null,"SG-SST"]
[]
[null,"FRECUENCIAS Y RESPONSABLES"]
[null,"Frecuencia de Cálculo y Análisis",null,"Mensual","X","Trimestral",null,"Otro"]
[null,null,null,"Semestral",null,"Anual",null,"Cual"]
[null,"Responsable de la medición y análisis Cargo y Dependencia",null,"Subgerente comercial"]
[]
[null,"Elaboró","Subgerencia de planeación",null,null,null,"Fecha",2020]

{"sheet":"OR001","index":114,"n_rows":33,"n_cols":14,"rows_kept":33,"cut":false,"hidden":false,"merged":[[30,1,31,2],[30,3,31,9],[32,2,32,5],[32,7,32,9],[23,1,26,2],[23,7,23,8],[24,7,24,8],[25,7,25,8],[27,1,27,9],[28,1,29,2],[28,7,28,8],[29,7,29,8],[22,1,22,2],[22,3,22,9],[15,1,15,9],[16,1,17,2],[16,3,17,9],[18,1,18,2],[18,3,18,9],[19,1,19,2],[19,3,19,9],[20,1,20,2],[20,3,20,9],[21,1,21,2],[21,4,21,6],[21,8,21,9],[11,1,12,2],[11,3,11,4],[12,3,12,4],[13,1,14,2],[13,3,13,4],[14,3,14,4],[10,1,10,2],[10,3,10,9],[1,1,6,2],[1,3,3,7],[1,8,3,8],[1,9,3,9],[4,3,6,7],[4,8,6,9],[7,1,7,9],[8,1,8,2],[8,3,8,7],[9,1,9,2],[9,3,9,8]]}
[]
[null,null,null,"SERVICIUDAD ESP",null,null,null,null,"Código SPFO-11","Versión 03"]
[]
[]
[null,null,null,"FICHA TECNICA DEL INDICADOR",null,null,null,null,"PAGINA 01"]
[]
[]
[]
[null,"Nombre del índicador",null,"Eficiencia laboral acueducto",null,null,null,null,"Código: ","OR001"]
[null,"Nombre del plan o proceso",null,"TALENTO HUMANO"]
[null,"Propósito u objetivo del indicador",null,"Determinar el costo de personal por Metro 3 de Agua facturado"]
[null,"Tipo de indicador",null,"Eficiencia",null,"X","Eficacia",null,"Efectividad"]
[null,null,null,"Económia",null,"X","Ambiental"]
[null,"Estilo de cálculo",null,"Promedio",null,null,"Último dato"]
[null,null,null,"Suma",null,null,"Suma de componentes","X"]
[null,"MEDICIÓN DEL INDICADOR",null,null,null,null,null,null,null,null,null,null,null," "]
[null,"Fórmula de cálculo",null,"Costos de Personal/Volumen de agua facturado (ultimos 12 meses)"]
[]
[null,"Número de variables",null,2]
[null,"Definición variables (variables a medir)",null,"Costos de Personal: Valor en pesos corrientes del total de pagos, durante los últimos doce meses,  por salarios, prestaciones, horas extras, y demás conceptos para el personal de planta administrativo y operativo, más servicios contratados con terceros.\nVolumen Facturado: Volumen de agua  que la empresa facturó durante los últimos doce meses. "]
[null,"Unidad de medida",null,"$"]
[null,"Tendencia del indicador",null,"Creciente",null,null,null,"Decreciente","X"]
[null,"Soporte legal",null,"Resolución CRA 12/1995"]
[null,"Planes y programas a los que le hace seguimiento",null,"PESV",null,"PGR",null,"Resolución 315/05"]
[null,null,null,"Programa Aseo",null,"Plan Tarifario",null,"Resolución 151/01"]
[null,null,null,"SG-SST","X"]
[]
[null,"FRECUENCIAS Y RESPONSABLES"]
[null,"Frecuencia de Cálculo y Análisis",null,"Mensual",null,"Trimestral","X","Otro"]
[null,null,null,"Semestral",null,"Anual",null,"Cual"]
[null,"Responsable de la medición y análisis Cargo y Dependencia",null,"Auxiliar Costos"]
[]
[null,"Elaboró","Subgerencia de planeación",null,null,null,"Fecha",2020]

{"sheet":"OR002","index":115,"n_rows":33,"n_cols":14,"rows_kept":33,"cut":false,"hidden":false,"merged":[[30,1,31,2],[30,3,31,9],[32,2,32,5],[32,7,32,9],[23,1,26,2],[23,7,23,8],[24,7,24,8],[25,7,25,8],[27,1,27,9],[28,1,29,2],[28,7,28,8],[29,7,29,8],[22,1,22,2],[22,3,22,9],[15,1,15,9],[16,1,17,2],[16,3,17,9],[18,1,18,2],[18,3,18,9],[19,1,19,2],[19,3,19,9],[20,1,20,2],[20,3,20,9],[21,1,21,2],[21,4,21,6],[21,8,21,9],[11,1,12,2],[11,3,11,4],[12,3,12,4],[13,1,14,2],[13,3,13,4],[14,3,14,4],[10,1,10,2],[10,3,10,9],[1,1,6,2],[1,3,3,7],[1,8,3,8],[1,9,3,9],[4,3,6,7],[4,8,6,9],[7,1,7,9],[8,1,8,2],[8,3,8,7],[9,1,9,2],[9,3,9,8]]}
[]
[null,null,null,"SERVICIUDAD ESP",null,null,null,null,"Código SPFO-11","Versión 03"]
[]
[]
[null,null,null,"FICHA TECNICA DEL INDICADOR",null,null,null,null,"PAGINA 01"]
[]
[]
[]
[null,"Nombre del índicador",null,"Productividad del Personal Administrativo del Prestador — PPAP",null,null,null,null,"Código: ","OR002"]
[null,"Nombre del plan o proceso",null,"TALENTO HUMANO"]
[null,"Propósito u objetivo del indicador",null,"Medir la proporción de trabajadores administrativos existentes por cada 1000 suscriptores."]
[null,"Tipo de indicador",null,"Eficiencia",null,null,"Eficacia","X","Efectividad"]
[null,null,null,"Económia",null,null,"Ambiental"]
[null,"Estilo de cálculo",null,"Promedio",null,"X","Último dato"]
[null,null,null,"Suma",null,null,"Suma de componentes"]
[null,"MEDICIÓN DEL INDICADOR",null,null,null,null,null,null,null,null,null,null,null," "]
[null,"Fórmula de cálculo",null,"NATg/                                                              (NSg/1000)"]
[]
[null,"Número de variables",null,2]
[null,"Definición variables (variables a medir)",null,"NTAg: Número total de personal administrativo en el período de facturación g, se incluyen el personal que e realice labores administrativas sin discriminación del servicio prestado, siempre que estos sean; Acueducto y/o Alcantarillado y/o Aseo; del mismo modo, no se discrimina por tipo de vinculación ni por el número de horas laboradas,\nNSg: Número de suscriptores atendidos en el período de facturación g. Para lo cual se empleará la información asociada al servicio que presente el mayor número de suscriptores."]
[null,"Unidad de medida",null,"Número"]
[null,"Tendencia del indicador",null,"Creciente","X",null,null,"Decreciente"]
[null,"Soporte legal",null,"Resolución CRA 906/2019"]
[null,"Planes y programas a los que le hace seguimiento",null,"PESV",null,"PGR","X","Resolución 315/05"]
[null,null,null,"Programa Aseo",null,"Plan Tarifario",null,"Resolución 151/01"]
[null,null,null,"SG-SST"]
[]
[null,"FRECUENCIAS Y RESPONSABLES"]
[null,"Frecuencia de Cálculo y Análisis",null,"Mensual","X","Trimestral",null,"Otro"]
[null,null,null,"Semestral",null,"Anual",null,"Cual"]
[null,"Responsable de la medición y análisis Cargo y Dependencia",null,"Profesional Talento Humano "]
[]
[null,"Elaboró","Subgerencia de planeación",null,null,null,"Fecha",2020]

{"sheet":"OR003","index":116,"n_rows":33,"n_cols":14,"rows_kept":33,"cut":false,"hidden":false,"merged":[[30,1,31,2],[30,3,31,9],[32,2,32,5],[32,7,32,9],[23,1,26,2],[23,7,23,8],[24,7,24,8],[25,7,25,8],[27,1,27,9],[28,1,29,2],[28,7,28,8],[29,7,29,8],[22,1,22,2],[22,3,22,9],[15,1,15,9],[16,1,17,2],[16,3,17,9],[18,1,18,2],[18,3,18,9],[19,1,19,2],[19,3,19,9],[20,1,20,2],[20,3,20,9],[21,1,21,2],[21,4,21,6],[21,8,21,9],[11,1,12,2],[11,3,11,4],[12,3,12,4],[13,1,14,2],[13,3,13,4],[14,3,14,4],[10,1,10,2],[10,3,10,9],[1,1,6,2],[1,3,3,7],[1,8,3,8],[1,9,3,9],[4,3,6,7],[4,8,6,9],[7,1,7,9],[8,1,8,2],[8,3,8,7],[9,1,9,2],[9,3,9,8]]}
[]
[null,null,null,"SERVICIUDAD ESP",null,null,null,null,"Código SPFO-11","Versión 03"]
[]
[]
[null,null,null,"FICHA TECNICA DEL INDICADOR",null,null,null,null,"PAGINA 01"]
[]
[]
[]
[null,"Nombre del índicador",null,"Productividad del Personal Operativo Acueducto — POAC",null,null,null,null,"Código: ","OR003"]
[null,"Nombre del plan o proceso",null,"TALENTO HUMANO"]
[null,"Propósito u objetivo del indicador",null,"Medir la proporción de trabajadores opretativos exixtentes por cada 1000 suscriptores para el servicio público domiciliario de acueductos."]
[null,"Tipo de indicador",null,"Eficiencia",null,null,"Eficacia","X","Efectividad"]
[null,null,null,"Económia",null,null,"Ambiental"]
[null,"Estilo de cálculo",null,"Promedio",null,"X","Último dato"]
[null,null,null,"Suma",null,null,"Suma de componentes"]
[null,"MEDICIÓN DEL INDICADOR",null,null,null,null,null,null,null,null,null,null,null," "]
[null,"Fórmula de cálculo",null,"NTOACg/                                                              (NSACg/1000)"]
[]
[null,"Número de variables",null,2]
[null,"Definición variables (variables a medir)",null,"NTOACg: Número total de personal operativo para el servicio público domiciliario de acueducto en el período de facturación g. Hace referencia a la clasificación de la planta de personal autorizado y debe incluir toda el personal definido en el indicador, sin discriminación de su tipo de vinculación, profesión y/o dedicación de tiempo en su labores realizadas.\nNSACg: Número de suscriptores del servicio público domiciliario de acueducto en el período de facturación g.\nCuando un trabajador tenga funciones asignada a más de un servicio, al estimar la variable NTOACg se deberá efectuar la proporción de dedicación de cada trabajador a realizar labores para el servicio público domiciliario de acueducto, de acuerdo con la siguiente formula:"]
[null,"Unidad de medida",null,"Número"]
[null,"Tendencia del indicador",null,"Creciente","X",null,null,"Decreciente"]
[null,"Soporte legal",null,"Resolución CRA 906/2019"]
[null,"Planes y programas a los que le hace seguimiento",null,"PESV",null,"PGR","X","Resolución 315/05"]
[null,null,null,"Programa Aseo",null,"Plan Tarifario",null,"Resolución 151/01"]
[null,null,null,"SG-SST"]
[]
[null,"FRECUENCIAS Y RESPONSABLES"]
[null,"Frecuencia de Cálculo y Análisis",null,"Mensual","X","Trimestral",null,"Otro"]
[null,null,null,"Semestral",null,"Anual",null,"Cual"]
[null,"Responsable de la medición y análisis Cargo y Dependencia",null,"Profesional Talento Humano "]
[]
[null,"Elaboró","Subgerencia de planeación",null,null,null,"Fecha",2020]

{"sheet":"OR004","index":117,"n_rows":33,"n_cols":14,"rows_kept":33,"cut":false,"hidden":false,"merged":[[30,1,31,2],[30,3,31,9],[32,2,32,5],[32,7,32,9],[23,1,26,2],[23,7,23,8],[24,7,24,8],[25,7,25,8],[27,1,27,9],[28,1,29,2],[28,7,28,8],[29,7,29,8],[22,1,22,2],[22,3,22,9],[15,1,15,9],[16,1,17,2],[16,3,17,9],[18,1,18,2],[18,3,18,9],[19,1,19,2],[19,3,19,9],[20,1,20,2],[20,3,20,9],[21,1,21,2],[21,4,21,6],[21,8,21,9],[11,1,12,2],[11,3,11,4],[12,3,12,4],[13,1,14,2],[13,3,13,4],[14,3,14,4],[10,1,10,2],[10,3,10,9],[1,1,6,2],[1,3,3,7],[1,8,3,8],[1,9,3,9],[4,3,6,7],[4,8,6,9],[7,1,7,9],[8,1,8,2],[8,3,8,7],[9,1,9,2],[9,3,9,8]]}
[]
[null,null,null,"SERVICIUDAD ESP",null,null,null,null,"Código SPFO-11","Versión 03"]
[]
[]
[null,null,null,"FICHA TECNICA DEL INDICADOR",null,null,null,null,"PAGINA 01"]
[]
[]
[]
[null,"Nombre del índicador",null,"Productividad del Personal Operativo Alcantarillado — POALC",null,null,null,null,"Código: ","OR004"]
[null,"Nombre del plan o proceso",null,"TALENTO HUMANO"]
[null,"Propósito u objetivo del indicador",null,"Medir la proporción de trabajadores opretativos exixtentes por cada 1000 suscriptores para el servicio público domiciliario de alacantarillado"]
[null,"Tipo de indicador",null,"Eficiencia",null,null,"Eficacia","X","Efectividad"]
[null,null,null,"Económia",null,null,"Ambiental"]
[null,"Estilo de cálculo",null,"Promedio",null,"X","Último dato"]
[null,null,null,"Suma",null,null,"Suma de componentes"]
[null,"MEDICIÓN DEL INDICADOR",null,null,null,null,null,null,null,null,null,null,null," "]
[null,"Fórmula de cálculo",null,"NTOALg  /\n (NSALg/1000)"]
[]
[null,"Número de variables",null,2]
[null,"Definición variables (variables a medir)",null,"NTOALg: Número total de personal operativo para el servicio público domiciliario de alcantarillado en el período de facturación g. Hace referencia a la clasificación de la planta de personal autorizado y debe incluir toda el personal definido en el indicador, sin discriminación de su tipo de vinculación, profesión y/o dedicación de tiempo en su labores realizadas.\nNSALg: Número de suscriptores del servicio público domiciliario de alcantarillado el período de facturación g.\nCuando un trabajador tenga funciones asignada a más de un servicio, al estimar la variable NTOACg se deberá efectuar la proporción de dedicación de cada trabajador a realizar labores para el servicio público domiciliario de alcantarillado, de acuerdo con la siguiente formula:"]
[null,"Unidad de medida",null,"Número"]
[null,"Tendencia del indicador",null,"Creciente","X",null,null,"Decreciente"]
[null,"Soporte legal",null,"Resolución CRA 906/2019"]
[null,"Planes y programas a los que le hace seguimiento",null,"PESV",null,"PGR","X","Resolución 315/05"]
[null,null,null,"Programa Aseo",null,"Plan Tarifario",null,"Resolución 151/01"]
[null,null,null,"SG-SST"]
[]
[null,"FRECUENCIAS Y RESPONSABLES"]
[null,"Frecuencia de Cálculo y Análisis",null,"Mensual","X","Trimestral",null,"Otro"]
[null,null,null,"Semestral",null,"Anual",null,"Cual"]
[null,"Responsable de la medición y análisis Cargo y Dependencia",null,"Profesional Talento Humano "]
[]
[null,"Elaboró","Subgerencia de planeación",null,null,null,"Fecha",2020]

{"sheet":"OR005","index":118,"n_rows":33,"n_cols":14,"rows_kept":33,"cut":false,"hidden":false,"merged":[[30,1,31,2],[30,3,31,9],[32,2,32,5],[32,7,32,9],[23,1,26,2],[23,7,23,8],[24,7,24,8],[25,7,25,8],[27,1,27,9],[28,1,29,2],[28,7,28,8],[29,7,29,8],[22,1,22,2],[22,3,22,9],[15,1,15,9],[16,1,17,2],[16,3,17,9],[18,1,18,2],[18,3,18,9],[19,1,19,2],[19,3,19,9],[20,1,20,2],[20,3,20,9],[21,1,21,2],[21,4,21,6],[21,8,21,9],[11,1,12,2],[11,3,11,4],[12,3,12,4],[13,1,14,2],[13,3,13,4],[14,3,14,4],[10,1,10,2],[10,3,10,9],[1,1,6,2],[1,3,3,7],[1,8,3,8],[1,9,3,9],[4,3,6,7],[4,8,6,9],[7,1,7,9],[8,1,8,2],[8,3,8,7],[9,1,9,2],[9,3,9,8]]}
[]
[null,null,null,"SERVICIUDAD ESP",null,null,null,null,"Código SPFO-11","Versión 03"]
[]
[]
[null,null,null,"FICHA TECNICA DEL INDICADOR",null,null,null,null,"PAGINA 01"]
[]
[]
[]
[null,"Nombre del índicador",null,"Relación de Costos y Gastos Administrativos por Gestión Social — GS ",null,null,null,null,"Código: ","OR005"]
[null,"Nombre del plan o proceso",null,"ATENCIÓN AL CLIENTE"]
[null,"Propósito u objetivo del indicador",null,"Medir el gasto y costo por suscriptor relacionado a La gestión social dasrrolladora por el prestador en los servicios públicos domiciliarios de acueducto y/o alcantarilldo."]
[null,"Tipo de indicador",null,"Eficiencia",null,null,"Eficacia","X","Efectividad"]
[null,null,null,"Económia",null,null,"Ambiental"]
[null,"Estilo de cálculo",null,"Promedio",null,"X","Último dato"]
[null,null,null,"Suma",null,null,"Suma de componentes"]
[null,"MEDICIÓN DEL INDICADOR",null,null,null,null,null,null,null,null,null,null,null," "]
[null,"Fórmula de cálculo",null,"(CGGS/GOAAA) x100"]
[]
[null,"Número de variables",null,2]
[null,"Definición variables (variables a medir)",null,"CGGS: Costos y gastos totales destinados a gestión social, hacen referencia a los costos y gatos intangibles realizados por el prestador, sin incluir impuestos. corresponde al valor registrado en la contabilidad del prestador por concepto de erogaciones que realizó, durante el periodo de evaluación, con el fin de mejorar la relación con el suscritor, así como las actividades que inciden en es mejoramiento de la cultura ciudadana frente aspectos relacionado con la prestación de los servicios públicos domiciliarios de acueducto y/o alcantarillado. Se incluyen las cuentas representan los recursos destinados por la empresa prestadora en educación ambienta, uso eficiente de agua, y saneamiento, de conformidad con las disposiciones legales.\nGOAAA: Costos operativos y gastos administrativos generados durante el período de evaluación correspondientes a la proporción para los servicios públicos domiciliarios de acueducto y /o alcantarillado. Se deben incluir todas las erogaciones asociadas a la prestación de los públicos domiciliarios de acueducto y/o alcantarillado, incluidas las generadas por la actividad comercial, así como los depreciaciones y amortizaciones."]
[null,"Unidad de medida",null,"%"]
[null,"Tendencia del indicador",null,"Creciente","X",null,null,"Decreciente"]
[null,"Soporte legal",null,"Resolución CRA 906/2019"]
[null,"Planes y programas a los que le hace seguimiento",null,"PESV",null,"PGR","X","Resolución 315/05"]
[null,null,null,"Programa Aseo",null,"Plan Tarifario",null,"Resolución 151/01"]
[null,null,null,"SG-SST"]
[]
[null,"FRECUENCIAS Y RESPONSABLES"]
[null,"Frecuencia de Cálculo y Análisis",null,"Mensual","X","Trimestral",null,"Otro"]
[null,null,null,"Semestral",null,"Anual",null,"Cual"]
[null,"Responsable de la medición y análisis Cargo y Dependencia",null,"Profesional de Presupuesto"]
[]
[null,"Elaboró","Subgerencia de planeación",null,null,null,"Fecha",2020]

{"sheet":"OR006","index":119,"n_rows":33,"n_cols":14,"rows_kept":33,"cut":false,"hidden":false,"merged":[[30,1,31,2],[30,3,31,9],[32,2,32,5],[32,7,32,9],[23,1,26,2],[23,7,23,8],[24,7,24,8],[25,7,25,8],[27,1,27,9],[28,1,29,2],[28,7,28,8],[29,7,29,8],[22,1,22,2],[22,3,22,9],[15,1,15,9],[16,1,17,2],[16,3,17,9],[18,1,18,2],[18,3,18,9],[19,1,19,2],[19,3,19,9],[20,1,20,2],[20,3,20,9],[21,1,21,2],[21,4,21,6],[21,8,21,9],[11,1,12,2],[11,3,11,4],[12,3,12,4],[13,1,14,2],[13,3,13,4],[14,3,14,4],[10,1,10,2],[10,3,10,9],[1,1,6,2],[1,3,3,7],[1,8,3,8],[1,9,3,9],[4,3,6,7],[4,8,6,9],[7,1,7,9],[8,1,8,2],[8,3,8,7],[9,1,9,2],[9,3,9,8]]}
[]
[null,null,null,"SERVICIUDAD ESP",null,null,null,null,"Código SPFO-11","Versión 03"]
[]
[]
[null,null,null,"FICHA TECNICA DEL INDICADOR",null,null,null,null,"PAGINA 01"]
[]
[]
[]
[null,"Nombre del índicador",null,"Indice de Rotación de Personal Directivo — IRDP",null,null,null,null,"Código: ","OR006"]
[null,"Nombre del plan o proceso",null,"TALENTO HUMANO"]
[null,"Propósito u objetivo del indicador",null,"Medir el nivel de rotación del personal directivo del prestador, siendo este el responsable de la toma de decisiones estratégicas en la  prestación del servicio. "]
[null,"Tipo de indicador",null,"Eficiencia",null,null,"Eficacia","X","Efectividad"]
[null,null,null,"Económia",null,null,"Ambiental"]
[null,"Estilo de cálculo",null,"Promedio",null,"X","Último dato"]
[null,null,null,"Suma",null,null,"Suma de componentes"]
[null,"MEDICIÓN DEL INDICADOR",null,null,null,null,null,null,null,null,null,null,null," "]
[null,"Fórmula de cálculo",null,"∑Ll=1 ALl / L"]
[]
[null,"Número de variables",null,2]
[null,"Definición variables (variables a medir)",null,"l:  Personal directivo correspondiente al gerente general o presidente, y/o a los directivos de áreas, quienes laboren y/o hayan laborado desde el año 2012  hasta el período de evaluación, donde / = [1,2,3,4  L}. El personal directivo será definido por cada prestador, de acuerdo con su estructura organizacional. \nL:  Número de personal directiva que hayan laborado desde el año 2012  hasta el período de evaluación.\nAL/:  Años laborados del personal directivo 1, a partir del año 2012. \nPara la aplicación de esta fórmula se debe tener en cuenta los siguientes aspectos: \n• Cada vez que se genere un cambio de cargo, reincorporación y/o contratación de nuevo personal, deberá reportarse como personas diferentes y/o nuevas\n• Para el caso de reemplazos y encargos, se contará como un solo cargo y una misma persona, siempre que el tiempo no supere seis (6) meses.\n• Se tendrá en cuenta el año de inicio de operación del prestador. \n• El indicador es aplicable a prestadores que empleen una fórmula tarifaria contractual en los términos del parágrafo 1 del artículo 87 de la Ley 142 de 1994, lo anterior, de acuerdo con el alcance de lo previsto en el contrato. "]
[null,"Unidad de medida",null,"Número"]
[null,"Tendencia del indicador",null,"Creciente","X",null,null,"Decreciente"]
[null,"Soporte legal",null,"Resolución CRA 906/2019"]
[null,"Planes y programas a los que le hace seguimiento",null,"PESV",null,"PGR","X","Resolución 315/05"]
[null,null,null,"Programa Aseo",null,"Plan Tarifario",null,"Resolución 151/01"]
[null,null,null,"SG-SST"]
[]
[null,"FRECUENCIAS Y RESPONSABLES"]
[null,"Frecuencia de Cálculo y Análisis",null,"Mensual",null,"Trimestral","X","Otro"]
[null,null,null,"Semestral",null,"Anual",null,"Cual"]
[null,"Responsable de la medición y análisis Cargo y Dependencia",null,"Profesional Talento Humano "]
[]
[null,"Elaboró","Subgerencia de planeación",null,null,null,"Fecha",2020]

{"sheet":"OR007","index":120,"n_rows":33,"n_cols":14,"rows_kept":33,"cut":false,"hidden":false,"merged":[[30,1,31,2],[30,3,31,9],[32,2,32,5],[32,7,32,9],[23,1,26,2],[23,7,23,8],[24,7,24,8],[25,7,25,8],[27,1,27,9],[28,1,29,2],[28,7,28,8],[29,7,29,8],[22,1,22,2],[22,3,22,9],[15,1,15,9],[16,1,17,2],[16,3,17,9],[18,1,18,2],[18,3,18,9],[19,1,19,2],[19,3,19,9],[20,1,20,2],[20,3,20,9],[21,1,21,2],[21,4,21,6],[21,8,21,9],[11,1,12,2],[11,3,11,4],[12,3,12,4],[13,1,14,2],[13,3,13,4],[14,3,14,4],[10,1,10,2],[10,3,10,9],[1,1,6,2],[1,3,3,7],[1,8,3,8],[1,9,3,9],[4,3,6,7],[4,8,6,9],[7,1,7,9],[8,1,8,2],[8,3,8,7],[9,1,9,2],[9,3,9,8]]}
[]
[null,null,null,"SERVICIUDAD ESP",null,null,null,null,"Código SPFO-11","Versión 03"]
[]
[]
[null,null,null,"FICHA TECNICA DEL INDICADOR",null,null,null,null,"PAGINA 01"]
[]
[]
[]
[null,"Nombre del índicador",null,"Carga administrativa — ICA",null,null,null,null,"Código: ","OR007"]
[null,"Nombre del plan o proceso",null,"TALENTO HUMANO"]
[null,"Propósito u objetivo del indicador",null,"Medir la proporción de costos y gastos asociados al personal administrativo con respecto al total de los ingresos operacionales del prestador."]
[null,"Tipo de indicador",null,"Eficiencia",null,null,"Eficacia",null,"Efectividad","X"]
[null,null,null,"Económia",null,null,"Ambiental"]
[null,"Estilo de cálculo",null,"Promedio",null,"X","Último dato"]
[null,null,null,"Suma",null,null,"Suma de componentes"]
[null,"MEDICIÓN DEL INDICADOR",null,null,null,null,null,null,null,null,null,null,null," "]
[null,"Fórmula de cálculo",null,"(GPA / Ie) x 100"]
[]
[null,"Número de variables",null,2]
[null,"Definición variables (variables a medir)",null,"GPA: Gastos anuales del personal administrativo. Los cuales corresponden a los gastos anuales asociados a nómina y derivados de la relación contractual individual o colectiva con el prestador. \n/e: Ingresos de actividades ordinarias del período a evaluar. "]
[null,"Unidad de medida",null,"Número"]
[null,"Tendencia del indicador",null,"Creciente","X",null,null,"Decreciente"]
[null,"Soporte legal",null,"Resolución CRA 906/2019"]
[null,"Planes y programas a los que le hace seguimiento",null,"PESV",null,"PGR","X","Resolución 315/05"]
[null,null,null,"Programa Aseo",null,"Plan Tarifario",null,"Resolución 151/01"]
[null,null,null,"SG-SST"]
[]
[null,"FRECUENCIAS Y RESPONSABLES"]
[null,"Frecuencia de Cálculo y Análisis",null,"Mensual",null,"Trimestral","X","Otro"]
[null,null,null,"Semestral",null,"Anual",null,"Cual"]
[null,"Responsable de la medición y análisis Cargo y Dependencia",null,"Profesional Talento Humano "]
[]
[null,"Elaboró","Subgerencia de planeación",null,null,null,"Fecha",2020]

{"sheet":"OR008","index":121,"n_rows":33,"n_cols":14,"rows_kept":33,"cut":false,"hidden":false,"merged":[[30,1,31,2],[30,3,31,9],[32,2,32,5],[32,7,32,9],[23,1,26,2],[23,7,23,8],[24,7,24,8],[25,7,25,8],[27,1,27,9],[28,1,29,2],[28,7,28,8],[29,7,29,8],[22,1,22,2],[22,3,22,9],[15,1,15,9],[16,1,17,2],[16,3,17,9],[18,1,18,2],[18,3,18,9],[19,1,19,2],[19,3,19,9],[20,1,20,2],[20,3,20,9],[21,1,21,2],[21,4,21,6],[21,8,21,9],[11,1,12,2],[11,3,11,4],[12,3,12,4],[13,1,14,2],[13,3,13,4],[14,3,14,4],[10,1,10,2],[10,3,10,9],[1,1,6,2],[1,3,3,7],[1,8,3,8],[1,9,3,9],[4,3,6,7],[4,8,6,9],[7,1,7,9],[8,1,8,2],[8,3,8,7],[9,1,9,2],[9,3,9,8]]}
[]
[null,null,null,"SERVICIUDAD ESP",null,null,null,null,"Código SPFO-11","Versión 03"]
[]
[]
[null,null,null,"FICHA TECNICA DEL INDICADOR",null,null,null,null,"PAGINA 01"]
[]
[]
[]
[null,"Nombre del índicador",null,"Eficiencia laboral alcantarillado",null,null,null,null,"Código: ","OR008"]
[null,"Nombre del plan o proceso",null,"TALENTO HUMANO"]
[null,"Propósito u objetivo del indicador",null,"Determinar el costo de personal por Metro 3 de Agua vertido"]
[null,"Tipo de indicador",null,"Eficiencia",null,"X","Eficacia",null,"Efectividad"]
[null,null,null,"Económia",null,"X","Ambiental"]
[null,"Estilo de cálculo",null,"Promedio",null,null,"Último dato"]
[null,null,null,"Suma",null,null,"Suma de componentes","X"]
[null,"MEDICIÓN DEL INDICADOR",null,null,null,null,null,null,null,null,null,null,null," "]
[null,"Fórmula de cálculo",null,"Costos de Personal/Volumen de agua facturado (ultimos 12 meses)"]
[]
[null,"Número de variables",null,2]
[null,"Definición variables (variables a medir)",null,"Costos de Personal: Valor en pesos corrientes del total de pagos, durante los últimos doce meses,  por salarios, prestaciones, horas extras, y demás conceptos para el personal de planta administrativo y operativo, más servicios contratados con terceros.\nVolumen Facturado: Volumen de agua  que la empresa facturó durante los últimos doce meses. "]
[null,"Unidad de medida",null,"$"]
[null,"Tendencia del indicador",null,"Creciente",null,null,null,"Decreciente","X"]
[null,"Soporte legal",null,"Resolución CRA 12/1995"]
[null,"Planes y programas a los que le hace seguimiento",null,"PESV",null,"PGR",null,"Resolución 315/05"]
[null,null,null,"Programa Aseo",null,"Plan Tarifario",null,"Resolución 151/01"]
[null,null,null,"SG-SST","X"]
[]
[null,"FRECUENCIAS Y RESPONSABLES"]
[null,"Frecuencia de Cálculo y Análisis",null,"Mensual",null,"Trimestral","X","Otro"]
[null,null,null,"Semestral",null,"Anual",null,"Cual"]
[null,"Responsable de la medición y análisis Cargo y Dependencia",null,"Auxiliar Costos"]
[]
[null,"Elaboró","Subgerencia de planeación",null,null,null,"Fecha",2020]

{"sheet":"OR009","index":122,"n_rows":33,"n_cols":14,"rows_kept":33,"cut":false,"hidden":false,"merged":[[30,1,31,2],[30,3,31,9],[32,2,32,5],[32,7,32,9],[23,1,26,2],[23,7,23,8],[24,7,24,8],[25,7,25,8],[27,1,27,9],[28,1,29,2],[28,7,28,8],[29,7,29,8],[22,1,22,2],[22,3,22,9],[15,1,15,9],[16,1,17,2],[16,3,17,9],[18,1,18,2],[18,3,18,9],[19,1,19,2],[19,3,19,9],[20,1,20,2],[20,3,20,9],[21,1,21,2],[21,4,21,6],[21,8,21,9],[11,1,12,2],[11,3,11,4],[12,3,12,4],[13,1,14,2],[13,3,13,4],[14,3,14,4],[10,1,10,2],[10,3,10,9],[1,1,6,2],[1,3,3,7],[1,8,3,8],[1,9,3,9],[4,3,6,7],[4,8,6,9],[7,1,7,9],[8,1,8,2],[8,3,8,7],[9,1,9,2],[9,3,9,8]]}
[]
[null,null,null,"SERVICIUDAD ESP",null,null,null,null,"Código SPFO-11","Versión 03"]
[]
[]
[null,null,null,"FICHA TECNICA DEL INDICADOR",null,null,null,null,"PAGINA 01"]
[]
[]
[]
[null,"Nombre del índicador",null,"Eficiencia laboral aseo",null,null,null,null,"Código: ","OR009"]
[null,"Nombre del plan o proceso",null,"TALENTO HUMANO"]
[null,"Propósito u objetivo del indicador",null,"Determinar el costo de personal por Metro 3 facturado"]
[null,"Tipo de indicador",null,"Eficiencia",null,"X","Eficacia",null,"Efectividad"]
[null,null,null,"Económia",null,"X","Ambiental"]
[null,"Estilo de cálculo",null,"Promedio",null,null,"Último dato"]
[null,null,null,"Suma",null,null,"Suma de componentes","X"]
[null,"MEDICIÓN DEL INDICADOR",null,null,null,null,null,null,null,null,null,null,null," "]
[null,"Fórmula de cálculo",null,"Costos de Personal/Basura recogida(ultimos 12 meses ) toneladas"]
[]
[null,"Número de variables",null,2]
[null,"Definición variables (variables a medir)",null,"Costos de Personal: Valor en pesos corrientes del total de pagos, durante los últimos doce meses,  por salarios, prestaciones, horas extras, y demás conceptos para el personal de planta administrativo y operativo, más servicios contratados con terceros.\nBasura Recogida: Toneladas de basura recolectada en los últimos doce meses.\n"]
[null,"Unidad de medida",null,"$"]
[null,"Tendencia del indicador",null,"Creciente",null,null,null,"Decreciente","X"]
[null,"Soporte legal",null,"Resolución CRA 12/1995"]
[null,"Planes y programas a los que le hace seguimiento",null,"PESV",null,"PGR",null,"Resolución 315/05"]
[null,null,null,"Programa Aseo",null,"Plan Tarifario",null,"Resolución 151/01",null,"X"]
[null,null,null,"SG-SST","X"]
[]
[null,"FRECUENCIAS Y RESPONSABLES"]
[null,"Frecuencia de Cálculo y Análisis",null,"Mensual",null,"Trimestral","X","Otro"]
[null,null,null,"Semestral",null,"Anual",null,"Cual"]
[null,"Responsable de la medición y análisis Cargo y Dependencia",null,"Auxiliar Costos"]
[]
[null,"Elaboró","Subgerencia de planeación",null,null,null,"Fecha",2020]

{"sheet":"OR010","index":123,"n_rows":33,"n_cols":14,"rows_kept":33,"cut":false,"hidden":false,"merged":[[30,1,31,2],[30,3,31,9],[32,2,32,5],[32,7,32,9],[23,1,26,2],[23,7,23,8],[24,7,24,8],[25,7,25,8],[27,1,27,9],[28,1,29,2],[28,7,28,8],[29,7,29,8],[22,1,22,2],[22,3,22,9],[15,1,15,9],[16,1,17,2],[16,3,17,9],[18,1,18,2],[18,3,18,9],[19,1,19,2],[19,3,19,9],[20,1,20,2],[20,3,20,9],[21,1,21,2],[21,4,21,6],[21,8,21,9],[11,1,12,2],[11,3,11,4],[12,3,12,4],[13,1,14,2],[13,3,13,4],[14,3,14,4],[10,1,10,2],[10,3,10,9],[1,1,6,2],[1,3,3,7],[1,8,3,8],[1,9,3,9],[4,3,6,7],[4,8,6,9],[7,1,7,9],[8,1,8,2],[8,3,8,7],[9,1,9,2],[9,3,9,8]]}
[]
[null,null,null,"SERVICIUDAD ESP",null,null,null,null,"Código SPFO-11","Versión 03"]
[]
[]
[null,null,null,"FICHA TECNICA DEL INDICADOR",null,null,null,null,"PAGINA 01"]
[]
[]
[]
[null,"Nombre del índicador",null,"Frecuencia de los accidentes laborales",null,null,null,null,"Código: ","OR010"]
[null,"Nombre del plan o proceso",null,"TALENTO HUMANO"]
[null,"Propósito u objetivo del indicador",null,"Reflejar el número de accidentes que se presentaron durante la jornada de trabajo "]
[null,"Tipo de indicador",null,"Eficiencia",null,null,"Eficacia",null,"Efectividad","X"]
[null,null,null,"Económia",null,null,"Ambiental"]
[null,"Estilo de cálculo",null,"Promedio",null,"X","Último dato"]
[null,null,null,"Suma",null,null,"Suma de componentes"]
[null,"MEDICIÓN DEL INDICADOR",null,null,null,null,null,null,null,null,null,null,null," "]
[null,"Fórmula de cálculo",null,"(Número Accidentes/Total horas hombre) * 240000"]
[]
[null,"Número de variables",null,2]
[null,"Definición variables (variables a medir)"]
[null,"Unidad de medida",null,"Accidentes/trabajador"]
[null,"Tendencia del indicador",null,"Creciente",null,null,null,"Decreciente","X"]
[null,"Soporte legal",null,"Resolución 1111 de 2017"]
[null,"Planes y programas a los que le hace seguimiento",null,"PESV",null,"PGR",null,"Resolución 315/05"]
[null,null,null,"Programa Aseo","X","Plan Tarifario",null,"Resolución 151/01"]
[null,null,null,"SG-SST"]
[]
[null,"FRECUENCIAS Y RESPONSABLES"]
[null,"Frecuencia de Cálculo y Análisis",null,"Mensual","X","Trimestral",null,"Otro"]
[null,null,null,"Semestral",null,"Anual",null,"Cual"]
[null,"Responsable de la medición y análisis Cargo y Dependencia",null,"Profesional salud ocupacional"]
[]
[null,"Elaboró","Subgerencia de planeación",null,null,null,"Fecha",2020]

{"sheet":"OR011","index":124,"n_rows":33,"n_cols":14,"rows_kept":33,"cut":false,"hidden":false,"merged":[[30,1,31,2],[30,3,31,9],[32,2,32,5],[32,7,32,9],[23,1,26,2],[23,7,23,8],[24,7,24,8],[25,7,25,8],[27,1,27,9],[28,1,29,2],[28,7,28,8],[29,7,29,8],[22,1,22,2],[22,3,22,9],[15,1,15,9],[16,1,17,2],[16,3,17,9],[18,1,18,2],[18,3,18,9],[19,1,19,2],[19,3,19,9],[20,1,20,2],[20,3,20,9],[21,1,21,2],[21,4,21,6],[21,8,21,9],[11,1,12,2],[11,3,11,4],[12,3,12,4],[13,1,14,2],[13,3,13,4],[14,3,14,4],[10,1,10,2],[10,3,10,9],[1,1,6,2],[1,3,3,7],[1,8,3,8],[1,9,3,9],[4,3,6,7],[4,8,6,9],[7,1,7,9],[8,1,8,2],[8,3,8,7],[9,1,9,2],[9,3,9,8]]}
[]
[null,null,null,"SERVICIUDAD ESP",null,null,null,null,"Código SPFO-11","Versión 03"]
[]
[]
[null,null,null,"FICHA TECNICA DEL INDICADOR",null,null,null,null,"PAGINA 01"]
[]
[]
[]
[null,"Nombre del índicador",null,"Severidad de los accidentes laborales",null,null,null,null,"Código: ","OR011"]
[null,"Nombre del plan o proceso",null,"TALENTO HUMANO"]
[null,"Propósito u objetivo del indicador",null,"Reflejar el número de dias de trabajo perdidos por accidentes de trabajo"]
[null,"Tipo de indicador",null,"Eficiencia",null,null,"Eficacia",null,"Efectividad","X"]
[null,null,null,"Económia",null,null,"Ambiental"]
[null,"Estilo de cálculo",null,"Promedio",null,"X","Último dato"]
[null,null,null,"Suma",null,null,"Suma de componentes"]
[null,"MEDICIÓN DEL INDICADOR",null,null,null,null,null,null,null,null,null,null,null," "]
[null,"Fórmula de cálculo",null,"(Números Dias perdidos+Días cargados/Horas hombre)*240000"]
[]
[null,"Número de variables",null,3]
[null,"Definición variables (variables a medir)"]
[null,"Unidad de medida",null,"Número"]
[null,"Tendencia del indicador",null,"Creciente",null,null,null,"Decreciente","X"]
[null,"Soporte legal",null,"Resolución 1111 de 2017"]
[null,"Planes y programas a los que le hace seguimiento",null,"PESV",null,"PGR",null,"Resolución 315/05"]
[null,null,null,"Programa Aseo","X","Plan Tarifario",null,"Resolución 151/01"]
[null,null,null,"SG-SST"]
[]
[null,"FRECUENCIAS Y RESPONSABLES"]
[null,"Frecuencia de Cálculo y Análisis",null,"Mensual","X","Trimestral",null,"Otro"]
[null,null,null,"Semestral",null,"Anual",null,"Cual"]
[null,"Responsable de la medición y análisis Cargo y Dependencia",null,"Profesional salud ocupacional"]
[]
[null,"Elaboró","Subgerencia de planeación",null,null,null,"Fecha",2020]

{"sheet":"OR012","index":125,"n_rows":33,"n_cols":14,"rows_kept":33,"cut":false,"hidden":false,"merged":[[30,1,31,2],[30,3,31,9],[32,2,32,5],[32,7,32,9],[23,1,26,2],[23,7,23,8],[24,7,24,8],[25,7,25,8],[27,1,27,9],[28,1,29,2],[28,7,28,8],[29,7,29,8],[22,1,22,2],[22,3,22,9],[15,1,15,9],[16,1,17,2],[16,3,17,9],[18,1,18,2],[18,3,18,9],[19,1,19,2],[19,3,19,9],[20,1,20,2],[20,3,20,9],[21,1,21,2],[21,4,21,6],[21,8,21,9],[11,1,12,2],[11,3,11,4],[12,3,12,4],[13,1,14,2],[13,3,13,4],[14,3,14,4],[10,1,10,2],[10,3,10,9],[1,1,6,2],[1,3,3,7],[1,8,3,8],[1,9,3,9],[4,3,6,7],[4,8,6,9],[7,1,7,9],[8,1,8,2],[8,3,8,7],[9,1,9,2],[9,3,9,8]]}
[]
[null,null,null,"SERVICIUDAD ESP",null,null,null,null,"Código SPFO-11","Versión 03"]
[]
[]
[null,null,null,"FICHA TECNICA DEL INDICADOR",null,null,null,null,"PAGINA 01"]
[]
[]
[]
[null,"Nombre del índicador",null,"Ausentismo ",null,null,null,null,"Código: ","OR012"]
[null,"Nombre del plan o proceso",null,"TALENTO HUMANO"]
[null,"Propósito u objetivo del indicador",null,"Mostrar el Número de días de ausencia por incapacidad laboral y común"]
[null,"Tipo de indicador",null,"Eficiencia",null,null,"Eficacia",null,"Efectividad","X"]
[null,null,null,"Económia",null,null,"Ambiental"]
[null,"Estilo de cálculo",null,"Promedio",null,"X","Último dato"]
[null,null,null,"Suma",null,null,"Suma de componentes"]
[null,"MEDICIÓN DEL INDICADOR",null,null,null,null,null,null,null,null,null,null,null," "]
[null,"Fórmula de cálculo",null,"(Número días Ausencias laborales y comunes /Números días de trabajo programados)*100"]
[]
[null,"Número de variables",null,2]
[null,"Definición variables (variables a medir)"]
[null,"Unidad de medida",null,"Número"]
[null,"Tendencia del indicador",null,"Creciente",null,null,null,"Decreciente","X"]
[null,"Soporte legal",null,"Resolución 1111 de 2017"]
[null,"Planes y programas a los que le hace seguimiento",null,"PESV",null,"PGR",null,"Resolución 315/05"]
[null,null,null,"Programa Aseo","X","Plan Tarifario",null,"Resolución 151/01"]
[null,null,null,"SG-SST"]
[]
[null,"FRECUENCIAS Y RESPONSABLES"]
[null,"Frecuencia de Cálculo y Análisis",null,"Mensual","X","Trimestral",null,"Otro"]
[null,null,null,"Semestral",null,"Anual",null,"Cual"]
[null,"Responsable de la medición y análisis Cargo y Dependencia",null,"Profesional salud ocupacional"]
[]
[null,"Elaboró","Subgerencia de planeación",null,null,null,"Fecha",2020]

{"sheet":"OR013","index":126,"n_rows":33,"n_cols":14,"rows_kept":33,"cut":false,"hidden":false,"merged":[[30,1,31,2],[30,3,31,9],[32,2,32,5],[32,7,32,9],[23,1,26,2],[23,7,23,8],[24,7,24,8],[25,7,25,8],[27,1,27,9],[28,1,29,2],[28,7,28,8],[29,7,29,8],[22,1,22,2],[22,3,22,9],[15,1,15,9],[16,1,17,2],[16,3,17,9],[18,1,18,2],[18,3,18,9],[19,1,19,2],[19,3,19,9],[20,1,20,2],[20,3,20,9],[21,1,21,2],[21,4,21,6],[21,8,21,9],[11,1,12,2],[11,3,11,4],[12,3,12,4],[13,1,14,2],[13,3,13,4],[14,3,14,4],[10,1,10,2],[10,3,10,9],[1,1,6,2],[1,3,3,7],[1,8,3,8],[1,9,3,9],[4,3,6,7],[4,8,6,9],[7,1,7,9],[8,1,8,2],[8,3,8,7],[9,1,9,2],[9,3,9,8]]}
[]
[null,null,null,"SERVICIUDAD ESP",null,null,null,null,"Código SPFO-11","Versión 03"]
[]
[]
[null,null,null,"FICHA TECNICA DEL INDICADOR",null,null,null,null,"PAGINA 01"]
[]
[]
[]
[null,"Nombre del índicador",null,"Mortalidad de los accidentes laborales",null,null,null,null,"Código: ","OR013"]
[null,"Nombre del plan o proceso",null,"TALENTO HUMANO"]
[null,"Propósito u objetivo del indicador",null,"Reflejar el número de accidentes de trabajo mortales que se presentaron en el período laboral"]
[null,"Tipo de indicador",null,"Eficiencia",null,null,"Eficacia",null,"Efectividad","X"]
[null,null,null,"Económia",null,null,"Ambiental"]
[null,"Estilo de cálculo",null,"Promedio",null,"X","Último dato"]
[null,null,null,"Suma",null,null,"Suma de componentes"]
[null,"MEDICIÓN DEL INDICADOR",null,null,null,null,null,null,null,null,null,null,null," "]
[null,"Fórmula de cálculo",null,"(Número de accidentes mortales en el período/Total de accidentes en el período)"]
[]
[null,"Número de variables",null,2]
[null,"Definición variables (variables a medir)"]
[null,"Unidad de medida",null,"Número"]
[null,"Tendencia del indicador",null,"Creciente",null,null,null,"Decreciente","X"]
[null,"Soporte legal"]
[null,"Planes y programas a los que le hace seguimiento",null,"PESV",null,"PGR",null,"Resolución 315/05"]
[null,null,null,"Programa Aseo","X","Plan Tarifario",null,"Resolución 151/01"]
[null,null,null,"SG-SST"]
[]
[null,"FRECUENCIAS Y RESPONSABLES"]
[null,"Frecuencia de Cálculo y Análisis",null,"Mensual","X","Trimestral",null,"Otro"]
[null,null,null,"Semestral",null,"Anual",null,"Cual"]
[null,"Responsable de la medición y análisis Cargo y Dependencia",null,"Profesional salud ocupacional"]
[]
[null,"Elaboró","Subgerencia de planeación",null,null,null,"Fecha",2020]

{"sheet":"OR014","index":127,"n_rows":33,"n_cols":14,"rows_kept":33,"cut":false,"hidden":false,"merged":[[30,1,31,2],[30,3,31,9],[32,2,32,5],[32,7,32,9],[23,1,26,2],[23,7,23,8],[24,7,24,8],[25,7,25,8],[27,1,27,9],[28,1,29,2],[28,7,28,8],[29,7,29,8],[22,1,22,2],[22,3,22,9],[15,1,15,9],[16,1,17,2],[16,3,17,9],[18,1,18,2],[18,3,18,9],[19,1,19,2],[19,3,19,9],[20,1,20,2],[20,3,20,9],[21,1,21,2],[21,4,21,6],[21,8,21,9],[11,1,12,2],[11,3,11,4],[12,3,12,4],[13,1,14,2],[13,3,13,4],[14,3,14,4],[10,1,10,2],[10,3,10,9],[1,1,6,2],[1,3,3,7],[1,8,3,8],[1,9,3,9],[4,3,6,7],[4,8,6,9],[7,1,7,9],[8,1,8,2],[8,3,8,7],[9,1,9,2],[9,3,9,8]]}
[]
[null,null,null,"SERVICIUDAD ESP",null,null,null,null,"Código SPFO-11","Versión 03"]
[]
[]
[null,null,null,"FICHA TECNICA DEL INDICADOR",null,null,null,null,"PAGINA 01"]
[]
[]
[]
[null,"Nombre del índicador",null,"Prevalencia de la enfermedad laboral",null,null,null,null,"Código: ","OR014"]
[null,"Nombre del plan o proceso",null,"TALENTO HUMANO"]
[null,"Propósito u objetivo del indicador",null,"Calcular el número de casos nuevos y antiguos de enfermedad laboral en el período profesional"]
[null,"Tipo de indicador",null,"Eficiencia",null,null,"Eficacia",null,"Efectividad","X"]
[null,null,null,"Económia",null,null,"Ambiental"]
[null,"Estilo de cálculo",null,"Promedio",null,"X","Último dato"]
[null,null,null,"Suma",null,null,"Suma de componentes"]
[null,"MEDICIÓN DEL INDICADOR",null,null,null,null,null,null,null,null,null,null,null," "]
[null,"Fórmula de cálculo",null,"(Número de casos nuevos y antiguos de enfermedad laboral en el período/ Promedio trabajadores en el período)*100"]
[]
[null,"Número de variables",null,2]
[null,"Definición variables (variables a medir)"]
[null,"Unidad de medida",null,"Enfermedades laborales/Trabajadores"]
[null,"Tendencia del indicador",null,"Creciente",null,null,null,"Decreciente","X"]
[null,"Soporte legal",null,"Resolución 1111 de 2017"]
[null,"Planes y programas a los que le hace seguimiento",null,"PESV",null,"PGR",null,"Resolución 315/05"]
[null,null,null,"Programa Aseo","X","Plan Tarifario",null,"Resolución 151/01"]
[null,null,null,"SG-SST"]
[]
[null,"FRECUENCIAS Y RESPONSABLES"]
[null,"Frecuencia de Cálculo y Análisis",null,"Mensual","X","Trimestral",null,"Otro"]
[null,null,null,"Semestral",null,"Anual",null,"Cual"]
[null,"Responsable de la medición y análisis Cargo y Dependencia",null,"Profesional salud ocupacional"]
[]
[null,"Elaboró","Subgerencia de planeación",null,null,null,"Fecha",2020]

{"sheet":"OR015","index":128,"n_rows":33,"n_cols":14,"rows_kept":33,"cut":false,"hidden":false,"merged":[[30,1,31,2],[30,3,31,9],[32,2,32,5],[32,7,32,9],[23,1,26,2],[23,7,23,8],[24,7,24,8],[25,7,25,8],[27,1,27,9],[28,1,29,2],[28,7,28,8],[29,7,29,8],[22,1,22,2],[22,3,22,9],[15,1,15,9],[16,1,17,2],[16,3,17,9],[18,1,18,2],[18,3,18,9],[19,1,19,2],[19,3,19,9],[20,1,20,2],[20,3,20,9],[21,1,21,2],[21,4,21,6],[21,8,21,9],[11,1,12,2],[11,3,11,4],[12,3,12,4],[13,1,14,2],[13,3,13,4],[14,3,14,4],[10,1,10,2],[10,3,10,9],[1,1,6,2],[1,3,3,7],[1,8,3,8],[1,9,3,9],[4,3,6,7],[4,8,6,9],[7,1,7,9],[8,1,8,2],[8,3,8,7],[9,1,9,2],[9,3,9,8]]}
[]
[null,null,null,"SERVICIUDAD ESP",null,null,null,null,"Código SPFO-11","Versión 03"]
[]
[]
[null,null,null,"FICHA TECNICA DEL INDICADOR",null,null,null,null,"PAGINA 01"]
[]
[]
[]
[null,"Nombre del índicador",null,"Incidencia de la enfermedad laboral",null,null,null,null,"Código: ","OR015"]
[null,"Nombre del plan o proceso",null,"TALENTO HUMANO"]
[null,"Propósito u objetivo del indicador",null,"Estimar el número de casos nuevos de enfermedad que se presentaron en el período laboral"]
[null,"Tipo de indicador",null,"Eficiencia",null,null,"Eficacia",null,"Efectividad","X"]
[null,null,null,"Económia",null,null,"Ambiental"]
[null,"Estilo de cálculo",null,"Promedio",null,"X","Último dato"]
[null,null,null,"Suma",null,null,"Suma de componentes"]
[null,"MEDICIÓN DEL INDICADOR",null,null,null,null,null,null,null,null,null,null,null," "]
[null,"Fórmula de cálculo",null,"(Número de casos nuevos de enfermedad laboral/ Promedio trabajadores en el período)*100"]
[]
[null,"Número de variables",null,2]
[null,"Definición variables (variables a medir)"]
[null,"Unidad de medida",null,"Enfermedades laborales/Trabajadores"]
[null,"Tendencia del indicador",null,"Creciente",null,null,null,"Decreciente","X"]
[null,"Soporte legal"]
[null,"Planes y programas a los que le hace seguimiento",null,"PESV",null,"PGR",null,"Resolución 315/05"]
[null,null,null,"Programa Aseo","X","Plan Tarifario",null,"Resolución 151/01"]
[null,null,null,"SG-SST"]
[]
[null,"FRECUENCIAS Y RESPONSABLES"]
[null,"Frecuencia de Cálculo y Análisis",null,"Mensual","X","Trimestral",null,"Otro"]
[null,null,null,"Semestral",null,"Anual",null,"Cual"]
[null,"Responsable de la medición y análisis Cargo y Dependencia",null,"Profesional salud ocupacional"]
[]
[null,"Elaboró","Subgerencia de planeación",null,null,null,"Fecha",2020]

{"sheet":"OR016","index":129,"n_rows":33,"n_cols":14,"rows_kept":33,"cut":false,"hidden":false,"merged":[[30,1,31,2],[30,3,31,9],[32,2,32,5],[32,7,32,9],[23,1,26,2],[23,7,23,8],[24,7,24,8],[25,7,25,8],[27,1,27,9],[28,1,29,2],[28,7,28,8],[29,7,29,8],[22,1,22,2],[22,3,22,9],[15,1,15,9],[16,1,17,2],[16,3,17,9],[18,1,18,2],[18,3,18,9],[19,1,19,2],[19,3,19,9],[20,1,20,2],[20,3,20,9],[21,1,21,2],[21,4,21,6],[21,8,21,9],[11,1,12,2],[11,3,11,4],[12,3,12,4],[13,1,14,2],[13,3,13,4],[14,3,14,4],[10,1,10,2],[10,3,10,9],[1,1,6,2],[1,3,3,7],[1,8,3,8],[1,9,3,9],[4,3,6,7],[4,8,6,9],[7,1,7,9],[8,1,8,2],[8,3,8,7],[9,1,9,2],[9,3,9,8]]}
[]
[null,null,null,"SERVICIUDAD ESP",null,null,null,null,"Código SPFO-11","Versión 03"]
[]
[]
[null,null,null,"FICHA TECNICA DEL INDICADOR",null,null,null,null,"PAGINA 01"]
[]
[]
[]
[null,"Nombre del índicador",null,"Personal capacitado en seguridad vial",null,null,null,null,"Código: ","OR016"]
[null,"Nombre del plan o proceso",null,"TALENTO HUMANO"]
[null,"Propósito u objetivo del indicador",null,"Medir la eficiencia del plan de capacitaciones de seguridad vial de los funcionarios de la empresa"]
[null,"Tipo de indicador",null,"Eficiencia",null,null,"Eficacia","X","Efectividad"]
[null,null,null,"Económia",null,null,"Ambiental"]
[null,"Estilo de cálculo",null,"Promedio",null,null,"Último dato","X"]
[null,null,null,"Suma",null,null,"Suma de componentes"]
[null,"MEDICIÓN DEL INDICADOR",null,null,null,null,null,null,null,null,null,null,null," "]
[null,"Fórmula de cálculo",null,"Número de personas capacitadas en seguridad vial/ total de personas a formar en seguridad vial"]
[]
[null,"Número de variables",null,2]
[null,"Definición variables (variables a medir)"]
[null,"Unidad de medida",null,"%"]
[null,"Tendencia del indicador",null,"Creciente","X",null,null,"Decreciente"]
[null,"Soporte legal",null,"Resolucion 1565/2014"]
[null,"Planes y programas a los que le hace seguimiento",null,"PESV",null,"PGR",null,"Resolución 315/05"]
[null,null,null,"Programa Aseo",null,"Plan Tarifario","X","Resolución 151/01"]
[null,null,null,"SG-SST"]
[]
[null,"FRECUENCIAS Y RESPONSABLES"]
[null,"Frecuencia de Cálculo y Análisis",null,"Mensual",null,"Trimestral",null,"Otro"]
[null,null,null,"Semestral",null,"Anual","X","Cual"]
[null,"Responsable de la medición y análisis Cargo y Dependencia",null,"Profesional talento humano"]
[]
[null,"Elaboró","Subgerencia de planeación",null,null,null,"Fecha",2020]

{"sheet":"OR017","index":130,"n_rows":33,"n_cols":14,"rows_kept":33,"cut":false,"hidden":false,"merged":[[30,1,31,2],[30,3,31,9],[32,2,32,5],[32,7,32,9],[23,1,26,2],[23,7,23,8],[24,7,24,8],[25,7,25,8],[27,1,27,9],[28,1,29,2],[28,7,28,8],[29,7,29,8],[22,1,22,2],[22,3,22,9],[15,1,15,9],[16,1,17,2],[16,3,17,9],[18,1,18,2],[18,3,18,9],[19,1,19,2],[19,3,19,9],[20,1,20,2],[20,3,20,9],[21,1,21,2],[21,4,21,6],[21,8,21,9],[11,1,12,2],[11,3,11,4],[12,3,12,4],[13,1,14,2],[13,3,13,4],[14,3,14,4],[10,1,10,2],[10,3,10,9],[1,1,6,2],[1,3,3,7],[1,8,3,8],[1,9,3,9],[4,3,6,7],[4,8,6,9],[7,1,7,9],[8,1,8,2],[8,3,8,7],[9,1,9,2],[9,3,9,8]]}
[]
[null,null,null,"SERVICIUDAD ESP",null,null,null,null,"Código SPFO-11","Versión 03"]
[]
[]
[null,null,null,"FICHA TECNICA DEL INDICADOR",null,null,null,null,"PAGINA 01"]
[]
[]
[]
[null,"Nombre del índicador",null,"Evaluaciones a conductores",null,null,null,null,"Código: ","OR017"]
[null,"Nombre del plan o proceso",null,"TALENTO HUMANO"]
[null,"Propósito u objetivo del indicador",null,"Medir las competencias de los conductores"]
[null,"Tipo de indicador",null,"Eficiencia",null,null,"Eficacia","X","Efectividad"]
[null,null,null,"Económia",null,null,"Ambiental"]
[null,"Estilo de cálculo",null,"Promedio",null,null,"Último dato","X"]
[null,null,null,"Suma",null,null,"Suma de componentes"]
[null,"MEDICIÓN DEL INDICADOR",null,null,null,null,null,null,null,null,null,null,null," "]
[null,"Fórmula de cálculo",null,"Número de evaluaciones realizadas / Número de evaluaciones programadas"]
[]
[null,"Número de variables",null,2]
[null,"Definición variables (variables a medir)"]
[null,"Unidad de medida",null,"%"]
[null,"Tendencia del indicador",null,"Creciente","X",null,null,"Decreciente"]
[null,"Soporte legal",null,"Resolucion 1565/2014"]
[null,"Planes y programas a los que le hace seguimiento",null,"PESV",null,"PGR",null,"Resolución 315/05"]
[null,null,null,"Programa Aseo",null,"Plan Tarifario","X","Resolución 151/01"]
[null,null,null,"SG-SST"]
[]
[null,"FRECUENCIAS Y RESPONSABLES"]
[null,"Frecuencia de Cálculo y Análisis",null,"Mensual",null,"Trimestral",null,"Otro"]
[null,null,null,"Semestral",null,"Anual","X","Cual"]
[null,"Responsable de la medición y análisis Cargo y Dependencia",null,"Profesional talento humano"]
[]
[null,"Elaboró","Subgerencia de planeación",null,null,null,"Fecha",2020]

{"sheet":"OR018","index":131,"n_rows":33,"n_cols":14,"rows_kept":33,"cut":false,"hidden":false,"merged":[[30,1,31,2],[30,3,31,9],[32,2,32,5],[32,7,32,9],[23,1,26,2],[23,7,23,8],[24,7,24,8],[25,7,25,8],[27,1,27,9],[28,1,29,2],[28,7,28,8],[29,7,29,8],[22,1,22,2],[22,3,22,9],[15,1,15,9],[16,1,17,2],[16,3,17,9],[18,1,18,2],[18,3,18,9],[19,1,19,2],[19,3,19,9],[20,1,20,2],[20,3,20,9],[21,1,21,2],[21,4,21,6],[21,8,21,9],[11,1,12,2],[11,3,11,4],[12,3,12,4],[13,1,14,2],[13,3,13,4],[14,3,14,4],[10,1,10,2],[10,3,10,9],[1,1,6,2],[1,3,3,7],[1,8,3,8],[1,9,3,9],[4,3,6,7],[4,8,6,9],[7,1,7,9],[8,1,8,2],[8,3,8,7],[9,1,9,2],[9,3,9,8]]}
[]
[null,null,null,"SERVICIUDAD ESP",null,null,null,null,"Código SPFO-11","Versión 03"]
[]
[]
[null,null,null,"FICHA TECNICA DEL INDICADOR",null,null,null,null,"PAGINA 01"]
[]
[]
[]
[null,"Nombre del índicador",null,"Valoración médica de condiciones físicas",null,null,null,null,"Código: ","OR018"]
[null,"Nombre del plan o proceso",null,"TALENTO HUMANO"]
[null,"Propósito u objetivo del indicador",null,"Determinar el estado de salud de los conductores"]
[null,"Tipo de indicador",null,"Eficiencia",null,null,"Eficacia","X","Efectividad"]
[null,null,null,"Económia",null,null,"Ambiental"]
[null,"Estilo de cálculo",null,"Promedio",null,null,"Último dato","X"]
[null,null,null,"Suma",null,null,"Suma de componentes"]
[null,"MEDICIÓN DEL INDICADOR",null,null,null,null,null,null,null,null,null,null,null," "]
[null,"Fórmula de cálculo",null,"Número de exámenes realizados/ total conductores"]
[]
[null,"Número de variables",null,2]
[null,"Definición variables (variables a medir)"]
[null,"Unidad de medida",null,"%"]
[null,"Tendencia del indicador",null,"Creciente","X",null,null,"Decreciente"]
[null,"Soporte legal",null,"Resolucion 1565/2014"]
[null,"Planes y programas a los que le hace seguimiento",null,"PESV",null,"PGR",null,"Resolución 315/05"]
[null,null,null,"Programa Aseo",null,"Plan Tarifario","X","Resolución 151/01"]
[null,null,null,"SG-SST"]
[]
[null,"FRECUENCIAS Y RESPONSABLES"]
[null,"Frecuencia de Cálculo y Análisis",null,"Mensual",null,"Trimestral",null,"Otro"]
[null,null,null,"Semestral",null,"Anual","X","Cual"]
[null,"Responsable de la medición y análisis Cargo y Dependencia",null,"Profesional talento humano"]
[]
[null,"Elaboró","Subgerencia de planeación",null,null,null,"Fecha",2020]

{"sheet":"OR019","index":132,"n_rows":33,"n_cols":14,"rows_kept":33,"cut":false,"hidden":false,"merged":[[30,1,31,2],[30,3,31,9],[32,2,32,5],[32,7,32,9],[23,1,26,2],[23,7,23,8],[24,7,24,8],[25,7,25,8],[27,1,27,9],[28,1,29,2],[28,7,28,8],[29,7,29,8],[22,1,22,2],[22,3,22,9],[15,1,15,9],[16,1,17,2],[16,3,17,9],[18,1,18,2],[18,3,18,9],[19,1,19,2],[19,3,19,9],[20,1,20,2],[20,3,20,9],[21,1,21,2],[21,4,21,6],[21,8,21,9],[11,1,12,2],[11,3,11,4],[12,3,12,4],[13,1,14,2],[13,3,13,4],[14,3,14,4],[10,1,10,2],[10,3,10,9],[1,1,6,2],[1,3,3,7],[1,8,3,8],[1,9,3,9],[4,3,6,7],[4,8,6,9],[7,1,7,9],[8,1,8,2],[8,3,8,7],[9,1,9,2],[9,3,9,8]]}
[]
[null,null,null,"SERVICIUDAD ESP",null,null,null,null,"Código SPFO-11","Versión 03"]
[]
[]
[null,null,null,"FICHA TECNICA DEL INDICADOR",null,null,null,null,"PAGINA 01"]
[]
[]
[]
[null,"Nombre del índicador",null,"Eficiencia del PIC ",null,null,null,null,"Código: ","OR019"]
[null,"Nombre del plan o proceso",null,"TALENTO HUMANO"]
[null,"Propósito u objetivo del indicador",null,"Medir la eficiencia del plan de capacitaciones de los funcionarios de la empresa"]
[null,"Tipo de indicador",null,"Eficiencia",null,null,"Eficacia","X","Efectividad"]
[null,null,null,"Económia",null,null,"Ambiental"]
[null,"Estilo de cálculo",null,"Promedio",null,null,"Último dato","X"]
[null,null,null,"Suma",null,null,"Suma de componentes"]
[null,"MEDICIÓN DEL INDICADOR",null,null,null,null,null,null,null,null,null,null,null," "]
[null,"Fórmula de cálculo",null,"No. De capacitaciones ejecutadas / No. Capacitaciones programadas "]
[]
[null,"Número de variables",null,2]
[null,"Definición variables (variables a medir)"]
[null,"Unidad de medida",null,"%"]
[null,"Tendencia del indicador",null,"Creciente","X",null,null,"Decreciente"]
[null,"Soporte legal"]
[null,"Planes y programas a los que le hace seguimiento",null,"PESV",null,"PGR",null,"Resolución 315/05"]
[null,null,null,"Programa Aseo",null,"Plan Tarifario",null,"Resolución 151/01"]
[null,null,null,"SG-SST"]
[]
[null,"FRECUENCIAS Y RESPONSABLES"]
[null,"Frecuencia de Cálculo y Análisis",null,"Mensual",null,"Trimestral",null,"Otro"]
[null,null,null,"Semestral","X","Anual",null,"Cual"]
[null,"Responsable de la medición y análisis Cargo y Dependencia",null,"Profesional talento humano"]
[]
[null,"Elaboró","Subgerencia de planeación",null,null,null,"Fecha",2020]

{"sheet":"OR020","index":133,"n_rows":33,"n_cols":14,"rows_kept":33,"cut":false,"hidden":false,"merged":[[30,1,31,2],[30,3,31,9],[32,2,32,5],[32,7,32,9],[23,1,26,2],[23,7,23,8],[24,7,24,8],[25,7,25,8],[27,1,27,9],[28,1,29,2],[28,7,28,8],[29,7,29,8],[22,1,22,2],[22,3,22,9],[15,1,15,9],[16,1,17,2],[16,3,17,9],[18,1,18,2],[18,3,18,9],[19,1,19,2],[19,3,19,9],[20,1,20,2],[20,3,20,9],[21,1,21,2],[21,4,21,6],[21,8,21,9],[11,1,12,2],[11,3,11,4],[12,3,12,4],[13,1,14,2],[13,3,13,4],[14,3,14,4],[10,1,10,2],[10,3,10,9],[1,1,6,2],[1,3,3,7],[1,8,3,8],[1,9,3,9],[4,3,6,7],[4,8,6,9],[7,1,7,9],[8,1,8,2],[8,3,8,7],[9,1,9,2],[9,3,9,8]]}
[]
[null,null,null,"SERVICIUDAD ESP",null,null,null,null,"Código SPFO-11","Versión 03"]
[]
[]
[null,null,null,"FICHA TECNICA DEL INDICADOR",null,null,null,null,"PAGINA 01"]
[]
[]
[]
[null,"Nombre del índicador",null,"Cumplimento del PGR — CPGR",null,null,null,null,"Código: ","OR020"]
[null,"Nombre del plan o proceso",null,"PLANEACIÓN ESTRATÉGICA"]
[null,"Propósito u objetivo del indicador",null,"Medir el cumplimiento de las acciones de mejora establecidas dentro del Plan de Gestión y Resultados del prestador — PGR, destinadas a un progreso continuo en la prestación del servicio."]
[null,"Tipo de indicador",null,"Eficiencia",null,null,"Eficacia","X","Efectividad"]
[null,null,null,"Económia",null,null,"Ambiental"]
[null,"Estilo de cálculo",null,"Promedio",null,null,"Último dato","X"]
[null,null,null,"Suma",null,null,"Suma de componentes"]
[null,"MEDICIÓN DEL INDICADOR",null,null,null,null,null,null,null,null,null,null,null," "]
[null,"Fórmula de cálculo",null," [INTAB1 / N1] "]
[]
[null,"Número de variables",null,2]
[null,"Definición variables (variables a medir)"]
[null,"Unidad de medida",null,"Número"]
[null,"Tendencia del indicador",null,"Creciente",null,null,null,"Decreciente"]
[null,"Soporte legal",null,"Resolución CRA 906/2019"]
[null,"Planes y programas a los que le hace seguimiento",null,"PESV",null,"PGR","X","Resolución 315/05"]
[null,null,null,"Programa Aseo",null,"Plan Tarifario",null,"Resolución 151/01"]
[null,null,null,"SG-SST"]
[]
[null,"FRECUENCIAS Y RESPONSABLES"]
[null,"Frecuencia de Cálculo y Análisis",null,"Mensual",null,"Trimestral",null,"Otro"]
[null,null,null,"Semestral",null,"Anual","X","Cual"]
[null,"Responsable de la medición y análisis Cargo y Dependencia",null,"Subgerente de Planeación "]
[]
[null,"Elaboró","Subgerencia de planeación",null,null,null,"Fecha",2020]

{"sheet":"IV001","index":134,"n_rows":33,"n_cols":14,"rows_kept":33,"cut":false,"hidden":false,"merged":[[30,1,31,2],[30,3,31,9],[32,2,32,5],[32,7,32,9],[23,1,26,2],[23,7,23,8],[24,7,24,8],[25,7,25,8],[27,1,27,9],[28,1,29,2],[28,7,28,8],[29,7,29,8],[22,1,22,2],[22,3,22,9],[15,1,15,9],[16,1,17,2],[16,3,17,9],[18,1,18,2],[18,3,18,9],[19,1,19,2],[19,3,19,9],[20,1,20,2],[20,3,20,9],[21,1,21,2],[21,4,21,6],[21,8,21,9],[11,1,12,2],[11,3,11,4],[12,3,12,4],[13,1,14,2],[13,3,13,4],[14,3,14,4],[10,1,10,2],[10,3,10,9],[1,1,6,2],[1,3,3,7],[1,8,3,8],[1,9,3,9],[4,3,6,7],[4,8,6,9],[7,1,7,9],[8,1,8,2],[8,3,8,7],[9,1,9,2],[9,3,9,8]]}
[]
[null,null,null,"SERVICIUDAD ESP",null,null,null,null,"Código SPFO-11","Versión 03"]
[]
[]
[null,null,null,"FICHA TECNICA DEL INDICADOR",null,null,null,null,"PAGINA 01"]
[]
[]
[]
[null,"Nombre del índicador",null,"Inversión en actualización tecnológica",null,null,null,null,"Código: ","IV001"]
[null,"Nombre del plan o proceso",null,"PLANEACIÓN ESTRATÉGICA"]
[null,"Propósito u objetivo del indicador",null,"Mejorar los equipos tecnológicos e implementar software para el mejoramiento de procesos"]
[null,"Tipo de indicador",null,"Eficiencia",null,null,"Eficacia","X","Efectividad"]
[null,null,null,"Económia",null,null,"Ambiental"]
[null,"Estilo de cálculo",null,"Promedio",null,null,"Último dato","X"]
[null,null,null,"Suma",null,null,"Suma de componentes"]
[null,"MEDICIÓN DEL INDICADOR",null,null,null,null,null,null,null,null,null,null,null," "]
[null,"Fórmula de cálculo",null,"Inversión ejecutada en la actualización tecnológica/presupuesto total de inversión en actualización tecnológica"]
[]
[null,"Número de variables",null,2]
[null,"Definición variables (variables a medir)"]
[null,"Unidad de medida",null,"%"]
[null,"Tendencia del indicador",null,"Creciente","X",null,null,"Decreciente"]
[null,"Soporte legal"]
[null,"Planes y programas a los que le hace seguimiento",null,"PESV",null,"PGR",null,"Resolución 315/05"]
[null,null,null,"Programa Aseo",null,"Plan Tarifario",null,"Resolución 151/01"]
[null,null,null,"SG-SST"]
[]
[null,"FRECUENCIAS Y RESPONSABLES"]
[null,"Frecuencia de Cálculo y Análisis",null,"Mensual",null,"Trimestral",null,"Otro"]
[null,null,null,"Semestral",null,"Anual","X","Cual"]
[null,"Responsable de la medición y análisis Cargo y Dependencia",null,"Profesional presupuesto"]
[]
[null,"Elaboró","Subgerencia de planeación",null,null,null,"Fecha",2020]

{"sheet":"IV002","index":135,"n_rows":33,"n_cols":14,"rows_kept":33,"cut":false,"hidden":false,"merged":[[30,1,31,2],[30,3,31,9],[32,2,32,5],[32,7,32,9],[23,1,26,2],[23,7,23,8],[24,7,24,8],[25,7,25,8],[27,1,27,9],[28,1,29,2],[28,7,28,8],[29,7,29,8],[22,1,22,2],[22,3,22,9],[15,1,15,9],[16,1,17,2],[16,3,17,9],[18,1,18,2],[18,3,18,9],[19,1,19,2],[19,3,19,9],[20,1,20,2],[20,3,20,9],[21,1,21,2],[21,4,21,6],[21,8,21,9],[11,1,12,2],[11,3,11,4],[12,3,12,4],[13,1,14,2],[13,3,13,4],[14,3,14,4],[10,1,10,2],[10,3,10,9],[1,1,6,2],[1,3,3,7],[1,8,3,8],[1,9,3,9],[4,3,6,7],[4,8,6,9],[7,1,7,9],[8,1,8,2],[8,3,8,7],[9,1,9,2],[9,3,9,8]]}
[]
[null,null,null,"SERVICIUDAD ESP",null,null,null,null,"Código SPFO-11","Versión 03"]
[]
[]
[null,null,null,"FICHA TECNICA DEL INDICADOR",null,null,null,null,"PAGINA 01"]
[]
[]
[]
[null,"Nombre del índicador",null,"Actualización de Hardware",null,null,null,null,"Código: ","IV002"]
[null,"Nombre del plan o proceso",null,"PLANEACIÓN ESTRATÉGICA"]
[null,"Propósito u objetivo del indicador",null,"Realizar la reposición de los equipos de cómputo obsoletos."]
[null,"Tipo de indicador",null,"Eficiencia",null,null,"Eficacia",null,"Efectividad"]
[null,null,null,"Económia",null,null,"Ambiental"]
[null,"Estilo de cálculo",null,"Promedio",null,null,"Último dato","X"]
[null,null,null,"Suma",null,null,"Suma de componentes"]
[null,"MEDICIÓN DEL INDICADOR",null,null,null,null,null,null,null,null,null,null,null," "]
[null,"Fórmula de cálculo",null,"Equipos con menos de 5 años de antigüedad/Total Equipos"]
[]
[null,"Número de variables",null,2]
[null,"Definición variables (variables a medir)"]
[null,"Unidad de medida",null,"%"]
[null,"Tendencia del indicador",null,"Creciente","X",null,null,"Decreciente"]
[null,"Soporte legal"]
[null,"Planes y programas a los que le hace seguimiento",null,"PESV",null,"PGR",null,"Resolución 315/05"]
[null,null,null,"Programa Aseo",null,"Plan Tarifario",null,"Resolución 151/01"]
[null,null,null,"SG-SST"]
[]
[null,"FRECUENCIAS Y RESPONSABLES"]
[null,"Frecuencia de Cálculo y Análisis",null,"Mensual",null,"Trimestral",null,"Otro"]
[null,null,null,"Semestral",null,"Anual","X","Cual"]
[null,"Responsable de la medición y análisis Cargo y Dependencia",null,"Técnico Sistemas"]
[]
[null,"Elaboró","Subgerencia de planeación",null,null,null,"Fecha",2020]

{"sheet":"IV003","index":136,"n_rows":33,"n_cols":14,"rows_kept":33,"cut":false,"hidden":false,"merged":[[30,1,31,2],[30,3,31,9],[32,2,32,5],[32,7,32,9],[23,1,26,2],[23,7,23,8],[24,7,24,8],[25,7,25,8],[27,1,27,9],[28,1,29,2],[28,7,28,8],[29,7,29,8],[22,1,22,2],[22,3,22,9],[15,1,15,9],[16,1,17,2],[16,3,17,9],[18,1,18,2],[18,3,18,9],[19,1,19,2],[19,3,19,9],[20,1,20,2],[20,3,20,9],[21,1,21,2],[21,4,21,6],[21,8,21,9],[11,1,12,2],[11,3,11,4],[12,3,12,4],[13,1,14,2],[13,3,13,4],[14,3,14,4],[10,1,10,2],[10,3,10,9],[1,1,6,2],[1,3,3,7],[1,8,3,8],[1,9,3,9],[4,3,6,7],[4,8,6,9],[7,1,7,9],[8,1,8,2],[8,3,8,7],[9,1,9,2],[9,3,9,8]]}
[]
[null,null,null,"SERVICIUDAD ESP",null,null,null,null,"Código SPFO-11","Versión 03"]
[]
[]
[null,null,null,"FICHA TECNICA DEL INDICADOR",null,null,null,null,"PAGINA 01"]
[]
[]
[]
[null,"Nombre del índicador",null,"Ingresos por nuevos negocios",null,null,null,null,"Código: ","IV003"]
[null,"Nombre del plan o proceso",null,"PLANEACIÓN ESTRATÉGICA"]
[null,"Propósito u objetivo del indicador",null,"Diversificar los ingresos de la empresa a través de nuevas unidades de negocio"]
[null,"Tipo de indicador",null,"Eficiencia",null,null,"Eficacia",null,"Efectividad"]
[null,null,null,"Económia",null,"X","Ambiental"]
[null,"Estilo de cálculo",null,"Promedio",null,null,"Último dato","X"]
[null,null,null,"Suma",null,null,"Suma de componentes"]
[null,"MEDICIÓN DEL INDICADOR",null,null,null,null,null,null,null,null,null,null,null," "]
[null,"Fórmula de cálculo",null,"Valor ingresos por nuevos negocios/Valor total ingresos para el año 2017"]
[]
[null,"Número de variables",null,2]
[null,"Definición variables (variables a medir)"]
[null,"Unidad de medida",null,"%"]
[null,"Tendencia del indicador",null,"Creciente","X",null,null,"Decreciente"]
[null,"Soporte legal"]
[null,"Planes y programas a los que le hace seguimiento",null,"PESV",null,"PGR",null,"Resolución 315/05"]
[null,null,null,"Programa Aseo",null,"Plan Tarifario",null,"Resolución 151/01"]
[null,null,null,"SG-SST"]
[]
[null,"FRECUENCIAS Y RESPONSABLES"]
[null,"Frecuencia de Cálculo y Análisis",null,"Mensual",null,"Trimestral",null,"Otro"]
[null,null,null,"Semestral",null,"Anual","X","Cual"]
[null,"Responsable de la medición y análisis Cargo y Dependencia",null,"Subgerente de planeación"]
[]
[null,"Elaboró","Subgerencia de planeación",null,null,null,"Fecha",2020]

{"sheet":"IF001_Analisis","index":137,"n_rows":32,"n_cols":10,"rows_kept":32,"cut":false,"hidden":false,"merged":[[15,1,15,2],[15,3,15,9],[16,2,16,5],[16,7,16,9],[12,1,12,2],[12,3,12,9],[13,1,13,2],[13,3,13,9],[14,1,14,2],[14,3,14,9],[18,1,18,6],[10,1,10,2],[10,3,10,9],[1,1,6,2],[1,3,3,7],[1,8,3,8],[1,9,3,9],[4,3,6,7],[4,8,6,9],[7,1,7,9],[8,1,8,2],[8,3,8,7],[9,1,9,2],[9,3,9,8],[11,1,11,2],[11,3,11,9]]}
[]
[null,null,null,"SERVICIUDAD ESP",null,null,null,null,"Código SPFO-21","Versión 01"]
[]
[]
[null,null,null,"FICHA DE ANÁLISIS DEL INDICADOR",null,null,null,null,"PAGINA 01"]
[]
[]
[]
[null,"Nombre del índicador",null,"Ejecución de las inversiones Acueducto",null,null,null,null,"Código: ","IF001"]
[null,"Estilo de cálculo",null,"Último dato"]
[null,"Fórmula de cálculo",null,"Inversión realizada plan de inveriónes AC/Inversión presupuestada plan de inversiones AC"]
[null,"Número de variables",null,2]
[null,"Variables",null,"Inversión Realizada:  Valor en pesos corrientes de los desembolsos realizados por la entidad durante un período de análisis, con cargo a recursos generados por la propia empresa y a otras fuentes de financiación, para la realización del plan de inversiones.\nInversión Presupuestada: Valor  en pesos corrientes de la inversión prevista a realizar por la entidad, durante ese mismo  período, según el  plan de inversiones."]
[null,"Tendencia del indicador",null,"Creciente"]
[null,"Frecuencia de Cálculo y Análisis",null,"Mensual"]
[null,"Meta",null,{"$f":"Indicadores!S5","v":1}]
[null,"Elaboró","Sugerencia de planeación",null,null,null,"Fecha",2020]
[]
[null,"Año Actual 2020"]
[null,"Mes","Inversión\n realizada","Inversión presupuestada","Indicador","Acumulado","Cumplimiento"]
[null,"Enero",0,3903045452,{"$f":"C21/D21","v":0},{"$f":"E21","v":0},{"$f":"F21/D16","v":0}]
[null,"Febrero",0,3903045452,{"$f":"C22/D22","v":0},0,{"$f":"F22/D16","v":0}]
[null,"Marzo",0,3903045452,0,0,{"$f":"F23/D16","v":0}]
[null,"Abril",0,3903045452,0,0,{"$f":"F24/D16","v":0}]
[null,"Mayo",0,3903045452,0,0,{"$f":"F25/D16","v":0}]
[null,"Junio",0,3903045452,0,0,{"$f":"F26/D16","v":0}]
[null,"Julio",1301559287,3903045452,0.33347274660433546,0.33347274660433546,{"$f":"F27/D16","v":0.33347274660433546}]
[null,"Agosto",1555607202,3903045452,0.39856241007976867,0.39856241007976867,{"$f":"F28/D16","v":0.39856241007976867}]
[null,"Septiembre",1757758628,5199045452,0.3380925679970378,0.3380925679970378,{"$f":"F29/D16","v":0.3380925679970378}]
[null,"Octubre",1757758628,5199045452,0.3380925679970378,0.3380925679970378,{"$f":"F30/D16","v":0.3380925679970378}]
[null,"Noviembre",1814476881,5199045452,0.34900192694064563,0.34900192694064563,{"$f":"F31/D16","v":0.34900192694064563}]
[null,"Diciembre",2986138717,5199045452,0.57436287960346144,0.57436287960346144,{"$f":"F32/D16","v":0.57436287960346144}]

{"sheet":"IF002_Analisis","index":138,"n_rows":32,"n_cols":10,"rows_kept":32,"cut":false,"hidden":false,"merged":[[15,1,15,2],[15,3,15,9],[16,2,16,5],[16,7,16,9],[12,1,12,2],[12,3,12,9],[13,1,13,2],[13,3,13,9],[14,1,14,2],[14,3,14,9],[18,1,18,5],[10,1,10,2],[10,3,10,9],[1,1,6,2],[1,3,3,7],[1,8,3,8],[1,9,3,9],[4,3,6,7],[4,8,6,9],[7,1,7,9],[8,1,8,2],[8,3,8,7],[9,1,9,2],[9,3,9,8],[11,1,11,2],[11,3,11,9]]}
[]
[null,null,null,"SERVICIUDAD ESP",null,null,null,null,"Código SPFO-21","Versión 01"]
[]
[]
[null,null,null,"<00",null,null,null,null,"PAGINA 01"]
[]
[]
[]
[null,"Nombre del índicador",null,"IRCA",null,null,null,null,"Código: ","IF002"]
[null,"Estilo de cálculo",null,"Promedio"]
[null,"Fórmula de cálculo",null,"IRCA Sivicapp <5%"]
[null,"Número de variables",null,2]
[null,"Variables",null,"Dar cumplimiento a la normatividad vigente expedida por el Ministerio de Salud."]
[null,"Tendencia del indicador",null,"Decreciente"]
[null,"Frecuencia de Cálculo y Análisis",null,"Mensual"]
[null,"Meta",null,{"$f":"Indicadores!S6","v":0.05}]
[null,"Elaboró","Sugerencia de planeación",null,null,null,"Fecha",2020]
[]
[null,"Año Actual 2020"]
[null,"Mes","Irca\nInterno","Indicador","Acumulado","Cumplimiento"]
[null,"Enero",3.5E-4,{"$f":"C21","v":3.5E-4},{"$f":"AVERAGE(D21:D21)","v":3.5E-4},{"$f":"IF(E21>0,D16/E21,1)","v":142.85714285714286}]
[null,"Febrero",3.6999999999999999E-4,{"$f":"C22","v":3.6999999999999999E-4},{"$f":"AVERAGE(D21:D22)","v":3.5999999999999997E-4},{"$f":"IF(E22>0,D16/E22,1)","v":138.88888888888891}]
[null,"Marzo",3.4000000000000002E-4,{"$f":"C23","v":3.4000000000000002E-4},{"$f":"AVERAGE(D21:D23)","v":3.5333333333333332E-4},{"$f":"IF(E23>0,D16/E23,1)","v":141.50943396226415}]
[null,"Abril",6.4999999999999997E-4,6.4999999999999997E-4,{"$f":"AVERAGE(D21:D24)","v":4.2749999999999998E-4},{"$f":"IF(E24>0,D16/E24,1)","v":116.95906432748539}]
[null,"Mayo",3.2000000000000003E-4,3.2000000000000003E-4,{"$f":"AVERAGE(D21:D25)","v":4.06E-4},{"$f":"IF(E25>0,D16/E25,1)","v":123.15270935960592}]
[null,"Junio",3.4000000000000002E-4,3.4000000000000002E-4,{"$f":"AVERAGE(D21:D26)","v":3.9500000000000001E-4},{"$f":"IF(E26>0,D16/E26,1)","v":126.58227848101266}]
[null,"Julio",5.9999999999999995E-4,5.9999999999999995E-4,{"$f":"AVERAGE(D21:D27)","v":4.2428571428571428E-4},{"$f":"IF(E27>0,D16/E27,1)","v":117.84511784511785}]
[null,"Agosto",8.9999999999999998E-4,8.9999999999999998E-4,{"$f":"AVERAGE(D21:D28)","v":4.8375000000000002E-4},{"$f":"IF(E28>0,D16/E28,1)","v":103.35917312661499}]
[null,"Septiembre",3.2000000000000003E-4,3.2000000000000003E-4,{"$f":"AVERAGE(D21:D29)","v":4.6555555555555559E-4},{"$f":"IF(E29>0,D16/E29,1)","v":107.39856801909308}]
[null,"Octubre",1.1299999999999999E-2,1.1299999999999999E-2,{"$f":"AVERAGE(D21:D30)","v":1.549E-3},{"$f":"IF(E30>0,D16/E30,1)","v":32.278889606197545}]
[null,"Noviembre",1.37E-2,1.37E-2,{"$f":"AVERAGE(D21:D31)","v":2.6536363636363637E-3},{"$f":"IF(E31>0,D16/E31,1)","v":18.842069201781435}]
[null,"Diciembre",1.9800000000000002E-2,1.9800000000000002E-2,{"$f":"AVERAGE(D21:D32)","v":4.0825000000000002E-3},{"$f":"IF(E32>0,D16/E32,1)","v":12.24739742804654}]

{"sheet":"IF003_Analisis","index":139,"n_rows":32,"n_cols":10,"rows_kept":32,"cut":false,"hidden":false,"merged":[[18,1,18,5],[14,1,14,2],[14,3,14,9],[15,1,15,2],[15,3,15,9],[16,2,16,5],[16,7,16,9],[11,1,11,2],[11,3,11,9],[12,1,12,2],[12,3,12,9],[13,1,13,2],[13,3,13,9],[10,1,10,2],[10,3,10,9],[1,1,6,2],[1,3,3,7],[1,8,3,8],[1,9,3,9],[4,3,6,7],[4,8,6,9],[7,1,7,9],[8,1,8,2],[8,3,8,7],[9,1,9,2],[9,3,9,8]]}
[]
[null,null,null,"SERVICIUDAD ESP",null,null,null,null,"Código SPFO-21","Versión 01"]
[]
[]
[null,null,null,null,null,null,null,null,"PAGINA 01"]
[]
[]
[]
[null,"Nombre del índicador",null,"Indice de Reporte y Calidad de Agua Potable- IRCAP",null,null,null,null,"Código: ","IF003"]
[null,"Estilo de cálculo",null,"Promedio"]
[null,"Fórmula de cálculo",null,"1, si IRCAi ≤  5%\n0, si IRCAi ˃ 5% \ny/o no se reporta la información "]
[null,"Número de variables",null,1]
[null,"Variables",null,"Dar cumplimiento a la normatividad vigente expedida por la CRA resolución 906/19"]
[null,"Tendencia del indicador",null,"Creciente"]
[null,"Frecuencia de Cálculo y Análisis",null,"Mensual"]
[null,"Meta",null,{"$f":"Indicadores!S7","v":1}]
[null,"Elaboró","Sugerencia de planeación",null,null,null,"Fecha",2020]
[]
[null,"Año Actual 2020"]
[null,"Mes","Variable 1","Indicador","Acumulado","Cumplimiento"]
[null,"Enero",null,{"$f":"C21","v":0},{"$f":"AVERAGE(D21:D21)","v":0},{"$f":"E21/D16","v":0}]
[null,"Febrero",null,{"$f":"C22","v":0},{"$f":"AVERAGE(D21:D22)","v":0},{"$f":"E22/D16","v":0}]
[null,"Marzo",null,0,{"$f":"AVERAGE(D21:D23)","v":0},{"$f":"E23/D16","v":0}]
[null,"Abril",null,0,{"$f":"AVERAGE(D21:D24)","v":0},{"$f":"E24/D16","v":0}]
[null,"Mayo",null,0,{"$f":"AVERAGE(D21:D25)","v":0},{"$f":"E25/D16","v":0}]
[null,"Junio",null,0,{"$f":"AVERAGE(D21:D26)","v":0},{"$f":"E26/D16","v":0}]
[null,"Julio",null,0,{"$f":"AVERAGE(D21:D27)","v":0},{"$f":"E27/D16","v":0}]
[null,"Agosto",null,0,{"$f":"AVERAGE(D21:D28)","v":0},{"$f":"E28/D16","v":0}]
[null,"Septiembre",null,0,{"$f":"AVERAGE(D21:D29)","v":0},{"$f":"E29/D16","v":0}]
[null,"Octubre",null,0,{"$f":"AVERAGE(D21:D30)","v":0},{"$f":"E30/D16","v":0}]
[null,"Noviembre",null,0,{"$f":"AVERAGE(D21:D31)","v":0},{"$f":"E31/D16","v":0}]
[null,"Diciembre",null,0,{"$f":"AVERAGE(D21:D32)","v":0},{"$f":"E32/D16","v":0}]

{"sheet":"IF004_Analisis","index":140,"n_rows":32,"n_cols":10,"rows_kept":32,"cut":false,"hidden":false,"merged":[[18,1,18,6],[14,1,14,2],[14,3,14,9],[15,1,15,2],[15,3,15,9],[16,2,16,5],[16,7,16,9],[11,1,11,2],[11,3,11,9],[12,1,12,2],[12,3,12,9],[13,1,13,2],[13,3,13,9],[10,1,10,2],[10,3,10,9],[1,1,6,2],[1,3,3,7],[1,8,3,8],[1,9,3,9],[4,3,6,7],[4,8,6,9],[7,1,7,9],[8,1,8,2],[8,3,8,7],[9,1,9,2],[9,3,9,8]]}
[]
[null,null,null,"SERVICIUDAD ESP",null,null,null,null,"Código SPFO-21","Versión 01"]
[]
[]
[null,null,null,"FICHA DE ANÁLISIS DEL INDICADOR",null,null,null,null,"PAGINA 01"]
[]
[]
[]
[null,"Nombre del índicador",null,"IRABA",null,null,null,null,"Código: ","IF004"]
[null,"Estilo de cálculo",null,"Promedio"]
[null,"Fórmula de cálculo",null,"100-(IT+IC)"]
[null,"Número de variables",null,2]
[null,"Variables",null,"IT: índice de tratamiento. Es el puntaje que se le asigna al evaluar los procesos de tratamiento, ensayos básicos de laboratorio en planta de tratamiento y trabajadores certificados de la persona prestadora. El máximo puntaje equivale a 80 puntos. IC: Índice de continuidad. Es el puntaje que se le asigna a la persona prestadora, con la información de continuidad de su área de influencia. El máximo puntaje equivale a 20 puntos."]
[null,"Tendencia del indicador",null,"Decreciente"]
[null,"Frecuencia de Cálculo y Análisis",null,"Mensual"]
[null,"Meta",null,{"$f":"Indicadores!S8","v":0}]
[null,"Elaboró","Sugerencia de planeación",null,null,null,"Fecha",2020]
[]
[null,"Año Actual 2020"]
[null,"Mes","IT: índice de tratamiento","IC: Índice de continuidad","Indicador","Acumulado","Cumplimiento"]
[null,"Enero",null,null,{"$f":"1-(C21+D21)","v":1},{"$f":"AVERAGE(E21:E21)","v":1},{"$f":"IF(F21>0,D16/F21,1)","v":0}]
[null,"Febrero",null,null,{"$f":"1-(C22+D22)","v":1},{"$f":"AVERAGE(E21:E22)","v":1},{"$f":"IF(F22>0,D16/F22,1)","v":0}]
[null,"Marzo",null,null,1,{"$f":"AVERAGE(E21:E23)","v":1},{"$f":"IF(F23>0,D16/F23,1)","v":0}]
[null,"Abril",null,null,1,{"$f":"AVERAGE(E21:E24)","v":1},{"$f":"IF(F24>0,D16/F24,1)","v":0}]
[null,"Mayo",null,null,1,{"$f":"AVERAGE(E21:E25)","v":1},{"$f":"IF(F25>0,D16/F25,1)","v":0}]
[null,"Junio",null,null,1,{"$f":"AVERAGE(E21:E26)","v":1},{"$f":"IF(F26>0,D16/F26,1)","v":0}]
[null,"Julio",null,null,1,{"$f":"AVERAGE(E21:E27)","v":1},{"$f":"IF(F27>0,D16/F27,1)","v":0}]
[null,"Agosto",null,null,1,{"$f":"AVERAGE(E21:E28)","v":1},{"$f":"IF(F28>0,D16/F28,1)","v":0}]
[null,"Septiembre",null,null,1,{"$f":"AVERAGE(E21:E29)","v":1},{"$f":"IF(F29>0,D16/F29,1)","v":0}]
[null,"Octubre",null,null,1,{"$f":"AVERAGE(E21:E30)","v":1},{"$f":"IF(F30>0,D16/F30,1)","v":0}]
[null,"Noviembre",null,null,1,{"$f":"AVERAGE(E21:E31)","v":1},{"$f":"IF(F31>0,D16/F31,1)","v":0}]
[null,"Diciembre",null,null,1,{"$f":"AVERAGE(E21:E32)","v":1},{"$f":"IF(F32>0,D16/F32,1)","v":0}]

{"sheet":"IF005_Analisis","index":141,"n_rows":32,"n_cols":10,"rows_kept":32,"cut":false,"hidden":false,"merged":[[18,1,18,5],[14,1,14,2],[14,3,14,9],[15,1,15,2],[15,3,15,9],[16,2,16,5],[16,7,16,9],[11,1,11,2],[11,3,11,9],[12,1,12,2],[12,3,12,9],[13,1,13,2],[13,3,13,9],[10,1,10,2],[10,3,10,9],[1,1,6,2],[1,3,3,7],[1,8,3,8],[1,9,3,9],[4,3,6,7],[4,8,6,9],[7,1,7,9],[8,1,8,2],[8,3,8,7],[9,1,9,2],[9,3,9,8]]}
[]
[null,null,null,"SERVICIUDAD ESP",null,null,null,null,"Código SPFO-21","Versión 01"]
[]
[]
[null,null,null,"FICHA DE ANÁLISIS DEL INDICADOR",null,null,null,null,"PAGINA 01"]
[]
[]
[]
[null,"Nombre del índicador",null,"Indice de Continuidad — IC",null,null,null,null,"Código: ","IF005"]
[null,"Estilo de cálculo",null,"Promedio"]
[null,"Fórmula de cálculo",null,"∑PFg=1ICg / PF"]
[null,"Número de variables",null,1]
[null,"Variables",null,"IC: Índice De Continuidad, redondeado a dos (2) cifras decimales. \ng:  Período de facturación, durante el año de evaluación en el que se prestó el servicio público domiciliario de  acueducto, g = (1,2,3,...,PF}. En donde g = 1 corresponde al primer período de facturación que tenga su fecha de inicio dentro del añade evaluación, mientras que g = PF corresponderá al último período de facturación que inicie en el año de evaluación, independiente de que su fecha de terminación no se encuentre en el año de evaluación.\nPF: Número de periodos de facturación en los cuales se presto el servicio público domiciliario de acueducto durante el período evaluación (año fiscal). "]
[null,"Tendencia del indicador",null,"Creciente"]
[null,"Frecuencia de Cálculo y Análisis",null,"Mensual"]
[null,"Meta",null,{"$f":"Indicadores!S9","v":24}]
[null,"Elaboró","Sugerencia de planeación",null,null,null,"Fecha",2020]
[]
[null,"Año Actual 2020"]
[null,"Mes","Variable 1","Indicador","Acumulado","Cumplimiento"]
[null,"Enero",null,{"$f":"C21","v":0},{"$f":"AVERAGE(D21:D21)","v":0},{"$f":"E21/D16","v":0}]
[null,"Febrero",null,{"$f":"C22","v":0},{"$f":"AVERAGE(D21:D22)","v":0},{"$f":"E22/D16","v":0}]
[null,"Marzo",null,0,{"$f":"AVERAGE(D21:D23)","v":0},{"$f":"E23/D16","v":0}]
[null,"Abril",null,0,{"$f":"AVERAGE(D21:D24)","v":0},{"$f":"E24/D16","v":0}]
[null,"Mayo",null,0,{"$f":"AVERAGE(D21:D25)","v":0},{"$f":"E25/D16","v":0}]
[null,"Junio",null,0,{"$f":"AVERAGE(D21:D26)","v":0},{"$f":"E26/D16","v":0}]
[null,"Julio",null,0,{"$f":"AVERAGE(D21:D27)","v":0},{"$f":"E27/D16","v":0}]
[null,"Agosto",null,0,{"$f":"AVERAGE(D21:D28)","v":0},{"$f":"E28/D16","v":0}]
[null,"Septiembre",null,0,{"$f":"AVERAGE(D21:D29)","v":0},{"$f":"E29/D16","v":0}]
[null,"Octubre",null,0,{"$f":"AVERAGE(D21:D30)","v":0},{"$f":"E30/D16","v":0}]
[null,"Noviembre",null,0,{"$f":"AVERAGE(D21:D31)","v":0},{"$f":"E31/D16","v":0}]
[null,"Diciembre",null,0,{"$f":"AVERAGE(D21:D32)","v":0},{"$f":"E32/D16","v":0}]

{"sheet":"IF006_Analisis","index":142,"n_rows":22,"n_cols":10,"rows_kept":22,"cut":false,"hidden":false,"merged":[[18,1,18,6],[14,1,14,2],[14,3,14,9],[15,1,15,2],[15,3,15,9],[16,2,16,5],[16,7,16,9],[11,1,11,2],[11,3,11,9],[12,1,12,2],[12,3,12,9],[13,1,13,2],[13,3,13,9],[10,1,10,2],[10,3,10,9],[1,1,6,2],[1,3,3,7],[1,8,3,8],[1,9,3,9],[4,3,6,7],[4,8,6,9],[7,1,7,9],[8,1,8,2],[8,3,8,7],[9,1,9,2],[9,3,9,8]]}
[]
[null,null,null,"SERVICIUDAD ESP",null,null,null,null,"Código SPFO-21","Versión 01"]
[]
[]
[null,null,null,"FICHA DE ANÁLISIS DEL INDICADOR",null,null,null,null,"PAGINA 01"]
[]
[]
[]
[null,"Nombre del índicador",null,"Indice de Inversiones Acumuladas de Acueducto — IIAAC",null,null,null,null,"Código: ","IF006"]
[null,"Estilo de cálculo",null,"Promedio"]
[null,"Fórmula de cálculo",null,"(∑atp=1VPIejecp / ∑atp=1VPIproyp) x 100"]
[null,"Número de variables",null,2]
[null,"Variables",null,"VPIejecp: Valor presente de las inversiones ejecutadas del plan de inversiones del servicio público domiciliario de acueducto. en el período de evaluación p (expresado en peso del a la base). Lasa cuales corresponden a la erogaciones realizadas por el prestador sin discriminación del avance del proyecto y/o inversión, ya sea que la misma se encuentre en \"curso\" o \"financiada\".\nVPIproyp: Valor presente de las inversiones proyectadas del plan de inversiones del servicio publico domiciliario de acueducto desde en el período de evaluación (expresado en pesos del año base)"]
[null,"Tendencia del indicador",null,"Creciente"]
[null,"Frecuencia de Cálculo y Análisis",null,"Semestral"]
[null,"Meta",null,{"$f":"Indicadores!S10","v":0}]
[null,"Elaboró","Sugerencia de planeación",null,null,null,"Fecha",2020]
[]
[null,"Año Actual 2020"]
[null,"Semestre","Variable 1","Variable 2","Indicador","Acumulado","Cumplimiento"]
[null,"Semestre1",null,null,{"$f":"(C21/D21)*100","v":{"$error":"#DIV/0!"}},{"$f":"AVERAGE(E21:E21)","v":{"$error":"#DIV/0!"}},{"$f":"F21/D16","v":{"$error":"#DIV/0!"}}]
[null,"Semestre2",null,null,{"$f":"(C22/D22)*100","v":{"$error":"#DIV/0!"}},{"$f":"AVERAGE(E21:E22)","v":{"$error":"#DIV/0!"}},{"$f":"F22/D16","v":{"$error":"#DIV/0!"}}]

{"sheet":"IF007_Analisis","index":143,"n_rows":22,"n_cols":10,"rows_kept":22,"cut":false,"hidden":false,"merged":[[18,1,18,7],[14,1,14,2],[14,3,14,9],[15,1,15,2],[15,3,15,9],[16,2,16,5],[16,7,16,9],[11,1,11,2],[11,3,11,9],[12,1,12,2],[12,3,12,9],[13,1,13,2],[13,3,13,9],[10,1,10,2],[10,3,10,9],[1,1,6,2],[1,3,3,7],[1,8,3,8],[1,9,3,9],[4,3,6,7],[4,8,6,9],[7,1,7,9],[8,1,8,2],[8,3,8,7],[9,1,9,2],[9,3,9,8]]}
[]
[null,null,null,"SERVICIUDAD ESP",null,null,null,null,"Código SPFO-21","Versión 01"]
[]
[]
[null,null,null,"FICHA DE ANÁLISIS DEL INDICADOR",null,null,null,null,"PAGINA 01"]
[]
[]
[]
[null,"Nombre del índicador",null,"Indice de Ejecución Anual de Inversiones de Acueducto —IEAIAC",null,null,null,null,"Código: ","IF007"]
[null,"Estilo de cálculo",null,"Promedio"]
[null,"Fórmula de cálculo",null,"(∑ba=1(VEPa * PAa) / ∑ba=1 VPa) x 100"]
[null,"Número de variables",null,3]
[null,"Variables",null,"VEPa: Valor (en pesos corrientes) del activo y/o proyecto \"a\" ejecutado establecido dentro del plan de inversiones o POIR del prestador para el servicio público domiciliario de acueducto. Los cuales corresponderán a la erogaciones realizadas por el prestador, ya sea que la misma se encuentre \"en curso\" o \"financiada\".                  \nPAa: Porcentaje de avance físico del activo y/o proyecto \"a\" al cierre del periodo de evaluación, el cual será definido por el prestador entre 0% y el 100%.\nVPa: Valor (en pesos corrientes) de los proyectos y/o activos \"a\" establecidos en el plan de  Inversiones del prestador para el servicio público domiciliario de acueducto. Lo anterior, debe corresponder al período tarifario que finaliza en el período de evaluación del indicador."]
[null,"Tendencia del indicador",null,"Creciente"]
[null,"Frecuencia de Cálculo y Análisis",null,"Semestral"]
[null,"Meta",null,{"$f":"Indicadores!S11","v":0}]
[null,"Elaboró","Sugerencia de planeación",null,null,null,"Fecha",2020]
[]
[null,"Año Actual 2020"]
[null,"Semestre","Variable 1","Variable 2","Variable 3","Indicador","Acumulado","Cumplimiento"]
[null,"Semestre1",null,null,null,{"$f":"((C21*D21)/E21)*100","v":{"$error":"#DIV/0!"}},{"$f":"AVERAGE(F21:F21)","v":{"$error":"#DIV/0!"}},{"$f":"G21/D16","v":{"$error":"#DIV/0!"}}]
[null,"Semestre2",null,null,null,{"$f":"((C22*D22)/E22)*100","v":{"$error":"#DIV/0!"}},{"$f":"AVERAGE(F21:F22)","v":{"$error":"#DIV/0!"}},{"$f":"G22/D16","v":{"$error":"#DIV/0!"}}]

{"sheet":"IF008_Analisis","index":144,"n_rows":22,"n_cols":10,"rows_kept":22,"cut":false,"hidden":false,"merged":[[18,1,18,5],[14,1,14,2],[14,3,14,9],[15,1,15,2],[15,3,15,9],[16,2,16,5],[16,7,16,9],[11,1,11,2],[11,3,11,9],[12,1,12,2],[12,3,12,9],[13,1,13,2],[13,3,13,9],[10,1,10,2],[10,3,10,9],[1,1,6,2],[1,3,3,7],[1,8,3,8],[1,9,3,9],[4,3,6,7],[4,8,6,9],[7,1,7,9],[8,1,8,2],[8,3,8,7],[9,1,9,2],[9,3,9,8]]}
[]
[null,null,null,"SERVICIUDAD ESP",null,null,null,null,"Código SPFO-21","Versión 01"]
[]
[]
[null,null,null,"FICHA DE ANÁLISIS DEL INDICADOR",null,null,null,null,"PAGINA 01"]
[]
[]
[]
[null,"Nombre del índicador",null,"Indicador de Plan de Emergencias y Contingencias para Acueducto — PECAC",null,null,null,null,"Código: ","IF008"]
[null,"Estilo de cálculo",null,"Último dato"]
[null,"Fórmula de cálculo",null,"(∑5t=1Reporter / 5) x 100"]
[null,"Número de variables",null,1]
[null,"Variables",null,"Componentes que conforman el PEC.\nDonde, r = (1=  Aseguramiento de infraestructura, \n                     2= Identificación de Amenazas,\n                     3= Registro de eventos,\n                     4= Inventario y  \n                     5= Reporte del PEC en el SUI)."]
[null,"Tendencia del indicador",null,"Creciente"]
[null,"Frecuencia de Cálculo y Análisis",null,"Semestral"]
[null,"Meta",null,{"$f":"Indicadores!S12","v":1}]
[null,"Elaboró","Sugerencia de planeación",null,null,null,"Fecha",2020]
[]
[null,"Año Actual"]
[null,"Semestre","Variable 1","Indicador","Acumulado","Cumplimiento"]
[null,"Semestre1",null,{"$f":"(C21/5)*100","v":0},{"$f":"D21","v":0},{"$f":"E21/D16","v":0}]
[null,"Semestre2",null,{"$f":"(C22/5)*100","v":0},{"$f":"D22","v":0},{"$f":"E22/D16","v":0}]

{"sheet":"IF009_Analisis","index":145,"n_rows":32,"n_cols":10,"rows_kept":32,"cut":false,"hidden":false,"merged":[[14,1,14,2],[14,3,14,9],[15,1,15,2],[15,3,15,9],[16,2,16,5],[16,7,16,9],[11,1,11,2],[11,3,11,9],[12,1,12,2],[12,3,12,9],[13,1,13,2],[13,3,13,9],[10,1,10,2],[10,3,10,9],[1,1,6,2],[1,3,3,7],[1,8,3,8],[1,9,3,9],[4,3,6,7],[4,8,6,9],[7,1,7,9],[8,1,8,2],[8,3,8,7],[9,1,9,2],[9,3,9,8]]}
[]
[null,null,null,"SERVICIUDAD ESP",null,null,null,null,"Código SPFO-21","Versión 01"]
[]
[]
[null,null,null,"FICHA DE ANÁLISIS DEL INDICADOR",null,null,null,null,"PAGINA 01"]
[]
[]
[]
[null,"Nombre del índicador",null,"Agua Controlada en Puntos de Uso y Consumo — ACPUC",null,null,null,null,"Código: ","IF009"]
[null,"Estilo de cálculo",null,"Promedio"]
[null,"Fórmula de cálculo",null,"(CFM + CFNM / VE - (IPUF* x NS)) x 100 "]
[null,"Número de variables",null,5]
[null,"Variables",null,"CFM: Volumen de consumo anual facturado medido durante el período de evaluación (m3).\nCFNM: Volumen de consumo anual facturado no medido durante el período de evaluación (m3).\nVE: Volumen anual de entrada al sistema durante el período de evaluación (m3), el cual debe incluir el volumen saliente del sistema de tratamiento y/o al volumen de contratos de suministro.\nIPUF: Índice de perdidas pos suscriptor facturado aceptable en la regulación vigente, establecidos en 6m3/suscriptor/mes."]
[null,"Tendencia del indicador",null,"Creciente"]
[null,"Frecuencia de Cálculo y Análisis",null,"Mensual"]
[null,"Meta",null,{"$f":"Indicadores!S13","v":0.80649999999999999}]
[null,"Elaboró","Sugerencia de planeación",null,null,null,"Fecha",2020]
[]
[null,"Año Actual"]
[null,"Mes","Variable 1","Variable 2","Variable 3","Variable 4","Variable 5","Indicador","Acumulado","Cumplimiento"]
[null,"Enero",null,null,null,null,null,{"$f":"((C21+D21)/(E21-(F21*G21)))*100","v":{"$error":"#DIV/0!"}},{"$f":"AVERAGE(H21:H21)","v":{"$error":"#DIV/0!"}},{"$f":"I21/D16","v":{"$error":"#DIV/0!"}}]
[null,"Febrero",null,null,null,null,null,{"$f":"((C22+D22)/(E22-(F22*G22)))*100","v":{"$error":"#DIV/0!"}},{"$f":"AVERAGE(H21:H22)","v":{"$error":"#DIV/0!"}},{"$f":"I22/D16","v":{"$error":"#DIV/0!"}}]
[null,"Marzo",null,null,null,null,null,{"$error":"#DIV/0!"},{"$f":"AVERAGE(H21:H23)","v":{"$error":"#DIV/0!"}},{"$f":"I23/D16","v":{"$error":"#DIV/0!"}}]
[null,"Abril",null,null,null,null,null,{"$error":"#DIV/0!"},{"$f":"AVERAGE(H21:H24)","v":{"$error":"#DIV/0!"}},{"$f":"I24/D16","v":{"$error":"#DIV/0!"}}]
[null,"Mayo",null,null,null,null,null,{"$error":"#DIV/0!"},{"$f":"AVERAGE(H21:H25)","v":{"$error":"#DIV/0!"}},{"$f":"I25/D16","v":{"$error":"#DIV/0!"}}]
[null,"Junio",null,null,null,null,null,{"$error":"#DIV/0!"},{"$f":"AVERAGE(H21:H26)","v":{"$error":"#DIV/0!"}},{"$f":"I26/D16","v":{"$error":"#DIV/0!"}}]
[null,"Julio",null,null,null,null,null,{"$error":"#DIV/0!"},{"$f":"AVERAGE(H21:H27)","v":{"$error":"#DIV/0!"}},{"$f":"I27/D16","v":{"$error":"#DIV/0!"}}]
[null,"Agosto",null,null,null,null,null,{"$error":"#DIV/0!"},{"$f":"AVERAGE(H21:H28)","v":{"$error":"#DIV/0!"}},{"$f":"I28/D16","v":{"$error":"#DIV/0!"}}]
[null,"Septiembre",null,null,null,null,null,{"$error":"#DIV/0!"},{"$f":"AVERAGE(H21:H29)","v":{"$error":"#DIV/0!"}},{"$f":"I29/D16","v":{"$error":"#DIV/0!"}}]
[null,"Octubre",null,null,null,null,null,{"$error":"#DIV/0!"},{"$f":"AVERAGE(H21:H30)","v":{"$error":"#DIV/0!"}},{"$f":"I30/D16","v":{"$error":"#DIV/0!"}}]
[null,"Noviembre",null,null,null,null,null,{"$error":"#DIV/0!"},{"$f":"AVERAGE(H21:H31)","v":{"$error":"#DIV/0!"}},{"$f":"I31/D16","v":{"$error":"#DIV/0!"}}]
[null,"Diciembre",null,null,null,null,null,{"$error":"#DIV/0!"},{"$f":"AVERAGE(H21:H32)","v":{"$error":"#DIV/0!"}},{"$f":"I32/D16","v":{"$error":"#DIV/0!"}}]

{"sheet":"IF010_Analisis","index":146,"n_rows":32,"n_cols":10,"rows_kept":32,"cut":false,"hidden":false,"merged":[[14,1,14,2],[14,3,14,9],[15,1,15,2],[15,3,15,9],[16,2,16,5],[16,7,16,9],[11,1,11,2],[11,3,11,9],[12,1,12,2],[12,3,12,9],[13,1,13,2],[13,3,13,9],[10,1,10,2],[10,3,10,9],[1,1,6,2],[1,3,3,7],[1,8,3,8],[1,9,3,9],[4,3,6,7],[4,8,6,9],[7,1,7,9],[8,1,8,2],[8,3,8,7],[9,1,9,2],[9,3,9,8]]}
[]
[null,null,null,"SERVICIUDAD ESP",null,null,null,null,"Código SPFO-21","Versión 01"]
[]
[]
[null,null,null,"FICHA DE ANÁLISIS DEL INDICADOR",null,null,null,null,"PAGINA 01"]
[]
[]
[]
[null,"Nombre del índicador",null,"Modelo Hidráulico — MH",null,null,null,null,"Código: ","IF010"]
[null,"Estilo de cálculo",null,"Último dato"]
[null,"Fórmula de cálculo",null,"(Si se tiene = 1: No riene o no reporta = 0)"]
[null,"Número de variables",null,1]
[null,"Variables",null,"MH: Modelo Hidráulico"]
[null,"Tendencia del indicador",null,"Creciente"]
[null,"Frecuencia de Cálculo y Análisis",null,"Mensual"]
[null,"Meta",null,{"$f":"Indicadores!S14","v":1}]
[null,"Elaboró","Sugerencia de planeación",null,null,null,"Fecha",2020]
[]
[null,"Año Actual"]
[null,"Mes","Variable 1","Indicador","Acumulado","Cumplimiento"]
[null,"Enero",null,{"$f":"C21","v":0},{"$f":"D21","v":0},{"$f":"E21/D16","v":0}]
[null,"Febrero",null,{"$f":"C22","v":0},{"$f":"D22","v":0},{"$f":"E22/D16","v":0}]
[null,"Marzo",null,0,0,{"$f":"E23/D16","v":0}]
[null,"Abril",null,0,0,{"$f":"E24/D16","v":0}]
[null,"Mayo",null,0,0,{"$f":"E25/D16","v":0}]
[null,"Junio",null,0,0,{"$f":"E26/D16","v":0}]
[null,"Julio",null,0,0,{"$f":"E27/D16","v":0}]
[null,"Agosto",null,0,0,{"$f":"E28/D16","v":0}]
[null,"Septiembre",null,0,0,{"$f":"E29/D16","v":0}]
[null,"Octubre",null,0,0,{"$f":"E30/D16","v":0}]
[null,"Noviembre",null,0,0,{"$f":"E31/D16","v":0}]
[null,"Diciembre",null,0,0,{"$f":"E32/D16","v":0}]

{"sheet":"IF011_Analisis","index":147,"n_rows":32,"n_cols":10,"rows_kept":32,"cut":false,"hidden":false,"merged":[[14,1,14,2],[14,3,14,9],[15,1,15,2],[15,3,15,9],[16,2,16,5],[16,7,16,9],[11,1,11,2],[11,3,11,9],[12,1,12,2],[12,3,12,9],[13,1,13,2],[13,3,13,9],[10,1,10,2],[10,3,10,9],[1,1,6,2],[1,3,3,7],[1,8,3,8],[1,9,3,9],[4,3,6,7],[4,8,6,9],[7,1,7,9],[8,1,8,2],[8,3,8,7],[9,1,9,2],[9,3,9,8]]}
[]
[null,null,null,"SERVICIUDAD ESP",null,null,null,null,"Código SPFO-21","Versión 01"]
[]
[]
[null,null,null,"FICHA DE ANÁLISIS DEL INDICADOR",null,null,null,null,"PAGINA 01"]
[]
[]
[]
[null,"Nombre del índicador",null,"Fallas en la Red Transporte y Distribución de Acueducto — FAC",null,null,null,null,"Código: ","IF011"]
[null,"Estilo de cálculo",null,"Promedio"]
[null,"Fórmula de cálculo",null,"NFRTi + NFRDi/ LRTi + LRDi"]
[null,"Número de variables",null,4]
[null,"Variables",null,"NFRTi: Número de fallas en las redes de distribución ( redes de conducción). por parte de las persona prestadora. se deberán incluir las fallas causadas por terceros.\nNFRDi: Número de fallas en las redes de distribución (redes de conducción y distribución). se entiende por falla aquellas que generen acciones de reparación (correctivas) por parte de la persona prestadora. No se deberán incluir fallas sobre las acometidas.\nLRTi; Longitud de redes de transporte (res de acueducto).\nLRDi: Longitud de redes de distribución de agua (red de conducción y distribución) (km), longitud de la red de distribución irá hasta las acometidas."]
[null,"Tendencia del indicador",null,"Decreciente"]
[null,"Frecuencia de Cálculo y Análisis",null,"Mensual"]
[null,"Meta",null,{"$f":"Indicadores!S15","v":0.14000000000000001}]
[null,"Elaboró","Sugerencia de planeación",null,null,null,"Fecha",2020]
[]
[null,"Año Actual"]
[null,"Mes","Variable 1","Variable 2","Variable 3","Variable 4","Indicador","Acumulado","Cumplimiento"]
[null,"Enero",null,null,null,null,{"$f":"(C21+D21)/(E21+F21)","v":{"$error":"#DIV/0!"}},{"$f":"AVERAGE(G21:G21)","v":{"$error":"#DIV/0!"}},{"$f":"IF(H21>0,D16/H21,1)","v":{"$error":"#DIV/0!"}}]
[null,"Febrero",null,null,null,null,{"$f":"(C22+D22)/(E22+F22)","v":{"$error":"#DIV/0!"}},{"$f":"AVERAGE(G21:G22)","v":{"$error":"#DIV/0!"}},{"$f":"IF(H22>0,D16/H22,1)","v":{"$error":"#DIV/0!"}}]
[null,"Marzo",null,null,null,null,{"$error":"#DIV/0!"},{"$f":"AVERAGE(G21:G23)","v":{"$error":"#DIV/0!"}},{"$f":"IF(H23>0,D16/H23,1)","v":{"$error":"#DIV/0!"}}]
[null,"Abril",null,null,null,null,{"$error":"#DIV/0!"},{"$f":"AVERAGE(G21:G24)","v":{"$error":"#DIV/0!"}},{"$f":"IF(H24>0,D16/H24,1)","v":{"$error":"#DIV/0!"}}]
[null,"Mayo",null,null,null,null,{"$error":"#DIV/0!"},{"$f":"AVERAGE(G21:G25)","v":{"$error":"#DIV/0!"}},{"$f":"IF(H25>0,D16/H25,1)","v":{"$error":"#DIV/0!"}}]
[null,"Junio",null,null,null,null,{"$error":"#DIV/0!"},{"$f":"AVERAGE(G21:G26)","v":{"$error":"#DIV/0!"}},{"$f":"IF(H26>0,D16/H26,1)","v":{"$error":"#DIV/0!"}}]
[null,"Julio",null,null,null,null,{"$error":"#DIV/0!"},{"$f":"AVERAGE(G21:G27)","v":{"$error":"#DIV/0!"}},{"$f":"IF(H27>0,D16/H27,1)","v":{"$error":"#DIV/0!"}}]
[null,"Agosto",null,null,null,null,{"$error":"#DIV/0!"},{"$f":"AVERAGE(G21:G28)","v":{"$error":"#DIV/0!"}},{"$f":"IF(H28>0,D16/H28,1)","v":{"$error":"#DIV/0!"}}]
[null,"Septiembre",null,null,null,null,{"$error":"#DIV/0!"},{"$f":"AVERAGE(G21:G29)","v":{"$error":"#DIV/0!"}},{"$f":"IF(H29>0,D16/H29,1)","v":{"$error":"#DIV/0!"}}]
[null,"Octubre",null,null,null,null,{"$error":"#DIV/0!"},{"$f":"AVERAGE(G21:G30)","v":{"$error":"#DIV/0!"}},{"$f":"IF(H30>0,D16/H30,1)","v":{"$error":"#DIV/0!"}}]
[null,"Noviembre",null,null,null,null,{"$error":"#DIV/0!"},{"$f":"AVERAGE(G21:G31)","v":{"$error":"#DIV/0!"}},{"$f":"IF(H31>0,D16/H31,1)","v":{"$error":"#DIV/0!"}}]
[null,"Diciembre",null,null,null,null,{"$error":"#DIV/0!"},{"$f":"AVERAGE(G21:G32)","v":{"$error":"#DIV/0!"}},{"$f":"IF(H32>0,D16/H32,1)","v":{"$error":"#DIV/0!"}}]

{"sheet":"IF012_Analisis","index":148,"n_rows":32,"n_cols":10,"rows_kept":32,"cut":false,"hidden":false,"merged":[[14,1,14,2],[14,3,14,9],[15,1,15,2],[15,3,15,9],[16,2,16,5],[16,7,16,9],[11,1,11,2],[11,3,11,9],[12,1,12,2],[12,3,12,9],[13,1,13,2],[13,3,13,9],[10,1,10,2],[10,3,10,9],[1,1,6,2],[1,3,3,7],[1,8,3,8],[1,9,3,9],[4,3,6,7],[4,8,6,9],[7,1,7,9],[8,1,8,2],[8,3,8,7],[9,1,9,2],[9,3,9,8]]}
[]
[null,null,null,"SERVICIUDAD ESP",null,null,null,null,"Código SPFO-21","Versión 01"]
[]
[]
[null,null,null,"FICHA DE ANÁLISIS DEL INDICADOR",null,null,null,null,"PAGINA 01"]
[]
[]
[]
[null,"Nombre del índicador",null,"Consumo Energético del Sistema de Tratamiento de Agua Potable Acueducto — CEAC",null,null,null,null,"Código: ","IF012"]
[null,"Estilo de cálculo",null,"Promedio"]
[null,"Fórmula de cálculo",null,"EET/ VTPA"]
[null,"Número de variables",null,2]
[null,"Variables",null,"EET: Energía total consumida por los procesos de tratamiento del sistema de acueducto, durante el período de evaluación (kwh).\nVTAP: Volumen anual de agua potable producido en el período de evaluación (m3)\nVTAP: Volumen total de agua producida en el periodo de evaluación (m3/año)."]
[null,"Tendencia del indicador",null,"Creciente"]
[null,"Frecuencia de Cálculo y Análisis",null,"Mensual"]
[null,"Meta",null,{"$f":"Indicadores!S16","v":0.01}]
[null,"Elaboró","Sugerencia de planeación",null,null,null,"Fecha",2020]
[]
[null,"Año Actual"]
[null,"Mes","Variable 1","Variable 2","Indicador","Acumulado","Cumplimiento"]
[null,"Enero",null,null,{"$f":"C21/D21","v":{"$error":"#DIV/0!"}},{"$f":"AVERAGE(E21:E21)","v":{"$error":"#DIV/0!"}},{"$f":"F21/D16","v":{"$error":"#DIV/0!"}}]
[null,"Febrero",null,null,{"$f":"C22/D22","v":{"$error":"#DIV/0!"}},{"$f":"AVERAGE(E21:E22)","v":{"$error":"#DIV/0!"}},{"$f":"F22/D16","v":{"$error":"#DIV/0!"}}]
[null,"Marzo",null,null,{"$error":"#DIV/0!"},{"$f":"AVERAGE(E21:E23)","v":{"$error":"#DIV/0!"}},{"$f":"F23/D16","v":{"$error":"#DIV/0!"}}]
[null,"Abril",null,null,{"$error":"#DIV/0!"},{"$f":"AVERAGE(E21:E24)","v":{"$error":"#DIV/0!"}},{"$f":"F24/D16","v":{"$error":"#DIV/0!"}}]
[null,"Mayo",null,null,{"$error":"#DIV/0!"},{"$f":"AVERAGE(E21:E25)","v":{"$error":"#DIV/0!"}},{"$f":"F25/D16","v":{"$error":"#DIV/0!"}}]
[null,"Junio",null,null,{"$error":"#DIV/0!"},{"$f":"AVERAGE(E21:E26)","v":{"$error":"#DIV/0!"}},{"$f":"F26/D16","v":{"$error":"#DIV/0!"}}]
[null,"Julio",null,null,{"$error":"#DIV/0!"},{"$f":"AVERAGE(E21:E27)","v":{"$error":"#DIV/0!"}},{"$f":"F27/D16","v":{"$error":"#DIV/0!"}}]
[null,"Agosto",null,null,{"$error":"#DIV/0!"},{"$f":"AVERAGE(E21:E28)","v":{"$error":"#DIV/0!"}},{"$f":"F28/D16","v":{"$error":"#DIV/0!"}}]
[null,"Septiembre",null,null,{"$error":"#DIV/0!"},{"$f":"AVERAGE(E21:E29)","v":{"$error":"#DIV/0!"}},{"$f":"F29/D16","v":{"$error":"#DIV/0!"}}]
[null,"Octubre",null,null,{"$error":"#DIV/0!"},{"$f":"AVERAGE(E21:E30)","v":{"$error":"#DIV/0!"}},{"$f":"F30/D16","v":{"$error":"#DIV/0!"}}]
[null,"Noviembre",null,null,{"$error":"#DIV/0!"},{"$f":"AVERAGE(E21:E31)","v":{"$error":"#DIV/0!"}},{"$f":"F31/D16","v":{"$error":"#DIV/0!"}}]
[null,"Diciembre",null,null,{"$error":"#DIV/0!"},{"$f":"AVERAGE(E21:E32)","v":{"$error":"#DIV/0!"}},{"$f":"F32/D16","v":{"$error":"#DIV/0!"}}]

{"sheet":"IF013_Analisis","index":149,"n_rows":22,"n_cols":10,"rows_kept":22,"cut":false,"hidden":false,"merged":[[14,1,14,2],[14,3,14,9],[15,1,15,2],[15,3,15,9],[16,2,16,5],[16,7,16,9],[11,1,11,2],[11,3,11,9],[12,1,12,2],[12,3,12,9],[13,1,13,2],[13,3,13,9],[10,1,10,2],[10,3,10,9],[1,1,6,2],[1,3,3,7],[1,8,3,8],[1,9,3,9],[4,3,6,7],[4,8,6,9],[7,1,7,9],[8,1,8,2],[8,3,8,7],[9,1,9,2],[9,3,9,8]]}
[]
[null,null,null,"SERVICIUDAD ESP",null,null,null,null,"Código SPFO-21","Versión 01"]
[]
[]
[null,null,null,"FICHA DE ANÁLISIS DEL INDICADOR",null,null,null,null,"PAGINA 01"]
[]
[]
[]
[null,"Nombre del índicador",null,"Cumplimiento del PUEAA — CPUEAA",null,null,null,null,"Código: ","IF013"]
[null,"Estilo de cálculo",null,"Promedio"]
[null,"Fórmula de cálculo",null,"  0 Sino se cumplió lo establecido por el PUEAA para el periodo de evaluación\n 100 Si se cumplió lo establecido por el PUEAA para el periodo de evaluación"]
[null,"Número de variables",null,1]
[null,"Variables"]
[null,"Tendencia del indicador",null,"Creciente"]
[null,"Frecuencia de Cálculo y Análisis",null,"Semestral"]
[null,"Meta",null,{"$f":"Indicadores!S17","v":100}]
[null,"Elaboró","Sugerencia de planeación",null,null,null,"Fecha",2020]
[]
[null,"Año Actual"]
[null,"Semestre","Variable 1","Indicador","Acumulado","Cumplimiento"]
[null,"Semestre1",null,{"$f":"C21","v":0},{"$f":"AVERAGE(D21:D21)","v":0},{"$f":"E21/D16","v":0}]
[null,"Semestre2",null,{"$f":"C22","v":0},{"$f":"AVERAGE(D21:D22)","v":0},{"$f":"E22/D16","v":0}]

{"sheet":"IF014_Analisis","index":150,"n_rows":32,"n_cols":10,"rows_kept":32,"cut":false,"hidden":false,"merged":[[14,1,14,2],[14,3,14,9],[15,1,15,2],[15,3,15,9],[16,2,16,5],[16,7,16,9],[11,1,11,2],[11,3,11,9],[12,1,12,2],[12,3,12,9],[13,1,13,2],[13,3,13,9],[10,1,10,2],[10,3,10,9],[1,1,6,2],[1,3,3,7],[1,8,3,8],[1,9,3,9],[4,3,6,7],[4,8,6,9],[7,1,7,9],[8,1,8,2],[8,3,8,7],[9,1,9,2],[9,3,9,8]]}
[]
[null,null,null,"SERVICIUDAD ESP",null,null,null,null,"Código SPFO-21","Versión 01"]
[]
[]
[null,null,null,"FICHA DE ANÁLISIS DEL INDICADOR",null,null,null,null,"PAGINA 01"]
[]
[]
[]
[null,"Nombre del índicador",null,"Utilización del Recurso Agua - UA",null,null,null,null,"Código: ","IF014"]
[null,"Estilo de cálculo",null,"Promedio"]
[null,"Fórmula de cálculo",null,"(VCMi / VCAAi) x 100"]
[null,"Número de variables",null,2]
[null,"Variables",null,"VCM,: Volumen de agua cruda (m3) captado del medio natural para el suministro del servicio, durante el mes i.\nVCAA,: Volumen de agua cruda (m3) correspondiente al caudal otorgado por la autoridad, ambiental durante el mes i."]
[null,"Tendencia del indicador",null,"Decreciente"]
[null,"Frecuencia de Cálculo y Análisis",null,"Mensual"]
[null,"Meta",null,{"$f":"Indicadores!S18","v":97.62}]
[null,"Elaboró","Sugerencia de planeación",null,null,null,"Fecha",2020]
[]
[null,"Año Actual"]
[null,"Mes","Variable 1","Variable 2","Indicador","Acumulado","Cumplimiento"]
[null,"Enero",null,null,{"$f":"C21/D21","v":{"$error":"#DIV/0!"}},{"$f":"AVERAGE(E21:E21)","v":{"$error":"#DIV/0!"}},{"$f":"IF(F21>0,D16/F21,1)","v":{"$error":"#DIV/0!"}}]
[null,"Febrero",null,null,{"$f":"C22/D22","v":{"$error":"#DIV/0!"}},{"$f":"AVERAGE(E21:E22)","v":{"$error":"#DIV/0!"}},{"$f":"IF(F22>0,D16/F22,1)","v":{"$error":"#DIV/0!"}}]
[null,"Marzo",null,null,{"$error":"#DIV/0!"},{"$f":"AVERAGE(E21:E23)","v":{"$error":"#DIV/0!"}},{"$f":"IF(F23>0,D16/F23,1)","v":{"$error":"#DIV/0!"}}]
[null,"Abril",null,null,{"$error":"#DIV/0!"},{"$f":"AVERAGE(E21:E24)","v":{"$error":"#DIV/0!"}},{"$f":"IF(F24>0,D16/F24,1)","v":{"$error":"#DIV/0!"}}]
[null,"Mayo",null,null,{"$error":"#DIV/0!"},{"$f":"AVERAGE(E21:E25)","v":{"$error":"#DIV/0!"}},{"$f":"IF(F25>0,D16/F25,1)","v":{"$error":"#DIV/0!"}}]
[null,"Junio",null,null,{"$error":"#DIV/0!"},{"$f":"AVERAGE(E21:E26)","v":{"$error":"#DIV/0!"}},{"$f":"IF(F26>0,D16/F26,1)","v":{"$error":"#DIV/0!"}}]
[null,"Julio",null,null,{"$error":"#DIV/0!"},{"$f":"AVERAGE(E21:E27)","v":{"$error":"#DIV/0!"}},{"$f":"IF(F27>0,D16/F27,1)","v":{"$error":"#DIV/0!"}}]
[null,"Agosto",null,null,{"$error":"#DIV/0!"},{"$f":"AVERAGE(E21:E28)","v":{"$error":"#DIV/0!"}},{"$f":"IF(F28>0,D16/F28,1)","v":{"$error":"#DIV/0!"}}]
[null,"Septiembre",null,null,{"$error":"#DIV/0!"},{"$f":"AVERAGE(E21:E29)","v":{"$error":"#DIV/0!"}},{"$f":"IF(F29>0,D16/F29,1)","v":{"$error":"#DIV/0!"}}]
[null,"Octubre",null,null,{"$error":"#DIV/0!"},{"$f":"AVERAGE(E21:E30)","v":{"$error":"#DIV/0!"}},{"$f":"IF(F30>0,D16/F30,1)","v":{"$error":"#DIV/0!"}}]
[null,"Noviembre",null,null,{"$error":"#DIV/0!"},{"$f":"AVERAGE(E21:E31)","v":{"$error":"#DIV/0!"}},{"$f":"IF(F31>0,D16/F31,1)","v":{"$error":"#DIV/0!"}}]
[null,"Diciembre",null,null,{"$error":"#DIV/0!"},{"$f":"AVERAGE(E21:E32)","v":{"$error":"#DIV/0!"}},{"$f":"IF(F32>0,D16/F32,1)","v":{"$error":"#DIV/0!"}}]

{"sheet":"IF015_Analisis","index":151,"n_rows":32,"n_cols":10,"rows_kept":32,"cut":false,"hidden":false,"merged":[[14,1,14,2],[14,3,14,9],[15,1,15,2],[15,3,15,9],[16,2,16,5],[16,7,16,9],[11,1,11,2],[11,3,11,9],[12,1,12,2],[12,3,12,9],[13,1,13,2],[13,3,13,9],[10,1,10,2],[10,3,10,9],[1,1,6,2],[1,3,3,7],[1,8,3,8],[1,9,3,9],[4,3,6,7],[4,8,6,9],[7,1,7,9],[8,1,8,2],[8,3,8,7],[9,1,9,2],[9,3,9,8]]}
[]
[null,null,null,"SERVICIUDAD ESP",null,null,null,null,"Código SPFO-21","Versión 01"]
[]
[]
[null,null,null,"FICHA DE ANÁLISIS DEL INDICADOR",null,null,null,null,"PAGINA 01"]
[]
[]
[]
[null,"Nombre del índicador",null,"Reporte de Afectación Hídrica asociada a Fenómenos Climáticos - RAHC",null,null,null,null,"Código: ","IF015"]
[null,"Estilo de cálculo",null,"Promedio"]
[null,"Fórmula de cálculo",null,"(∑ETe=1(NHAFe * NAFe / Nhtg * NSg)) x (24 h/día)"]
[null,"Número de variables",null,4]
[null,"Variables",null,"NHAFe: Número de horas de duración del evento de afectación e, durante el período de facturación g.\nNAFe: Número de suscriptores afectados durante el evento de afectación e, durante el período de facturación g.\nNhtg: Número de horas totales, calculado como 24 horas por el número de días del período de facturación g. \nNSg: Número total de suscriptores de la persona prestadora en el período de facturación g."]
[null,"Tendencia del indicador",null,"Decreciente"]
[null,"Frecuencia de Cálculo y Análisis",null,"Mensual"]
[null,"Meta",null,{"$f":"Indicadores!S19","v":0}]
[null,"Elaboró","Sugerencia de planeación",null,null,null,"Fecha",2020]
[]
[null,"Año Actual"]
[null,"Mes","Variable 1","Variable 2","Variable 3","Variable 4","Indicador","Acumulado","Cumplimiento"]
[null,"Enero",null,null,null,null,{"$f":"((C21*D21)/(E21*F21))*24","v":{"$error":"#DIV/0!"}},{"$f":"AVERAGE(G21:G21)","v":{"$error":"#DIV/0!"}},{"$f":"IF(H21>0,D16/H21,1)","v":{"$error":"#DIV/0!"}}]
[null,"Febrero",null,null,null,null,{"$f":"((C22*D22)/(E22*F22))*24","v":{"$error":"#DIV/0!"}},{"$f":"AVERAGE(G21:G22)","v":{"$error":"#DIV/0!"}},{"$f":"IF(H22>0,D16/H22,1)","v":{"$error":"#DIV/0!"}}]
[null,"Marzo",null,null,null,null,{"$error":"#DIV/0!"},{"$f":"AVERAGE(G21:G23)","v":{"$error":"#DIV/0!"}},{"$f":"IF(H23>0,D16/H23,1)","v":{"$error":"#DIV/0!"}}]
[null,"Abril",null,null,null,null,{"$error":"#DIV/0!"},{"$f":"AVERAGE(G21:G24)","v":{"$error":"#DIV/0!"}},{"$f":"IF(H24>0,D16/H24,1)","v":{"$error":"#DIV/0!"}}]
[null,"Mayo",null,null,null,null,{"$error":"#DIV/0!"},{"$f":"AVERAGE(G21:G25)","v":{"$error":"#DIV/0!"}},{"$f":"IF(H25>0,D16/H25,1)","v":{"$error":"#DIV/0!"}}]
[null,"Junio",null,null,null,null,{"$error":"#DIV/0!"},{"$f":"AVERAGE(G21:G26)","v":{"$error":"#DIV/0!"}},{"$f":"IF(H26>0,D16/H26,1)","v":{"$error":"#DIV/0!"}}]
[null,"Julio",null,null,null,null,{"$error":"#DIV/0!"},{"$f":"AVERAGE(G21:G27)","v":{"$error":"#DIV/0!"}},{"$f":"IF(H27>0,D16/H27,1)","v":{"$error":"#DIV/0!"}}]
[null,"Agosto",null,null,null,null,{"$error":"#DIV/0!"},{"$f":"AVERAGE(G21:G28)","v":{"$error":"#DIV/0!"}},{"$f":"IF(H28>0,D16/H28,1)","v":{"$error":"#DIV/0!"}}]
[null,"Septiembre",null,null,null,null,{"$error":"#DIV/0!"},{"$f":"AVERAGE(G21:G29)","v":{"$error":"#DIV/0!"}},{"$f":"IF(H29>0,D16/H29,1)","v":{"$error":"#DIV/0!"}}]
[null,"Octubre",null,null,null,null,{"$error":"#DIV/0!"},{"$f":"AVERAGE(G21:G30)","v":{"$error":"#DIV/0!"}},{"$f":"IF(H30>0,D16/H30,1)","v":{"$error":"#DIV/0!"}}]
[null,"Noviembre",null,null,null,null,{"$error":"#DIV/0!"},{"$f":"AVERAGE(G21:G31)","v":{"$error":"#DIV/0!"}},{"$f":"IF(H31>0,D16/H31,1)","v":{"$error":"#DIV/0!"}}]
[null,"Diciembre",null,null,null,null,{"$error":"#DIV/0!"},{"$f":"AVERAGE(G21:G32)","v":{"$error":"#DIV/0!"}},{"$f":"IF(H32>0,D16/H32,1)","v":{"$error":"#DIV/0!"}}]

{"sheet":"IF016_Analisis","index":152,"n_rows":32,"n_cols":10,"rows_kept":32,"cut":false,"hidden":false,"merged":[[14,1,14,2],[14,3,14,9],[15,1,15,2],[15,3,15,9],[16,2,16,5],[16,7,16,9],[11,1,11,2],[11,3,11,9],[12,1,12,2],[12,3,12,9],[13,1,13,2],[13,3,13,9],[10,1,10,2],[10,3,10,9],[1,1,6,2],[1,3,3,7],[1,8,3,8],[1,9,3,9],[4,3,6,7],[4,8,6,9],[7,1,7,9],[8,1,8,2],[8,3,8,7],[9,1,9,2],[9,3,9,8]]}
[]
[null,null,null,"SERVICIUDAD ESP",null,null,null,null,"Código SPFO-21","Versión 01"]
[]
[]
[null,null,null,"FICHA DE ANÁLISIS DEL INDICADOR",null,null,null,null,"PAGINA 01"]
[]
[]
[]
[null,"Nombre del índicador",null,"Cumplimiento Metas en Reducción de Pérdidas -  CMPER",null,null,null,null,"Código: ","IF016"]
[null,"Estilo de cálculo",null,"Promedio"]
[null,"Fórmula de cálculo",null,"(Metap / Realp) x 100"]
[null,"Número de variables",null,2]
[null,"Variables",null,"Metap: Meta establecida por el prestador para el estándar de reducción de pérdidas (IPUF) en el año tarifario p evaluado, siguiendo lo establecido en el TÍTULO IX de la Resolución CRA 688 de 2014, o aquella que la modifique, adicione, sustituya o aclare. \nRealp: Índice de pérdidas por usuario facturado del servicio público domiciliario de acueducto del prestador en el año tarifario p evaluado."]
[null,"Tendencia del indicador",null,"Creciente"]
[null,"Frecuencia de Cálculo y Análisis",null,"Mensual"]
[null,"Meta",null,{"$f":"Indicadores!S20","v":1}]
[null,"Elaboró","Sugerencia de planeación",null,null,null,"Fecha",2020]
[]
[null,"Año Actual"]
[null,"Mes","Variable 1","Variable 2","Indicador","Acumulado","Cumplimiento"]
[null,"Enero",null,null,{"$f":"(C21/D21)*100","v":{"$error":"#DIV/0!"}},{"$f":"AVERAGE(E21:E21)","v":{"$error":"#DIV/0!"}},{"$f":"F21/D16","v":{"$error":"#DIV/0!"}}]
[null,"Febrero",null,null,{"$f":"(C22/D22)*100","v":{"$error":"#DIV/0!"}},{"$f":"AVERAGE(E21:E22)","v":{"$error":"#DIV/0!"}},{"$f":"F22/D16","v":{"$error":"#DIV/0!"}}]
[null,"Marzo",null,null,{"$error":"#DIV/0!"},{"$f":"AVERAGE(E21:E23)","v":{"$error":"#DIV/0!"}},{"$f":"F23/D16","v":{"$error":"#DIV/0!"}}]
[null,"Abril",null,null,{"$error":"#DIV/0!"},{"$f":"AVERAGE(E21:E24)","v":{"$error":"#DIV/0!"}},{"$f":"F24/D16","v":{"$error":"#DIV/0!"}}]
[null,"Mayo",null,null,{"$error":"#DIV/0!"},{"$f":"AVERAGE(E21:E25)","v":{"$error":"#DIV/0!"}},{"$f":"F25/D16","v":{"$error":"#DIV/0!"}}]
[null,"Junio",null,null,{"$error":"#DIV/0!"},{"$f":"AVERAGE(E21:E26)","v":{"$error":"#DIV/0!"}},{"$f":"F26/D16","v":{"$error":"#DIV/0!"}}]
[null,"Julio",null,null,{"$error":"#DIV/0!"},{"$f":"AVERAGE(E21:E27)","v":{"$error":"#DIV/0!"}},{"$f":"F27/D16","v":{"$error":"#DIV/0!"}}]
[null,"Agosto",null,null,{"$error":"#DIV/0!"},{"$f":"AVERAGE(E21:E28)","v":{"$error":"#DIV/0!"}},{"$f":"F28/D16","v":{"$error":"#DIV/0!"}}]
[null,"Septiembre",null,null,{"$error":"#DIV/0!"},{"$f":"AVERAGE(E21:E29)","v":{"$error":"#DIV/0!"}},{"$f":"F29/D16","v":{"$error":"#DIV/0!"}}]
[null,"Octubre",null,null,{"$error":"#DIV/0!"},{"$f":"AVERAGE(E21:E30)","v":{"$error":"#DIV/0!"}},{"$f":"F30/D16","v":{"$error":"#DIV/0!"}}]
[null,"Noviembre",null,null,{"$error":"#DIV/0!"},{"$f":"AVERAGE(E21:E31)","v":{"$error":"#DIV/0!"}},{"$f":"F31/D16","v":{"$error":"#DIV/0!"}}]
[null,"Diciembre",null,null,{"$error":"#DIV/0!"},{"$f":"AVERAGE(E21:E32)","v":{"$error":"#DIV/0!"}},{"$f":"F32/D16","v":{"$error":"#DIV/0!"}}]

{"sheet":"IF017_Analisis","index":153,"n_rows":46,"n_cols":10,"rows_kept":46,"cut":false,"hidden":false,"merged":[[15,1,15,2],[15,3,15,9],[16,2,16,5],[16,7,16,9],[12,1,12,2],[12,3,12,9],[13,1,13,2],[13,3,13,9],[14,1,14,2],[14,3,14,9],[18,1,18,6],[10,1,10,2],[10,3,10,9],[1,1,6,2],[1,3,3,7],[1,8,3,8],[1,9,3,9],[4,3,6,7],[4,8,6,9],[7,1,7,9],[8,1,8,2],[8,3,8,7],[9,1,9,2],[9,3,9,8],[11,1,11,2],[11,3,11,9]]}
[]
[null,null,null,"SERVICIUDAD ESP",null,null,null,null,"Código SPFO-21","Versión 01"]
[]
[]
[null,null,null,"FICHA DE ANÁLISIS DEL INDICADOR",null,null,null,null,"PAGINA 01"]
[]
[]
[]
[null,"Nombre del índicador",null,"IANC",null,null,null,null,"Código: ","IF017"]
[null,"Estilo de cálculo",null,"Suma de componentes"]
[null,"Fórmula de cálculo",null,"M3 comprados-M3 factrados/M3 comprados*100"]
[null,"Número de variables",null,2]
[null,"Variables",null,"Volumen Producido: Volumen de agua ( m3 ) que la entidad introdujo al sistema de distribución durante los últimos doce meses, medida a la salida de tanques de almacenamiento, menos desperdicios por mantenimiento.\nVolumen Facturado: Volumen de agua  que la empresa facturó durante los últimos doce meses.\n"]
[null,"Tendencia del indicador",null,"Decreciente"]
[null,"Frecuencia de Cálculo y Análisis",null,"Mensual"]
[null,"Meta",null,{"$f":"Indicadores!S21","v":0.5}]
[null,"Elaboró","Sugerencia de planeación",null,null,null,"Fecha",2020]
[]
[null,"Año Actual 2020"]
[null,"Mes","Suministro \nTotal","Perdidas","Indicador","Acumulado","Cumplimiento"]
[null,"Enero",1259248,611513,{"$f":"D21/C21","v":0.48561760669860105},{"$f":"SUM(D21:D21)/SUM(C21:C21)","v":0.48561760669860105},{"$f":"IF(F21>0,D16/F21,1)","v":1.0296167047961369}]
[null,"Febrero",1115246,498514,{"$f":"D22/C22","v":0.44699913741004227},{"$f":"SUM(D21:D22)/SUM(C21:C22)","v":0.4674793871873334},{"$f":"IF(F22>0,D16/F22,1)","v":1.0695658754246518}]
[null,"Marzo",1163731,524219,0.45046406772699188,{"$f":"SUM(D21:D23)/SUM(C21:C23)","v":0.46188300630966089},{"$f":"IF(F23>0,D16/F23,1)","v":1.0825252134623551}]
[null,"Abril",1098751,515145,0.46884598967372954,{"$f":"SUM(D21:D24)/SUM(C21:C24)","v":0.46353291455465806},{"$f":"IF(F24>0,D16/F24,1)","v":1.0786720517579165}]
[null,"Mayo",1165577,544740,0.46735651098125647,{"$f":"SUM(D21:D25)/SUM(C21:C25)","v":0.46430097234786138},{"$f":"IF(F25>0,D16/F25,1)","v":1.0768876866046972}]
[null,"Junio",1164766,549665,0.4719102377644952,{"$f":"SUM(D21:D26)/SUM(C21:C26)","v":0.46557305614971844},{"$f":"IF(F26>0,D16/F26,1)","v":1.0739453097543741}]
[null,"Julio",1239442,587289,0.47383338631416394,{"$f":"SUM(D21:D27)/SUM(C21:C27)","v":0.46682058853669556},{"$f":"IF(F27>0,D16/F27,1)","v":1.0710752959018137}]
[null,"Agosto",1216771,555418,0.45646880144250646,{"$f":"SUM(D21:D28)/SUM(C21:C28)","v":0.46548396079092214},{"$f":"IF(F28>0,D16/F28,1)","v":1.0741508668750483}]
[null,"Septiembre",1231700,589614,0.47869935861005114,{"$f":"SUM(D21:D29)/SUM(C21:C29)","v":0.46701160519076451},{"$f":"IF(F29>0,D16/F29,1)","v":1.0706372056766349}]
[null,"Octubre",1241262,580703,0.46783273797151609,{"$f":"SUM(D21:D30)/SUM(C21:C30)","v":0.46709728092999503},{"$f":"IF(F30>0,D16/F30,1)","v":1.0704408276676227}]
[null,"Noviembre",1187812,545540,0.45928143510925973,{"$f":"SUM(D21:D31)/SUM(C21:C31)","v":0.46638774727524718},{"$f":"IF(F31>0,D16/F31,1)","v":1.0720693305540807}]
[null,"Diciembre",1234517,563517,0.45646759015874222,{"$f":"SUM(D21:D32)/SUM(C21:C32)","v":0.46553246729846443},{"$f":"IF(F32>0,D16/F32,1)","v":1.074038944913025}]
[]
[]
[null,null,{"$f":"C21-D21","v":647735}]
[null,null,{"$f":"C22-D22","v":616732}]
[null,null,{"$f":"C23-D23","v":639512}]
[null,null,{"$f":"C24-D24","v":583606}]
[null,null,{"$f":"C25-D25","v":620837}]
[null,null,{"$f":"C26-D26","v":615101}]
[null,null,{"$f":"C27-D27","v":652153}]
[null,null,661353]
[null,null,642086]
[null,null,660559]
[null,null,642272]
[null,null,671000]

{"sheet":"IF018_Analisis","index":154,"n_rows":32,"n_cols":10,"rows_kept":32,"cut":false,"hidden":false,"merged":[[15,1,15,2],[15,3,15,9],[16,2,16,5],[16,7,16,9],[12,1,12,2],[12,3,12,9],[13,1,13,2],[13,3,13,9],[14,1,14,2],[14,3,14,9],[18,1,18,6],[10,1,10,2],[10,3,10,9],[1,1,6,2],[1,3,3,7],[1,8,3,8],[1,9,3,9],[4,3,6,7],[4,8,6,9],[7,1,7,9],[8,1,8,2],[8,3,8,7],[9,1,9,2],[9,3,9,8],[11,1,11,2],[11,3,11,9]]}
[]
[null,null,null,"SERVICIUDAD ESP",null,null,null,null,"Código SPFO-21","Versión 01"]
[]
[]
[null,null,null,"FICHA DE ANÁLISIS DEL INDICADOR",null,null,null,null,"PAGINA 01"]
[]
[]
[]
[null,"Nombre del índicador",null,"IANC villa santana",null,null,null,null,"Código: ","IF018"]
[null,"Estilo de cálculo",null,"Suma de componentes"]
[null,"Fórmula de cálculo",null,"(M3 Agua cruda entrante a PTAP Villasantana-M3 agua tratada saliente )/M3 Agua cruda entrante"]
[null,"Número de variables",null,2]
[null,"Variables"]
[null,"Tendencia del indicador",null,"Decreciente"]
[null,"Frecuencia de Cálculo y Análisis",null,"Mensual"]
[null,"Meta",null,{"$f":"Indicadores!S22","v":0.05}]
[null,"Elaboró","Sugerencia de planeación",null,null,null,"Fecha",2020]
[]
[null,"Año Actual 2020"]
[null,"Mes","Agua \nCruda \nComprada","Agua \nTratada Saliente","Indicador","Acumulado","Cumplimiento"]
[null,"Enero",897.54300000000001,862.029,{"$f":"(C21-D21)/C21","v":3.9568020696501463E-2},{"$f":"(SUM(C21:C21)-SUM(D21:D21))/SUM(C21:C21)","v":3.9568020696501463E-2},{"$f":"IF(F21>0,D16/F21,1)","v":1.2636467308667001}]
[null,"Febrero",865.80100000000004,773.89700000000005,{"$f":"(C22-D22)/C22","v":0.10614910354688895},{"$f":"(SUM(C21:C22)-SUM(D21:D22))/SUM(C21:C22)","v":7.2259298242430353E-2},{"$f":"IF(F22>0,D16/F22,1)","v":0.69195247139336613}]
[null,"Marzo",927.88300000000004,787.84799999999996,0.15091881196228413,{"$f":"(SUM(C21:C23)-SUM(D21:D23))/SUM(C21:C23)","v":9.9379576676363601E-2},{"$f":"IF(F23>0,D16/F23,1)","v":0.50312148302692439}]
[null,"Abril",867.41899999999998,766.42200000000003,0.11643392639543285,{"$f":"(SUM(C21:C24)-SUM(D21:D24))/SUM(C21:C24)","v":0.1035365698077302},{"$f":"IF(F24>0,D16/F24,1)","v":0.48292115619487064}]
[null,"Mayo",905.78499999999997,826.53800000000001,8.7489856864487667E-2,{"$f":"(SUM(C21:C25)-SUM(D21:D25))/SUM(C21:C25)","v":0.10028086445954697},{"$f":"IF(F25>0,D16/F25,1)","v":0.49859961089754934}]
[null,"Junio",931.74099999999999,846.822,9.1140134436501111E-2,{"$f":"(SUM(C21:C26)-SUM(D21:D26))/SUM(C21:C26)","v":9.8702561741916314E-2},{"$f":"IF(F26>0,D16/F26,1)","v":0.50657246496537844}]
[null,"Julio",988147,893049,9.6238717518749739E-2,{"$f":"(SUM(C21:C27)-SUM(D21:D27))/SUM(C21:C27)","v":9.6252099249492948E-2},{"$f":"IF(F27>0,D16/F27,1)","v":0.51946918965783906}]
[null,"Agosto",963198,879169,8.7239591444334394E-2,{"$f":"(SUM(C21:C28)-SUM(D21:D28))/SUM(C21:C28)","v":9.181572840130342E-2},{"$f":"IF(F28>0,D16/F28,1)","v":0.54456900653733964}]
[null,"Septiembre",942314,907787.78100000019,3.6639823880362396E-2,{"$f":"(SUM(C21:C29)-SUM(D21:D29))/SUM(C21:C29)","v":7.3881255199512968E-2},{"$f":"IF(F29>0,D16/F29,1)","v":0.67676164765984659}]
[null,"Octubre",972425,935637,3.7831195207856647E-2,{"$f":"(SUM(C21:C30)-SUM(D21:D30))/SUM(C21:C30)","v":6.4826325810767957E-2},{"$f":"IF(F30>0,D16/F30,1)","v":0.77129159141230808}]
[null,"Noviembre",956257,873756,8.6274924000556336E-2,{"$f":"(SUM(C21:C31)-SUM(D21:D31))/SUM(C21:C31)","v":6.9074770046325951E-2},{"$f":"IF(F31>0,D16/F31,1)","v":0.72385329645638796}]
[null,"Diciembre",1014874,917548,9.5899589505692329E-2,{"$f":"(SUM(C21:C32)-SUM(D21:D32))/SUM(C21:C32)","v":7.3734298298774412E-2},{"$f":"IF(F32>0,D16/F32,1)","v":0.67811047441447048}]

{"sheet":"IF019_Analisis","index":155,"n_rows":32,"n_cols":10,"rows_kept":32,"cut":false,"hidden":false,"merged":[[15,1,15,2],[15,3,15,9],[16,2,16,5],[16,7,16,9],[12,1,12,2],[12,3,12,9],[13,1,13,2],[13,3,13,9],[14,1,14,2],[14,3,14,9],[18,1,18,6],[10,1,10,2],[10,3,10,9],[1,1,6,2],[1,3,3,7],[1,8,3,8],[1,9,3,9],[4,3,6,7],[4,8,6,9],[7,1,7,9],[8,1,8,2],[8,3,8,7],[9,1,9,2],[9,3,9,8],[11,1,11,2],[11,3,11,9]]}
[]
[null,null,null,"SERVICIUDAD ESP",null,null,null,null,"Código SPFO-21","Versión 01"]
[]
[]
[null,null,null,"FICHA DE ANÁLISIS DEL INDICADOR",null,null,null,null,"PAGINA 01"]
[]
[]
[]
[null,"Nombre del índicador",null,"IPUF",null,null,null,null,"Código: ","IF019"]
[null,"Estilo de cálculo",null,"Suma de componentes"]
[null,"Fórmula de cálculo",null,"Perdidas en M3 mes/Número de suscriptores mes"]
[null,"Número de variables",null,2]
[null,"Variables",null,"Pérdidas en m3: m3 Comprados - m3 facturados. Número de suscriptores mes: Suscriptores comerciales del servicio de acueducto"]
[null,"Tendencia del indicador",null,"Decreciente"]
[null,"Frecuencia de Cálculo y Análisis",null,"Mensual"]
[null,"Meta",null,{"$f":"Indicadores!S23","v":11.21}]
[null,"Elaboró","Sugerencia de planeación",null,null,null,"Fecha",2020]
[]
[null,"Año Actual 2020"]
[null,"Mes","Perdidas","Suscriptores\n Acueducto","Indicador","Acumulado","Cumplimiento"]
[null,"Enero",611512,56716,{"$f":"C21/D21","v":10.78200155159038},{"$f":"SUM(C21:C39)/SUM(D21:D39)","v":9.6642894527381937},{"$f":"IF(F21>0,D16/F21,1)","v":1.1599404234342194}]
[null,"Febrero",498514,56766,{"$f":"C22/D22","v":8.7819117077123625},{"$f":"SUM(C21:C39)/SUM(D21:D39)","v":9.6642894527381937},{"$f":"IF(F22>0,D16/F22,1)","v":1.1599404234342194}]
[null,"Marzo",524219,56863,9.2189824666303224,{"$f":"SUM(C21:C39)/SUM(D21:D39)","v":9.6642894527381937},{"$f":"IF(F23>0,D16/F23,1)","v":1.1599404234342194}]
[null,"Abril",515145,56885,9.0559022589434832,{"$f":"SUM(C21:C39)/SUM(D21:D39)","v":9.6642894527381937},{"$f":"IF(F24>0,D16/F24,1)","v":1.1599404234342194}]
[null,"Mayo",544740,56902,9.5733014656778312,{"$f":"SUM(C21:C39)/SUM(D21:D39)","v":9.6642894527381937},{"$f":"IF(F25>0,D16/F25,1)","v":1.1599404234342194}]
[null,"Junio",549665,56939,9.653576634644093,{"$f":"SUM(C21:C39)/SUM(D21:D39)","v":9.6642894527381937},{"$f":"IF(F26>0,D16/F26,1)","v":1.1599404234342194}]
[null,"Julio",587289,57178,10.271240686977508,{"$f":"SUM(C21:C39)/SUM(D21:D39)","v":9.6642894527381937},{"$f":"IF(F27>0,D16/F27,1)","v":1.1599404234342194}]
[null,"Agosto",555418,57336,9.6870726942932883,{"$f":"SUM(C21:C39)/SUM(D21:D39)","v":9.6642894527381937},{"$f":"IF(F28>0,D16/F28,1)","v":1.1599404234342194}]
[null,"Septiembre",589614,57568,10.242044191217342,{"$f":"SUM(C21:C39)/SUM(D21:D39)","v":9.6642894527381937},{"$f":"IF(F29>0,D16/F29,1)","v":1.1599404234342194}]
[null,"Octubre",580703,58320,9.9571844993141294,{"$f":"SUM(C21:C39)/SUM(D21:D39)","v":9.6642894527381937},{"$f":"IF(F30>0,D16/F30,1)","v":1.1599404234342194}]
[null,"Noviembre",545540,58966,9.2517722077129196,{"$f":"SUM(C21:C39)/SUM(D21:D39)","v":9.6642894527381937},{"$f":"IF(F31>0,D16/F31,1)","v":1.1599404234342194}]
[null,"Diciembre",563517,59304,9.5021752326993116,{"$f":"SUM(C21:C39)/SUM(D21:D39)","v":9.6642894527381937},{"$f":"IF(F32>0,D16/F32,1)","v":1.1599404234342194}]

{"sheet":"IF020_Analisis","index":156,"n_rows":32,"n_cols":10,"rows_kept":32,"cut":false,"hidden":false,"merged":[[15,1,15,2],[15,3,15,9],[16,2,16,5],[16,7,16,9],[12,1,12,2],[12,3,12,9],[13,1,13,2],[13,3,13,9],[14,1,14,2],[14,3,14,9],[18,1,18,6],[10,1,10,2],[10,3,10,9],[1,1,6,2],[1,3,3,7],[1,8,3,8],[1,9,3,9],[4,3,6,7],[4,8,6,9],[7,1,7,9],[8,1,8,2],[8,3,8,7],[9,1,9,2],[9,3,9,8],[11,1,11,2],[11,3,11,9]]}
[]
[null,null,null,"SERVICIUDAD ESP",null,null,null,null,"Código SPFO-21","Versión 01"]
[]
[]
[null,null,null,"FICHA DE ANÁLISIS DEL INDICADOR",null,null,null,null,"PAGINA 01"]
[]
[]
[]
[null,"Nombre del índicador",null,"ISUF ",null,null,null,null,"Código: ","IF020"]
[null,"Estilo de cálculo",null,"Suma de componentes"]
[null,"Fórmula de cálculo",null,"Suministro en M3 mes/Número de suscriptores mes"]
[null,"Número de variables",null,2]
[null,"Variables",null,"Suministro en m3: Metros cúbicos comprados de la empresa. Número de suscriptores mes: Suscriptores comerciales del servicio de acueducto.\nSuscriptores totales de acueducto del mes"]
[null,"Tendencia del indicador",null,"Decreciente"]
[null,"Frecuencia de Cálculo y Análisis",null,"Mensual"]
[null,"Meta",null,{"$f":"Indicadores!S24","v":24.1}]
[null,"Elaboró","Sugerencia de planeación",null,null,null,"Fecha",2020]
[]
[null,"Año Actual 2020"]
[null,"Mes","M3 \nComprados","No. De \nSuscriptores","Indicador","Acumulado","Cumplimiento"]
[null,"Enero",1259248,56716,{"$f":"C21/D21","v":22.202694125114608},{"$f":"SUM(C21:C40)/SUM(D21:D26)","v":41.981942176262422},{"$f":"IF(F21>0,D16/F21,1)","v":0.57405633828981617}]
[null,"Febrero",1115246,56766,{"$f":"C22/D22","v":19.646372828805976},{"$f":"SUM(C21:C40)/SUM(D21:D26)","v":41.981942176262422},{"$f":"IF(F22>0,D16/F22,1)","v":0.57405633828981617}]
[null,"Marzo",1163731,56863,20.465522395934087,{"$f":"SUM(C21:C40)/SUM(D21:D26)","v":41.981942176262422},{"$f":"IF(F23>0,D16/F23,1)","v":0.57405633828981617}]
[null,"Abril",1098751,56885,{"$f":"C24/D24","v":19.315302803902611},{"$f":"SUM(C21:C40)/SUM(D21:D26)","v":41.981942176262422},{"$f":"IF(F24>0,D16/F24,1)","v":0.57405633828981617}]
[null,"Mayo",1165577,56902,{"$f":"C25/D25","v":20.483937295701381},{"$f":"SUM(C21:C40)/SUM(D21:D26)","v":41.981942176262422},{"$f":"IF(F25>0,D16/F25,1)","v":0.57405633828981617}]
[null,"Junio",1164766,56939,20.456383146876483,{"$f":"SUM(C21:C40)/SUM(D21:D26)","v":41.981942176262422},{"$f":"IF(F26>0,D16/F26,1)","v":0.57405633828981617}]
[null,"Julio",1239442,57178,21.676903704221903,{"$f":"SUM(C21:C40)/SUM(D21:D26)","v":41.981942176262422},{"$f":"IF(F27>0,D16/F27,1)","v":0.57405633828981617}]
[null,"Agosto",1216771,57336,21.221762941258547,{"$f":"SUM(C21:C40)/SUM(D21:D26)","v":41.981942176262422},{"$f":"IF(F28>0,D16/F28,1)","v":0.57405633828981617}]
[null,"Septiembre",1231700,57568,21.395566981656476,{"$f":"SUM(C21:C40)/SUM(D21:D26)","v":41.981942176262422},{"$f":"IF(F29>0,D16/F29,1)","v":0.57405633828981617}]
[null,"Octubre",1241262,58320,21.28364197530864,{"$f":"SUM(C21:C40)/SUM(D21:D26)","v":41.981942176262422},{"$f":"IF(F30>0,D16/F30,1)","v":0.57405633828981617}]
[null,"Noviembre",1187812,58966,20.144015195197234,{"$f":"SUM(C21:C40)/SUM(D21:D26)","v":41.981942176262422},{"$f":"IF(F31>0,D16/F31,1)","v":0.57405633828981617}]
[null,"Diciembre",1234517,59304,20.816757722919196,{"$f":"SUM(C21:C40)/SUM(D21:D26)","v":41.981942176262422},{"$f":"IF(F32>0,D16/F32,1)","v":0.57405633828981617}]

{"sheet":"IF021_Analisis","index":157,"n_rows":45,"n_cols":10,"rows_kept":45,"cut":false,"hidden":false,"merged":[[15,1,15,2],[15,3,15,9],[16,2,16,5],[16,7,16,9],[12,1,12,2],[12,3,12,9],[13,1,13,2],[13,3,13,9],[14,1,14,2],[14,3,14,9],[18,1,18,6],[10,1,10,2],[10,3,10,9],[1,1,6,2],[1,3,3,7],[1,8,3,8],[1,9,3,9],[4,3,6,7],[4,8,6,9],[7,1,7,9],[8,1,8,2],[8,3,8,7],[9,1,9,2],[9,3,9,8],[11,1,11,2],[11,3,11,9]]}
[]
[null,null,null,"SERVICIUDAD ESP",null,null,null,null,"Código \nSPFO-21","Versión \n01"]
[]
[]
[null,null,null,"FICHA DE ANÁLISIS DEL INDICADOR",null,null,null,null,"PAGINA \n01"]
[]
[]
[]
[null,"Nombre del índicador",null,"ICUF",null,null,null,null,"Código: ","IF021"]
[null,"Estilo de cálculo",null,"Suma de componentes"]
[null,"Fórmula de cálculo",null,"Facturación en M3 mes/Número de suscriptores mes"]
[null,"Número de variables",null,2]
[null,"Variables",null,"Valor Facturado en metros cúbicos de acueducto del mes\nSuscriptores totales de acueducto del mes"]
[null,"Tendencia del indicador",null,"Creciente"]
[null,"Frecuencia de Cálculo y Análisis",null,"Mensual"]
[null,"Meta",null,{"$f":"Indicadores!S25","v":12.89}]
[null,"Elaboró","Sugerencia de planeación",null,null,null,"Fecha",2020]
[]
[null,"Año Actual 2020"]
[null,"Mes","Auga\nFacturada","Número de Suscriptores","Indicador","Acumulado","Cumplimiento"]
[null,"Enero",647735,56716,{"$f":"C21/D21","v":11.42067494181536},{"$f":"SUM(C21:C41)/SUM(D21:D41)","v":18.398120749322572},{"$f":"F21/D16","v":1.4273173583648233}]
[null,"Febrero",616732,56766,{"$f":"C22/D22","v":10.864461121093612},{"$f":"SUM(C21:C41)/SUM(D21:D41)","v":18.398120749322572},{"$f":"F22/D16","v":1.4273173583648233}]
[null,"Marzo",639512,56863,11.246539929303765,{"$f":"SUM(C21:C41)/SUM(D21:D41)","v":18.398120749322572},{"$f":"F23/D16","v":1.4273173583648233}]
[null,"Abril",583606,56885,10.259400544959128,{"$f":"SUM(C21:C41)/SUM(D21:D41)","v":18.398120749322572},{"$f":"F24/D16","v":1.4273173583648233}]
[null,"Mayo",620837,56902,{"$f":"C25/D25","v":10.91063583002355},{"$f":"SUM(C21:C41)/SUM(D21:D41)","v":18.398120749322572},{"$f":"F25/D16","v":1.4273173583648233}]
[null,"Junio",615101,56939,10.802806512232388,{"$f":"SUM(C21:C41)/SUM(D21:D41)","v":18.398120749322572},{"$f":"F26/D16","v":1.4273173583648233}]
[null,"Julio",652153,57178,11.405663017244395,{"$f":"SUM(C21:C41)/SUM(D21:D41)","v":18.398120749322572},{"$f":"F27/D16","v":1.4273173583648233}]
[null,"Agosto",661353,57336,11.534690246965257,{"$f":"SUM(C21:C41)/SUM(D21:D41)","v":18.398120749322572},{"$f":"F28/D16","v":1.4273173583648233}]
[null,"Septiembre",642086,57568,11.153522790439133,{"$f":"SUM(C21:C41)/SUM(D21:D41)","v":18.398120749322572},{"$f":"F29/D16","v":1.4273173583648233}]
[null,"Octubre",660559,58320,11.326457475994513,{"$f":"SUM(C21:C41)/SUM(D21:D41)","v":18.398120749322572},{"$f":"F30/D16","v":1.4273173583648233}]
[null,"Noviembre",642272,58966,10.892242987484313,{"$f":"SUM(C21:C41)/SUM(D21:D41)","v":18.398120749322572},{"$f":"F31/D16","v":1.4273173583648233}]
[null,"Diciembre",671000,59304,11.314582490219884,{"$f":"SUM(C21:C41)/SUM(D21:D41)","v":18.398120749322572},{"$f":"F32/D16","v":1.4273173583648233}]
[]
[null,null,647735]
[null,null,616732]
[null,null,639512]
[null,null,583606]
[null,null,620837]
[null,null,615101]
[null,null,652153]
[null,null,661353]
[null,null,642086]
[null,null,660559]
[null,null,642272]
[null,null,671000]

{"sheet":"IF022_Analisis","index":158,"n_rows":32,"n_cols":10,"rows_kept":32,"cut":false,"hidden":false,"merged":[[18,1,18,6],[14,1,14,2],[14,3,14,9],[15,1,15,2],[15,3,15,9],[16,2,16,5],[16,7,16,9],[11,1,11,2],[11,3,11,9],[12,1,12,2],[12,3,12,9],[13,1,13,2],[13,3,13,9],[10,1,10,2],[10,3,10,9],[1,1,6,2],[1,3,3,7],[1,8,3,8],[1,9,3,9],[4,3,6,7],[4,8,6,9],[7,1,7,9],[8,1,8,2],[8,3,8,7],[9,1,9,2],[9,3,9,8]]}
[]
[null,null,null,"SERVICIUDAD ESP",null,null,null,null,"Código SPFO-21","Versión 01"]
[]
[]
[null,null,null,"FICHA DE ANÁLISIS DEL INDICADOR",null,null,null,null,"PAGINA 01"]
[]
[]
[]
[null,"Nombre del índicador",null,"Continuidad acueducto (ICTAC)",null,null,null,null,"Código: ","IF022"]
[null,"Estilo de cálculo",null,"Promedio"]
[null,"Fórmula de cálculo",null,"1-(Imm+Inn)"]
[null,"Número de variables",null,2]
[null,"Variables",null,"Registro sobre tiempo de suspensión del servicio y registro de suscriptores donde: \nlmn: lpm-lpmmax Si lpm>=lpmmax\nlmn: 0 Si lpm<lpmmax\nlpmmax: máximo permisible para las suspensiones programas\nlp=∑30-i=1 ∑ n-j=1  lm*Clm/30*24*Clt\nlpm: promedio ponderado de suspensiones avisadas"]
[null,"Tendencia del indicador",null,"Creciente"]
[null,"Frecuencia de Cálculo y Análisis",null,"Mensual"]
[null,"Meta",null,{"$f":"Indicadores!S26","v":0.98360000000000003}]
[null,"Elaboró","Sugerencia de planeación",null,null,null,"Fecha",2020]
[]
[null,"Año Actual 2020"]
[null,"Mes","Imm","Inn","Indicador","Acumulado","Cumplimiento"]
[null,"Enero",0,1.2568471518195187E-3,{"$f":"1-(C21+D21)","v":0.99874315284818049},{"$f":"AVERAGE(E21:E21)","v":0.99874315284818049},{"$f":"F21/D16","v":1.0153956413665925}]
[null,"Febrero",0,1.7121822263644411E-3,{"$f":"1-(C22+D22)","v":0.99828781777363551},{"$f":"AVERAGE(E21:E22)","v":0.99851548531090795},{"$f":"F22/D16","v":1.0151641778272753}]
[null,"Marzo",0,1.8306152423753013E-3,0.99816938475762473,{"$f":"AVERAGE(E21:E23)","v":0.99840011845981358},{"$f":"F23/D16","v":1.0150468874133931}]
[null,"Abril",0,5.3139270074131263E-4,0.99946860729925868,{"$f":"AVERAGE(E21:E24)","v":0.99866724066967483},{"$f":"F24/D16","v":1.0153184634705925}]
[null,"Mayo",0,1.0506149394368229E-3,0.99894938506056319,{"$f":"AVERAGE(E21:E25)","v":0.99872366954785252},{"$f":"F25/D16","v":1.0153758332125382}]
[null,"Junio",0,1.3564549401871235E-3,0.9986435450598129,{"$f":"AVERAGE(E21:E26)","v":0.99871031546651257},{"$f":"F26/D16","v":1.0153622564726643}]
[null,"Julio",0,5.7170215572509612E-4,0.99942829784427489,{"$f":"AVERAGE(E21:E27)","v":0.9988128843776215},{"$f":"F27/D16","v":1.015466535560819}]
[null,"Agosto",0,2.9206396186739867E-3,0.99707936038132605,{"$f":"AVERAGE(E21:E28)","v":0.99859619387808451},{"$f":"F28/D16","v":1.0152462320842666}]
[null,"Septiembre",0,4.2634731952247732E-3,0.9957365268047752,{"$f":"AVERAGE(E21:E29)","v":0.99827845309216123},{"$f":"F29/D16","v":1.0149231934649869}]
[null,"Octubre",0,2.1746262695423943E-3,0.99782537373045765,{"$f":"AVERAGE(E21:E30)","v":0.99823314515599082},{"$f":"F30/D16","v":1.0148771300894579}]
[null,"Noviembre",0,1.3233559630024662E-3,0.99867664403699752,{"$f":"AVERAGE(E21:E31)","v":0.99827346323608235},{"$f":"F31/D16","v":1.0149181204108197}]
[null,"Diciembre",0,1.2927386396580909E-3,0.99870726136034194,{"$f":"AVERAGE(E21:E32)","v":0.99830961307977073},{"$f":"F32/D16","v":1.0149548729969202}]

{"sheet":"IF023_Analisis","index":159,"n_rows":32,"n_cols":10,"rows_kept":32,"cut":false,"hidden":false,"merged":[[14,1,14,2],[14,3,14,9],[15,1,15,2],[15,3,15,9],[16,2,16,5],[16,7,16,9],[11,1,11,2],[11,3,11,9],[12,1,12,2],[12,3,12,9],[13,1,13,2],[13,3,13,9],[10,1,10,2],[10,3,10,9],[1,1,6,2],[1,3,3,7],[1,8,3,8],[1,9,3,9],[4,3,6,7],[4,8,6,9],[7,1,7,9],[8,1,8,2],[8,3,8,7],[9,1,9,2],[9,3,9,8]]}
[]
[null,null,null,"SERVICIUDAD ESP",null,null,null,null,"Código SPFO-21","Versión 01"]
[]
[]
[null,null,null,"FICHA DE ANÁLISIS DEL INDICADOR",null,null,null,null,"PAGINA 01"]
[]
[]
[]
[null,"Nombre del índicador",null,"Indicador de continuidad (ICON)",null,null,null,null,"Código: ","IF023"]
[null,"Estilo de cálculo",null,"Último dato"]
[null,"Fórmula de cálculo",null,"1-((Σ Hi*Si)/(S*(Σ dci -(m+dfm)))"]
[null,"Número de variables",null,3]
[null,"Variables",null,"Hi: Tiempo de discontinuidad del servicio. Si: Suscriptores afectados por la discontinuidad. S: Suscriptores totales de acueducto. Dci: Días calendario del mes. M: número del mes actual. Dfm: Discontinuidad máxima permitida mensual. Actualmente ésta variable toma el valor de 0,5."]
[null,"Tendencia del indicador",null,"Creciente"]
[null,"Frecuencia de Cálculo y Análisis",null,"Mensual"]
[null,"Meta",null,{"$f":"Indicadores!S27","v":0.98360000000000003}]
[null,"Elaboró","Sugerencia de planeación",null,null,null,"Fecha",2020]
[]
[null,"Año Actual"]
[null,"Mes","Variable 1","Variable 2","Variable 3","Indicador","Acumulado","Cumplimiento"]
[null,"Enero",null,null,null,{"$f":"1-(C21/(D21*E21))","v":{"$error":"#DIV/0!"}},{"$f":"F21","v":{"$error":"#DIV/0!"}},{"$f":"G21/D16","v":{"$error":"#DIV/0!"}}]
[null,"Febrero",null,null,null,{"$f":"1-(C22/(D22*E22))","v":{"$error":"#DIV/0!"}},{"$error":"#DIV/0!"},{"$f":"G22/D16","v":{"$error":"#DIV/0!"}}]
[null,"Marzo",null,null,null,{"$error":"#DIV/0!"},{"$error":"#DIV/0!"},{"$f":"G23/D16","v":{"$error":"#DIV/0!"}}]
[null,"Abril",null,null,null,{"$error":"#DIV/0!"},{"$error":"#DIV/0!"},{"$f":"G24/D16","v":{"$error":"#DIV/0!"}}]
[null,"Mayo",null,null,null,{"$error":"#DIV/0!"},{"$error":"#DIV/0!"},{"$f":"G25/D16","v":{"$error":"#DIV/0!"}}]
[null,"Junio",null,null,null,{"$error":"#DIV/0!"},{"$error":"#DIV/0!"},{"$f":"G26/D16","v":{"$error":"#DIV/0!"}}]
[null,"Julio",null,null,null,{"$error":"#DIV/0!"},{"$error":"#DIV/0!"},{"$f":"G27/D16","v":{"$error":"#DIV/0!"}}]
[null,"Agosto",null,null,null,{"$error":"#DIV/0!"},{"$error":"#DIV/0!"},{"$f":"G28/D16","v":{"$error":"#DIV/0!"}}]
[null,"Septiembre",null,null,null,{"$error":"#DIV/0!"},{"$error":"#DIV/0!"},{"$f":"G29/D16","v":{"$error":"#DIV/0!"}}]
[null,"Octubre",null,null,null,{"$error":"#DIV/0!"},{"$error":"#DIV/0!"},{"$f":"G30/D16","v":{"$error":"#DIV/0!"}}]
[null,"Noviembre",null,null,null,{"$error":"#DIV/0!"},{"$error":"#DIV/0!"},{"$f":"G31/D16","v":{"$error":"#DIV/0!"}}]
[null,"Diciembre",null,null,null,{"$error":"#DIV/0!"},{"$error":"#DIV/0!"},{"$f":"G32/D16","v":{"$error":"#DIV/0!"}}]

{"sheet":"IF024_Analisis","index":160,"n_rows":32,"n_cols":10,"rows_kept":32,"cut":false,"hidden":false,"merged":[[14,1,14,2],[14,3,14,9],[15,1,15,2],[15,3,15,9],[16,2,16,5],[16,7,16,9],[11,1,11,2],[11,3,11,9],[12,1,12,2],[12,3,12,9],[13,1,13,2],[13,3,13,9],[10,1,10,2],[10,3,10,9],[1,1,6,2],[1,3,3,7],[1,8,3,8],[1,9,3,9],[4,3,6,7],[4,8,6,9],[7,1,7,9],[8,1,8,2],[8,3,8,7],[9,1,9,2],[9,3,9,8]]}
[]
[null,null,null,"SERVICIUDAD ESP",null,null,null,null,"Código SPFO-21","Versión 01"]
[]
[]
[null,null,null,"FICHA DE ANÁLISIS DEL INDICADOR",null,null,null,null,"PAGINA 01"]
[]
[]
[]
[null,"Nombre del índicador",null,"Cobertura real de mercado (ICBNAC)",null,null,null,null,"Código: ","IF024"]
[null,"Estilo de cálculo",null,"Último dato"]
[null,"Fórmula de cálculo",null,"(SEACi/Di) No. Suscriptores Serviciudad /Dato SUI Energia  No. Suscriptores"]
[null,"Número de variables",null,2]
[null,"Variables",null,"SEACi: Suscriptores acueducto. Di: Suscriptores energía SUI."]
[null,"Tendencia del indicador",null,"Creciente"]
[null,"Frecuencia de Cálculo y Análisis",null,"Mensual"]
[null,"Meta",null,{"$f":"Indicadores!S28","v":0.72}]
[null,"Elaboró","Sugerencia de planeación",null,null,null,"Fecha",2020]
[]
[null,"Año Actual"]
[null,"Mes","Suscriptores acueducto","Suscriptores energía SUI.","Indicador","Acumulado","Cumplimiento"]
[null,"Enero",56785,76757,{"$f":"C21/D21","v":0.73980223302109249},{"$f":"E21","v":0.73980223302109249},{"$f":"F21/D16","v":1.0275031014181841}]
[null,"Febrero",56836,77054.378787878799,{"$f":"C22/D22","v":0.73760895738920296},0.73760895738920296,{"$f":"F22/D16","v":1.024456885262782}]
[null,"Marzo",56933,77345.155011655006,0.73609006267323229,0.73609006267323229,{"$f":"F23/D16","v":1.0223473092683781}]
[null,"Abril",56955,77598.611215707395,0.73396932119928526,0.73396932119928526,{"$f":"F24/D16","v":1.0194018349990073}]
[null,"Mayo",56971,77859.894135942901,0.73171175779572706,0.73171175779572706,{"$f":"F25/D16","v":1.0162663302718431}]
[null,"Junio",57008,78117.240600262303,0.72977488147230563,0.72977488147230563,{"$f":"F26/D16","v":1.0135762242670912}]
[null,"Julio",57247,78378.4669714513,0.73039193304012617,0.73039193304012617,{"$f":"F27/D16","v":1.0144332403335086}]
[null,"Agosto",57405,78628.561433765295,0.73007821780329174,0.73007821780329174,{"$f":"F28/D16","v":1.0139975247267941}]
[null,"Septiembre",57636,78896.116949326301,0.73053024950541823,0.73053024950541823,{"$f":"F29/D16","v":1.0146253465353032}]
[null,"Octubre",58388,79163.672464887306,0.73756052722159571,0.73756052722159571,{"$f":"F30/D16","v":1.0243896211411052}]
[null,"Noviembre",59035,79497.458618314602,0.74260235517012529,0.74260235517012529,{"$f":"F31/D16","v":1.0313921599585074}]
[null,"Diciembre",59373,79777.6329531191,0.74423115605460777,0.74423115605460777,{"$f":"F32/D16","v":1.0336543834091776}]

{"sheet":"IF025_Analisis","index":161,"n_rows":32,"n_cols":10,"rows_kept":32,"cut":false,"hidden":false,"merged":[[18,1,18,6],[14,1,14,2],[14,3,14,9],[15,1,15,2],[15,3,15,9],[16,2,16,5],[16,7,16,9],[11,1,11,2],[11,3,11,9],[12,1,12,2],[12,3,12,9],[13,1,13,2],[13,3,13,9],[10,1,10,2],[10,3,10,9],[1,1,6,2],[1,3,3,7],[1,8,3,8],[1,9,3,9],[4,3,6,7],[4,8,6,9],[7,1,7,9],[8,1,8,2],[8,3,8,7],[9,1,9,2],[9,3,9,8]]}
[]
[null,null,null,"SERVICIUDAD ESP",null,null,null,null,"Código SPFO-21","Versión 01"]
[]
[]
[null,null,null,"FICHA DE ANÁLISIS DEL INDICADOR",null,null,null,null,"PAGINA 01"]
[]
[]
[]
[null,"Nombre del índicador",null,"Ejecución de las inversiones Alcantarillado",null,null,null,null,"Código: ","IF025"]
[null,"Estilo de cálculo",null,"Último dato"]
[null,"Fórmula de cálculo",null,"Inversión realizada Alcantarillado/Inversión presupuestada Alcantarillado"]
[null,"Número de variables",null,2]
[null,"Variables",null,"Inversión Realizada:  Valor en pesos corrientes de los desembolsos realizados por la entidad durante un período de análisis, con cargo a recursos generados por la propia empresa y a otras fuentes de financiación, para la realización del plan de inversiones.\nInversión Presupuestada: Valor  en pesos corrientes de la inversión prevista a realizar por  la entidad, durante ese mismo  período, según  el  plan de inversiones."]
[null,"Tendencia del indicador",null,"Creciente"]
[null,"Frecuencia de Cálculo y Análisis",null,"Mensual"]
[null,"Meta",null,{"$f":"Indicadores!S29","v":1}]
[null,"Elaboró","Sugerencia de planeación",null,null,null,"Fecha",2020]
[]
[null,"Año Actual 2020"]
[null,"Mes","Inversión \nrealizada Alcantarillado","Inversión presupuestada Alcantarillado","Indicador","Acumulado","Cumplimiento"]
[null,"Enero",0,5113779651,{"$f":"C21/D21","v":0},{"$f":"E21","v":0},{"$f":"F21/D16","v":0}]
[null,"Febrero",0,5113779651,{"$f":"C22/D22","v":0},0,{"$f":"F22/D16","v":0}]
[null,"Marzo",35698573,5113779651,6.9808586674279449E-3,6.9808586674279449E-3,{"$f":"F23/D16","v":6.9808586674279449E-3}]
[null,"Abril",35698573,5113779651,6.9808586674279449E-3,6.9808586674279449E-3,{"$f":"F24/D16","v":6.9808586674279449E-3}]
[null,"Mayo",35698573,5113779651,6.9808586674279449E-3,6.9808586674279449E-3,{"$f":"F25/D16","v":6.9808586674279449E-3}]
[null,"Junio",960203800,5113779651,0.18776792617809257,0.18776792617809257,{"$f":"F26/D16","v":0.18776792617809257}]
[null,"Julio",1832816274,5113779651,0.35840736188967248,0.35840736188967248,{"$f":"F27/D16","v":0.35840736188967248}]
[null,"Agosto",2150575449,5113779651,0.4205451927478836,0.4205451927478836,{"$f":"F28/D16","v":0.4205451927478836}]
[null,"Septiembre",2812604691,5778779651,0.4867125692382625,0.4867125692382625,{"$f":"F29/D16","v":0.4867125692382625}]
[null,"Octubre",3956507712,5778779651,0.68466145984911164,0.68466145984911164,{"$f":"F30/D16","v":0.68466145984911164}]
[null,"Noviembre",4587207317,5778779651,0.79380208176067035,0.79380208176067035,{"$f":"F31/D16","v":0.79380208176067035}]
[null,"Diciembre",5370270355,8003789775,0.67096594313035918,0.67096594313035918,{"$f":"F32/D16","v":0.67096594313035918}]

{"sheet":"IF026_Analisis","index":162,"n_rows":22,"n_cols":10,"rows_kept":22,"cut":false,"hidden":false,"merged":[[15,1,15,2],[15,3,15,9],[16,2,16,5],[16,7,16,9],[12,1,12,2],[12,3,12,9],[13,1,13,2],[13,3,13,9],[14,1,14,2],[14,3,14,9],[18,1,18,6],[10,1,10,2],[10,3,10,9],[1,1,6,2],[1,3,3,7],[1,8,3,8],[1,9,3,9],[4,3,6,7],[4,8,6,9],[7,1,7,9],[8,1,8,2],[8,3,8,7],[9,1,9,2],[9,3,9,8],[11,1,11,2],[11,3,11,9]]}
[]
[null,null,null,"SERVICIUDAD ESP",null,null,null,null,"Código SPFO-21","Versión 01"]
[]
[]
[null,null,null,"FICHA DE ANÁLISIS DEL INDICADOR",null,null,null,null,"PAGINA 01"]
[]
[]
[]
[null,"Nombre del índicador",null,"Indice de Inversiones Acumuladas de Alcantarillado — IIAALC",null,null,null,null,"Código: ","IF026"]
[null,"Estilo de cálculo",null,"Promedio"]
[null,"Fórmula de cálculo",null,"(∑aa=1VPIejecp  / ∑aa=1VPIproyp) x 100       "]
[null,"Número de variables",null,2]
[null,"Variables",null,"VPejecp: Valor presente de las inversiones ejecutadas del plan de inversiones del servicio publico domiciliario de alcantarillado en el período de evaluación p (expresado en pesos del año base). Las cuales corresponden a las erogaciones realizadas por el prestador sin discriminación del avance del proyecto y/o inversión, ya sea que la misma se encuentre \"en curso\" o \"financiada\".\nVPIproyp: El valor presente (expresado en pesos del año base) de las inversiones proyectadas del plan de inversiones del servicio publico domiciliario de alcantarillado desde en el período de evaluación. "]
[null,"Tendencia del indicador",null,"Creciente"]
[null,"Frecuencia de Cálculo y Análisis",null,"Semestral"]
[null,"Meta",null,{"$f":"Indicadores!S30","v":0}]
[null,"Elaboró","Sugerencia de planeación",null,null,null,"Fecha",2020]
[]
[null,"Año Actual 2020"]
[null,"Semestre","Valor presente de las inversiones ejecutadas","El valor presente de las inversiones proyectadas","Indicador","Acumulado","Cumplimiento"]
[null,"Semestre1",null,null,{"$f":"(C21/D21)*100","v":{"$error":"#DIV/0!"}},{"$f":"AVERAGE(E21:E21)","v":{"$error":"#DIV/0!"}},{"$f":"F21/D16","v":{"$error":"#DIV/0!"}}]
[null,"Semestre2",null,null,{"$f":"(C22/D22)*100","v":{"$error":"#DIV/0!"}},{"$f":"AVERAGE(E21:E22)","v":{"$error":"#DIV/0!"}},{"$f":"F22/D16","v":{"$error":"#DIV/0!"}}]

{"sheet":"IF027_Analisis","index":163,"n_rows":22,"n_cols":10,"rows_kept":22,"cut":false,"hidden":false,"merged":[[14,1,14,2],[14,3,14,9],[15,1,15,2],[15,3,15,9],[16,2,16,5],[16,7,16,9],[11,1,11,2],[11,3,11,9],[12,1,12,2],[12,3,12,9],[13,1,13,2],[13,3,13,9],[10,1,10,2],[10,3,10,9],[1,1,6,2],[1,3,3,7],[1,8,3,8],[1,9,3,9],[4,3,6,7],[4,8,6,9],[7,1,7,9],[8,1,8,2],[8,3,8,7],[9,1,9,2],[9,3,9,8]]}
[]
[null,null,null,"SERVICIUDAD ESP",null,null,null,null,"Código SPFO-21","Versión 01"]
[]
[]
[null,null,null,"FICHA DE ANÁLISIS DEL INDICADOR",null,null,null,null,"PAGINA 01"]
[]
[]
[]
[null,"Nombre del índicador",null,"Indice de Ejecución Anual de Inversiones de Alcantarillado — IEAIAL",null,null,null,null,"Código: ","IF027"]
[null,"Estilo de cálculo",null,"Promedio"]
[null,"Fórmula de cálculo",null,"(∑aa=1(VEPa x PAa) / ∑aa=1VPa) x 100 "]
[null,"Número de variables",null,3]
[null,"Variables",null,"VEPa: Valor (en pesos corrientes) del activo y/o proyecto \"a\" ejecutado establecido dentro del plan de inversiones o POIR del prestador para el servicio público domiciliario de Alcantarillado. Los cuales corresponderán a la erogaciones realizadas por el prestador, ya sea que la misma se encuentre \"en curso\" o \"financiada\".\nPAa: Porcentaje de avance físico del activo y/o proyecto \"a\" al cierre del periodo de evaluación, el cual será definido por el prestador entre 0% y el 100%.\nVPa: Valor (en pesos corrientes) de los proyectos y/o activos \"a\" establecidos en el plan de  Inversiones del prestador para el servicio público domiciliario de acueducto. Lo anterior, debe corresponder al período tarifario que finaliza en el período de evaluación del indicador."]
[null,"Tendencia del indicador",null,"Creciente"]
[null,"Frecuencia de Cálculo y Análisis",null,"Semestral"]
[null,"Meta",null,{"$f":"Indicadores!S31","v":0}]
[null,"Elaboró","Sugerencia de planeación",null,null,null,"Fecha",2020]
[]
[null,"Año Actual"]
[null,"Semestre","Variable 1","Variable 2","Variable 3","Indicador","Acumulado","Cumplimiento"]
[null,"Semestre1",null,null,null,{"$f":"((C21*D21)/E21)*100","v":{"$error":"#DIV/0!"}},{"$f":"AVERAGE(F21:F21)","v":{"$error":"#DIV/0!"}},{"$f":"G21/D16","v":{"$error":"#DIV/0!"}}]
[null,"Semestre2",null,null,null,{"$f":"((C22*D22)/E22)*100","v":{"$error":"#DIV/0!"}},{"$f":"AVERAGE(F21:F22)","v":{"$error":"#DIV/0!"}},{"$f":"G22/D16","v":{"$error":"#DIV/0!"}}]

{"sheet":"IF028_Analisis","index":164,"n_rows":22,"n_cols":10,"rows_kept":22,"cut":false,"hidden":false,"merged":[[14,1,14,2],[14,3,14,9],[15,1,15,2],[15,3,15,9],[16,2,16,5],[16,7,16,9],[11,1,11,2],[11,3,11,9],[12,1,12,2],[12,3,12,9],[13,1,13,2],[13,3,13,9],[10,1,10,2],[10,3,10,9],[1,1,6,2],[1,3,3,7],[1,8,3,8],[1,9,3,9],[4,3,6,7],[4,8,6,9],[7,1,7,9],[8,1,8,2],[8,3,8,7],[9,1,9,2],[9,3,9,8]]}
[]
[null,null,null,"SERVICIUDAD ESP",null,null,null,null,"Código SPFO-21","Versión 01"]
[]
[]
[null,null,null,"FICHA DE ANÁLISIS DEL INDICADOR",null,null,null,null,"PAGINA 01"]
[]
[]
[]
[null,"Nombre del índicador",null,"Indicador de Plan de Emergencias y Contingencias para Alcantarillado — PECAL ",null,null,null,null,"Código: ","IF028"]
[null,"Estilo de cálculo",null,"Promedio"]
[null,"Fórmula de cálculo",null,"PECAL  (CRA 906/2019)"]
[null,"Número de variables",null,1]
[null,"Variables",null,"Componentes que conforman el PEC.\nDonde, r = (1=  Aseguramiento de infraestructura, \n                     2= Identificación de Amenazas,\n                     3= Registro de eventos,\n                     4= Inventario y  \n                     5= Reporte del PEC en el SUI)."]
[null,"Tendencia del indicador",null,"Creciente"]
[null,"Frecuencia de Cálculo y Análisis",null,"Semestral"]
[null,"Meta",null,{"$f":"Indicadores!S32","v":1}]
[null,"Elaboró","Sugerencia de planeación",null,null,null,"Fecha",2020]
[]
[null,"Año Actual"]
[null,"Semestre","Variable 1","Indicador","Acumulado","Cumplimiento"]
[null,"Semestre1",null,{"$f":"(C21/5)*100","v":0},{"$f":"AVERAGE(D21:D21)","v":0},{"$f":"E21/D16","v":0}]
[null,"Semestre2",null,{"$f":"(C22/5)*100","v":0},{"$f":"AVERAGE(D21:D22)","v":0},{"$f":"E22/D16","v":0}]

{"sheet":"IF029_Analisis","index":165,"n_rows":32,"n_cols":10,"rows_kept":32,"cut":false,"hidden":false,"merged":[[14,1,14,2],[14,3,14,9],[15,1,15,2],[15,3,15,9],[16,2,16,5],[16,7,16,9],[11,1,11,2],[11,3,11,9],[12,1,12,2],[12,3,12,9],[13,1,13,2],[13,3,13,9],[10,1,10,2],[10,3,10,9],[1,1,6,2],[1,3,3,7],[1,8,3,8],[1,9,3,9],[4,3,6,7],[4,8,6,9],[7,1,7,9],[8,1,8,2],[8,3,8,7],[9,1,9,2],[9,3,9,8]]}
[]
[null,null,null,"SERVICIUDAD ESP",null,null,null,null,"Código SPFO-21","Versión 01"]
[]
[]
[null,null,null,"FICHA DE ANÁLISIS DEL INDICADOR",null,null,null,null,"PAGINA 01"]
[]
[]
[]
[null,"Nombre del índicador",null,"Fallas en la Red de Alcantarillado — FAL",null,null,null,null,"Código: ","IF029"]
[null,"Estilo de cálculo",null,"Promedio"]
[null,"Fórmula de cálculo",null,"NTFi / LRi "]
[null,"Número de variables",null,2]
[null,"Variables",null,"NTFi: Número total de fallas en la red de alcantarillado. \nLRi: Longitud total de redes del sistema de alcantarillado (Km)."]
[null,"Tendencia del indicador",null,"Decreciente"]
[null,"Frecuencia de Cálculo y Análisis",null,"Mensual"]
[null,"Meta",null,{"$f":"Indicadores!S33","v":4.4999999999999998E-2}]
[null,"Elaboró","Sugerencia de planeación",null,null,null,"Fecha",2020]
[]
[null,"Año Actual"]
[null,"Mes","Variable 1","Variable 2","Indicador","Acumulado","Cumplimiento"]
[null,"Enero",null,null,{"$f":"C21/D21","v":{"$error":"#DIV/0!"}},{"$f":"AVERAGE(E21:E21)","v":{"$error":"#DIV/0!"}},{"$f":"IF(F21>0,D16/F21,1)","v":{"$error":"#DIV/0!"}}]
[null,"Febrero",null,null,{"$f":"C22/D22","v":{"$error":"#DIV/0!"}},{"$f":"AVERAGE(E21:E22)","v":{"$error":"#DIV/0!"}},{"$f":"IF(F22>0,D16/F22,1)","v":{"$error":"#DIV/0!"}}]
[null,"Marzo",null,null,{"$error":"#DIV/0!"},{"$f":"AVERAGE(E21:E23)","v":{"$error":"#DIV/0!"}},{"$f":"IF(F23>0,D16/F23,1)","v":{"$error":"#DIV/0!"}}]
[null,"Abril",null,null,{"$error":"#DIV/0!"},{"$f":"AVERAGE(E21:E24)","v":{"$error":"#DIV/0!"}},{"$f":"IF(F24>0,D16/F24,1)","v":{"$error":"#DIV/0!"}}]
[null,"Mayo",null,null,{"$error":"#DIV/0!"},{"$f":"AVERAGE(E21:E25)","v":{"$error":"#DIV/0!"}},{"$f":"IF(F25>0,D16/F25,1)","v":{"$error":"#DIV/0!"}}]
[null,"Junio",null,null,{"$error":"#DIV/0!"},{"$f":"AVERAGE(E21:E26)","v":{"$error":"#DIV/0!"}},{"$f":"IF(F26>0,D16/F26,1)","v":{"$error":"#DIV/0!"}}]
[null,"Julio",null,null,{"$error":"#DIV/0!"},{"$f":"AVERAGE(E21:E27)","v":{"$error":"#DIV/0!"}},{"$f":"IF(F27>0,D16/F27,1)","v":{"$error":"#DIV/0!"}}]
[null,"Agosto",null,null,{"$error":"#DIV/0!"},{"$f":"AVERAGE(E21:E28)","v":{"$error":"#DIV/0!"}},{"$f":"IF(F28>0,D16/F28,1)","v":{"$error":"#DIV/0!"}}]
[null,"Septiembre",null,null,{"$error":"#DIV/0!"},{"$f":"AVERAGE(E21:E29)","v":{"$error":"#DIV/0!"}},{"$f":"IF(F29>0,D16/F29,1)","v":{"$error":"#DIV/0!"}}]
[null,"Octubre",null,null,{"$error":"#DIV/0!"},{"$f":"AVERAGE(E21:E30)","v":{"$error":"#DIV/0!"}},{"$f":"IF(F30>0,D16/F30,1)","v":{"$error":"#DIV/0!"}}]
[null,"Noviembre",null,null,{"$error":"#DIV/0!"},{"$f":"AVERAGE(E21:E31)","v":{"$error":"#DIV/0!"}},{"$f":"IF(F31>0,D16/F31,1)","v":{"$error":"#DIV/0!"}}]
[null,"Diciembre",null,null,{"$error":"#DIV/0!"},{"$f":"AVERAGE(E21:E32)","v":{"$error":"#DIV/0!"}},{"$f":"IF(F32>0,D16/F32,1)","v":{"$error":"#DIV/0!"}}]

{"sheet":"IF030_Analisis","index":166,"n_rows":22,"n_cols":10,"rows_kept":22,"cut":false,"hidden":false,"merged":[[14,1,14,2],[14,3,14,9],[15,1,15,2],[15,3,15,9],[16,2,16,5],[16,7,16,9],[11,1,11,2],[11,3,11,9],[12,1,12,2],[12,3,12,9],[13,1,13,2],[13,3,13,9],[10,1,10,2],[10,3,10,9],[1,1,6,2],[1,3,3,7],[1,8,3,8],[1,9,3,9],[4,3,6,7],[4,8,6,9],[7,1,7,9],[8,1,8,2],[8,3,8,7],[9,1,9,2],[9,3,9,8]]}
[]
[null,null,null,"SERVICIUDAD ESP",null,null,null,null,"Código SPFO-21","Versión 01"]
[]
[]
[null,null,null,"FICHA DE ANÁLISIS DEL INDICADOR",null,null,null,null,"PAGINA 01"]
[]
[]
[]
[null,"Nombre del índicador",null,"Aprobación del PSMV — AproPSMV",null,null,null,null,"Código: ","IF030"]
[null,"Estilo de cálculo",null,"Último dato"]
[null,"Fórmula de cálculo",null,"*0 Si el PSMV No se ha Presentado o no reporta información\n*50, Si el PSMV fue Presentado y se espera aprobación\n*100, Si el PMSV se encuentra Aprobado \n*100, Si el prestador cuenta con un Permiso de Vertimiento"]
[null,"Número de variables",null,1]
[null,"Variables"]
[null,"Tendencia del indicador",null,"Creciente"]
[null,"Frecuencia de Cálculo y Análisis",null,"Semestral"]
[null,"Meta",null,{"$f":"Indicadores!S34","v":100}]
[null,"Elaboró","Sugerencia de planeación",null,null,null,"Fecha",2020]
[]
[null,"Año Actual"]
[null,"Semestre","Variable 1","Indicador","Acumulado","Cumplimiento"]
[null,"Semestre1",null,{"$f":"C21","v":0},{"$f":"D21","v":0},{"$f":"E21/D16","v":0}]
[null,"Semestre2",null,{"$f":"C22","v":0},{"$f":"D22","v":0},{"$f":"E22/D16","v":0}]

{"sheet":"IF031_Analisis","index":167,"n_rows":22,"n_cols":10,"rows_kept":22,"cut":false,"hidden":false,"merged":[[14,1,14,2],[14,3,14,9],[15,1,15,2],[15,3,15,9],[16,2,16,5],[16,7,16,9],[11,1,11,2],[11,3,11,9],[12,1,12,2],[12,3,12,9],[13,1,13,2],[13,3,13,9],[10,1,10,2],[10,3,10,9],[1,1,6,2],[1,3,3,7],[1,8,3,8],[1,9,3,9],[4,3,6,7],[4,8,6,9],[7,1,7,9],[8,1,8,2],[8,3,8,7],[9,1,9,2],[9,3,9,8]]}
[]
[null,null,null,"SERVICIUDAD ESP",null,null,null,null,"Código SPFO-21","Versión 01"]
[]
[]
[null,null,null,"FICHA DE ANÁLISIS DEL INDICADOR",null,null,null,null,"PAGINA 01"]
[]
[]
[]
[null,"Nombre del índicador",null,"Cumplimiento del PSMV -  CPSMV",null,null,null,null,"Código: ","IF031"]
[null,"Estilo de cálculo",null,"Último dato"]
[null,"Fórmula de cálculo",null,"0 , Sino se cumplió lo establecido por el PSMV para el periodo de evaluación \n*100,  Si se cumplió lo establecido por el PSMV para el periodo de evaluación    "]
[null,"Número de variables",null,1]
[null,"Variables"]
[null,"Tendencia del indicador",null,"Creciente"]
[null,"Frecuencia de Cálculo y Análisis",null,"Semestral"]
[null,"Meta",null,{"$f":"Indicadores!S35","v":100}]
[null,"Elaboró","Sugerencia de planeación",null,null,null,"Fecha",2020]
[]
[null,"Año Actual"]
[null,"Semestre","Variable 1","Indicador","Acumulado","Cumplimiento"]
[null,"Semestre1",null,{"$f":"C21","v":0},{"$f":"D21","v":0},{"$f":"E21/D16","v":0}]
[null,"Semestre2",null,{"$f":"C22","v":0},{"$f":"D22","v":0},{"$f":"E22/D16","v":0}]

{"sheet":"IF032_Analisis","index":168,"n_rows":32,"n_cols":10,"rows_kept":32,"cut":false,"hidden":false,"merged":[[15,1,15,2],[15,3,15,9],[16,2,16,5],[16,7,16,9],[12,1,12,2],[12,3,12,9],[13,1,13,2],[13,3,13,9],[14,1,14,2],[14,3,14,9],[18,1,18,6],[10,1,10,2],[10,3,10,9],[1,1,6,2],[1,3,3,7],[1,8,3,8],[1,9,3,9],[4,3,6,7],[4,8,6,9],[7,1,7,9],[8,1,8,2],[8,3,8,7],[9,1,9,2],[9,3,9,8],[11,1,11,2],[11,3,11,9]]}
[]
[null,null,null,"SERVICIUDAD ESP",null,null,null,null,"Código SPFO-21","Versión 01"]
[]
[]
[null,null,null,"FICHA DE ANÁLISIS DEL INDICADOR",null,null,null,null,"PAGINA 01"]
[]
[]
[]
[null,"Nombre del índicador",null,"Continuidad alcantarillado",null,null,null,null,"Código: ","IF032"]
[null,"Estilo de cálculo",null,"Último dato"]
[null,"Fórmula de cálculo",null,"Dias de prestación del servicio/Dias totales del año "]
[null,"Número de variables",null,2]
[null,"Variables"]
[null,"Tendencia del indicador",null,"Creciente"]
[null,"Frecuencia de Cálculo y Análisis",null,"Mensual"]
[null,"Meta",null,{"$f":"Indicadores!S36","v":0.98360000000000003}]
[null,"Elaboró","Sugerencia de planeación",null,null,null,"Fecha",2020]
[]
[null,"Año Actual 2020"]
[null,"Mes","Dias de prestación del servicio","Dias totales del año ","Indicador","Acumulado","Cumplimiento"]
[null,"Enero",31,31,{"$f":"C21/D21","v":1},{"$f":"E21","v":1},{"$f":"F21/D16","v":1.0166734444896299}]
[null,"Febrero",28,28,{"$f":"C22/D22","v":1},1,{"$f":"F22/D16","v":1.0166734444896299}]
[null,"Marzo",31,31,1,1,{"$f":"F23/D16","v":1.0166734444896299}]
[null,"Abril",30,30,1,1,{"$f":"F24/D16","v":1.0166734444896299}]
[null,"Mayo",31,31,1,1,{"$f":"F25/D16","v":1.0166734444896299}]
[null,"Junio",30,30,1,1,{"$f":"F26/D16","v":1.0166734444896299}]
[null,"Julio",31,31,1,1,{"$f":"F27/D16","v":1.0166734444896299}]
[null,"Agosto",31,31,1,1,{"$f":"F28/D16","v":1.0166734444896299}]
[null,"Septiembre",30,30,1,1,{"$f":"F29/D16","v":1.0166734444896299}]
[null,"Octubre",31,31,1,1,{"$f":"F30/D16","v":1.0166734444896299}]
[null,"Noviembre",30,30,1,1,{"$f":"F31/D16","v":1.0166734444896299}]
[null,"Diciembre",31,31,1,1,{"$f":"F32/D16","v":1.0166734444896299}]

{"sheet":"IF033_Analisis","index":169,"n_rows":32,"n_cols":10,"rows_kept":32,"cut":false,"hidden":false,"merged":[[14,1,14,2],[14,3,14,9],[15,1,15,2],[15,3,15,9],[16,2,16,5],[16,7,16,9],[11,1,11,2],[11,3,11,9],[12,1,12,2],[12,3,12,9],[13,1,13,2],[13,3,13,9],[10,1,10,2],[10,3,10,9],[1,1,6,2],[1,3,3,7],[1,8,3,8],[1,9,3,9],[4,3,6,7],[4,8,6,9],[7,1,7,9],[8,1,8,2],[8,3,8,7],[9,1,9,2],[9,3,9,8]]}
[]
[null,null,null,"SERVICIUDAD ESP",null,null,null,null,"Código SPFO-21","Versión 01"]
[]
[]
[null,null,null,"FICHA DE ANÁLISIS DEL INDICADOR",null,null,null,null,"PAGINA 01"]
[]
[]
[]
[null,"Nombre del índicador",null,"Calidad alcantarillado cumplimiento PSMV",null,null,null,null,"Código: ","IF033"]
[null,"Estilo de cálculo",null,"Promedio"]
[null,"Fórmula de cálculo",null,"Obras ejecutadas/Obras programadas POIR (mts L)"]
[null,"Número de variables",null,2]
[null,"Variables"]
[null,"Tendencia del indicador",null,"Creciente"]
[null,"Frecuencia de Cálculo y Análisis",null,"Mensual"]
[null,"Meta",null,{"$f":"Indicadores!S37","v":0.65539999999999998}]
[null,"Elaboró","Sugerencia de planeación",null,null,null,"Fecha",2020]
[]
[null,"Año Actual"]
[null,"Mes","Obras ejecutadas","Obras programadas POIR (mts L)","Indicador","Acumulado","Cumplimiento"]
[null,"Enero",839.13,2163,{"$f":"C21/D21","v":0.38794729542302359},{"$f":"AVERAGE(E21:E21)","v":0.38794729542302359},{"$f":"F21/D16","v":0.59192446662042053}]
[null,"Febrero",903.93,2163,{"$f":"C22/D22","v":0.41790568654646321},{"$f":"AVERAGE(E21:E22)","v":0.40292649098474342},{"$f":"F22/D16","v":0.61477951019948651}]
[null,"Marzo",1361.94,2163,0.62965325936199723,{"$f":"AVERAGE(E21:E23)","v":0.47850208044382803},{"$f":"F23/D16","v":0.7300916698868295}]
[null,"Abril",1361.94,2163,0.62965325936199723,{"$f":"AVERAGE(E21:E24)","v":0.51628987517337033},{"$f":"F24/D16","v":0.78774774973050099}]
[null,"Mayo",1361.94,2163,0.62965325936199723,{"$f":"AVERAGE(E21:E25)","v":0.53896255201109577},{"$f":"F25/D16","v":0.822341397636704}]
[null,"Junio",1589.78,2163,0.73498844197873325,{"$f":"AVERAGE(E21:E26)","v":0.57163353367236869},{"$f":"F26/D16","v":0.87219031686354698}]
[null,"Julio",null,null,{"$error":"#DIV/0!"},{"$f":"AVERAGE(E21:E27)","v":{"$error":"#DIV/0!"}},{"$f":"F27/D16","v":{"$error":"#DIV/0!"}}]
[null,"Agosto",null,null,{"$error":"#DIV/0!"},{"$f":"AVERAGE(E21:E28)","v":{"$error":"#DIV/0!"}},{"$f":"F28/D16","v":{"$error":"#DIV/0!"}}]
[null,"Septiembre",null,null,{"$error":"#DIV/0!"},{"$f":"AVERAGE(E21:E29)","v":{"$error":"#DIV/0!"}},{"$f":"F29/D16","v":{"$error":"#DIV/0!"}}]
[null,"Octubre",null,null,{"$error":"#DIV/0!"},{"$f":"AVERAGE(E21:E30)","v":{"$error":"#DIV/0!"}},{"$f":"F30/D16","v":{"$error":"#DIV/0!"}}]
[null,"Noviembre",null,null,{"$error":"#DIV/0!"},{"$f":"AVERAGE(E21:E31)","v":{"$error":"#DIV/0!"}},{"$f":"F31/D16","v":{"$error":"#DIV/0!"}}]
[null,"Diciembre",null,null,{"$error":"#DIV/0!"},{"$f":"AVERAGE(E21:E32)","v":{"$error":"#DIV/0!"}},{"$f":"F32/D16","v":{"$error":"#DIV/0!"}}]

{"sheet":"IF034_Analisis","index":170,"n_rows":32,"n_cols":10,"rows_kept":32,"cut":false,"hidden":false,"merged":[[18,1,18,6],[14,1,14,2],[14,3,14,9],[15,1,15,2],[15,3,15,9],[16,2,16,5],[16,7,16,9],[11,1,11,2],[11,3,11,9],[12,1,12,2],[12,3,12,9],[13,1,13,2],[13,3,13,9],[10,1,10,2],[10,3,10,9],[1,1,6,2],[1,3,3,7],[1,8,3,8],[1,9,3,9],[4,3,6,7],[4,8,6,9],[7,1,7,9],[8,1,8,2],[8,3,8,7],[9,1,9,2],[9,3,9,8]]}
[]
[null,null,null,"SERVICIUDAD ESP",null,null,null,null,"Código SPFO-21","Versión 01"]
[]
[]
[null,null,null,"FICHA DE ANÁLISIS DEL INDICADOR",null,null,null,null,"PAGINA 01"]
[]
[]
[]
[null,"Nombre del índicador",null,"Cobertura nominal Alcantarillado (ICBNAL)",null,null,null,null,"Código: ","IF034"]
[null,"Estilo de cálculo",null,"Último dato"]
[null,"Fórmula de cálculo",null,"(SEACi/Di) No.Suscriptores alcantarillado / No. Domicilios del Municipio"]
[null,"Número de variables",null,2]
[null,"Variables",null,"SEACi: Suscriptores Alcantarillado. Di: Suscriptores energía SUI."]
[null,"Tendencia del indicador",null,"Creciente"]
[null,"Frecuencia de Cálculo y Análisis",null,"Mensual"]
[null,"Meta",null,{"$f":"Indicadores!S38","v":0.83}]
[null,"Elaboró","Sugerencia de planeación",null,null,null,"Fecha",2020]
[]
[null,"Año Actual 2020"]
[null,"Mes","Suscriptores alcantarillado","Suscriptores energía SUI.","Indicador","Acumulado","Cumplimiento"]
[null,"Enero",63932,76757,{"$f":"C21/D21","v":0.83291426189142359},{"$f":"E21","v":0.83291426189142359},{"$f":"F21/D16","v":1.0035111589053296}]
[null,"Febrero",64247,77054.378787878799,{"$f":"C22/D22","v":0.83378778741262805},0.83378778741262805,{"$f":"F22/D16","v":1.004563599292323}]
[null,"Marzo",64342,77345.155011655006,0.8318814538584145,0.8318814538584145,{"$f":"F23/D16","v":1.0022668118776079}]
[null,"Abril",64361,77598.611215707395,0.82940917358804667,0.82940917358804667,{"$f":"F24/D16","v":0.99928816094945383}]
[null,"Mayo",64372,77859.894135942901,0.82676711437093509,0.82676711437093509,{"$f":"F25/D16","v":0.99610495707341584}]
[null,"Junio",64406,78117.240600262303,0.82447868748430597,0.82447868748430597,{"$f":"F26/D16","v":0.99334781624615187}]
[null,"Julio",64628,78378.4669714513,0.82456320590628807,0.82456320590628807,{"$f":"F27/D16","v":0.99344964567022664}]
[null,"Agosto",64785,78628.561433765295,0.82393724136201119,0.82393724136201119,{"$f":"F28/D16","v":0.99269547152049542}]
[null,"Septiembre",65010,78896.116949326301,0.82399492539987573,0.82399492539987573,{"$f":"F29/D16","v":0.99276497036129607}]
[null,"Octubre",65758,79163.672464887306,0.83065878517910685,0.83065878517910685,{"$f":"F30/D16","v":1.0007937170832613}]
[null,"Noviembre",66392,79497.458618314602,0.83514619402820289,0.83514619402820289,{"$f":"F31/D16","v":1.0062002337689191}]
[null,"Diciembre",66722,79777.6329531191,0.83634970768321526,0.83634970768321526,{"$f":"F32/D16","v":1.0076502502207414}]

{"sheet":"IF035_Analisis","index":171,"n_rows":32,"n_cols":10,"rows_kept":32,"cut":false,"hidden":false,"merged":[[18,1,18,6],[14,1,14,2],[14,3,14,9],[15,1,15,2],[15,3,15,9],[16,2,16,5],[16,7,16,9],[11,1,11,2],[11,3,11,9],[12,1,12,2],[12,3,12,9],[13,1,13,2],[13,3,13,9],[10,1,10,2],[10,3,10,9],[1,1,6,2],[1,3,3,7],[1,8,3,8],[1,9,3,9],[4,3,6,7],[4,8,6,9],[7,1,7,9],[8,1,8,2],[8,3,8,7],[9,1,9,2],[9,3,9,8]]}
[]
[null,null,null,"SERVICIUDAD ESP",null,null,null,null,"Código SPFO-21","Versión 01"]
[]
[]
[null,null,null,"FICHA DE ANÁLISIS DEL INDICADOR",null,null,null,null,"PAGINA 01"]
[]
[]
[]
[null,"Nombre del índicador",null,"Ejecución de las inversiones Aseo",null,null,null,null,"Código: ","IF035"]
[null,"Estilo de cálculo",null,"Último dato"]
[null,"Fórmula de cálculo",null,"Inversión realizada Aseo/Inversión presupuestada Aseo"]
[null,"Número de variables",null,2]
[null,"Variables",null,"Inversión Realizada:  Valor en pesos corrientes de los desembolsos realizados por la entidad durante un período de análisis, con cargo a recursos generados por la propia empresa y a otras fuentes de financiación, para la realización del plan de inversiones.\nInversión Presupuestada: Valor  en pesos corrientes de la inversión prevista a realizar por  la entidad, durante ese mismo  período, según  el  plan de inversiones."]
[null,"Tendencia del indicador",null,"Creciente"]
[null,"Frecuencia de Cálculo y Análisis",null,"Mensual"]
[null,"Meta",null,{"$f":"Indicadores!S39","v":1}]
[null,"Elaboró","Sugerencia de planeación",null,null,null,"Fecha",2020]
[]
[null,"Año Actual 2020"]
[null,"Mes","Inversión realizada Aseo","Inversión presupuestada Aseo","Indicador","Acumulado","Cumplimiento"]
[null,"Enero",0,570000000,{"$f":"C21/D21","v":0},{"$f":"E21","v":0},{"$f":"F21/D16","v":0}]
[null,"Febrero",0,570000000,{"$f":"C22/D22","v":0},0,{"$f":"F22/D16","v":0}]
[null,"Marzo",529201210,570000000,0.92842317543859654,0.92842317543859654,{"$f":"F23/D16","v":0.92842317543859654}]
[null,"Abril",529201210,570000000,0.92842317543859654,0.92842317543859654,{"$f":"F24/D16","v":0.92842317543859654}]
[null,"Mayo",529201210,570000000,0.92842317543859654,0.92842317543859654,{"$f":"F25/D16","v":0.92842317543859654}]
[null,"Junio",569519984,570000000,0.99915786666666662,0.99915786666666662,{"$f":"F26/D16","v":0.99915786666666662}]
[null,"Julio",569519984,570000000,0.99915786666666662,0.99915786666666662,{"$f":"F27/D16","v":0.99915786666666662}]
[null,"Agosto",569519984,570000000,0.99915786666666662,0.99915786666666662,{"$f":"F28/D16","v":0.99915786666666662}]
[null,"Septiembre",569519984,570000000,0.99915786666666662,0.99915786666666662,{"$f":"F29/D16","v":0.99915786666666662}]
[null,"Octubre",569519984,570000000,0.99915786666666662,0.99915786666666662,{"$f":"F30/D16","v":0.99915786666666662}]
[null,"Noviembre",569519984,570000000,0.99915786666666662,0.99915786666666662,{"$f":"F31/D16","v":0.99915786666666662}]
[null,"Diciembre",569519984,570000000,0.99915786666666662,0.99915786666666662,{"$f":"F32/D16","v":0.99915786666666662}]

{"sheet":"IF036_Analisis","index":172,"n_rows":47,"n_cols":10,"rows_kept":47,"cut":false,"hidden":false,"merged":[[14,1,14,2],[14,3,14,9],[15,1,15,2],[15,3,15,9],[16,2,16,5],[16,7,16,9],[11,3,11,9],[12,1,12,2],[12,3,12,9],[13,1,13,2],[13,3,13,9],[33,1,33,6],[18,1,18,6],[10,1,10,2],[10,3,10,9],[1,1,6,2],[1,3,3,7],[1,8,3,8],[1,9,3,9],[4,3,6,7],[4,8,6,9],[7,1,7,9],[8,1,8,2],[8,3,8,7],[9,1,9,2],[9,3,9,8],[11,1,11,2]]}
[]
[null,null,null,"SERVICIUDAD ESP",null,null,null,null,"Código SPFO-21","Versión 01"]
[]
[]
[null,null,null,"FICHA DE ANÁLISIS DEL INDICADOR",null,null,null,null,"PAGINA 01"]
[]
[]
[]
[null,"Nombre del índicador",null,"Cobertura  recolección",null,null,null,null,"Código: ","IF036"]
[null,"Estilo de cálculo",null,"Último dato"]
[null,"Fórmula de cálculo",null,"Basura recogida/Basura producida"]
[null,"Número de variables",null,2]
[null,"Variables",null,"Basura recogida: Toneladas recolectadas en los últimos doce meses.\nBasura producida: estimativo  de la basura producida en los últimos doce meses. (Suscriptores energía sui*3.7usuarios por casa*0.52kg/(habitante*día))*30 días)\n"]
[null,"Tendencia del indicador",null,"Creciente"]
[null,"Frecuencia de Cálculo y Análisis",null,"Mensual"]
[null,"Meta",null,{"$f":"Indicadores!S40","v":0.88}]
[null,"Elaboró","Sugerencia de planeación",null,null,null,"Fecha",2020]
[]
[null,"Año Actual 2020"]
[null,"Mes","Basura\n recogida","Basura producida","Indicador","Acumulado","Cumplimiento"]
[null,"Enero",3880.02,3998,{"$f":"C21/D21","v":0.97049024512256132},{"$f":"E21","v":0.97049024512256132},{"$f":"F21/D16","v":1.1028298240029106}]
[null,"Febrero",3509.83,3997.5045599999994,{"$f":"C22/D22","v":0.87800525235673543},0.87800525235673543,{"$f":"F22/D16","v":0.99773324131447205}]
[null,"Marzo",3610.96,4012.9920472727276,0.89981738250741039,0.89981738250741039,{"$f":"F23/D16","v":1.0225197528493299}]
[null,"Abril",3208.68,4028.135673006992,0.79656701275027542,0.79656701275027542,{"$f":"F24/D16","v":0.90518978721622201}]
[null,"Mayo",3498.53,4041.3356721140403,0.86568656598869054,0.86568656598869054,{"$f":"F25/D16","v":0.98373473407805745}]
[null,"Junio",3867.96,4054.9432865999061,0.95388757045805872,0.95388757045805872,{"$f":"F26/D16","v":1.0839631482477941}]
[null,"Julio",4114.8100000000004,4068.34589046166,1.0114208847500594,1.0114208847500594,{"$f":"F27/D16","v":1.1493419144887038}]
[null,"Agosto",3986.6,4081.9505598731839,0.97664093220272952,0.97664093220272952,{"$f":"F28/D16","v":1.1098192411394654}]
[null,"Septiembre",4106.8012330000001,4094.9754794704963,1.0028878691920844,1.0028878691920844,{"$f":"F29/D16","v":1.1396453059000959}]
[null,"Octubre",4108.6400000000003,4108.909770720913,0.9999343449391771,0.9999343449391771,{"$f":"F30/D16","v":1.136289028339974}]
[null,"Noviembre",3936.87,4122.8440619713301,0.95489180304277455,0.95489180304277455,{"$f":"F31/D16","v":1.0851043216395164}]
[null,"Diciembre",4365.45,4140.2276448418233,1.0543985438672132,1.0543985438672132,{"$f":"F32/D16","v":1.1981801634854696}]
[null,null,null,4154.8191241984423]
[null,"Basura Producida "]
[null,"Mes ","Suscriptores","Promedio Personas * Unidad Habitacional ","Producción percapita ","Dias del mes ","Basura\nProducuda "]
[null,"Enero",76757,3.1,5.5999999999999995E-4,30,{"$f":"((C36*D36)*E36)*30","v":3997.5045599999994}]
[null,"Febrero",77054.378787878799,3.1,5.5999999999999995E-4,30,4012.9920472727276]
[null,"Marzo",77345.155011655006,3.1,5.5999999999999995E-4,30,4028.135673006992]
[null,"Abril",77598.611215707395,3.1,5.5999999999999995E-4,30,4041.3356721140403]
[null,"Mayo",77859.894135942901,3.1,5.5999999999999995E-4,30,4054.9432865999061]
[null,"Junio",78117.240600262303,3.1,5.5999999999999995E-4,30,4068.34589046166]
[null,"Julio",78378.4669714513,3.1,5.5999999999999995E-4,30,4081.9505598731839]
[null,"Agosto",78628.561433765295,3.1,5.5999999999999995E-4,30,4094.9754794704963]
[null,"Septiembre",78896.116949326301,3.1,5.5999999999999995E-4,30,4108.909770720913]
[null,"Octubre",79163.672464887306,3.1,5.5999999999999995E-4,30,4122.8440619713301]
[null,"Noviembre",79497.458618314602,3.1,5.5999999999999995E-4,30,4140.2276448418233]
[null,"Diciembre",79777.6329531191,3.1,5.5999999999999995E-4,30,4154.8191241984423]

{"sheet":"IF037_Analisis","index":173,"n_rows":32,"n_cols":10,"rows_kept":32,"cut":false,"hidden":false,"merged":[[18,1,18,6],[14,1,14,2],[14,3,14,9],[15,1,15,2],[15,3,15,9],[16,2,16,5],[16,7,16,9],[11,1,11,2],[11,3,11,9],[12,1,12,2],[12,3,12,9],[13,1,13,2],[13,3,13,9],[10,1,10,2],[10,3,10,9],[1,1,6,2],[1,3,3,7],[1,8,3,8],[1,9,3,9],[4,3,6,7],[4,8,6,9],[7,1,7,9],[8,1,8,2],[8,3,8,7],[9,1,9,2],[9,3,9,8]]}
[]
[null,null,null,"SERVICIUDAD ESP",null,null,null,null,"Código SPFO-21","Versión 01"]
[]
[]
[null,null,null,"FICHA DE ANÁLISIS DEL INDICADOR",null,null,null,null,"PAGINA 01"]
[]
[]
[]
[null,"Nombre del índicador",null,"Cobertura de mercado aseo",null,null,null,null,"Código: ","IF037"]
[null,"Estilo de cálculo",null,"Último dato"]
[null,"Fórmula de cálculo",null,"Suscriptores Aseo/Domicilios Dosquebradas"]
[null,"Número de variables",null,2]
[null,"Variables",null,"SEACi: Suscriptores Alcantarillado. Di: Suscriptores energía SUI."]
[null,"Tendencia del indicador",null,"Creciente"]
[null,"Frecuencia de Cálculo y Análisis",null,"Mensual"]
[null,"Meta",null,{"$f":"Indicadores!S41","v":0.86}]
[null,"Elaboró","Sugerencia de planeación",null,null,null,"Fecha",2020]
[]
[null,"Año Actual 2020"]
[null,"Mes","Suscriptores \nAseo","Suscriptores energía SUI.","Indicador","Acumulado","Cumplimiento"]
[null,"Enero",66213,76757,{"$f":"C21/D21","v":0.86263142123845382},{"$f":"E21","v":0.86263142123845382},{"$f":"F21/D16","v":1.0030597921377371}]
[null,"Febrero",66258,77054.378787878799,{"$f":"C22/D22","v":0.85988623933235642},0.85988623933235642,{"$f":"F22/D16","v":0.99986772015390279}]
[null,"Marzo",66350,77345.155011655006,0.85784300244794698,0.85784300244794698,{"$f":"F23/D16","v":0.99749186331156625}]
[null,"Abril",66371,77598.611215707395,0.85531169901356796,0.85531169901356796,{"$f":"F24/D16","v":0.99454848722507905}]
[null,"Mayo",66384,77859.894135942901,0.85260840303859053,0.85260840303859053,{"$f":"F25/D16","v":0.99140511981231461}]
[null,"Junio",70292,78117.240600262303,0.89982697109969312,0.89982697109969312,{"$f":"F26/D16","v":1.046310431511271}]
[null,"Julio",70523,78378.4669714513,0.89977518985778848,0.89977518985778848,{"$f":"F27/D16","v":1.0462502207648703}]
[null,"Agosto",70800,78628.561433765295,0.90043616096982926,0.90043616096982926,{"$f":"F28/D16","v":1.0470187918253828}]
[null,"Septiembre",71020,78896.116949326301,0.90017104448391294,0.90017104448391294,{"$f":"F29/D16","v":1.0467105168417592}]
[null,"Octubre",71753,79163.672464887306,0.9063879651594704,0.9063879651594704,{"$f":"F30/D16","v":1.0539394943714773}]
[null,"Noviembre",72376,79497.458618314602,0.91041904053176914,0.91041904053176914,{"$f":"F31/D16","v":1.0586267913160106}]
[null,"Diciembre",72703,79777.6329531191,0.91132059587081915,0.91132059587081915,{"$f":"F32/D16","v":1.0596751114776968}]

{"sheet":"IF038_Analisis","index":174,"n_rows":32,"n_cols":10,"rows_kept":32,"cut":false,"hidden":false,"merged":[[14,1,14,2],[14,3,14,9],[15,1,15,2],[15,3,15,9],[16,2,16,5],[16,7,16,9],[11,1,11,2],[11,3,11,9],[12,1,12,2],[12,3,12,9],[13,1,13,2],[13,3,13,9],[10,1,10,2],[10,3,10,9],[1,1,6,2],[1,3,3,7],[1,8,3,8],[1,9,3,9],[4,3,6,7],[4,8,6,9],[7,1,7,9],[8,1,8,2],[8,3,8,7],[9,1,9,2],[9,3,9,8]]}
[]
[null,null,null,"SERVICIUDAD ESP",null,null,null,null,"Código SPFO-21","Versión 01"]
[]
[]
[null,null,null,"FICHA DE ANÁLISIS DEL INDICADOR",null,null,null,null,"PAGINA 01"]
[]
[]
[]
[null,"Nombre del índicador",null,"Continuidad o frecuencia recolección (IFR-NA)",null,null,null,null,"Código: ","IF038"]
[null,"Estilo de cálculo",null,"Promedio"]
[null,"Fórmula de cálculo",null,"IFR_NAl=1-(Σ NRDls)/((ndm/7)*FCCUl)"]
[null,"Número de variables",null,3]
[null,"Variables",null,"NRLIts: Número de frecuencias dejadas de prestar en la microrruta de recolección /, para cada semana s. En los casos en los que una semana pertenezca a dos meses diferentes, para el cálculo del indicador únicamente se contarán las microrrutas dejadas de prestar en los días que pertenecen al mes de análisis. ndm: Corresponde al número de días que posee el mes de análisis. F_CCU/: Frecuencia de recolección establecida en el Contrato de Condiciones Uniformes (CCU) para la microrruta de recolección I. I: Microrruta de recolección analizada. s: Corresponde a la semana del mes analizada. nsm: Corresponde al número de semanas calendario que posee el mes de análisis. Se contará una semana dentro de esta variable si por lo menos un día de la semana calendario analizada está dentro del mes analizado. "]
[null,"Tendencia del indicador",null,"Creciente"]
[null,"Frecuencia de Cálculo y Análisis",null,"Mensual"]
[null,"Meta",null,{"$f":"Indicadores!S42","v":1}]
[null,"Elaboró","Sugerencia de planeación",null,null,null,"Fecha",2020]
[]
[null,"Año Actual"]
[null,"Mes","Variable 1","Variable 2","Variable 3","Indicador","Acumulado","Cumplimiento"]
[null,"Enero",0,2,5,{"$f":"1-(C21/((D21/7)*E21))","v":1},{"$f":"AVERAGE(F21:F21)","v":1},{"$f":"G21/D16","v":1}]
[null,"Febrero",0,2,5,{"$f":"1-(C22/((D22/7)*E22))","v":1},{"$f":"AVERAGE(F21:F22)","v":1},{"$f":"G22/D16","v":1}]
[null,"Marzo",0,2,6,1,{"$f":"AVERAGE(F21:F23)","v":1},{"$f":"G23/D16","v":1}]
[null,"Abril",0,2,5,1,{"$f":"AVERAGE(F21:F24)","v":1},{"$f":"G24/D16","v":1}]
[null,"Mayo",0,2,5,1,{"$f":"AVERAGE(F21:F25)","v":1},{"$f":"G25/D16","v":1}]
[null,"Junio",0,2,5,1,{"$f":"AVERAGE(F21:F26)","v":1},{"$f":"G26/D16","v":1}]
[null,"Julio",null,null,null,{"$error":"#DIV/0!"},{"$f":"AVERAGE(F21:F27)","v":{"$error":"#DIV/0!"}},{"$f":"G27/D16","v":{"$error":"#DIV/0!"}}]
[null,"Agosto",null,null,null,{"$error":"#DIV/0!"},{"$f":"AVERAGE(F21:F28)","v":{"$error":"#DIV/0!"}},{"$f":"G28/D16","v":{"$error":"#DIV/0!"}}]
[null,"Septiembre",null,null,null,{"$error":"#DIV/0!"},{"$f":"AVERAGE(F21:F29)","v":{"$error":"#DIV/0!"}},{"$f":"G29/D16","v":{"$error":"#DIV/0!"}}]
[null,"Octubre",null,null,null,{"$error":"#DIV/0!"},{"$f":"AVERAGE(F21:F30)","v":{"$error":"#DIV/0!"}},{"$f":"G30/D16","v":{"$error":"#DIV/0!"}}]
[null,"Noviembre",null,null,null,{"$error":"#DIV/0!"},{"$f":"AVERAGE(F21:F31)","v":{"$error":"#DIV/0!"}},{"$f":"G31/D16","v":{"$error":"#DIV/0!"}}]
[null,"Diciembre",null,null,null,{"$error":"#DIV/0!"},{"$f":"AVERAGE(F21:F32)","v":{"$error":"#DIV/0!"}},{"$f":"G32/D16","v":{"$error":"#DIV/0!"}}]

{"sheet":"IF039_Analisis","index":175,"n_rows":32,"n_cols":10,"rows_kept":32,"cut":false,"hidden":false,"merged":[[14,1,14,2],[14,3,14,9],[15,1,15,2],[15,3,15,9],[16,2,16,5],[16,7,16,9],[11,1,11,2],[11,3,11,9],[12,1,12,2],[12,3,12,9],[13,1,13,2],[13,3,13,9],[10,1,10,2],[10,3,10,9],[1,1,6,2],[1,3,3,7],[1,8,3,8],[1,9,3,9],[4,3,6,7],[4,8,6,9],[7,1,7,9],[8,1,8,2],[8,3,8,7],[9,1,9,2],[9,3,9,8]]}
[]
[null,null,null,"SERVICIUDAD ESP",null,null,null,null,"Código SPFO-21","Versión 01"]
[]
[]
[null,null,null,"FICHA DE ANÁLISIS DEL INDICADOR",null,null,null,null,"PAGINA 01"]
[]
[]
[]
[null,"Nombre del índicador",null,"Continuidad recoleccón (ICTR)",null,null,null,null,"Código: ","IF039"]
[null,"Estilo de cálculo",null,"Promedio"]
[null,"Fórmula de cálculo",null,"ICTR=1-(Σ FR*SAR/Σ PR*STR) - ContinuidadPGR=1-((Σ Di*Ui)/(Up*D))"]
[null,"Número de variables",null,3]
[null,"Variables",null,"FR: número de veces que se dejó de prestar el servicio durante el período de facturación. PR: Número de veces que se debe prestar el servicio de recolección en el período de facturación. SAR: Número de suscriptores del servicio de recolección. STR: Número total de suscriptores. n: Número de períodos de facturación"]
[null,"Tendencia del indicador",null,"Creciente"]
[null,"Frecuencia de Cálculo y Análisis",null,"Mensual"]
[null,"Meta",null,{"$f":"Indicadores!S43","v":1}]
[null,"Elaboró","Sugerencia de planeación",null,null,null,"Fecha",2020]
[]
[null,"Año Actual"]
[null,"Mes","Variable 1","Variable 2","Variable 3","Indicador","Acumulado","Cumplimiento"]
[null,"Enero",0,27,66213,{"$f":"1-(C21/(D21*E21))","v":1},{"$f":"AVERAGE(F21:F21)","v":1},{"$f":"G21/D16","v":1}]
[null,"Febrero",0,25,66258,{"$f":"1-(C22/(D22*E22))","v":1},{"$f":"AVERAGE(F21:F22)","v":1},{"$f":"G22/D16","v":1}]
[null,"Marzo",0,26,66350,1,{"$f":"AVERAGE(F21:F23)","v":1},{"$f":"G23/D16","v":1}]
[null,"Abril",0,26,68997,1,{"$f":"AVERAGE(F21:F24)","v":1},{"$f":"G24/D16","v":1}]
[null,"Mayo",0,26,66384,1,{"$f":"AVERAGE(F21:F25)","v":1},{"$f":"G25/D16","v":1}]
[null,"Junio",0,26,70292,1,{"$f":"AVERAGE(F21:F26)","v":1},{"$f":"G26/D16","v":1}]
[null,"Julio",null,null,null,{"$error":"#DIV/0!"},{"$f":"AVERAGE(F21:F27)","v":{"$error":"#DIV/0!"}},{"$f":"G27/D16","v":{"$error":"#DIV/0!"}}]
[null,"Agosto",null,null,null,{"$error":"#DIV/0!"},{"$f":"AVERAGE(F21:F28)","v":{"$error":"#DIV/0!"}},{"$f":"G28/D16","v":{"$error":"#DIV/0!"}}]
[null,"Septiembre",null,null,null,{"$error":"#DIV/0!"},{"$f":"AVERAGE(F21:F29)","v":{"$error":"#DIV/0!"}},{"$f":"G29/D16","v":{"$error":"#DIV/0!"}}]
[null,"Octubre",null,null,null,{"$error":"#DIV/0!"},{"$f":"AVERAGE(F21:F30)","v":{"$error":"#DIV/0!"}},{"$f":"G30/D16","v":{"$error":"#DIV/0!"}}]
[null,"Noviembre",null,null,null,{"$error":"#DIV/0!"},{"$f":"AVERAGE(F21:F31)","v":{"$error":"#DIV/0!"}},{"$f":"G31/D16","v":{"$error":"#DIV/0!"}}]
[null,"Diciembre",null,null,null,{"$error":"#DIV/0!"},{"$f":"AVERAGE(F21:F32)","v":{"$error":"#DIV/0!"}},{"$f":"G32/D16","v":{"$error":"#DIV/0!"}}]

{"sheet":"IF040_Analisis","index":176,"n_rows":32,"n_cols":10,"rows_kept":32,"cut":false,"hidden":false,"merged":[[15,1,15,2],[15,3,15,9],[16,2,16,5],[16,7,16,9],[12,1,12,2],[12,3,12,9],[13,1,13,2],[13,3,13,9],[14,1,14,2],[14,3,14,9],[18,1,18,6],[10,1,10,2],[10,3,10,9],[1,1,6,2],[1,3,3,7],[1,8,3,8],[1,9,3,9],[4,3,6,7],[4,8,6,9],[7,1,7,9],[8,1,8,2],[8,3,8,7],[9,1,9,2],[9,3,9,8],[11,1,11,2],[11,3,11,9]]}
[]
[null,null,null,"SERVICIUDAD ESP",null,null,null,null,"Código SPFO-21","Versión 01"]
[]
[]
[null,null,null,"FICHA DE ANÁLISIS DEL INDICADOR",null,null,null,null,"PAGINA 01"]
[]
[]
[]
[null,"Nombre del índicador",null,"Disposición final relleno sanitario",null,null,null,null,"Código: ","IF040"]
[null,"Estilo de cálculo",null,"Último dato"]
[null,"Fórmula de cálculo",null,"Basura dispuesta relleno sanitario/Basura producida"]
[null,"Número de variables",null,2]
[null,"Variables"]
[null,"Tendencia del indicador",null,"Creciente"]
[null,"Frecuencia de Cálculo y Análisis",null,"Mensual"]
[null,"Meta",null,{"$f":"Indicadores!S44","v":0.86}]
[null,"Elaboró","Sugerencia de planeación",null,null,null,"Fecha",2020]
[]
[null,"Año Actual 2020"]
[null,"Mes","Basura dispuesta relleno sanitario","Basura producida","Indicador","Acumulado","Cumplimiento"]
[null,"Enero",3880.02,3998,{"$f":"C21/D21","v":0.97049024512256132},{"$f":"E21","v":0.97049024512256132},{"$f":"F21/D16","v":1.1284770292122805}]
[null,"Febrero",null,null,{"$f":"C22/D22","v":{"$error":"#DIV/0!"}},{"$error":"#DIV/0!"},{"$f":"F22/D16","v":{"$error":"#DIV/0!"}}]
[null,"Marzo",null,null,{"$error":"#DIV/0!"},{"$error":"#DIV/0!"},{"$f":"F23/D16","v":{"$error":"#DIV/0!"}}]
[null,"Abril",null,null,{"$error":"#DIV/0!"},{"$error":"#DIV/0!"},{"$f":"F24/D16","v":{"$error":"#DIV/0!"}}]
[null,"Mayo",null,null,{"$error":"#DIV/0!"},{"$error":"#DIV/0!"},{"$f":"F25/D16","v":{"$error":"#DIV/0!"}}]
[null,"Junio",null,null,{"$error":"#DIV/0!"},{"$error":"#DIV/0!"},{"$f":"F26/D16","v":{"$error":"#DIV/0!"}}]
[null,"Julio",null,null,{"$error":"#DIV/0!"},{"$error":"#DIV/0!"},{"$f":"F27/D16","v":{"$error":"#DIV/0!"}}]
[null,"Agosto",null,null,{"$error":"#DIV/0!"},{"$error":"#DIV/0!"},{"$f":"F28/D16","v":{"$error":"#DIV/0!"}}]
[null,"Septiembre",null,null,{"$error":"#DIV/0!"},{"$error":"#DIV/0!"},{"$f":"F29/D16","v":{"$error":"#DIV/0!"}}]
[null,"Octubre",null,null,{"$error":"#DIV/0!"},{"$error":"#DIV/0!"},{"$f":"F30/D16","v":{"$error":"#DIV/0!"}}]
[null,"Noviembre",null,null,{"$error":"#DIV/0!"},{"$error":"#DIV/0!"},{"$f":"F31/D16","v":{"$error":"#DIV/0!"}}]
[null,"Diciembre",null,null,{"$error":"#DIV/0!"},{"$error":"#DIV/0!"},{"$f":"F32/D16","v":{"$error":"#DIV/0!"}}]

{"sheet":"IF041_Analisis","index":177,"n_rows":32,"n_cols":10,"rows_kept":32,"cut":false,"hidden":false,"merged":[[14,1,14,2],[14,3,14,9],[15,1,15,2],[15,3,15,9],[16,2,16,5],[16,7,16,9],[11,1,11,2],[11,3,11,9],[12,1,12,2],[12,3,12,9],[13,1,13,2],[13,3,13,9],[10,1,10,2],[10,3,10,9],[1,1,6,2],[1,3,3,7],[1,8,3,8],[1,9,3,9],[4,3,6,7],[4,8,6,9],[7,1,7,9],[8,1,8,2],[8,3,8,7],[9,1,9,2],[9,3,9,8]]}
[]
[null,null,null,"SERVICIUDAD ESP",null,null,null,null,"Código SPFO-21","Versión 01"]
[]
[]
[null,null,null,"FICHA DE ANÁLISIS DEL INDICADOR",null,null,null,null,"PAGINA 01"]
[]
[]
[]
[null,"Nombre del índicador",null,"Horario recolección (IHR-NA)",null,null,null,null,"Código: ","IF041"]
[null,"Estilo de cálculo",null,"Promedio"]
[null,"Fórmula de cálculo",null,"IHR_NAL=(Σ NRRLS)/((ndm/7)*F_CCUL)"]
[null,"Número de variables",null,3]
[null,"Variables",null,"NRRLs: Número de frecuencias prestadas con retraso superior a tres (3) horas en la macrorruta de recolección L, para cada semana s. Una frecuencia se catalogará con retraso no aceptado o superior a tres (3) horas si: HFccv  +3 < HFR Donde: HFccu: Hora final del horario de recolección que se estableció en el contrato de condiciones uniformes (CCU) para la macrorruta de recolección analizada L. HFR:  Hora final real de la frecuencia analizada que pertenece a la macrorruta de recolección analizada L. ndm:  Corresponde al número de días que posee el mes de análisis. F_CCUL:  Frecuencia de recolección establecida en el contrato de condiciones uniformes (CCU) para la macrorruta de recolección L. L: Macrorruta de recolección analizada. s:  Corresponde a la semana del mes analizada. nsm:  Corresponde al número de semanas calendario parciales o completas que posee el mes de análisis. Se contará una semana dentro de esta variable si por lo menos un día de la semana calendario analizada está dentro del mes analizado."]
[null,"Tendencia del indicador",null,"Creciente"]
[null,"Frecuencia de Cálculo y Análisis",null,"Mensual"]
[null,"Meta",null,{"$f":"Indicadores!S45","v":1}]
[null,"Elaboró","Sugerencia de planeación",null,null,null,"Fecha",2020]
[]
[null,"Año Actual"]
[null,"Mes","Variable 1","Variable 2","Variable 3","Indicador","Acumulado","Cumplimiento"]
[null,"Enero",null,null,null,{"$f":"1-(C21/((D21/7)*E21))","v":{"$error":"#DIV/0!"}},{"$f":"AVERAGE(F21:F21)","v":{"$error":"#DIV/0!"}},{"$f":"G21/D16","v":{"$error":"#DIV/0!"}}]
[null,"Febrero",null,null,null,{"$f":"1-(C22/((D22/7)*E22))","v":{"$error":"#DIV/0!"}},{"$f":"AVERAGE(F21:F22)","v":{"$error":"#DIV/0!"}},{"$f":"G22/D16","v":{"$error":"#DIV/0!"}}]
[null,"Marzo",null,null,null,{"$error":"#DIV/0!"},{"$f":"AVERAGE(F21:F23)","v":{"$error":"#DIV/0!"}},{"$f":"G23/D16","v":{"$error":"#DIV/0!"}}]
[null,"Abril",null,null,null,{"$error":"#DIV/0!"},{"$f":"AVERAGE(F21:F24)","v":{"$error":"#DIV/0!"}},{"$f":"G24/D16","v":{"$error":"#DIV/0!"}}]
[null,"Mayo",null,null,null,{"$error":"#DIV/0!"},{"$f":"AVERAGE(F21:F25)","v":{"$error":"#DIV/0!"}},{"$f":"G25/D16","v":{"$error":"#DIV/0!"}}]
[null,"Junio",null,null,null,{"$error":"#DIV/0!"},{"$f":"AVERAGE(F21:F26)","v":{"$error":"#DIV/0!"}},{"$f":"G26/D16","v":{"$error":"#DIV/0!"}}]
[null,"Julio",null,null,null,{"$error":"#DIV/0!"},{"$f":"AVERAGE(F21:F27)","v":{"$error":"#DIV/0!"}},{"$f":"G27/D16","v":{"$error":"#DIV/0!"}}]
[null,"Agosto",null,null,null,{"$error":"#DIV/0!"},{"$f":"AVERAGE(F21:F28)","v":{"$error":"#DIV/0!"}},{"$f":"G28/D16","v":{"$error":"#DIV/0!"}}]
[null,"Septiembre",null,null,null,{"$error":"#DIV/0!"},{"$f":"AVERAGE(F21:F29)","v":{"$error":"#DIV/0!"}},{"$f":"G29/D16","v":{"$error":"#DIV/0!"}}]
[null,"Octubre",null,null,null,{"$error":"#DIV/0!"},{"$f":"AVERAGE(F21:F30)","v":{"$error":"#DIV/0!"}},{"$f":"G30/D16","v":{"$error":"#DIV/0!"}}]
[null,"Noviembre",null,null,null,{"$error":"#DIV/0!"},{"$f":"AVERAGE(F21:F31)","v":{"$error":"#DIV/0!"}},{"$f":"G31/D16","v":{"$error":"#DIV/0!"}}]
[null,"Diciembre",null,null,null,{"$error":"#DIV/0!"},{"$f":"AVERAGE(F21:F32)","v":{"$error":"#DIV/0!"}},{"$f":"G32/D16","v":{"$error":"#DIV/0!"}}]

{"sheet":"IF042_Analisis","index":178,"n_rows":32,"n_cols":10,"rows_kept":32,"cut":false,"hidden":false,"merged":[[14,1,14,2],[14,3,14,9],[15,1,15,2],[15,3,15,9],[16,2,16,5],[16,7,16,9],[11,1,11,2],[11,3,11,9],[12,1,12,2],[12,3,12,9],[13,1,13,2],[13,3,13,9],[10,1,10,2],[10,3,10,9],[1,1,6,2],[1,3,3,7],[1,8,3,8],[1,9,3,9],[4,3,6,7],[4,8,6,9],[7,1,7,9],[8,1,8,2],[8,3,8,7],[9,1,9,2],[9,3,9,8]]}
[]
[null,null,null,"SERVICIUDAD ESP",null,null,null,null,"Código SPFO-21","Versión 01"]
[]
[]
[null,null,null,"FICHA DE ANÁLISIS DEL INDICADOR",null,null,null,null,"PAGINA 01"]
[]
[]
[]
[null,"Nombre del índicador",null,"Calidad tecnica recolección (ICTR-NA)",null,null,null,null,"Código: ","IF042"]
[null,"Estilo de cálculo",null,"Promedio"]
[null,"Fórmula de cálculo",null,"ICTR_Nal=∑P=1 (0.5*(IFR_NAl+IHR_Nal))p/6"]
[null,"Número de variables",null,2]
[null,"Variables",null,"p: Corresponde a cada uno de los seis meses continuos analizados dentro del semestre de análisis y toma valores entre 1 y 6 hasta alcanzar el mes m. m: Es el número del mes analizado dentro del semestre de estudio, que varía entre 1 y 6. l: Microrruta de recolección analizada. ICTR_NAI: Indicador de calidad técnica en la recolección de residuos sólidos no aprovechables de la microrruta de recolección /. 0,5:  Factor de ponderación de cada uno de los indicadores relacionados con el servicio de recolección de residuos sólidos no aprovechables. IFR_NAI:  Indicador de frecuencia de recolección de residuos no aprovechables para la microrruta de recolección 1, de conformidad con lo dispuesto en el ARTÍCULO 55 de la presente resolución. IHR_NAI: Indicador del horario de recolección de residuos no aprovechables para la microrruta de recolección /. El valor de este indicador para cada microrruta de recolección será igual al valor del indicador de la macrorruta a la cual pertenece (IHR_NAL), que fue calculado de conformidad con lo dispuesto en el ARTÍCULO 56 de la presente resolución. "]
[null,"Tendencia del indicador",null,"Creciente"]
[null,"Frecuencia de Cálculo y Análisis",null,"Mensual"]
[null,"Meta",null,{"$f":"Indicadores!S46","v":1}]
[null,"Elaboró","Sugerencia de planeación",null,null,null,"Fecha",2020]
[]
[null,"Año Actual"]
[null,"Mes","Variable 1","Variable 2","Indicador","Acumulado","Cumplimiento"]
[null,"Enero",null,null,{"$f":"0.5*(C21+D21)","v":0},{"$f":"AVERAGE(E21:E21)","v":0},{"$f":"F21/D16","v":0}]
[null,"Febrero",null,null,{"$f":"0.5*(C22+D22)","v":0},{"$f":"AVERAGE(E21:E22)","v":0},{"$f":"F22/D16","v":0}]
[null,"Marzo",null,null,0,{"$f":"AVERAGE(E21:E23)","v":0},{"$f":"F23/D16","v":0}]
[null,"Abril",null,null,0,{"$f":"AVERAGE(E21:E24)","v":0},{"$f":"F24/D16","v":0}]
[null,"Mayo",null,null,0,{"$f":"AVERAGE(E21:E25)","v":0},{"$f":"F25/D16","v":0}]
[null,"Junio",null,null,0,{"$f":"AVERAGE(E21:E26)","v":0},{"$f":"F26/D16","v":0}]
[null,"Julio",null,null,0,{"$f":"AVERAGE(E21:E27)","v":0},{"$f":"F27/D16","v":0}]
[null,"Agosto",null,null,0,{"$f":"AVERAGE(E21:E28)","v":0},{"$f":"F28/D16","v":0}]
[null,"Septiembre",null,null,0,{"$f":"AVERAGE(E21:E29)","v":0},{"$f":"F29/D16","v":0}]
[null,"Octubre",null,null,0,{"$f":"AVERAGE(E21:E30)","v":0},{"$f":"F30/D16","v":0}]
[null,"Noviembre",null,null,0,{"$f":"AVERAGE(E21:E31)","v":0},{"$f":"F31/D16","v":0}]
[null,"Diciembre",null,null,0,{"$f":"AVERAGE(E21:E32)","v":0},{"$f":"F32/D16","v":0}]

{"sheet":"IF043_Analisis","index":179,"n_rows":32,"n_cols":10,"rows_kept":32,"cut":false,"hidden":false,"merged":[[15,1,15,2],[15,3,15,9],[16,2,16,5],[16,7,16,9],[12,1,12,2],[12,3,12,9],[13,1,13,2],[13,3,13,9],[14,1,14,2],[14,3,14,9],[18,1,18,6],[10,1,10,2],[10,3,10,9],[1,1,6,2],[1,3,3,7],[1,8,3,8],[1,9,3,9],[4,3,6,7],[4,8,6,9],[7,1,7,9],[8,1,8,2],[8,3,8,7],[9,1,9,2],[9,3,9,8],[11,1,11,2],[11,3,11,9]]}
[]
[null,null,null,"SERVICIUDAD ESP",null,null,null,null,"Código SPFO-21","Versión 01"]
[]
[]
[null,null,null,"FICHA DE ANÁLISIS DEL INDICADOR",null,null,null,null,"PAGINA 01"]
[]
[]
[]
[null,"Nombre del índicador",null,"Cobertura barrido",null,null,null,null,"Código: ","IF043"]
[null,"Estilo de cálculo",null,"Último dato"]
[null,"Fórmula de cálculo",null,"Total de km vías barrido/total km programados"]
[null,"Número de variables",null,2]
[null,"Variables"]
[null,"Tendencia del indicador",null,"Creciente"]
[null,"Frecuencia de Cálculo y Análisis",null,"Mensual"]
[null,"Meta",null,{"$f":"Indicadores!S47","v":1}]
[null,"Elaboró","Sugerencia de planeación",null,null,null,"Fecha",2020]
[]
[null,"Año Actual 2020"]
[null,"Mes","Total de km vías barrido","total km programados","Indicador","Acumulado","Cumplimiento"]
[null,"Enero",5733,5733,{"$f":"C21/D21","v":1},{"$f":"E21","v":1},{"$f":"F21/D16","v":1}]
[null,"Febrero",5733,5733,{"$f":"C22/D22","v":1},1,{"$f":"F22/D16","v":1}]
[null,"Marzo",5733,5733,1,1,{"$f":"F23/D16","v":1}]
[null,"Abril",5733,5733,1,1,{"$f":"F24/D16","v":1}]
[null,"Mayo",5733,5733,1,1,{"$f":"F25/D16","v":1}]
[null,"Junio",5733,5733,1,1,{"$f":"F26/D16","v":1}]
[null,"Julio",5733,5733,1,1,{"$f":"F27/D16","v":1}]
[null,"Agosto",5733,5733,1,1,{"$f":"F28/D16","v":1}]
[null,"Septiembre",5733,5733,1,1,{"$f":"F29/D16","v":1}]
[null,"Octubre",5733,5733,1,1,{"$f":"F30/D16","v":1}]
[null,"Noviembre",5733,5733,1,1,{"$f":"F31/D16","v":1}]
[null,"Diciembre",5733,5733,1,1,{"$f":"F32/D16","v":1}]

{"sheet":"IF044_Analisis","index":180,"n_rows":32,"n_cols":10,"rows_kept":32,"cut":false,"hidden":false,"merged":[[14,1,14,2],[14,3,14,9],[15,1,15,2],[15,3,15,9],[16,2,16,5],[16,7,16,9],[11,1,11,2],[11,3,11,9],[12,1,12,2],[12,3,12,9],[13,1,13,2],[13,3,13,9],[10,1,10,2],[10,3,10,9],[1,1,6,2],[1,3,3,7],[1,8,3,8],[1,9,3,9],[4,3,6,7],[4,8,6,9],[7,1,7,9],[8,1,8,2],[8,3,8,7],[9,1,9,2],[9,3,9,8]]}
[]
[null,null,null,"SERVICIUDAD ESP",null,null,null,null,"Código SPFO-21","Versión 01"]
[]
[]
[null,null,null,"FICHA DE ANÁLISIS DEL INDICADOR",null,null,null,null,"PAGINA 01"]
[]
[]
[]
[null,"Nombre del índicador",null,"Continuidad barrido (ICTBL)",null,null,null,null,"Código: ","IF044"]
[null,"Estilo de cálculo",null,"Último dato"]
[null,"Fórmula de cálculo",null,"Número Rutas ejecutadas/Número rutas programadas"]
[null,"Número de variables",null,2]
[null,"Variables"]
[null,"Tendencia del indicador",null,"Creciente"]
[null,"Frecuencia de Cálculo y Análisis",null,"Mensual"]
[null,"Meta",null,{"$f":"Indicadores!S48","v":1}]
[null,"Elaboró","Sugerencia de planeación",null,null,null,"Fecha",2020]
[]
[null,"Año Actual"]
[null,"Mes","Número Rutas ejecutadas","Número rutas programadas","Indicador","Acumulado","Cumplimiento"]
[null,"Enero",18,18,{"$f":"C21/D21","v":1},{"$f":"E21","v":1},{"$f":"F21/D16","v":1}]
[null,"Febrero",18,18,{"$f":"C22/D22","v":1},1,{"$f":"F22/D16","v":1}]
[null,"Marzo",18,18,1,1,{"$f":"F23/D16","v":1}]
[null,"Abril",18,18,1,1,{"$f":"F24/D16","v":1}]
[null,"Mayo",18,18,1,1,{"$f":"F25/D16","v":1}]
[null,"Junio",18,18,1,1,{"$f":"F26/D16","v":1}]
[null,"Julio",18,18,1,1,{"$f":"F27/D16","v":1}]
[null,"Agosto",18,18,1,1,{"$f":"F28/D16","v":1}]
[null,"Septiembre",18,18,1,1,{"$f":"F29/D16","v":1}]
[null,"Octubre",18,18,1,1,{"$f":"F30/D16","v":1}]
[null,"Noviembre",18,18,1,1,{"$f":"F31/D16","v":1}]
[null,"Diciembre",18,18,1,1,{"$f":"F32/D16","v":1}]

{"sheet":"IF045_Analisis","index":181,"n_rows":32,"n_cols":10,"rows_kept":32,"cut":false,"hidden":false,"merged":[[14,1,14,2],[14,3,14,9],[15,1,15,2],[15,3,15,9],[16,2,16,5],[16,7,16,9],[11,1,11,2],[11,3,11,9],[12,1,12,2],[12,3,12,9],[13,1,13,2],[13,3,13,9],[10,1,10,2],[10,3,10,9],[1,1,6,2],[1,3,3,7],[1,8,3,8],[1,9,3,9],[4,3,6,7],[4,8,6,9],[7,1,7,9],[8,1,8,2],[8,3,8,7],[9,1,9,2],[9,3,9,8]]}
[]
[null,null,null,"SERVICIUDAD ESP",null,null,null,null,"Código SPFO-21","Versión 01"]
[]
[]
[null,null,null,"FICHA DE ANÁLISIS DEL INDICADOR",null,null,null,null,"PAGINA 01"]
[]
[]
[]
[null,"Nombre del índicador",null,"Cobertura cesped",null,null,null,null,"Código: ","IF045"]
[null,"Estilo de cálculo",null,"Último dato"]
[null,"Fórmula de cálculo",null,"Mts 2 de césped cortado/total Mts 2 programados  "]
[null,"Número de variables",null,2]
[null,"Variables"]
[null,"Tendencia del indicador",null,"Creciente"]
[null,"Frecuencia de Cálculo y Análisis",null,"Mensual"]
[null,"Meta",null,{"$f":"Indicadores!S49","v":1}]
[null,"Elaboró","Sugerencia de planeación",null,null,null,"Fecha",2020]
[]
[null,"Año Actual"]
[null,"Mes","Mts 2 de césped cortado","total Mts 2 programados  ","Indicador","Acumulado","Cumplimiento"]
[null,"Enero",448094,448094,{"$f":"C21/D21","v":1},{"$f":"E21","v":1},{"$f":"F21/D16","v":1}]
[null,"Febrero",448094,448094,{"$f":"C22/D22","v":1},1,{"$f":"F22/D16","v":1}]
[null,"Marzo",448094,448094,1,1,{"$f":"F23/D16","v":1}]
[null,"Abril",448094,448094,1,1,{"$f":"F24/D16","v":1}]
[null,"Mayo",448094,448094,1,1,{"$f":"F25/D16","v":1}]
[null,"Junio",135675,448094,0.30278245189625391,0.30278245189625391,{"$f":"F26/D16","v":0.30278245189625391}]
[null,"Julio",448094,448094,1,1,{"$f":"F27/D16","v":1}]
[null,"Agosto",448094,448094,1,1,{"$f":"F28/D16","v":1}]
[null,"Septiembre",448094,448094,1,1,{"$f":"F29/D16","v":1}]
[null,"Octubre",448094,448094,1,1,{"$f":"F30/D16","v":1}]
[null,"Noviembre",448094,448094,1,1,{"$f":"F31/D16","v":1}]
[null,"Diciembre",448094,448094,1,1,{"$f":"F32/D16","v":1}]

{"sheet":"IF046_Analisis","index":182,"n_rows":32,"n_cols":10,"rows_kept":32,"cut":false,"hidden":false,"merged":[[14,1,14,2],[14,3,14,9],[15,1,15,2],[15,3,15,9],[16,2,16,5],[16,7,16,9],[11,1,11,2],[11,3,11,9],[12,1,12,2],[12,3,12,9],[13,1,13,2],[13,3,13,9],[10,1,10,2],[10,3,10,9],[1,1,6,2],[1,3,3,7],[1,8,3,8],[1,9,3,9],[4,3,6,7],[4,8,6,9],[7,1,7,9],[8,1,8,2],[8,3,8,7],[9,1,9,2],[9,3,9,8]]}
[]
[null,null,null,"SERVICIUDAD ESP",null,null,null,null,"Código SPFO-21","Versión 01"]
[]
[]
[null,null,null,"FICHA DE ANÁLISIS DEL INDICADOR",null,null,null,null,"PAGINA 01"]
[]
[]
[]
[null,"Nombre del índicador",null,"Continuidad cesped",null,null,null,null,"Código: ","IF046"]
[null,"Estilo de cálculo",null,"Último dato"]
[null,"Fórmula de cálculo",null,"Rutas de cesped realizadas/Rutas cesped programadas"]
[null,"Número de variables",null,2]
[null,"Variables"]
[null,"Tendencia del indicador",null,"Creciente"]
[null,"Frecuencia de Cálculo y Análisis",null,"Mensual"]
[null,"Meta",null,{"$f":"Indicadores!S50","v":1}]
[null,"Elaboró","Sugerencia de planeación",null,null,null,"Fecha",2020]
[]
[null,"Año Actual"]
[null,"Mes","Variable 1","Variable 2","Indicador","Acumulado","Cumplimiento"]
[null,"Enero",null,null,{"$f":"C21/D21","v":{"$error":"#DIV/0!"}},{"$f":"E21","v":{"$error":"#DIV/0!"}},{"$f":"F21/D16","v":{"$error":"#DIV/0!"}}]
[null,"Febrero",null,null,{"$f":"C22/D22","v":{"$error":"#DIV/0!"}},{"$error":"#DIV/0!"},{"$f":"F22/D16","v":{"$error":"#DIV/0!"}}]
[null,"Marzo",null,null,{"$error":"#DIV/0!"},{"$error":"#DIV/0!"},{"$f":"F23/D16","v":{"$error":"#DIV/0!"}}]
[null,"Abril",null,null,{"$error":"#DIV/0!"},{"$error":"#DIV/0!"},{"$f":"F24/D16","v":{"$error":"#DIV/0!"}}]
[null,"Mayo",null,null,{"$error":"#DIV/0!"},{"$error":"#DIV/0!"},{"$f":"F25/D16","v":{"$error":"#DIV/0!"}}]
[null,"Junio",null,null,{"$error":"#DIV/0!"},{"$error":"#DIV/0!"},{"$f":"F26/D16","v":{"$error":"#DIV/0!"}}]
[null,"Julio",null,null,{"$error":"#DIV/0!"},{"$error":"#DIV/0!"},{"$f":"F27/D16","v":{"$error":"#DIV/0!"}}]
[null,"Agosto",null,null,{"$error":"#DIV/0!"},{"$error":"#DIV/0!"},{"$f":"F28/D16","v":{"$error":"#DIV/0!"}}]
[null,"Septiembre",null,null,{"$error":"#DIV/0!"},{"$error":"#DIV/0!"},{"$f":"F29/D16","v":{"$error":"#DIV/0!"}}]
[null,"Octubre",null,null,{"$error":"#DIV/0!"},{"$error":"#DIV/0!"},{"$f":"F30/D16","v":{"$error":"#DIV/0!"}}]
[null,"Noviembre",null,null,{"$error":"#DIV/0!"},{"$error":"#DIV/0!"},{"$f":"F31/D16","v":{"$error":"#DIV/0!"}}]
[null,"Diciembre",null,null,{"$error":"#DIV/0!"},{"$error":"#DIV/0!"},{"$f":"F32/D16","v":{"$error":"#DIV/0!"}}]

{"sheet":"IF047_Analisis","index":183,"n_rows":32,"n_cols":10,"rows_kept":32,"cut":false,"hidden":false,"merged":[[14,1,14,2],[14,3,14,9],[15,1,15,2],[15,3,15,9],[16,2,16,5],[16,7,16,9],[11,1,11,2],[11,3,11,9],[12,1,12,2],[12,3,12,9],[13,1,13,2],[13,3,13,9],[10,1,10,2],[10,3,10,9],[1,1,6,2],[1,3,3,7],[1,8,3,8],[1,9,3,9],[4,3,6,7],[4,8,6,9],[7,1,7,9],[8,1,8,2],[8,3,8,7],[9,1,9,2],[9,3,9,8]]}
[]
[null,null,null,"SERVICIUDAD ESP",null,null,null,null,"Código SPFO-21","Versión 01"]
[]
[]
[null,null,null,"FICHA DE ANÁLISIS DEL INDICADOR",null,null,null,null,"PAGINA 01"]
[]
[]
[]
[null,"Nombre del índicador",null,"Cobertura poda arboles",null,null,null,null,"Código: ","IF047"]
[null,"Estilo de cálculo",null,"Último dato"]
[null,"Fórmula de cálculo",null,"Numero de podas Ejecutadas/numero de podas programadas"]
[null,"Número de variables",null,2]
[null,"Variables"]
[null,"Tendencia del indicador",null,"Creciente"]
[null,"Frecuencia de Cálculo y Análisis",null,"Mensual"]
[null,"Meta",null,{"$f":"Indicadores!S51","v":1}]
[null,"Elaboró","Sugerencia de planeación",null,null,null,"Fecha",2020]
[]
[null,"Año Actual"]
[null,"Mes","Variable 1","Variable 2","Indicador","Acumulado","Cumplimiento"]
[null,"Enero",1708,1708,{"$f":"C21/D21","v":1},{"$f":"E21","v":1},{"$f":"F21/D16","v":1}]
[null,"Febrero",1708,1708,{"$f":"C22/D22","v":1},1,{"$f":"F22/D16","v":1}]
[null,"Marzo",1708,1708,1,1,{"$f":"F23/D16","v":1}]
[null,"Abril",1708,1708,1,1,{"$f":"F24/D16","v":1}]
[null,"Mayo",1708,1708,1,1,{"$f":"F25/D16","v":1}]
[null,"Junio",54,1708,3.161592505854801E-2,3.161592505854801E-2,{"$f":"F26/D16","v":3.161592505854801E-2}]
[null,"Julio",1708,1708,1,1,{"$f":"F27/D16","v":1}]
[null,"Agosto",1708,1708,1,1,{"$f":"F28/D16","v":1}]
[null,"Septiembre",1708,1708,1,1,{"$f":"F29/D16","v":1}]
[null,"Octubre",1708,1708,1,1,{"$f":"F30/D16","v":1}]
[null,"Noviembre",1708,1708,1,1,{"$f":"F31/D16","v":1}]
[null,"Diciembre",1708,1708,1,1,{"$f":"F32/D16","v":1}]

{"sheet":"IF048_Analisis","index":184,"n_rows":32,"n_cols":10,"rows_kept":32,"cut":false,"hidden":false,"merged":[[14,1,14,2],[14,3,14,9],[15,1,15,2],[15,3,15,9],[16,2,16,5],[16,7,16,9],[11,1,11,2],[11,3,11,9],[12,1,12,2],[12,3,12,9],[13,1,13,2],[13,3,13,9],[10,1,10,2],[10,3,10,9],[1,1,6,2],[1,3,3,7],[1,8,3,8],[1,9,3,9],[4,3,6,7],[4,8,6,9],[7,1,7,9],[8,1,8,2],[8,3,8,7],[9,1,9,2],[9,3,9,8]]}
[]
[null,null,null,"SERVICIUDAD ESP",null,null,null,null,"Código SPFO-21","Versión 01"]
[]
[]
[null,null,null,"FICHA DE ANÁLISIS DEL INDICADOR",null,null,null,null,"PAGINA 01"]
[]
[]
[]
[null,"Nombre del índicador",null,"Cobertura lavado",null,null,null,null,"Código: ","IF048"]
[null,"Estilo de cálculo",null,"Último dato"]
[null,"Fórmula de cálculo",null,"M2 ejcutados de lavado/m2 lavado programados"]
[null,"Número de variables",null,2]
[null,"Variables"]
[null,"Tendencia del indicador",null,"Creciente"]
[null,"Frecuencia de Cálculo y Análisis",null,"Mensual"]
[null,"Meta",null,{"$f":"Indicadores!S52","v":1}]
[null,"Elaboró","Sugerencia de planeación",null,null,null,"Fecha",2020]
[]
[null,"Año Actual"]
[null,"Mes","Variable 1","Variable 2","Indicador","Acumulado","Cumplimiento"]
[null,"Enero",0,0,{"$f":"C21/D21","v":{"$error":"#DIV/0!"}},{"$f":"E21","v":{"$error":"#DIV/0!"}},{"$f":"F21/D16","v":{"$error":"#DIV/0!"}}]
[null,"Febrero",0,0,{"$f":"C22/D22","v":{"$error":"#DIV/0!"}},{"$error":"#DIV/0!"},{"$f":"F22/D16","v":{"$error":"#DIV/0!"}}]
[null,"Marzo",0,0,{"$error":"#DIV/0!"},{"$error":"#DIV/0!"},{"$f":"F23/D16","v":{"$error":"#DIV/0!"}}]
[null,"Abril",0,0,{"$error":"#DIV/0!"},{"$error":"#DIV/0!"},{"$f":"F24/D16","v":{"$error":"#DIV/0!"}}]
[null,"Mayo",0,0,{"$error":"#DIV/0!"},{"$error":"#DIV/0!"},{"$f":"F25/D16","v":{"$error":"#DIV/0!"}}]
[null,"Junio",0,0,{"$error":"#DIV/0!"},{"$error":"#DIV/0!"},{"$f":"F26/D16","v":{"$error":"#DIV/0!"}}]
[null,"Julio",null,null,{"$error":"#DIV/0!"},{"$error":"#DIV/0!"},{"$f":"F27/D16","v":{"$error":"#DIV/0!"}}]
[null,"Agosto",null,null,{"$error":"#DIV/0!"},{"$error":"#DIV/0!"},{"$f":"F28/D16","v":{"$error":"#DIV/0!"}}]
[null,"Septiembre",null,null,{"$error":"#DIV/0!"},{"$error":"#DIV/0!"},{"$f":"F29/D16","v":{"$error":"#DIV/0!"}}]
[null,"Octubre",null,null,{"$error":"#DIV/0!"},{"$error":"#DIV/0!"},{"$f":"F30/D16","v":{"$error":"#DIV/0!"}}]
[null,"Noviembre",null,null,{"$error":"#DIV/0!"},{"$error":"#DIV/0!"},{"$f":"F31/D16","v":{"$error":"#DIV/0!"}}]
[null,"Diciembre",null,null,{"$error":"#DIV/0!"},{"$error":"#DIV/0!"},{"$f":"F32/D16","v":{"$error":"#DIV/0!"}}]

{"sheet":"IF049_Analisis","index":185,"n_rows":32,"n_cols":10,"rows_kept":32,"cut":false,"hidden":false,"merged":[[14,1,14,2],[14,3,14,9],[15,1,15,2],[15,3,15,9],[16,2,16,5],[16,7,16,9],[11,1,11,2],[11,3,11,9],[12,1,12,2],[12,3,12,9],[13,1,13,2],[13,3,13,9],[10,1,10,2],[10,3,10,9],[1,1,6,2],[1,3,3,7],[1,8,3,8],[1,9,3,9],[4,3,6,7],[4,8,6,9],[7,1,7,9],[8,1,8,2],[8,3,8,7],[9,1,9,2],[9,3,9,8]]}
[]
[null,null,null,"SERVICIUDAD ESP",null,null,null,null,"Código SPFO-21","Versión 01"]
[]
[]
[null,null,null,"FICHA DE ANÁLISIS DEL INDICADOR",null,null,null,null,"PAGINA 01"]
[]
[]
[]
[null,"Nombre del índicador",null,"Cobertura canastillas",null,null,null,null,"Código: ","IF049"]
[null,"Estilo de cálculo",null,"Último dato"]
[null,"Fórmula de cálculo",null,"No de canastillas instaladas/ No. Aprobadas por el PGIRS"]
[null,"Número de variables",null,2]
[null,"Variables"]
[null,"Tendencia del indicador",null,"Creciente"]
[null,"Frecuencia de Cálculo y Análisis",null,"Mensual"]
[null,"Meta",null,{"$f":"Indicadores!S53","v":1}]
[null,"Elaboró","Sugerencia de planeación",null,null,null,"Fecha",2020]
[]
[null,"Año Actual"]
[null,"Mes","Variable 1","Variable 2","Indicador","Acumulado","Cumplimiento"]
[null,"Enero",null,null,{"$f":"C21/D21","v":{"$error":"#DIV/0!"}},{"$f":"E21","v":{"$error":"#DIV/0!"}},{"$f":"F21/D16","v":{"$error":"#DIV/0!"}}]
[null,"Febrero",null,null,{"$f":"C22/D22","v":{"$error":"#DIV/0!"}},{"$error":"#DIV/0!"},{"$f":"F22/D16","v":{"$error":"#DIV/0!"}}]
[null,"Marzo",null,null,{"$error":"#DIV/0!"},{"$error":"#DIV/0!"},{"$f":"F23/D16","v":{"$error":"#DIV/0!"}}]
[null,"Abril",null,null,{"$error":"#DIV/0!"},{"$error":"#DIV/0!"},{"$f":"F24/D16","v":{"$error":"#DIV/0!"}}]
[null,"Mayo",null,null,{"$error":"#DIV/0!"},{"$error":"#DIV/0!"},{"$f":"F25/D16","v":{"$error":"#DIV/0!"}}]
[null,"Junio",null,null,{"$error":"#DIV/0!"},{"$error":"#DIV/0!"},{"$f":"F26/D16","v":{"$error":"#DIV/0!"}}]
[null,"Julio",null,null,{"$error":"#DIV/0!"},{"$error":"#DIV/0!"},{"$f":"F27/D16","v":{"$error":"#DIV/0!"}}]
[null,"Agosto",null,null,{"$error":"#DIV/0!"},{"$error":"#DIV/0!"},{"$f":"F28/D16","v":{"$error":"#DIV/0!"}}]
[null,"Septiembre",null,null,{"$error":"#DIV/0!"},{"$error":"#DIV/0!"},{"$f":"F29/D16","v":{"$error":"#DIV/0!"}}]
[null,"Octubre",null,null,{"$error":"#DIV/0!"},{"$error":"#DIV/0!"},{"$f":"F30/D16","v":{"$error":"#DIV/0!"}}]
[null,"Noviembre",null,null,{"$error":"#DIV/0!"},{"$error":"#DIV/0!"},{"$f":"F31/D16","v":{"$error":"#DIV/0!"}}]
[null,"Diciembre",null,null,{"$error":"#DIV/0!"},{"$error":"#DIV/0!"},{"$f":"F32/D16","v":{"$error":"#DIV/0!"}}]

{"sheet":"IF050_Analisis","index":186,"n_rows":32,"n_cols":10,"rows_kept":32,"cut":false,"hidden":false,"merged":[[14,1,14,2],[14,3,14,9],[15,1,15,2],[15,3,15,9],[16,2,16,5],[16,7,16,9],[11,1,11,2],[11,3,11,9],[12,1,12,2],[12,3,12,9],[13,1,13,2],[13,3,13,9],[10,1,10,2],[10,3,10,9],[1,1,6,2],[1,3,3,7],[1,8,3,8],[1,9,3,9],[4,3,6,7],[4,8,6,9],[7,1,7,9],[8,1,8,2],[8,3,8,7],[9,1,9,2],[9,3,9,8]]}
[]
[null,null,null,"SERVICIUDAD ESP",null,null,null,null,"Código SPFO-21","Versión 01"]
[]
[]
[null,null,null,"FICHA DE ANÁLISIS DEL INDICADOR",null,null,null,null,"PAGINA 01"]
[]
[]
[]
[null,"Nombre del índicador",null,"Calidad canastillas",null,null,null,null,"Código: ","IF050"]
[null,"Estilo de cálculo",null,"Último dato"]
[null,"Fórmula de cálculo",null,"No de canastillas en buen estado/ total de canastillas"]
[null,"Número de variables",null,2]
[null,"Variables"]
[null,"Tendencia del indicador",null,"Creciente"]
[null,"Frecuencia de Cálculo y Análisis",null,"Mensual"]
[null,"Meta",null,{"$f":"Indicadores!S54","v":1}]
[null,"Elaboró","Sugerencia de planeación",null,null,null,"Fecha",2020]
[]
[null,"Año Actual"]
[null,"Mes","Variable 1","Variable 2","Indicador","Acumulado","Cumplimiento"]
[null,"Enero",56,133,{"$f":"C21/D21","v":0.42105263157894735},{"$f":"E21","v":0.42105263157894735},{"$f":"F21/D16","v":0.42105263157894735}]
[null,"Febrero",56,133,{"$f":"C22/D22","v":0.42105263157894735},0.42105263157894735,{"$f":"F22/D16","v":0.42105263157894735}]
[null,"Marzo",56,133,0.42105263157894735,0.42105263157894735,{"$f":"F23/D16","v":0.42105263157894735}]
[null,"Abril",56,133,0.42105263157894735,0.42105263157894735,{"$f":"F24/D16","v":0.42105263157894735}]
[null,"Mayo",56,133,0.42105263157894735,0.42105263157894735,{"$f":"F25/D16","v":0.42105263157894735}]
[null,"Junio",56,133,0.42105263157894735,0.42105263157894735,{"$f":"F26/D16","v":0.42105263157894735}]
[null,"Julio",56,133,0.42105263157894735,0.42105263157894735,{"$f":"F27/D16","v":0.42105263157894735}]
[null,"Agosto",56,133,0.42105263157894735,0.42105263157894735,{"$f":"F28/D16","v":0.42105263157894735}]
[null,"Septiembre",56,133,0.42105263157894735,0.42105263157894735,{"$f":"F29/D16","v":0.42105263157894735}]
[null,"Octubre",56,133,0.42105263157894735,0.42105263157894735,{"$f":"F30/D16","v":0.42105263157894735}]
[null,"Noviembre",56,133,0.42105263157894735,0.42105263157894735,{"$f":"F31/D16","v":0.42105263157894735}]
[null,"Diciembre",56,133,0.42105263157894735,0.42105263157894735,{"$f":"F32/D16","v":0.42105263157894735}]

{"sheet":"IF051_Analisis","index":187,"n_rows":32,"n_cols":10,"rows_kept":32,"cut":false,"hidden":false,"merged":[[18,1,18,6],[14,1,14,2],[14,3,14,9],[15,1,15,2],[15,3,15,9],[16,2,16,5],[16,7,16,9],[11,1,11,2],[11,3,11,9],[12,1,12,2],[12,3,12,9],[13,1,13,2],[13,3,13,9],[10,1,10,2],[10,3,10,9],[1,1,6,2],[1,3,3,7],[1,8,3,8],[1,9,3,9],[4,3,6,7],[4,8,6,9],[7,1,7,9],[8,1,8,2],[8,3,8,7],[9,1,9,2],[9,3,9,8]]}
[]
[null,null,null,"SERVICIUDAD ESP",null,null,null,null,"Código SPFO-21","Versión 01"]
[]
[]
[null,null,null,"FICHA DE ANÁLISIS DEL INDICADOR",null,null,null,null,"PAGINA 01"]
[]
[]
[]
[null,"Nombre del índicador",null,"Mantenimiento de los vehículos ",null,null,null,null,"Código: ","IF051"]
[null,"Estilo de cálculo",null,"Último dato"]
[null,"Fórmula de cálculo",null,"Número de Manteniemientos realizados/Número de mantenimientos programados"]
[null,"Número de variables",null,2]
[null,"Variables"]
[null,"Tendencia del indicador",null,"Creciente"]
[null,"Frecuencia de Cálculo y Análisis",null,"Mensual"]
[null,"Meta",null,{"$f":"Indicadores!S55","v":0.9}]
[null,"Elaboró","Sugerencia de planeación",null,null,null,"Fecha",2020]
[]
[null,"Año Actual 2020"]
[null,"Mes","Número de Manteniemientos realizados","Número de mantenimientos programados","Indicador","Acumulado","Cumplimiento"]
[null,"Enero",36,43,{"$f":"C21/D21","v":0.83720930232558144},{"$f":"E21","v":0.83720930232558144},{"$f":"F21/D16","v":0.93023255813953487}]
[null,"Febrero",36,43,{"$f":"C22/D22","v":0.83720930232558144},0.83720930232558144,{"$f":"F22/D16","v":0.93023255813953487}]
[null,"Marzo",35,43,0.81395348837209303,0.81395348837209303,{"$f":"F23/D16","v":0.90439276485788112}]
[null,"Abril",36,43,0.83720930232558144,0.83720930232558144,{"$f":"F24/D16","v":0.93023255813953487}]
[null,"Mayo",35,43,0.81395348837209303,0.81395348837209303,{"$f":"F25/D16","v":0.90439276485788112}]
[null,"Junio",36,45,0.8,0.8,{"$f":"F26/D16","v":0.88888888888888895}]
[null,"Julio",37,45,0.82222222222222219,0.82222222222222219,{"$f":"F27/D16","v":0.9135802469135802}]
[null,"Agosto",36,45,0.8,0.8,{"$f":"F28/D16","v":0.88888888888888895}]
[null,"Septiembre",37,46,0.80434782608695654,0.80434782608695654,{"$f":"F29/D16","v":0.893719806763285}]
[null,"Octubre",37,46,0.80434782608695654,0.80434782608695654,{"$f":"F30/D16","v":0.893719806763285}]
[null,"Noviembre",34,46,0.73913043478260865,0.73913043478260865,{"$f":"F31/D16","v":0.82125603864734287}]
[null,"Diciembre",39,46,0.84782608695652173,0.84782608695652173,{"$f":"F32/D16","v":0.94202898550724634}]

{"sheet":"IF052_Analisis","index":188,"n_rows":32,"n_cols":10,"rows_kept":32,"cut":false,"hidden":false,"merged":[[18,1,18,6],[14,1,14,2],[14,3,14,9],[15,1,15,2],[15,3,15,9],[16,2,16,5],[16,7,16,9],[11,1,11,2],[11,3,11,9],[12,1,12,2],[12,3,12,9],[13,1,13,2],[13,3,13,9],[10,1,10,2],[10,3,10,9],[1,1,6,2],[1,3,3,7],[1,8,3,8],[1,9,3,9],[4,3,6,7],[4,8,6,9],[7,1,7,9],[8,1,8,2],[8,3,8,7],[9,1,9,2],[9,3,9,8]]}
[]
[null,null,null,"SERVICIUDAD ESP",null,null,null,null,"Código SPFO-21","Versión 01"]
[]
[]
[null,null,null,"FICHA DE ANÁLISIS DEL INDICADOR",null,null,null,null,"PAGINA 01"]
[]
[]
[]
[null,"Nombre del índicador",null,"Efectividad de los Vehículos",null,null,null,null,"Código: ","IF052"]
[null,"Estilo de cálculo",null,"Último dato"]
[null,"Fórmula de cálculo",null,"(Sum. Efectividad por Vehiculo/Total de vehículos)"]
[null,"Número de variables",null,2]
[null,"Variables"]
[null,"Tendencia del indicador",null,"Creciente"]
[null,"Frecuencia de Cálculo y Análisis",null,"Mensual"]
[null,"Meta",null,{"$f":"Indicadores!S56","v":1}]
[null,"Elaboró","Sugerencia de planeación",null,null,null,"Fecha",2020]
[]
[null,"Año Actual 2020"]
[null,"Mes","Efectividad \nPor\nVehículos","Total de vehículos","Indicador","Acumulado","Cumplimiento"]
[null,"Enero",230.03225806451616,271,{"$f":"C21/D21","v":0.84882752053326993},{"$f":"E21","v":0.84882752053326993},{"$f":"F21/D16","v":0.84882752053326993}]
[null,"Febrero",226.86206896551724,271,{"$f":"C22/D22","v":0.83712940577681638},0.83712940577681638,{"$f":"F22/D16","v":0.83712940577681638}]
[null,"Marzo",229.96774193548387,271,0.84858945363647187,0.84858945363647187,{"$f":"F23/D16","v":0.84858945363647187}]
[null,"Abril",237.77419354838707,271,0.87739554814902976,0.87739554814902976,{"$f":"F24/D16","v":0.87739554814902976}]
[null,"Mayo",223.19354838709677,271,0.82359242947268185,0.82359242947268185,{"$f":"F25/D16","v":0.82359242947268185}]
[null,"Junio",236.61290322580641,283,0.83608799726433358,0.83608799726433358,{"$f":"F26/D16","v":0.83608799726433358}]
[null,"Julio",244.87096774193549,283,0.86526843725065539,0.86526843725065539,{"$f":"F27/D16","v":0.86526843725065539}]
[null,"Agosto",236.35483870967744,283,0.83517610851476132,0.83517610851476132,{"$f":"F28/D16","v":0.83517610851476132}]
[null,"Septiembre",258.41935483870969,293,0.88197732026863374,0.88197732026863374,{"$f":"F29/D16","v":0.88197732026863374}]
[null,"Octubre",246.67741935483872,293,0.84190245513596829,0.84190245513596829,{"$f":"F30/D16","v":0.84190245513596829}]
[null,"Noviembre",234,293,0.79863481228668942,0.79863481228668942,{"$f":"F31/D16","v":0.79863481228668942}]
[null,"Diciembre",242.16129032258064,293,0.82648904546955848,0.82648904546955848,{"$f":"F32/D16","v":0.82648904546955848}]

{"sheet":"IF053_Analisis","index":189,"n_rows":32,"n_cols":10,"rows_kept":32,"cut":false,"hidden":false,"merged":[[18,1,18,6],[14,1,14,2],[14,3,14,9],[15,1,15,2],[15,3,15,9],[16,2,16,5],[16,7,16,9],[11,1,11,2],[11,3,11,9],[12,1,12,2],[12,3,12,9],[13,1,13,2],[13,3,13,9],[10,1,10,2],[10,3,10,9],[1,1,6,2],[1,3,3,7],[1,8,3,8],[1,9,3,9],[4,3,6,7],[4,8,6,9],[7,1,7,9],[8,1,8,2],[8,3,8,7],[9,1,9,2],[9,3,9,8]]}
[]
[null,null,null,"SERVICIUDAD ESP",null,null,null,null,"Código SPFO-21","Versión 01"]
[]
[]
[null,null,null,"FICHA DE ANÁLISIS DEL INDICADOR",null,null,null,null,"PAGINA 01"]
[]
[]
[]
[null,"Nombre del índicador",null,"Efectividad de los Recolectores",null,null,null,null,"Código: ","IF053"]
[null,"Estilo de cálculo",null,"Último dato"]
[null,"Fórmula de cálculo",null,"(Sum. Efectividad por recolector/Total Recolectores)"]
[null,"Número de variables",null,2]
[null,"Variables"]
[null,"Tendencia del indicador",null,"Creciente"]
[null,"Frecuencia de Cálculo y Análisis",null,"Mensual"]
[null,"Meta",null,{"$f":"Indicadores!S57","v":1}]
[null,"Elaboró","Sugerencia de planeación",null,null,null,"Fecha",2020]
[]
[null,"Año Actual 2020"]
[null,"Mes","Efectividad por recolector","Total Recolectores","Indicador","Acumulado","Cumplimiento"]
[null,"Enero",null,null,{"$f":"C21/D21","v":{"$error":"#DIV/0!"}},{"$f":"E21","v":{"$error":"#DIV/0!"}},{"$f":"F21/D16","v":{"$error":"#DIV/0!"}}]
[null,"Febrero",null,null,{"$f":"C22/D22","v":{"$error":"#DIV/0!"}},{"$error":"#DIV/0!"},{"$f":"F22/D16","v":{"$error":"#DIV/0!"}}]
[null,"Marzo",null,null,{"$error":"#DIV/0!"},{"$error":"#DIV/0!"},{"$f":"F23/D16","v":{"$error":"#DIV/0!"}}]
[null,"Abril",null,null,{"$error":"#DIV/0!"},{"$error":"#DIV/0!"},{"$f":"F24/D16","v":{"$error":"#DIV/0!"}}]
[null,"Mayo",null,null,{"$error":"#DIV/0!"},{"$error":"#DIV/0!"},{"$f":"F25/D16","v":{"$error":"#DIV/0!"}}]
[null,"Junio",null,null,{"$error":"#DIV/0!"},{"$error":"#DIV/0!"},{"$f":"F26/D16","v":{"$error":"#DIV/0!"}}]
[null,"Julio",null,null,{"$error":"#DIV/0!"},{"$error":"#DIV/0!"},{"$f":"F27/D16","v":{"$error":"#DIV/0!"}}]
[null,"Agosto",null,null,{"$error":"#DIV/0!"},{"$error":"#DIV/0!"},{"$f":"F28/D16","v":{"$error":"#DIV/0!"}}]
[null,"Septiembre",null,null,{"$error":"#DIV/0!"},{"$error":"#DIV/0!"},{"$f":"F29/D16","v":{"$error":"#DIV/0!"}}]
[null,"Octubre",null,null,{"$error":"#DIV/0!"},{"$error":"#DIV/0!"},{"$f":"F30/D16","v":{"$error":"#DIV/0!"}}]
[null,"Noviembre",null,null,{"$error":"#DIV/0!"},{"$error":"#DIV/0!"},{"$f":"F31/D16","v":{"$error":"#DIV/0!"}}]
[null,"Diciembre",null,null,{"$error":"#DIV/0!"},{"$error":"#DIV/0!"},{"$f":"F32/D16","v":{"$error":"#DIV/0!"}}]

{"sheet":"IF054_Analisis","index":190,"n_rows":24,"n_cols":10,"rows_kept":24,"cut":false,"hidden":false,"merged":[[14,1,14,2],[14,3,14,9],[15,1,15,2],[15,3,15,9],[16,2,16,5],[16,7,16,9],[11,1,11,2],[11,3,11,9],[12,1,12,2],[12,3,12,9],[13,1,13,2],[13,3,13,9],[10,1,10,2],[10,3,10,9],[1,1,6,2],[1,3,3,7],[1,8,3,8],[1,9,3,9],[4,3,6,7],[4,8,6,9],[7,1,7,9],[8,1,8,2],[8,3,8,7],[9,1,9,2],[9,3,9,8]]}
[]
[null,null,null,"SERVICIUDAD ESP",null,null,null,null,"Código SPFO-21","Versión 01"]
[]
[]
[null,null,null,"FICHA DE ANÁLISIS DEL INDICADOR",null,null,null,null,"PAGINA 01"]
[]
[]
[]
[null,"Nombre del índicador",null,"EBITDA",null,null,null,null,"Código: ","IF054"]
[null,"Estilo de cálculo",null,"Último dato"]
[null,"Fórmula de cálculo",null,"UAO + Depr + Amort + Dete + Provi "]
[null,"Número de variables",null,5]
[null,"Variables",null,"UAO: Utilidad de actividades ordinarias; es el valor contable que mide el resultado obtenido directamente relacionado con la operación de los servicios públicos domiciliarios de acueducto y alcantarillado. Se obtiene restándole a la Ganancia bruta los gastos de administración. \nDepr: Depreciaciones, mecanismo mediante el cual se reconoce el desgaste y pérdida de valor que sufre un activo fijo por el uso del mismo en la generación de ingresos a través del tiempo. \nAmort: Amortizaciones; distribución del costo de una inversión como gasto a lo largo de los períodos en que esa inversión va a permitir obtener ingresos. \nDete:  Deterioro; valor que se genera cuando el valor en libros de un activo es superior al valor recuperable. \nProvi: Provisiones; recursos que conserva el prestador por haber contraído una obligación, con el objetivo de guardar esos recursos hasta el momento en el que deba satisfacer la factura, se excluye la renta"]
[null,"Tendencia del indicador",null,"Creciente"]
[null,"Frecuencia de Cálculo y Análisis",null,"Trimestral"]
[null,"Meta",null,{"$f":"Indicadores!S58","v":0}]
[null,"Elaboró","Sugerencia de planeación",null,null,null,"Fecha",2020]
[]
[null,"Año Actual"]
[null,"Trimestre","Variable 1","Variable 2","Variable 3","Variable 4","Variable 5","Indicador","Acumulado","Cumplimiento"]
[null,"Trimestre1",null,null,null,null,null,{"$f":"VA+D21+E21+F21+G21","v":{"$error":"#NAME?"}},{"$f":"H21","v":{"$error":"#NAME?"}},{"$f":"I21/D16","v":{"$error":"#NAME?"}}]
[null,"Trimestre2",null,null,null,null,null,{"$f":"VA+D22+E22+F22+G22","v":{"$error":"#NAME?"}},{"$f":"H22","v":{"$error":"#NAME?"}},{"$f":"I22/D16","v":{"$error":"#NAME?"}}]
[null,"Trimestre3",null,null,null,null,null,{"$f":"VA+D23+E23+F23+G23","v":{"$error":"#NAME?"}},{"$f":"H23","v":{"$error":"#NAME?"}},{"$f":"I23/D16","v":{"$error":"#NAME?"}}]
[null,"Trimestre4",null,null,null,null,null,{"$f":"VA+D24+E24+F24+G24","v":{"$error":"#NAME?"}},{"$f":"H24","v":{"$error":"#NAME?"}},{"$f":"I24/D16","v":{"$error":"#NAME?"}}]

{"sheet":"IF055_Analisis","index":191,"n_rows":24,"n_cols":10,"rows_kept":24,"cut":false,"hidden":false,"merged":[[14,1,14,2],[14,3,14,9],[15,1,15,2],[15,3,15,9],[16,2,16,5],[16,7,16,9],[11,1,11,2],[11,3,11,9],[12,1,12,2],[12,3,12,9],[13,1,13,2],[13,3,13,9],[10,1,10,2],[10,3,10,9],[1,1,6,2],[1,3,3,7],[1,8,3,8],[1,9,3,9],[4,3,6,7],[4,8,6,9],[7,1,7,9],[8,1,8,2],[8,3,8,7],[9,1,9,2],[9,3,9,8]]}
[]
[null,null,null,"SERVICIUDAD ESP",null,null,null,null,"Código SPFO-21","Versión 01"]
[]
[]
[null,null,null,"FICHA DE ANÁLISIS DEL INDICADOR",null,null,null,null,"PAGINA 01"]
[]
[]
[]
[null,"Nombre del índicador",null,"EBITDA Acueducto",null,null,null,null,"Código: ","IF055"]
[null,"Estilo de cálculo",null,"Último dato"]
[null,"Fórmula de cálculo",null,"Excedentes antes de impuestos, depreciación, impuestos y amortizaciones"]
[null,"Número de variables",null,1]
[null,"Variables"]
[null,"Tendencia del indicador",null,"Creciente"]
[null,"Frecuencia de Cálculo y Análisis",null,"Trimestral"]
[null,"Meta",null,{"$f":"Indicadores!S59","v":500000}]
[null,"Elaboró","Sugerencia de planeación",null,null,null,"Fecha",2020]
[]
[null,"Año Actual"]
[null,"Trimestre","Variable 1","Indicador","Acumulado","Cumplimiento"]
[null,"Trimestre1",16704215.109733613,{"$f":"C21","v":16704215.109733613},16704215.109733613,{"$f":"E21/D16","v":33.408430219467228}]
[null,"Trimestre2",112187469.19077015,112187469.19077015,112187469.19077015,{"$f":"E22/D16","v":224.37493838154029}]
[null,"Trimestre3",152532065.25982603,152532065.25982603,152532065.25982603,{"$f":"E23/D16","v":305.06413051965205}]
[null,"Trimestre4",null,0,0,{"$f":"E24/D16","v":0}]

{"sheet":"IF056_Analisis","index":192,"n_rows":24,"n_cols":10,"rows_kept":24,"cut":false,"hidden":false,"merged":[[14,1,14,2],[14,3,14,9],[15,1,15,2],[15,3,15,9],[16,2,16,5],[16,7,16,9],[11,1,11,2],[11,3,11,9],[12,1,12,2],[12,3,12,9],[13,1,13,2],[13,3,13,9],[10,1,10,2],[10,3,10,9],[1,1,6,2],[1,3,3,7],[1,8,3,8],[1,9,3,9],[4,3,6,7],[4,8,6,9],[7,1,7,9],[8,1,8,2],[8,3,8,7],[9,1,9,2],[9,3,9,8]]}
[]
[null,null,null,"SERVICIUDAD ESP",null,null,null,null,"Código SPFO-21","Versión 01"]
[]
[]
[null,null,null,"FICHA DE ANÁLISIS DEL INDICADOR",null,null,null,null,"PAGINA 01"]
[]
[]
[]
[null,"Nombre del índicador",null,"EBITDA Alcantarillado",null,null,null,null,"Código: ","IF056"]
[null,"Estilo de cálculo",null,"Último dato"]
[null,"Fórmula de cálculo",null,"Excedentes antes de impuestos, depreciación, impuestos y amortizaciones"]
[null,"Número de variables",null,1]
[null,"Variables"]
[null,"Tendencia del indicador",null,"Creciente"]
[null,"Frecuencia de Cálculo y Análisis",null,"Trimestral"]
[null,"Meta",null,{"$f":"Indicadores!S60","v":500000}]
[null,"Elaboró","Sugerencia de planeación",null,null,null,"Fecha",2020]
[]
[null,"Año Actual"]
[null,"Trimestre","Variable 1","Indicador","Acumulado","Cumplimiento"]
[null,"Trimestre1",7627497.8463955373,{"$f":"C21","v":7627497.8463955373},7627497.8463955373,{"$f":"E21/D16","v":15.254995692791075}]
[null,"Trimestre2",63822543.655276708,63822543.655276708,63822543.655276708,{"$f":"E22/D16","v":127.64508731055342}]
[null,"Trimestre3",99707185.117827967,99707185.117827967,99707185.117827967,{"$f":"E23/D16","v":199.41437023565592}]
[null,"Trimestre4",null,0,0,{"$f":"E24/D16","v":0}]

{"sheet":"IF057_Analisis","index":193,"n_rows":24,"n_cols":10,"rows_kept":24,"cut":false,"hidden":false,"merged":[[14,1,14,2],[14,3,14,9],[15,1,15,2],[15,3,15,9],[16,2,16,5],[16,7,16,9],[11,1,11,2],[11,3,11,9],[12,1,12,2],[12,3,12,9],[13,1,13,2],[13,3,13,9],[10,1,10,2],[10,3,10,9],[1,1,6,2],[1,3,3,7],[1,8,3,8],[1,9,3,9],[4,3,6,7],[4,8,6,9],[7,1,7,9],[8,1,8,2],[8,3,8,7],[9,1,9,2],[9,3,9,8]]}
[]
[null,null,null,"SERVICIUDAD ESP",null,null,null,null,"Código SPFO-21","Versión 01"]
[]
[]
[null,null,null,"FICHA DE ANÁLISIS DEL INDICADOR",null,null,null,null,"PAGINA 01"]
[]
[]
[]
[null,"Nombre del índicador",null,"EBITDA Aseo",null,null,null,null,"Código: ","IF057"]
[null,"Estilo de cálculo",null,"Último dato"]
[null,"Fórmula de cálculo",null,"Excedentes antes de impuestos, depreciación, impuestos y amortizaciones"]
[null,"Número de variables",null,1]
[null,"Variables"]
[null,"Tendencia del indicador",null,"Creciente"]
[null,"Frecuencia de Cálculo y Análisis",null,"Trimestral"]
[null,"Meta",null,{"$f":"Indicadores!S61","v":500000}]
[null,"Elaboró","Sugerencia de planeación",null,null,null,"Fecha",2020]
[]
[null,"Año Actual"]
[null,"Trimestre","Variable 1","Indicador","Acumulado","Cumplimiento"]
[null,"Trimestre1",19281257.461796843,{"$f":"C21","v":19281257.461796843},19281257.461796843,{"$f":"E21/D16","v":38.562514923593682}]
[null,"Trimestre2",81302105.640916228,81302105.640916228,81302105.640916228,{"$f":"E22/D16","v":162.60421128183245}]
[null,"Trimestre3",129867747.86001284,129867747.86001284,129867747.86001284,{"$f":"E23/D16","v":259.73549572002571}]
[null,"Trimestre4",null,0,0,{"$f":"E24/D16","v":0}]

{"sheet":"IF058_Analisis","index":194,"n_rows":24,"n_cols":10,"rows_kept":24,"cut":false,"hidden":false,"merged":[[14,1,14,2],[14,3,14,9],[15,1,15,2],[15,3,15,9],[16,2,16,5],[16,7,16,9],[11,1,11,2],[11,3,11,9],[12,1,12,2],[12,3,12,9],[13,1,13,2],[13,3,13,9],[10,1,10,2],[10,3,10,9],[1,1,6,2],[1,3,3,7],[1,8,3,8],[1,9,3,9],[4,3,6,7],[4,8,6,9],[7,1,7,9],[8,1,8,2],[8,3,8,7],[9,1,9,2],[9,3,9,8]]}
[]
[null,null,null,"SERVICIUDAD ESP",null,null,null,null,"Código SPFO-21","Versión 01"]
[]
[]
[null,null,null,"FICHA DE ANÁLISIS DEL INDICADOR",null,null,null,null,"PAGINA 01"]
[]
[]
[]
[null,"Nombre del índicador",null,"Eficiencia en el Recaudo — ER",null,null,null,null,"Código: ","IF058"]
[null,"Estilo de cálculo",null,"Último dato"]
[null,"Fórmula de cálculo",null,"(RI/Ie) x 100"]
[null,"Número de variables",null,2]
[null,"Variables",null,"RI: Recaudo en el período de evaluación por prestación de los servicios públicos domiciliarios de acueducto y/o alcantarillado. Los valores recaudados no deben incluir el recaudo de cartera de años anteriores\nIe:Ingresos de actividades ordinarias del período a evaluar."]
[null,"Tendencia del indicador",null,"Creciente"]
[null,"Frecuencia de Cálculo y Análisis",null,"Trimestral"]
[null,"Meta",null,{"$f":"Indicadores!S62","v":0}]
[null,"Elaboró","Sugerencia de planeación",null,null,null,"Fecha",2020]
[]
[null,"Año Actual"]
[null,"Trimestre","Variable 1","Variable 2","Indicador","Acumulado","Cumplimiento"]
[null,"Trimestre1",null,null,{"$f":"(C21/D21)*100","v":{"$error":"#DIV/0!"}},{"$f":"E21","v":{"$error":"#DIV/0!"}},{"$f":"F21/D16","v":{"$error":"#DIV/0!"}}]
[null,"Trimestre2",null,null,{"$f":"(C22/D22)*100","v":{"$error":"#DIV/0!"}},{"$f":"E22","v":{"$error":"#DIV/0!"}},{"$f":"F22/D16","v":{"$error":"#DIV/0!"}}]
[null,"Trimestre3",null,null,{"$f":"(C23/D23)*100","v":{"$error":"#DIV/0!"}},{"$f":"E23","v":{"$error":"#DIV/0!"}},{"$f":"F23/D16","v":{"$error":"#DIV/0!"}}]
[null,"Trimestre4",null,null,{"$f":"(C24/D24)*100","v":{"$error":"#DIV/0!"}},{"$f":"E24","v":{"$error":"#DIV/0!"}},{"$f":"F24/D16","v":{"$error":"#DIV/0!"}}]

{"sheet":"IF059_Analisis","index":195,"n_rows":24,"n_cols":10,"rows_kept":24,"cut":false,"hidden":false,"merged":[[14,1,14,2],[14,3,14,9],[15,1,15,2],[15,3,15,9],[16,2,16,5],[16,7,16,9],[11,1,11,2],[11,3,11,9],[12,1,12,2],[12,3,12,9],[13,1,13,2],[13,3,13,9],[10,1,10,2],[10,3,10,9],[1,1,6,2],[1,3,3,7],[1,8,3,8],[1,9,3,9],[4,3,6,7],[4,8,6,9],[7,1,7,9],[8,1,8,2],[8,3,8,7],[9,1,9,2],[9,3,9,8]]}
[]
[null,null,null,"SERVICIUDAD ESP",null,null,null,null,"Código SPFO-21","Versión 01"]
[]
[]
[null,null,null,"FICHA DE ANÁLISIS DEL INDICADOR",null,null,null,null,"PAGINA 01"]
[]
[]
[]
[null,"Nombre del índicador",null,"Cubrimiento de Costos y Gastos — CG",null,null,null,null,"Código: ","IF059"]
[null,"Estilo de cálculo",null,"Último dato"]
[null,"Fórmula de cálculo",null,"RI/GOA"]
[null,"Número de variables",null,2]
[null,"Variables",null,"RI:  Recaudo en el período de evaluación por prestación de los servicios públicos domiciliarios de acueducto y/o alcantarillado. Los valores recaudados no deben incluir el recaudo de cartera de años anteriores. \nGOA: Costos operativos y gastos administrativos generados durante el período de evaluación. Se deben incluir todas las erogaciones asociadas a la prestación de los servicios públicos domiciliarios de acueducto y/o alcantarillado, incluidas las generadas por la actividad comercial, así como las depreciaciones y amortizaciones."]
[null,"Tendencia del indicador",null,"Creciente"]
[null,"Frecuencia de Cálculo y Análisis",null,"Trimestral"]
[null,"Meta",null,{"$f":"Indicadores!S63","v":0}]
[null,"Elaboró","Sugerencia de planeación",null,null,null,"Fecha",2020]
[]
[null,"Año Actual"]
[null,"Trimestre","Variable 1","Variable 2","Indicador","Acumulado","Cumplimiento"]
[null,"Trimestre1",null,null,{"$f":"C21/D21","v":{"$error":"#DIV/0!"}},{"$f":"E21","v":{"$error":"#DIV/0!"}},{"$f":"F21/D16","v":{"$error":"#DIV/0!"}}]
[null,"Trimestre2",null,null,{"$f":"C22/D22","v":{"$error":"#DIV/0!"}},{"$f":"E22","v":{"$error":"#DIV/0!"}},{"$f":"F22/D16","v":{"$error":"#DIV/0!"}}]
[null,"Trimestre3",null,null,{"$f":"C23/D23","v":{"$error":"#DIV/0!"}},{"$f":"E23","v":{"$error":"#DIV/0!"}},{"$f":"F23/D16","v":{"$error":"#DIV/0!"}}]
[null,"Trimestre4",null,null,{"$f":"C24/D24","v":{"$error":"#DIV/0!"}},{"$f":"E24","v":{"$error":"#DIV/0!"}},{"$f":"F24/D16","v":{"$error":"#DIV/0!"}}]

{"sheet":"IF060_Analisis","index":196,"n_rows":24,"n_cols":10,"rows_kept":24,"cut":false,"hidden":false,"merged":[[14,1,14,2],[14,3,14,9],[15,1,15,2],[15,3,15,9],[16,2,16,5],[16,7,16,9],[11,1,11,2],[11,3,11,9],[12,1,12,2],[12,3,12,9],[13,1,13,2],[13,3,13,9],[10,1,10,2],[10,3,10,9],[1,1,6,2],[1,3,3,7],[1,8,3,8],[1,9,3,9],[4,3,6,7],[4,8,6,9],[7,1,7,9],[8,1,8,2],[8,3,8,7],[9,1,9,2],[9,3,9,8]]}
[]
[null,null,null,"SERVICIUDAD ESP",null,null,null,null,"Código SPFO-21","Versión 01"]
[]
[]
[null,null,null,"FICHA DE ANÁLISIS DEL INDICADOR",null,null,null,null,"PAGINA 01"]
[]
[]
[]
[null,"Nombre del índicador",null,"Relación de Endeudamiento — RDP",null,null,null,null,"Código: ","IF060"]
[null,"Estilo de cálculo",null,"Último dato"]
[null,"Fórmula de cálculo",null,"PsT / P"]
[null,"Número de variables",null,2]
[null,"Variables",null,"PsT: Pasivo total. Se incluirá el saldo total de los pasivos reportados por el prestador en el formulario correspondiente. \nP:  Patrimonio total. Se incluirá el saldo total del patrimonio reportado por el prestador en el formulario correspondiente. "]
[null,"Tendencia del indicador",null,"Creciente"]
[null,"Frecuencia de Cálculo y Análisis",null,"Trimestral"]
[null,"Meta",null,{"$f":"Indicadores!S64","v":0}]
[null,"Elaboró","Sugerencia de planeación",null,null,null,"Fecha",2020]
[]
[null,"Año Actual"]
[null,"Trimestre","Variable 1","Variable 2","Indicador","Acumulado","Cumplimiento"]
[null,"Trimestre1",null,null,{"$f":"C21/D21","v":{"$error":"#DIV/0!"}},{"$f":"E21","v":{"$error":"#DIV/0!"}},{"$f":"F21/D16","v":{"$error":"#DIV/0!"}}]
[null,"Trimestre2",null,null,{"$f":"C22/D22","v":{"$error":"#DIV/0!"}},{"$f":"E22","v":{"$error":"#DIV/0!"}},{"$f":"F22/D16","v":{"$error":"#DIV/0!"}}]
[null,"Trimestre3",null,null,{"$f":"C23/D23","v":{"$error":"#DIV/0!"}},{"$f":"E23","v":{"$error":"#DIV/0!"}},{"$f":"F23/D16","v":{"$error":"#DIV/0!"}}]
[null,"Trimestre4",null,null,{"$f":"C24/D24","v":{"$error":"#DIV/0!"}},{"$f":"E24","v":{"$error":"#DIV/0!"}},{"$f":"F24/D16","v":{"$error":"#DIV/0!"}}]

{"sheet":"IF061_Analisis","index":197,"n_rows":24,"n_cols":10,"rows_kept":24,"cut":false,"hidden":false,"merged":[[14,1,14,2],[14,3,14,9],[15,1,15,2],[15,3,15,9],[16,2,16,5],[16,7,16,9],[11,1,11,2],[11,3,11,9],[12,1,12,2],[12,3,12,9],[13,1,13,2],[13,3,13,9],[10,1,10,2],[10,3,10,9],[1,1,6,2],[1,3,3,7],[1,8,3,8],[1,9,3,9],[4,3,6,7],[4,8,6,9],[7,1,7,9],[8,1,8,2],[8,3,8,7],[9,1,9,2],[9,3,9,8]]}
[]
[null,null,null,"SERVICIUDAD ESP",null,null,null,null,"Código SPFO-21","Versión 01"]
[]
[]
[null,null,null,"FICHA DE ANÁLISIS DEL INDICADOR",null,null,null,null,"PAGINA 01"]
[]
[]
[]
[null,"Nombre del índicador",null,"Rotación de Cartera de Servicios Públicos en días de pago — RC",null,null,null,null,"Código: ","IF061"]
[null,"Estilo de cálculo",null,"Último dato"]
[null,"Fórmula de cálculo",null,"(CCPC x 360) /RI "]
[null,"Número de variables",null,2]
[null,"Variables",null,"CCPC: Saldo de cuentas por cobrar por la prestación de los servicios públicos domiciliarios de acueducto y/o alcantarillado. Se incluirá el saldo total de las cuentas comerciales por cobrar corrientes y no corrientes reportadas por el prestador en el formulario correspondiente.\nRI:  Recaudo en el período de evaluación por prestación de los servicios públicos domiciliarios de acueducto y/o alcantarillado. Los valores recaudados no deben incluir el recaudo de cartera de años anteriores"]
[null,"Tendencia del indicador",null,"Decreciente"]
[null,"Frecuencia de Cálculo y Análisis",null,"Trimestral"]
[null,"Meta",null,{"$f":"Indicadores!S65","v":0}]
[null,"Elaboró","Sugerencia de planeación",null,null,null,"Fecha",2020]
[]
[null,"Año Actual"]
[null,"Trimestre","Variable 1","Variable 2","Indicador","Acumulado","Cumplimiento"]
[null,"Trimestre1",null,null,{"$f":"(C21*360)/D21","v":{"$error":"#DIV/0!"}},{"$f":"E21","v":{"$error":"#DIV/0!"}},{"$f":"IF(F21>0,D16/F21,1)","v":{"$error":"#DIV/0!"}}]
[null,"Trimestre2",null,null,{"$f":"(C22*360)/D22","v":{"$error":"#DIV/0!"}},{"$f":"E22","v":{"$error":"#DIV/0!"}},{"$f":"IF(F22>0,D16/F22,1)","v":{"$error":"#DIV/0!"}}]
[null,"Trimestre3",null,null,{"$f":"(C23*360)/D23","v":{"$error":"#DIV/0!"}},{"$f":"E23","v":{"$error":"#DIV/0!"}},{"$f":"IF(F23>0,D16/F23,1)","v":{"$error":"#DIV/0!"}}]
[null,"Trimestre4",null,null,{"$f":"(C24*360)/D24","v":{"$error":"#DIV/0!"}},{"$f":"E24","v":{"$error":"#DIV/0!"}},{"$f":"IF(F24>0,D16/F24,1)","v":{"$error":"#DIV/0!"}}]

{"sheet":"IF062_Analisis","index":198,"n_rows":24,"n_cols":10,"rows_kept":24,"cut":false,"hidden":false,"merged":[[14,1,14,2],[14,3,14,9],[15,1,15,2],[15,3,15,9],[16,2,16,5],[16,7,16,9],[11,1,11,2],[11,3,11,9],[12,1,12,2],[12,3,12,9],[13,1,13,2],[13,3,13,9],[10,1,10,2],[10,3,10,9],[1,1,6,2],[1,3,3,7],[1,8,3,8],[1,9,3,9],[4,3,6,7],[4,8,6,9],[7,1,7,9],[8,1,8,2],[8,3,8,7],[9,1,9,2],[9,3,9,8]]}
[]
[null,null,null,"SERVICIUDAD ESP",null,null,null,null,"Código SPFO-21","Versión 01"]
[]
[]
[null,null,null,"FICHA DE ANÁLISIS DEL INDICADOR",null,null,null,null,"PAGINA 01"]
[]
[]
[]
[null,"Nombre del índicador",null,"Flujos Comprometidos — FC",null,null,null,null,"Código: ","IF062"]
[null,"Estilo de cálculo",null,"Último dato"]
[null,"Fórmula de cálculo",null,"PsT /EBITDA"]
[null,"Número de variables",null,2]
[null,"Variables",null,"PsT:  Pasivo total. Se incluirá el saldo total de los pasivos reportados por el prestador en el formulario correspondiente. \nEBITDA: Beneficio antes de intereses, impuestos, depreciaciones y amortizaciones"]
[null,"Tendencia del indicador",null,"Decreciente"]
[null,"Frecuencia de Cálculo y Análisis",null,"Trimestral"]
[null,"Meta",null,{"$f":"Indicadores!S66","v":0}]
[null,"Elaboró","Sugerencia de planeación",null,null,null,"Fecha",2020]
[]
[null,"Año Actual"]
[null,"Trimestre","Variable 1","Variable 2","Indicador","Acumulado","Cumplimiento"]
[null,"Trimestre1",null,null,{"$f":"C21/D21","v":{"$error":"#DIV/0!"}},{"$f":"E21","v":{"$error":"#DIV/0!"}},{"$f":"IF(F21>0,D16/F21,1)","v":{"$error":"#DIV/0!"}}]
[null,"Trimestre2",null,null,{"$f":"C22/D22","v":{"$error":"#DIV/0!"}},{"$f":"E22","v":{"$error":"#DIV/0!"}},{"$f":"IF(F22>0,D16/F22,1)","v":{"$error":"#DIV/0!"}}]
[null,"Trimestre3",null,null,{"$f":"C23/D23","v":{"$error":"#DIV/0!"}},{"$f":"E23","v":{"$error":"#DIV/0!"}},{"$f":"IF(F23>0,D16/F23,1)","v":{"$error":"#DIV/0!"}}]
[null,"Trimestre4",null,null,{"$f":"C24/D24","v":{"$error":"#DIV/0!"}},{"$f":"E24","v":{"$error":"#DIV/0!"}},{"$f":"IF(F24>0,D16/F24,1)","v":{"$error":"#DIV/0!"}}]

{"sheet":"IF063_Analisis","index":199,"n_rows":24,"n_cols":10,"rows_kept":24,"cut":false,"hidden":false,"merged":[[14,1,14,2],[14,3,14,9],[15,1,15,2],[15,3,15,9],[16,2,16,5],[16,7,16,9],[11,1,11,2],[11,3,11,9],[12,1,12,2],[12,3,12,9],[13,1,13,2],[13,3,13,9],[10,1,10,2],[10,3,10,9],[1,1,6,2],[1,3,3,7],[1,8,3,8],[1,9,3,9],[4,3,6,7],[4,8,6,9],[7,1,7,9],[8,1,8,2],[8,3,8,7],[9,1,9,2],[9,3,9,8]]}
[]
[null,null,null,"SERVICIUDAD ESP",null,null,null,null,"Código SPFO-21","Versión 01"]
[]
[]
[null,null,null,"FICHA DE ANÁLISIS DEL INDICADOR",null,null,null,null,"PAGINA 01"]
[]
[]
[]
[null,"Nombre del índicador",null,"Liquidez — L",null,null,null,null,"Código: ","IF063"]
[null,"Estilo de cálculo",null,"Último dato"]
[null,"Fórmula de cálculo",null,"AC/PC"]
[null,"Número de variables",null,2]
[null,"Variables",null,"AC: activos corrientes totales. Se incluirá el saldo total de los activos corrientes, reportados por el prestador para el período de evaluación\nPC Pasivos corriente totales. se incluirá el saldo total de los pasivos corrientes, reportados por el prestador para el período de evaluación."]
[null,"Tendencia del indicador",null,"Creciente"]
[null,"Frecuencia de Cálculo y Análisis",null,"Trimestral"]
[null,"Meta",null,{"$f":"Indicadores!S67","v":0}]
[null,"Elaboró","Sugerencia de planeación",null,null,null,"Fecha",2020]
[]
[null,"Año Actual"]
[null,"Trimestre","Variable 1","Variable 2","Indicador","Acumulado","Cumplimiento"]
[null,"Trimestre1",null,null,{"$f":"C21/D21","v":{"$error":"#DIV/0!"}},{"$f":"E21","v":{"$error":"#DIV/0!"}},{"$f":"F21/D16","v":{"$error":"#DIV/0!"}}]
[null,"Trimestre2",null,null,{"$f":"C22/D22","v":{"$error":"#DIV/0!"}},{"$f":"E22","v":{"$error":"#DIV/0!"}},{"$f":"F22/D16","v":{"$error":"#DIV/0!"}}]
[null,"Trimestre3",null,null,{"$f":"C23/D23","v":{"$error":"#DIV/0!"}},{"$f":"E23","v":{"$error":"#DIV/0!"}},{"$f":"F23/D16","v":{"$error":"#DIV/0!"}}]
[null,"Trimestre4",null,null,{"$f":"C24/D24","v":{"$error":"#DIV/0!"}},{"$f":"E24","v":{"$error":"#DIV/0!"}},{"$f":"F24/D16","v":{"$error":"#DIV/0!"}}]

{"sheet":"IF064_Analisis","index":200,"n_rows":24,"n_cols":10,"rows_kept":24,"cut":false,"hidden":false,"merged":[[14,1,14,2],[14,3,14,9],[15,1,15,2],[15,3,15,9],[16,2,16,5],[16,7,16,9],[11,1,11,2],[11,3,11,9],[12,1,12,2],[12,3,12,9],[13,1,13,2],[13,3,13,9],[10,1,10,2],[10,3,10,9],[1,1,6,2],[1,3,3,7],[1,8,3,8],[1,9,3,9],[4,3,6,7],[4,8,6,9],[7,1,7,9],[8,1,8,2],[8,3,8,7],[9,1,9,2],[9,3,9,8]]}
[]
[null,null,null,"SERVICIUDAD ESP",null,null,null,null,"Código SPFO-21","Versión 01"]
[]
[]
[null,null,null,"FICHA DE ANÁLISIS DEL INDICADOR",null,null,null,null,"PAGINA 01"]
[]
[]
[]
[null,"Nombre del índicador",null,"Liquidez Ajustada — LA",null,null,null,null,"Código: ","IF064"]
[null,"Estilo de cálculo",null,"Último dato"]
[null,"Fórmula de cálculo",null,"(LAAc  x 0,5) + (LAAL  x 0,5)"]
[null,"Número de variables",null,2]
[null,"Variables",null,"LAAC  Liquidez ajustada asociada al servicio público domiciliario de acueducto en el período de evalúa\nLAAL. Liquidez ajustada asociada al servicio público domiciliario de alcantarillado en el período de evaluación\n"]
[null,"Tendencia del indicador",null,"Creciente"]
[null,"Frecuencia de Cálculo y Análisis",null,"Trimestral"]
[null,"Meta",null,{"$f":"Indicadores!S68","v":0}]
[null,"Elaboró","Sugerencia de planeación",null,null,null,"Fecha",2020]
[]
[null,"Año Actual"]
[null,"Trimestre","Variable 1","Variable 2","Indicador","Acumulado","Cumplimiento"]
[null,"Trimestre1",null,null,{"$f":"(C21*0.5)+(D21*0.5)","v":0},{"$f":"E21","v":0},{"$f":"F21/D16","v":{"$error":"#DIV/0!"}}]
[null,"Trimestre2",null,null,{"$f":"(C22*0.5)+(D22*0.5)","v":0},{"$f":"E22","v":0},{"$f":"F22/D16","v":{"$error":"#DIV/0!"}}]
[null,"Trimestre3",null,null,{"$f":"(C23*0.5)+(D23*0.5)","v":0},{"$f":"E23","v":0},{"$f":"F23/D16","v":{"$error":"#DIV/0!"}}]
[null,"Trimestre4",null,null,{"$f":"(C24*0.5)+(D24*0.5)","v":0},{"$f":"E24","v":0},{"$f":"F24/D16","v":{"$error":"#DIV/0!"}}]

{"sheet":"IF065_Analisis","index":201,"n_rows":24,"n_cols":10,"rows_kept":24,"cut":false,"hidden":false,"merged":[[14,1,14,2],[14,3,14,9],[15,1,15,2],[15,3,15,9],[16,2,16,5],[16,7,16,9],[11,1,11,2],[11,3,11,9],[12,1,12,2],[12,3,12,9],[13,1,13,2],[13,3,13,9],[10,1,10,2],[10,3,10,9],[1,1,6,2],[1,3,3,7],[1,8,3,8],[1,9,3,9],[4,3,6,7],[4,8,6,9],[7,1,7,9],[8,1,8,2],[8,3,8,7],[9,1,9,2],[9,3,9,8]]}
[]
[null,null,null,"SERVICIUDAD ESP",null,null,null,null,"Código SPFO-21","Versión 01"]
[]
[]
[null,null,null,"FICHA DE ANÁLISIS DEL INDICADOR",null,null,null,null,"PAGINA 01"]
[]
[]
[]
[null,"Nombre del índicador",null,"Liquidez ajustada (Li) Acueducto",null,null,null,null,"Código: ","IF065"]
[null,"Estilo de cálculo",null,"Último dato"]
[null,"Fórmula de cálculo",null,"Li=(activo corriente-CCNP-inventarios-Préstamos vinculados económicos y socios)/Pasivo corriente.\nEi=(pasivo totali +pasivos pensionales por amortización) /Activo totalo"]
[null,"Número de variables",null,5]
[null,"Variables",null,"Donde i = período de análisis\nCCNP: CxC de mas 180 días - provisiones de CxC de mas de 180 días.\nSi las CxC de mas de 180 días son mayores a las provisiones, entonces CCNP se resta el numerador, de lo contrario, CCNP es igual a cero"]
[null,"Tendencia del indicador",null,"Creciente"]
[null,"Frecuencia de Cálculo y Análisis",null,"Trimestral"]
[null,"Meta",null,{"$f":"Indicadores!S69","v":1.3}]
[null,"Elaboró","Sugerencia de planeación",null,null,null,"Fecha",2020]
[]
[null,"Año Actual"]
[null,"Trimestre","Variable 1","Variable 2","Variable 3","Variable 4","Variable 5","Indicador","Acumulado","Cumplimiento"]
[null,"Trimestre1",null,null,null,null,null,{"$f":"(C21-D21-E21-F21)/G21","v":{"$error":"#DIV/0!"}},{"$f":"H21","v":{"$error":"#DIV/0!"}},{"$f":"I21/D16","v":{"$error":"#DIV/0!"}}]
[null,"Trimestre2",null,null,null,null,null,{"$f":"(C22-D22-E22-F22)/G22","v":{"$error":"#DIV/0!"}},{"$f":"H22","v":{"$error":"#DIV/0!"}},{"$f":"I22/D16","v":{"$error":"#DIV/0!"}}]
[null,"Trimestre3",null,null,null,null,null,{"$f":"(C23-D23-E23-F23)/G23","v":{"$error":"#DIV/0!"}},{"$f":"H23","v":{"$error":"#DIV/0!"}},{"$f":"I23/D16","v":{"$error":"#DIV/0!"}}]
[null,"Trimestre4",null,null,null,null,null,{"$f":"(C24-D24-E24-F24)/G24","v":{"$error":"#DIV/0!"}},{"$f":"H24","v":{"$error":"#DIV/0!"}},{"$f":"I24/D16","v":{"$error":"#DIV/0!"}}]

{"sheet":"IF066_Analisis","index":202,"n_rows":24,"n_cols":10,"rows_kept":24,"cut":false,"hidden":false,"merged":[[14,1,14,2],[14,3,14,9],[15,1,15,2],[15,3,15,9],[16,2,16,5],[16,7,16,9],[11,1,11,2],[11,3,11,9],[12,1,12,2],[12,3,12,9],[13,1,13,2],[13,3,13,9],[10,1,10,2],[10,3,10,9],[1,1,6,2],[1,3,3,7],[1,8,3,8],[1,9,3,9],[4,3,6,7],[4,8,6,9],[7,1,7,9],[8,1,8,2],[8,3,8,7],[9,1,9,2],[9,3,9,8]]}
[]
[null,null,null,"SERVICIUDAD ESP",null,null,null,null,"Código SPFO-21","Versión 01"]
[]
[]
[null,null,null,"FICHA DE ANÁLISIS DEL INDICADOR",null,null,null,null,"PAGINA 01"]
[]
[]
[]
[null,"Nombre del índicador",null,"Liquidez ajustada (Li) Alcantarillado",null,null,null,null,"Código: ","IF066"]
[null,"Estilo de cálculo",null,"Último dato"]
[null,"Fórmula de cálculo",null,"Li=(activo corriente-CCNP-inventarios-Préstamos vinculados económicos y socios)/Pasivo corriente.\nEi=(pasivo totali +pasivos pensionales por amortización) /Activo total"]
[null,"Número de variables",null,5]
[null,"Variables",null,"Donde i = período de análisis\nCCNP: CxC de mas 180 días - provisiones de CxC de mas de 180 días.\nSi las CxC de mas de 180 días son mayores a las provisiones, entonces CCNP se resta el numerador, de lo contrario, CCNP es igual a cero"]
[null,"Tendencia del indicador",null,"Creciente"]
[null,"Frecuencia de Cálculo y Análisis",null,"Trimestral"]
[null,"Meta",null,{"$f":"Indicadores!S70","v":1.3}]
[null,"Elaboró","Sugerencia de planeación",null,null,null,"Fecha",2020]
[]
[null,"Año Actual"]
[null,"Trimestre","Variable 1","Variable 2","Variable 3","Variable 4","Variable 5","Indicador","Acumulado","Cumplimiento"]
[null,"Trimestre1",null,null,null,null,null,{"$f":"(C21-D21-E21-F21)/G21","v":{"$error":"#DIV/0!"}},{"$f":"H21","v":{"$error":"#DIV/0!"}},{"$f":"I21/D16","v":{"$error":"#DIV/0!"}}]
[null,"Trimestre2",null,null,null,null,null,{"$f":"(C22-D22-E22-F22)/G22","v":{"$error":"#DIV/0!"}},{"$f":"H22","v":{"$error":"#DIV/0!"}},{"$f":"I22/D16","v":{"$error":"#DIV/0!"}}]
[null,"Trimestre3",null,null,null,null,null,{"$f":"(C23-D23-E23-F23)/G23","v":{"$error":"#DIV/0!"}},{"$f":"H23","v":{"$error":"#DIV/0!"}},{"$f":"I23/D16","v":{"$error":"#DIV/0!"}}]
[null,"Trimestre4",null,null,null,null,null,{"$f":"(C24-D24-E24-F24)/G24","v":{"$error":"#DIV/0!"}},{"$f":"H24","v":{"$error":"#DIV/0!"}},{"$f":"I24/D16","v":{"$error":"#DIV/0!"}}]

{"sheet":"IF067_Analisis","index":203,"n_rows":24,"n_cols":10,"rows_kept":24,"cut":false,"hidden":false,"merged":[[14,1,14,2],[14,3,14,9],[15,1,15,2],[15,3,15,9],[16,2,16,5],[16,7,16,9],[11,1,11,2],[11,3,11,9],[12,1,12,2],[12,3,12,9],[13,1,13,2],[13,3,13,9],[10,1,10,2],[10,3,10,9],[1,1,6,2],[1,3,3,7],[1,8,3,8],[1,9,3,9],[4,3,6,7],[4,8,6,9],[7,1,7,9],[8,1,8,2],[8,3,8,7],[9,1,9,2],[9,3,9,8]]}
[]
[null,null,null,"SERVICIUDAD ESP",null,null,null,null,"Código SPFO-21","Versión 01"]
[]
[]
[null,null,null,"FICHA DE ANÁLISIS DEL INDICADOR",null,null,null,null,"PAGINA 01"]
[]
[]
[]
[null,"Nombre del índicador",null,"Liquidez ajustada (Li) Aseo",null,null,null,null,"Código: ","IF067"]
[null,"Estilo de cálculo",null,"Último dato"]
[null,"Fórmula de cálculo",null,"Li=(activo corriente-CCNP-inventarios-Préstamos vinculados económicos y socios)/Pasivo corriente.\nEi=(pasivo totali +pasivos pensionales por amortización) /Activo total"]
[null,"Número de variables",null,5]
[null,"Variables",null,"Donde i = período de análisis\nCCNP: CxC de mas 180 días - provisiones de CxC de mas de 180 días.\nSi las CxC de mas de 180 días son mayores a las provisiones, entonces CCNP se resta el numerador, de lo contrario, CCNP es igual a cero"]
[null,"Tendencia del indicador",null,"Creciente"]
[null,"Frecuencia de Cálculo y Análisis",null,"Trimestral"]
[null,"Meta",null,{"$f":"Indicadores!S71","v":1.3}]
[null,"Elaboró","Sugerencia de planeación",null,null,null,"Fecha",2020]
[]
[null,"Año Actual"]
[null,"Trimestre","Variable 1","Variable 2","Variable 3","Variable 4","Variable 5","Indicador","Acumulado","Cumplimiento"]
[null,"Trimestre1",6136602791.6417236,null,null,null,1282443469.75667,{"$f":"(D21-E21-F21-C21)/G21","v":-4.7850863888808126},{"$f":"H21","v":-4.7850863888808126},{"$f":"I21/D16","v":-3.6808356837544709}]
[null,"Trimestre2",6124962731.7811003,null,null,null,1439071767.9200001,{"$f":"(D22-E22-F22-C22)/G22","v":-4.2561899054096344},{"$f":"H22","v":-4.2561899054096344},{"$f":"I22/D16","v":-3.2739922349304877}]
[null,"Trimestre3",6202212360.353857,null,null,null,2159917783.4400001,{"$f":"(C23-D23-E23-F23)/G23","v":2.8715039099663708},{"$f":"H23","v":2.8715039099663708},{"$f":"I23/D16","v":2.2088491615125929}]
[null,"Trimestre4",null,null,null,null,null,{"$f":"(D24-E24-F24-C24)/G24","v":{"$error":"#DIV/0!"}},{"$f":"H24","v":{"$error":"#DIV/0!"}},{"$f":"I24/D16","v":{"$error":"#DIV/0!"}}]

{"sheet":"IF068_Analisis","index":204,"n_rows":24,"n_cols":10,"rows_kept":24,"cut":false,"hidden":false,"merged":[[14,1,14,2],[14,3,14,9],[15,1,15,2],[15,3,15,9],[16,2,16,5],[16,7,16,9],[11,1,11,2],[11,3,11,9],[12,1,12,2],[12,3,12,9],[13,1,13,2],[13,3,13,9],[10,1,10,2],[10,3,10,9],[1,1,6,2],[1,3,3,7],[1,8,3,8],[1,9,3,9],[4,3,6,7],[4,8,6,9],[7,1,7,9],[8,1,8,2],[8,3,8,7],[9,1,9,2],[9,3,9,8]]}
[]
[null,null,null,"SERVICIUDAD ESP",null,null,null,null,"Código SPFO-21","Versión 01"]
[]
[]
[null,null,null,"FICHA DE ANÁLISIS DEL INDICADOR",null,null,null,null,"PAGINA 01"]
[]
[]
[]
[null,"Nombre del índicador",null,"Endeudamiento - E",null,null,null,null,"Código: ","IF068"]
[null,"Estilo de cálculo",null,"Último dato"]
[null,"Fórmula de cálculo",null,"E= (Endeudamiento CRA 906/2019)"]
[null,"Número de variables",null,1]
[null,"Variables",null,"E= (Endeudamiento CRA 906/2019)"]
[null,"Tendencia del indicador",null,"Creciente"]
[null,"Frecuencia de Cálculo y Análisis",null,"Trimestral"]
[null,"Meta",null,{"$f":"Indicadores!S72","v":0}]
[null,"Elaboró","Sugerencia de planeación",null,null,null,"Fecha",2020]
[]
[null,"Año Actual"]
[null,"Trimestre","Variable 1","Indicador","Acumulado","Cumplimiento"]
[null,"Trimestre1",null,{"$f":"C21","v":0},0,{"$f":"E21/D16","v":{"$error":"#DIV/0!"}}]
[null,"Trimestre2",null,0,0,{"$f":"E22/D16","v":{"$error":"#DIV/0!"}}]
[null,"Trimestre3",null,0,0,{"$f":"E23/D16","v":{"$error":"#DIV/0!"}}]
[null,"Trimestre4",null,0,0,{"$f":"E24/D16","v":{"$error":"#DIV/0!"}}]

{"sheet":"IF069_Analisis","index":205,"n_rows":24,"n_cols":10,"rows_kept":24,"cut":false,"hidden":false,"merged":[[14,1,14,2],[14,3,14,9],[15,1,15,2],[15,3,15,9],[16,2,16,5],[16,7,16,9],[11,1,11,2],[11,3,11,9],[12,1,12,2],[12,3,12,9],[13,1,13,2],[13,3,13,9],[10,1,10,2],[10,3,10,9],[1,1,6,2],[1,3,3,7],[1,8,3,8],[1,9,3,9],[4,3,6,7],[4,8,6,9],[7,1,7,9],[8,1,8,2],[8,3,8,7],[9,1,9,2],[9,3,9,8]]}
[]
[null,null,null,"SERVICIUDAD ESP",null,null,null,null,"Código SPFO-21","Versión 01"]
[]
[]
[null,null,null,"FICHA DE ANÁLISIS DEL INDICADOR",null,null,null,null,"PAGINA 01"]
[]
[]
[]
[null,"Nombre del índicador",null,"Endeudamiento (Ei) Acueducto",null,null,null,null,"Código: ","IF069"]
[null,"Estilo de cálculo",null,"Último dato"]
[null,"Fórmula de cálculo",null,"Ei=(pasivo total + pasivo pensionales por amortización) /Activo total"]
[null,"Número de variables",null,3]
[null,"Variables",null,"Donde i = período de análisis\nCCNP: CxC de mas 180 días - provisiones de CxC de mas de 180 días.\nSi las CxC de mas de 180 días son mayores a las provisiones, entonces CCNP se resta el numerador, de lo contrario, CCNP es igual a cero"]
[null,"Tendencia del indicador",null,"Decreciente"]
[null,"Frecuencia de Cálculo y Análisis",null,"Trimestral"]
[null,"Meta",null,{"$f":"Indicadores!S73","v":30}]
[null,"Elaboró","Sugerencia de planeación",null,null,null,"Fecha",2020]
[]
[null,"Año Actual"]
[null,"Trimestre","Variable 1","Variable 2","Variable 3","Indicador","Acumulado","Cumplimiento"]
[null,"Trimestre1",null,null,null,{"$f":"(C21-D21)/E21","v":{"$error":"#DIV/0!"}},{"$f":"F21","v":{"$error":"#DIV/0!"}},{"$f":"IF(G21>0,D16/G21,1)","v":{"$error":"#DIV/0!"}}]
[null,"Trimestre2",null,null,null,{"$f":"(C22-D22)/E22","v":{"$error":"#DIV/0!"}},{"$f":"F22","v":{"$error":"#DIV/0!"}},{"$f":"IF(G22>0,D16/G22,1)","v":{"$error":"#DIV/0!"}}]
[null,"Trimestre3",null,null,null,{"$f":"(C23-D23)/E23","v":{"$error":"#DIV/0!"}},{"$f":"F23","v":{"$error":"#DIV/0!"}},{"$f":"IF(G23>0,D16/G23,1)","v":{"$error":"#DIV/0!"}}]
[null,"Trimestre4",null,null,null,{"$f":"(C24-D24)/E24","v":{"$error":"#DIV/0!"}},{"$f":"F24","v":{"$error":"#DIV/0!"}},{"$f":"IF(G24>0,D16/G24,1)","v":{"$error":"#DIV/0!"}}]

{"sheet":"IF070_Analisis","index":206,"n_rows":24,"n_cols":10,"rows_kept":24,"cut":false,"hidden":false,"merged":[[14,1,14,2],[14,3,14,9],[15,1,15,2],[15,3,15,9],[16,2,16,5],[16,7,16,9],[11,1,11,2],[11,3,11,9],[12,1,12,2],[12,3,12,9],[13,1,13,2],[13,3,13,9],[10,1,10,2],[10,3,10,9],[1,1,6,2],[1,3,3,7],[1,8,3,8],[1,9,3,9],[4,3,6,7],[4,8,6,9],[7,1,7,9],[8,1,8,2],[8,3,8,7],[9,1,9,2],[9,3,9,8]]}
[]
[null,null,null,"SERVICIUDAD ESP",null,null,null,null,"Código SPFO-21","Versión 01"]
[]
[]
[null,null,null,"FICHA DE ANÁLISIS DEL INDICADOR",null,null,null,null,"PAGINA 01"]
[]
[]
[]
[null,"Nombre del índicador",null,"Endeudamiento (Ei) Alcantarillado",null,null,null,null,"Código: ","IF070"]
[null,"Estilo de cálculo",null,"Último dato"]
[null,"Fórmula de cálculo",null,"Ei=(pasivo total + pasivo pensionales por amortización) /Activo total"]
[null,"Número de variables",null,3]
[null,"Variables",null,"Donde i = período de análisis\nCCNP: CxC de mas 180 días - provisiones de CxC de mas de 180 días.\nSi las CxC de mas de 180 días son mayores a las provisiones, entonces CCNP se resta el numerador, de lo contrario, CCNP es igual a cero"]
[null,"Tendencia del indicador",null,"Decreciente"]
[null,"Frecuencia de Cálculo y Análisis",null,"Trimestral"]
[null,"Meta",null,{"$f":"Indicadores!S74","v":30}]
[null,"Elaboró","Sugerencia de planeación",null,null,null,"Fecha",2020]
[]
[null,"Año Actual"]
[null,"Trimestre","Variable 1","Variable 2","Variable 3","Indicador","Acumulado","Cumplimiento"]
[null,"Trimestre1",null,null,null,{"$f":"(C21-D21)/E21","v":{"$error":"#DIV/0!"}},{"$f":"F21","v":{"$error":"#DIV/0!"}},{"$f":"IF(G21>0,D16/G21,1)","v":{"$error":"#DIV/0!"}}]
[null,"Trimestre2",null,null,null,{"$f":"(C22-D22)/E22","v":{"$error":"#DIV/0!"}},{"$f":"F22","v":{"$error":"#DIV/0!"}},{"$f":"IF(G22>0,D16/G22,1)","v":{"$error":"#DIV/0!"}}]
[null,"Trimestre3",null,null,null,{"$f":"(C23-D23)/E23","v":{"$error":"#DIV/0!"}},{"$f":"F23","v":{"$error":"#DIV/0!"}},{"$f":"IF(G23>0,D16/G23,1)","v":{"$error":"#DIV/0!"}}]
[null,"Trimestre4",null,null,null,{"$f":"(C24-D24)/E24","v":{"$error":"#DIV/0!"}},{"$f":"F24","v":{"$error":"#DIV/0!"}},{"$f":"IF(G24>0,D16/G24,1)","v":{"$error":"#DIV/0!"}}]

{"sheet":"IF071_Analisis","index":207,"n_rows":24,"n_cols":10,"rows_kept":24,"cut":false,"hidden":false,"merged":[[14,1,14,2],[14,3,14,9],[15,1,15,2],[15,3,15,9],[16,2,16,5],[16,7,16,9],[11,1,11,2],[11,3,11,9],[12,1,12,2],[12,3,12,9],[13,1,13,2],[13,3,13,9],[10,1,10,2],[10,3,10,9],[1,1,6,2],[1,3,3,7],[1,8,3,8],[1,9,3,9],[4,3,6,7],[4,8,6,9],[7,1,7,9],[8,1,8,2],[8,3,8,7],[9,1,9,2],[9,3,9,8]]}
[]
[null,null,null,"SERVICIUDAD ESP",null,null,null,null,"Código SPFO-21","Versión 01"]
[]
[]
[null,null,null,"FICHA DE ANÁLISIS DEL INDICADOR",null,null,null,null,"PAGINA 01"]
[]
[]
[]
[null,"Nombre del índicador",null,"Endeudamiento (Ei) Aseo",null,null,null,null,"Código: ","IF071"]
[null,"Estilo de cálculo",null,"Último dato"]
[null,"Fórmula de cálculo",null,"Ei=(pasivo total + pasivo pensionales por amortización) /Activo total"]
[null,"Número de variables",null,3]
[null,"Variables",null,"Donde i = período de análisis\nCCNP: CxC de mas 180 días - provisiones de CxC de mas de 180 días.\nSi las CxC de mas de 180 días son mayores a las provisiones, entonces CCNP se resta el numerador, de lo contrario, CCNP es igual a cero"]
[null,"Tendencia del indicador",null,"Decreciente"]
[null,"Frecuencia de Cálculo y Análisis",null,"Trimestral"]
[null,"Meta",null,{"$f":"Indicadores!S75","v":30}]
[null,"Elaboró","Sugerencia de planeación",null,null,null,"Fecha",2020]
[]
[null,"Año Actual"]
[null,"Trimestre","Variable 1","Variable 2","Variable 3","Indicador","Acumulado","Cumplimiento"]
[null,"Trimestre1",null,null,null,{"$f":"(C21-D21)/E21","v":{"$error":"#DIV/0!"}},{"$f":"F21","v":{"$error":"#DIV/0!"}},{"$f":"IF(G21>0,D16/G21,1)","v":{"$error":"#DIV/0!"}}]
[null,"Trimestre2",null,null,null,{"$f":"(C22-D22)/E22","v":{"$error":"#DIV/0!"}},{"$f":"F22","v":{"$error":"#DIV/0!"}},{"$f":"IF(G22>0,D16/G22,1)","v":{"$error":"#DIV/0!"}}]
[null,"Trimestre3",null,null,null,{"$f":"(C23-D23)/E23","v":{"$error":"#DIV/0!"}},{"$f":"F23","v":{"$error":"#DIV/0!"}},{"$f":"IF(G23>0,D16/G23,1)","v":{"$error":"#DIV/0!"}}]
[null,"Trimestre4",null,null,null,{"$f":"(C24-D24)/E24","v":{"$error":"#DIV/0!"}},{"$f":"F24","v":{"$error":"#DIV/0!"}},{"$f":"IF(G24>0,D16/G24,1)","v":{"$error":"#DIV/0!"}}]

{"sheet":"IF072_Analisis","index":208,"n_rows":24,"n_cols":10,"rows_kept":24,"cut":false,"hidden":false,"merged":[[14,1,14,2],[14,3,14,9],[15,1,15,2],[15,3,15,9],[16,2,16,5],[16,7,16,9],[11,1,11,2],[11,3,11,9],[12,1,12,2],[12,3,12,9],[13,1,13,2],[13,3,13,9],[10,1,10,2],[10,3,10,9],[1,1,6,2],[1,3,3,7],[1,8,3,8],[1,9,3,9],[4,3,6,7],[4,8,6,9],[7,1,7,9],[8,1,8,2],[8,3,8,7],[9,1,9,2],[9,3,9,8]]}
[]
[null,null,null,"SERVICIUDAD ESP",null,null,null,null,"Código SPFO-21","Versión 01"]
[]
[]
[null,null,null,"FICHA DE ANÁLISIS DEL INDICADOR",null,null,null,null,"PAGINA 01"]
[]
[]
[]
[null,"Nombre del índicador",null,"Indice Financiero asociado a la Eficiencia Operativa —IEO",null,null,null,null,"Código: ","IF072"]
[null,"Estilo de cálculo",null,"Último dato"]
[null,"Fórmula de cálculo",null," (IE0AC. x 0,5) + (IE0AL  x 0,5) "]
[null,"Número de variables",null,2]
[null,"Variables",null,"IEOAC: Índice financiero asociado a la eficiencia operativa para el servicio público domiciliario de acueducto\nIROAal: Índice financiero asociado a la eficiencia operativa para el servicio público domiciliario de alcantarillado\n"]
[null,"Tendencia del indicador",null,"Creciente"]
[null,"Frecuencia de Cálculo y Análisis",null,"Trimestral"]
[null,"Meta",null,{"$f":"Indicadores!S76","v":0}]
[null,"Elaboró","Sugerencia de planeación",null,null,null,"Fecha",2020]
[]
[null,"Año Actual"]
[null,"Trimestre","Variable 1","Variable 2","Indicador","Acumulado","Cumplimiento"]
[null,"Trimestre1",null,null,{"$f":"(C21*0.5)+(D21*0.5)","v":0},{"$f":"E21","v":0},{"$f":"F21/D16","v":{"$error":"#DIV/0!"}}]
[null,"Trimestre2",null,null,{"$f":"(C22*0.5)+(D22*0.5)","v":0},{"$f":"E22","v":0},{"$f":"F22/D16","v":{"$error":"#DIV/0!"}}]
[null,"Trimestre3",null,null,{"$f":"(C23*0.5)+(D23*0.5)","v":0},{"$f":"E23","v":0},{"$f":"F23/D16","v":{"$error":"#DIV/0!"}}]
[null,"Trimestre4",null,null,{"$f":"(C24*0.5)+(D24*0.5)","v":0},{"$f":"E24","v":0},{"$f":"F24/D16","v":{"$error":"#DIV/0!"}}]

{"sheet":"IF073_Analisis","index":209,"n_rows":24,"n_cols":10,"rows_kept":24,"cut":false,"hidden":false,"merged":[[14,1,14,2],[14,3,14,9],[15,1,15,2],[15,3,15,9],[16,2,16,5],[16,7,16,9],[11,1,11,2],[11,3,11,9],[12,1,12,2],[12,3,12,9],[13,1,13,2],[13,3,13,9],[10,1,10,2],[10,3,10,9],[1,1,6,2],[1,3,3,7],[1,8,3,8],[1,9,3,9],[4,3,6,7],[4,8,6,9],[7,1,7,9],[8,1,8,2],[8,3,8,7],[9,1,9,2],[9,3,9,8]]}
[]
[null,null,null,"SERVICIUDAD ESP",null,null,null,null,"Código SPFO-21","Versión 01"]
[]
[]
[null,null,null,"FICHA DE ANÁLISIS DEL INDICADOR",null,null,null,null,"PAGINA 01"]
[]
[]
[]
[null,"Nombre del índicador",null,"Relación Deuda a Inversiones — RDI",null,null,null,null,"Código: ","IF073"]
[null,"Estilo de cálculo",null,"Último dato"]
[null,"Fórmula de cálculo",null,"(RDIAC x 0,5) + (RDIAL x 0,5) "]
[null,"Número de variables",null,2]
[null,"Variables",null,"RDIAL: Relación deuda a inversiones asociado a la eficiencia operativa para el servicio público domiciliario de alcantarillado\nRD/Ac: Relación deuda a inversiones asociado a la eficiencia operativa para el servicio público domiciliario de acueducto\n"]
[null,"Tendencia del indicador",null,"Creciente"]
[null,"Frecuencia de Cálculo y Análisis",null,"Trimestral"]
[null,"Meta",null,{"$f":"Indicadores!S77","v":0}]
[null,"Elaboró","Sugerencia de planeación",null,null,null,"Fecha",2020]
[]
[null,"Año Actual"]
[null,"Trimestre","Variable 1","Variable 2","Indicador","Acumulado","Cumplimiento"]
[null,"Trimestre1",null,null,{"$f":"(C21*0.5)+(D21*0.5)","v":0},{"$f":"E21","v":0},{"$f":"F21/D16","v":{"$error":"#DIV/0!"}}]
[null,"Trimestre2",null,null,{"$f":"(C22*0.5)+(D22*0.5)","v":0},{"$f":"E22","v":0},{"$f":"F22/D16","v":{"$error":"#DIV/0!"}}]
[null,"Trimestre3",null,null,{"$f":"(C23*0.5)+(D23*0.5)","v":0},{"$f":"E23","v":0},{"$f":"F23/D16","v":{"$error":"#DIV/0!"}}]
[null,"Trimestre4",null,null,{"$f":"(C24*0.5)+(D24*0.5)","v":0},{"$f":"E24","v":0},{"$f":"F24/D16","v":{"$error":"#DIV/0!"}}]

{"sheet":"IF074_Analisis","index":210,"n_rows":24,"n_cols":10,"rows_kept":24,"cut":false,"hidden":false,"merged":[[14,1,14,2],[14,3,14,9],[15,1,15,2],[15,3,15,9],[16,2,16,5],[16,7,16,9],[11,1,11,2],[11,3,11,9],[12,1,12,2],[12,3,12,9],[13,1,13,2],[13,3,13,9],[10,1,10,2],[10,3,10,9],[1,1,6,2],[1,3,3,7],[1,8,3,8],[1,9,3,9],[4,3,6,7],[4,8,6,9],[7,1,7,9],[8,1,8,2],[8,3,8,7],[9,1,9,2],[9,3,9,8]]}
[]
[null,null,null,"SERVICIUDAD ESP",null,null,null,null,"Código SPFO-21","Versión 01"]
[]
[]
[null,null,null,"FICHA DE ANÁLISIS DEL INDICADOR",null,null,null,null,"PAGINA 01"]
[]
[]
[]
[null,"Nombre del índicador",null,"Valor Económico Agregado — EVA",null,null,null,null,"Código: ","IF074"]
[null,"Estilo de cálculo",null,"Promedio"]
[null,"Fórmula de cálculo",null,"UODI - (wacc X C1) "]
[null,"Número de variables",null,3]
[null,"Variables",null,"UODI: Utilidad operativa después de Impuestos\nwacc: Tasa del costo promedio ponderado de capital regulatorio, de acuerdo con el marco tarifario que le aplique a la persona prestadora.\nCI:  Capital invertido\n"]
[null,"Tendencia del indicador",null,"Creciente"]
[null,"Frecuencia de Cálculo y Análisis",null,"Trimestral"]
[null,"Meta",null,{"$f":"Indicadores!S78","v":0}]
[null,"Elaboró","Sugerencia de planeación",null,null,null,"Fecha",2020]
[]
[null,"Año Actual"]
[null,"Trimestre","Variable 1","Variable 2","Variable 3","Indicador","Acumulado","Cumplimiento"]
[null,"Trimestre1",null,null,null,{"$f":"C21-(D21*E21)","v":0},{"$f":"AVERAGE(F21:F21)","v":0},{"$f":"G21/D16","v":{"$error":"#DIV/0!"}}]
[null,"Trimestre2",null,null,null,{"$f":"C22-(D22*E22)","v":0},{"$f":"AVERAGE(F21:F22)","v":0},{"$f":"G22/D16","v":{"$error":"#DIV/0!"}}]
[null,"Trimestre3",null,null,null,{"$f":"C23-(D23*E23)","v":0},{"$f":"AVERAGE(F21:F23)","v":0},{"$f":"G23/D16","v":{"$error":"#DIV/0!"}}]
[null,"Trimestre4",null,null,null,{"$f":"C24-(D24*E24)","v":0},{"$f":"AVERAGE(F21:F24)","v":0},{"$f":"G24/D16","v":{"$error":"#DIV/0!"}}]

{"sheet":"IF075_Analisis","index":211,"n_rows":24,"n_cols":10,"rows_kept":24,"cut":false,"hidden":false,"merged":[[14,1,14,2],[14,3,14,9],[15,1,15,2],[15,3,15,9],[16,2,16,5],[16,7,16,9],[11,1,11,2],[11,3,11,9],[12,1,12,2],[12,3,12,9],[13,1,13,2],[13,3,13,9],[10,1,10,2],[10,3,10,9],[1,1,6,2],[1,3,3,7],[1,8,3,8],[1,9,3,9],[4,3,6,7],[4,8,6,9],[7,1,7,9],[8,1,8,2],[8,3,8,7],[9,1,9,2],[9,3,9,8]]}
[]
[null,null,null,"SERVICIUDAD ESP",null,null,null,null,"Código SPFO-21","Versión 01"]
[]
[]
[null,null,null,"FICHA DE ANÁLISIS DEL INDICADOR",null,null,null,null,"PAGINA 01"]
[]
[]
[]
[null,"Nombre del índicador",null,"Cobertura de intereses (Cli) Acueducto",null,null,null,null,"Código: ","IF075"]
[null,"Estilo de cálculo",null,"Último dato"]
[null,"Fórmula de cálculo",null,"Cli = EBITDA / Gastos financieros"]
[null,"Número de variables",null,2]
[null,"Variables",null,"Donde i = período de análisis\nCCNP: CxC de mas 180 días - provisiones de CxC de mas de 180 días.\nSi las CxC de mas de 180 días son mayores a las provisiones, entonces CCNP se resta el numerador, de lo contrario, CCNP es igual a cero"]
[null,"Tendencia del indicador",null,"Creciente"]
[null,"Frecuencia de Cálculo y Análisis",null,"Trimestral"]
[null,"Meta",null,{"$f":"Indicadores!S79","v":0.02}]
[null,"Elaboró","Sugerencia de planeación",null,null,null,"Fecha",2020]
[]
[null,"Año Actual"]
[null,"Trimestre","Variable 1","Variable 2","Indicador","Acumulado","Cumplimiento"]
[null,"Trimestre1",null,null,{"$f":"C21/D21","v":{"$error":"#DIV/0!"}},{"$f":"E21","v":{"$error":"#DIV/0!"}},{"$f":"F21/D16","v":{"$error":"#DIV/0!"}}]
[null,"Trimestre2",null,null,{"$f":"C22/D22","v":{"$error":"#DIV/0!"}},{"$f":"E22","v":{"$error":"#DIV/0!"}},{"$f":"F22/D16","v":{"$error":"#DIV/0!"}}]
[null,"Trimestre3",null,null,{"$f":"C23/D23","v":{"$error":"#DIV/0!"}},{"$f":"E23","v":{"$error":"#DIV/0!"}},{"$f":"F23/D16","v":{"$error":"#DIV/0!"}}]
[null,"Trimestre4",null,null,{"$f":"C24/D24","v":{"$error":"#DIV/0!"}},{"$f":"E24","v":{"$error":"#DIV/0!"}},{"$f":"F24/D16","v":{"$error":"#DIV/0!"}}]

{"sheet":"IF076_Analisis","index":212,"n_rows":24,"n_cols":10,"rows_kept":24,"cut":false,"hidden":false,"merged":[[14,1,14,2],[14,3,14,9],[15,1,15,2],[15,3,15,9],[16,2,16,5],[16,7,16,9],[11,1,11,2],[11,3,11,9],[12,1,12,2],[12,3,12,9],[13,1,13,2],[13,3,13,9],[10,1,10,2],[10,3,10,9],[1,1,6,2],[1,3,3,7],[1,8,3,8],[1,9,3,9],[4,3,6,7],[4,8,6,9],[7,1,7,9],[8,1,8,2],[8,3,8,7],[9,1,9,2],[9,3,9,8]]}
[]
[null,null,null,"SERVICIUDAD ESP",null,null,null,null,"Código SPFO-21","Versión 01"]
[]
[]
[null,null,null,"FICHA DE ANÁLISIS DEL INDICADOR",null,null,null,null,"PAGINA 01"]
[]
[]
[]
[null,"Nombre del índicador",null,"Cobertura de intereses (Cli) Alcantarillado",null,null,null,null,"Código: ","IF076"]
[null,"Estilo de cálculo",null,"Último dato"]
[null,"Fórmula de cálculo",null,"Cli = EBITDA / Gastos financieros"]
[null,"Número de variables",null,2]
[null,"Variables",null,"Donde i = período de análisis\nCCNP: CxC de mas 180 días - provisiones de CxC de mas de 180 días.\nSi las CxC de mas de 180 días son mayores a las provisiones, entonces CCNP se resta el numerador, de lo contrario, CCNP es igual a cero"]
[null,"Tendencia del indicador",null,"Creciente"]
[null,"Frecuencia de Cálculo y Análisis",null,"Trimestral"]
[null,"Meta",null,{"$f":"Indicadores!S80","v":0.02}]
[null,"Elaboró","Sugerencia de planeación",null,null,null,"Fecha",2020]
[]
[null,"Año Actual"]
[null,"Trimestre","Variable 1","Variable 2","Indicador","Acumulado","Cumplimiento"]
[null,"Trimestre1",null,null,{"$f":"C21/D21","v":{"$error":"#DIV/0!"}},{"$f":"E21","v":{"$error":"#DIV/0!"}},{"$f":"F21/D16","v":{"$error":"#DIV/0!"}}]
[null,"Trimestre2",null,null,{"$f":"C22/D22","v":{"$error":"#DIV/0!"}},{"$f":"E22","v":{"$error":"#DIV/0!"}},{"$f":"F22/D16","v":{"$error":"#DIV/0!"}}]
[null,"Trimestre3",null,null,{"$f":"C23/D23","v":{"$error":"#DIV/0!"}},{"$f":"E23","v":{"$error":"#DIV/0!"}},{"$f":"F23/D16","v":{"$error":"#DIV/0!"}}]
[null,"Trimestre4",null,null,{"$f":"C24/D24","v":{"$error":"#DIV/0!"}},{"$f":"E24","v":{"$error":"#DIV/0!"}},{"$f":"F24/D16","v":{"$error":"#DIV/0!"}}]

{"sheet":"IF077_Analisis","index":213,"n_rows":24,"n_cols":10,"rows_kept":24,"cut":false,"hidden":false,"merged":[[14,1,14,2],[14,3,14,9],[15,1,15,2],[15,3,15,9],[16,2,16,5],[16,7,16,9],[11,1,11,2],[11,3,11,9],[12,1,12,2],[12,3,12,9],[13,1,13,2],[13,3,13,9],[10,1,10,2],[10,3,10,9],[1,1,6,2],[1,3,3,7],[1,8,3,8],[1,9,3,9],[4,3,6,7],[4,8,6,9],[7,1,7,9],[8,1,8,2],[8,3,8,7],[9,1,9,2],[9,3,9,8]]}
[]
[null,null,null,"SERVICIUDAD ESP",null,null,null,null,"Código SPFO-21","Versión 01"]
[]
[]
[null,null,null,"FICHA DE ANÁLISIS DEL INDICADOR",null,null,null,null,"PAGINA 01"]
[]
[]
[]
[null,"Nombre del índicador",null,"Cobertura de intereses (Cli) Aseo",null,null,null,null,"Código: ","IF077"]
[null,"Estilo de cálculo",null,"Último dato"]
[null,"Fórmula de cálculo",null,"Cli = EBITDA / Gastos financieros"]
[null,"Número de variables",null,2]
[null,"Variables",null,"Donde i = período de análisis\nCCNP: CxC de mas 180 días - provisiones de CxC de mas de 180 días.\nSi las CxC de mas de 180 días son mayores a las provisiones, entonces CCNP se resta el numerador, de lo contrario, CCNP es igual a cero"]
[null,"Tendencia del indicador",null,"Creciente"]
[null,"Frecuencia de Cálculo y Análisis",null,"Trimestral"]
[null,"Meta",null,{"$f":"Indicadores!S81","v":0.02}]
[null,"Elaboró","Sugerencia de planeación",null,null,null,"Fecha",2020]
[]
[null,"Año Actual"]
[null,"Trimestre","Variable 1","Variable 2","Indicador","Acumulado","Cumplimiento"]
[null,"Trimestre1",null,null,{"$f":"C21/D21","v":{"$error":"#DIV/0!"}},{"$f":"E21","v":{"$error":"#DIV/0!"}},{"$f":"F21/D16","v":{"$error":"#DIV/0!"}}]
[null,"Trimestre2",null,null,{"$f":"C22/D22","v":{"$error":"#DIV/0!"}},{"$f":"E22","v":{"$error":"#DIV/0!"}},{"$f":"F22/D16","v":{"$error":"#DIV/0!"}}]
[null,"Trimestre3",null,null,{"$f":"C23/D23","v":{"$error":"#DIV/0!"}},{"$f":"E23","v":{"$error":"#DIV/0!"}},{"$f":"F23/D16","v":{"$error":"#DIV/0!"}}]
[null,"Trimestre4",null,null,{"$f":"C24/D24","v":{"$error":"#DIV/0!"}},{"$f":"E24","v":{"$error":"#DIV/0!"}},{"$f":"F24/D16","v":{"$error":"#DIV/0!"}}]

{"sheet":"IF078_Analisis","index":214,"n_rows":24,"n_cols":10,"rows_kept":24,"cut":false,"hidden":false,"merged":[[14,1,14,2],[14,3,14,9],[15,1,15,2],[15,3,15,9],[16,2,16,5],[16,7,16,9],[11,1,11,2],[11,3,11,9],[12,1,12,2],[12,3,12,9],[13,1,13,2],[13,3,13,9],[10,1,10,2],[10,3,10,9],[1,1,6,2],[1,3,3,7],[1,8,3,8],[1,9,3,9],[4,3,6,7],[4,8,6,9],[7,1,7,9],[8,1,8,2],[8,3,8,7],[9,1,9,2],[9,3,9,8]]}
[]
[null,null,null,"SERVICIUDAD ESP",null,null,null,null,"Código SPFO-21","Versión 01"]
[]
[]
[null,null,null,"FICHA DE ANÁLISIS DEL INDICADOR",null,null,null,null,"PAGINA 01"]
[]
[]
[]
[null,"Nombre del índicador",null,"Costo eficiente de administracion (CAU) Acueducto",null,null,null,null,"Código: ","IF078"]
[null,"Estilo de cálculo",null,"Último dato"]
[null,"Fórmula de cálculo",null,"CAUei-1-((CAU0-CAU*)/5)"]
[null,"Número de variables",null,2]
[null,"Variables",null,"CAUei: Costos administrativos eficientes por suscriptor mensual del año i (pesos/suscriptor/mes) para cada servicio público domiciliario. CAU0: Costos administrativos por suscriptor mensual del año base (pesos/suscriptor/mes). Costos administrativos eficientes estándar por suscriptor mensual (pesos/suscriptor/mes) para cada servicio público domiciliario, según lo definido en el ARTÍCULO 26 de la presente resolución. "]
[null,"Tendencia del indicador",null,"Decreciente"]
[null,"Frecuencia de Cálculo y Análisis",null,"Trimestral"]
[null,"Meta",null,{"$f":"Indicadores!S82","v":4158.28}]
[null,"Elaboró","Sugerencia de planeación",null,null,null,"Fecha",2020]
[]
[null,"Año Actual"]
[null,"Trimestre","Variable 1","Variable 2","Indicador","Acumulado","Cumplimiento"]
[null,"Trimestre1",null,null,{"$f":"C21/D21","v":{"$error":"#DIV/0!"}},{"$f":"E21","v":{"$error":"#DIV/0!"}},{"$f":"IF(F21>0,D16/F21,1)","v":{"$error":"#DIV/0!"}}]
[null,"Trimestre2",null,null,{"$f":"C22/D22","v":{"$error":"#DIV/0!"}},{"$f":"E22","v":{"$error":"#DIV/0!"}},{"$f":"IF(F22>0,D16/F22,1)","v":{"$error":"#DIV/0!"}}]
[null,"Trimestre3",null,null,{"$f":"C23/D23","v":{"$error":"#DIV/0!"}},{"$f":"E23","v":{"$error":"#DIV/0!"}},{"$f":"IF(F23>0,D16/F23,1)","v":{"$error":"#DIV/0!"}}]
[null,"Trimestre4",null,null,{"$f":"C24/D24","v":{"$error":"#DIV/0!"}},{"$f":"E24","v":{"$error":"#DIV/0!"}},{"$f":"IF(F24>0,D16/F24,1)","v":{"$error":"#DIV/0!"}}]

{"sheet":"IF079_Analisis","index":215,"n_rows":24,"n_cols":10,"rows_kept":24,"cut":false,"hidden":false,"merged":[[14,1,14,2],[14,3,14,9],[15,1,15,2],[15,3,15,9],[16,2,16,5],[16,7,16,9],[11,1,11,2],[11,3,11,9],[12,1,12,2],[12,3,12,9],[13,1,13,2],[13,3,13,9],[10,1,10,2],[10,3,10,9],[1,1,6,2],[1,3,3,7],[1,8,3,8],[1,9,3,9],[4,3,6,7],[4,8,6,9],[7,1,7,9],[8,1,8,2],[8,3,8,7],[9,1,9,2],[9,3,9,8]]}
[]
[null,null,null,"SERVICIUDAD ESP",null,null,null,null,"Código SPFO-21","Versión 01"]
[]
[]
[null,null,null,"FICHA DE ANÁLISIS DEL INDICADOR",null,null,null,null,"PAGINA 01"]
[]
[]
[]
[null,"Nombre del índicador",null,"Costo eficiente de operación (COU) Acueducto",null,null,null,null,"Código: ","IF079"]
[null,"Estilo de cálculo",null,"Último dato"]
[null,"Fórmula de cálculo",null,"COUei-1-((COU0-COU*)/5)"]
[null,"Número de variables",null,2]
[null,"Variables",null,"COUei: Costos operativos comparables eficientes por suscriptor mensual del año i (pesos/suscriptor/mes) para cada servicio público domiciliario. COU0: Costos operativos comparables por suscriptor mensual del año base (pesos/suscriptor/mes) para cada servicio público domiciliario. COU*: Costos operativos comparables eficientes estándar por suscriptor mensual (pesos/suscriptor/mes) para cada servicio público domiciliario, según lo definido en el ARTÍCULO 33 de la presente resolución. "]
[null,"Tendencia del indicador",null,"Decreciente"]
[null,"Frecuencia de Cálculo y Análisis",null,"Trimestral"]
[null,"Meta",null,{"$f":"Indicadores!S83","v":10627.56}]
[null,"Elaboró","Sugerencia de planeación",null,null,null,"Fecha",2020]
[]
[null,"Año Actual"]
[null,"Trimestre","Variable 1","Variable 2","Indicador","Acumulado","Cumplimiento"]
[null,"Trimestre1",null,null,{"$f":"C21/D21","v":{"$error":"#DIV/0!"}},{"$f":"E21","v":{"$error":"#DIV/0!"}},{"$f":"IF(F21>0,D16/F21,1)","v":{"$error":"#DIV/0!"}}]
[null,"Trimestre2",null,null,{"$f":"C22/D22","v":{"$error":"#DIV/0!"}},{"$f":"E22","v":{"$error":"#DIV/0!"}},{"$f":"IF(F22>0,D16/F22,1)","v":{"$error":"#DIV/0!"}}]
[null,"Trimestre3",null,null,{"$f":"C23/D23","v":{"$error":"#DIV/0!"}},{"$f":"E23","v":{"$error":"#DIV/0!"}},{"$f":"IF(F23>0,D16/F23,1)","v":{"$error":"#DIV/0!"}}]
[null,"Trimestre4",null,null,{"$f":"C24/D24","v":{"$error":"#DIV/0!"}},{"$f":"E24","v":{"$error":"#DIV/0!"}},{"$f":"IF(F24>0,D16/F24,1)","v":{"$error":"#DIV/0!"}}]

{"sheet":"IF080_Analisis","index":216,"n_rows":24,"n_cols":10,"rows_kept":24,"cut":false,"hidden":false,"merged":[[14,1,14,2],[14,3,14,9],[15,1,15,2],[15,3,15,9],[16,2,16,5],[16,7,16,9],[11,1,11,2],[11,3,11,9],[12,1,12,2],[12,3,12,9],[13,1,13,2],[13,3,13,9],[10,1,10,2],[10,3,10,9],[1,1,6,2],[1,3,3,7],[1,8,3,8],[1,9,3,9],[4,3,6,7],[4,8,6,9],[7,1,7,9],[8,1,8,2],[8,3,8,7],[9,1,9,2],[9,3,9,8]]}
[]
[null,null,null,"SERVICIUDAD ESP",null,null,null,null,"Código SPFO-21","Versión 01"]
[]
[]
[null,null,null,"FICHA DE ANÁLISIS DEL INDICADOR",null,null,null,null,"PAGINA 01"]
[]
[]
[]
[null,"Nombre del índicador",null,"Costos unitarios particulares (CUP) acueducto insumos químicos",null,null,null,null,"Código: ","IF080"]
[null,"Estilo de cálculo",null,"Último dato"]
[null,"Fórmula de cálculo",null,"Costos unitarios particulares (CUP) acueducto insumos químicos"]
[null,"Número de variables",null,2]
[null,"Variables"]
[null,"Tendencia del indicador",null,"Decreciente"]
[null,"Frecuencia de Cálculo y Análisis",null,"Trimestral"]
[null,"Meta",null,{"$f":"Indicadores!S84","v":30.16}]
[null,"Elaboró","Sugerencia de planeación",null,null,null,"Fecha",2020]
[]
[null,"Año Actual"]
[null,"Trimestre","Variable 1","Variable 2","Indicador","Acumulado","Cumplimiento"]
[null,"Trimestre1",null,null,{"$f":"C21/D21","v":{"$error":"#DIV/0!"}},{"$f":"E21","v":{"$error":"#DIV/0!"}},{"$f":"IF(F21>0,D16/F21,1)","v":{"$error":"#DIV/0!"}}]
[null,"Trimestre2",null,null,{"$f":"C22/D22","v":{"$error":"#DIV/0!"}},{"$f":"E22","v":{"$error":"#DIV/0!"}},{"$f":"IF(F22>0,D16/F22,1)","v":{"$error":"#DIV/0!"}}]
[null,"Trimestre3",null,null,{"$f":"C23/D23","v":{"$error":"#DIV/0!"}},{"$f":"E23","v":{"$error":"#DIV/0!"}},{"$f":"IF(F23>0,D16/F23,1)","v":{"$error":"#DIV/0!"}}]
[null,"Trimestre4",null,null,{"$f":"C24/D24","v":{"$error":"#DIV/0!"}},{"$f":"E24","v":{"$error":"#DIV/0!"}},{"$f":"IF(F24>0,D16/F24,1)","v":{"$error":"#DIV/0!"}}]

{"sheet":"IF081_Analisis","index":217,"n_rows":24,"n_cols":10,"rows_kept":24,"cut":false,"hidden":false,"merged":[[14,1,14,2],[14,3,14,9],[15,1,15,2],[15,3,15,9],[16,2,16,5],[16,7,16,9],[11,1,11,2],[11,3,11,9],[12,1,12,2],[12,3,12,9],[13,1,13,2],[13,3,13,9],[10,1,10,2],[10,3,10,9],[1,1,6,2],[1,3,3,7],[1,8,3,8],[1,9,3,9],[4,3,6,7],[4,8,6,9],[7,1,7,9],[8,1,8,2],[8,3,8,7],[9,1,9,2],[9,3,9,8]]}
[]
[null,null,null,"SERVICIUDAD ESP",null,null,null,null,"Código SPFO-21","Versión 01"]
[]
[]
[null,null,null,"FICHA DE ANÁLISIS DEL INDICADOR",null,null,null,null,"PAGINA 01"]
[]
[]
[]
[null,"Nombre del índicador",null,"Costos unitarios particulares (CUP) acueducto energía eléctrica",null,null,null,null,"Código: ","IF081"]
[null,"Estilo de cálculo",null,"Último dato"]
[null,"Fórmula de cálculo",null,"Costos unitarios particulares (CUP) acueducto energía eléctrica"]
[null,"Número de variables",null,2]
[null,"Variables"]
[null,"Tendencia del indicador",null,"Decreciente"]
[null,"Frecuencia de Cálculo y Análisis",null,"Trimestral"]
[null,"Meta",null,{"$f":"Indicadores!S85","v":3.32}]
[null,"Elaboró","Sugerencia de planeación",null,null,null,"Fecha",2020]
[]
[null,"Año Actual"]
[null,"Trimestre","Variable 1","Variable 2","Indicador","Acumulado","Cumplimiento"]
[null,"Trimestre1",null,null,{"$f":"C21/D21","v":{"$error":"#DIV/0!"}},{"$f":"E21","v":{"$error":"#DIV/0!"}},{"$f":"IF(F21>0,D16/F21,1)","v":{"$error":"#DIV/0!"}}]
[null,"Trimestre2",null,null,{"$f":"C22/D22","v":{"$error":"#DIV/0!"}},{"$f":"E22","v":{"$error":"#DIV/0!"}},{"$f":"IF(F22>0,D16/F22,1)","v":{"$error":"#DIV/0!"}}]
[null,"Trimestre3",null,null,{"$f":"C23/D23","v":{"$error":"#DIV/0!"}},{"$f":"E23","v":{"$error":"#DIV/0!"}},{"$f":"IF(F23>0,D16/F23,1)","v":{"$error":"#DIV/0!"}}]
[null,"Trimestre4",null,null,{"$f":"C24/D24","v":{"$error":"#DIV/0!"}},{"$f":"E24","v":{"$error":"#DIV/0!"}},{"$f":"IF(F24>0,D16/F24,1)","v":{"$error":"#DIV/0!"}}]

{"sheet":"IF082_Analisis","index":218,"n_rows":24,"n_cols":10,"rows_kept":24,"cut":false,"hidden":false,"merged":[[14,1,14,2],[14,3,14,9],[15,1,15,2],[15,3,15,9],[16,2,16,5],[16,7,16,9],[11,1,11,2],[11,3,11,9],[12,1,12,2],[12,3,12,9],[13,1,13,2],[13,3,13,9],[10,1,10,2],[10,3,10,9],[1,1,6,2],[1,3,3,7],[1,8,3,8],[1,9,3,9],[4,3,6,7],[4,8,6,9],[7,1,7,9],[8,1,8,2],[8,3,8,7],[9,1,9,2],[9,3,9,8]]}
[]
[null,null,null,"SERVICIUDAD ESP",null,null,null,null,"Código SPFO-21","Versión 01"]
[]
[]
[null,null,null,"FICHA DE ANÁLISIS DEL INDICADOR",null,null,null,null,"PAGINA 01"]
[]
[]
[]
[null,"Nombre del índicador",null,"Costo eficiente de administracion (CAU) Alcantarillado",null,null,null,null,"Código: ","IF082"]
[null,"Estilo de cálculo",null,"Último dato"]
[null,"Fórmula de cálculo",null,"CAUei-1-((CAU0-CAU*)/5)"]
[null,"Número de variables",null,2]
[null,"Variables",null,"CAUei: Costos administrativos eficientes por suscriptor mensual del año i (pesos/suscriptor/mes) para cada servicio público domiciliario. CAU0: Costos administrativos por suscriptor mensual del año base (pesos/suscriptor/mes). Costos administrativos eficientes estándar por suscriptor mensual (pesos/suscriptor/mes) para cada servicio público domiciliario, según lo definido en el ARTÍCULO 26 de la presente resolución. "]
[null,"Tendencia del indicador",null,"Decreciente"]
[null,"Frecuencia de Cálculo y Análisis",null,"Trimestral"]
[null,"Meta",null,{"$f":"Indicadores!S86","v":2314.8000000000002}]
[null,"Elaboró","Sugerencia de planeación",null,null,null,"Fecha",2020]
[]
[null,"Año Actual"]
[null,"Trimestre","Variable 1","Variable 2","Indicador","Acumulado","Cumplimiento"]
[null,"Trimestre1",null,null,{"$f":"C21/D21","v":{"$error":"#DIV/0!"}},{"$f":"E21","v":{"$error":"#DIV/0!"}},{"$f":"IF(F21>0,D16/F21,1)","v":{"$error":"#DIV/0!"}}]
[null,"Trimestre2",null,null,{"$f":"C22/D22","v":{"$error":"#DIV/0!"}},{"$f":"E22","v":{"$error":"#DIV/0!"}},{"$f":"IF(F22>0,D16/F22,1)","v":{"$error":"#DIV/0!"}}]
[null,"Trimestre3",null,null,{"$f":"C23/D23","v":{"$error":"#DIV/0!"}},{"$f":"E23","v":{"$error":"#DIV/0!"}},{"$f":"IF(F23>0,D16/F23,1)","v":{"$error":"#DIV/0!"}}]
[null,"Trimestre4",null,null,{"$f":"C24/D24","v":{"$error":"#DIV/0!"}},{"$f":"E24","v":{"$error":"#DIV/0!"}},{"$f":"IF(F24>0,D16/F24,1)","v":{"$error":"#DIV/0!"}}]

{"sheet":"IF083_Analisis","index":219,"n_rows":24,"n_cols":10,"rows_kept":24,"cut":false,"hidden":false,"merged":[[14,1,14,2],[14,3,14,9],[15,1,15,2],[15,3,15,9],[16,2,16,5],[16,7,16,9],[11,1,11,2],[11,3,11,9],[12,1,12,2],[12,3,12,9],[13,1,13,2],[13,3,13,9],[10,1,10,2],[10,3,10,9],[1,1,6,2],[1,3,3,7],[1,8,3,8],[1,9,3,9],[4,3,6,7],[4,8,6,9],[7,1,7,9],[8,1,8,2],[8,3,8,7],[9,1,9,2],[9,3,9,8]]}
[]
[null,null,null,"SERVICIUDAD ESP",null,null,null,null,"Código SPFO-21","Versión 01"]
[]
[]
[null,null,null,"FICHA DE ANÁLISIS DEL INDICADOR",null,null,null,null,"PAGINA 01"]
[]
[]
[]
[null,"Nombre del índicador",null,"Costo eficiente de operación (COU) Alcantarillado",null,null,null,null,"Código: ","IF083"]
[null,"Estilo de cálculo",null,"Último dato"]
[null,"Fórmula de cálculo",null,"COUei-1-((COU0-COU*)/5)"]
[null,"Número de variables",null,2]
[null,"Variables",null,"COUei: Costos operativos comparables eficientes por suscriptor mensual del año i (pesos/suscriptor/mes) para cada servicio público domiciliario. COU0: Costos operativos comparables por suscriptor mensual del año base (pesos/suscriptor/mes) para cada servicio público domiciliario. COU*: Costos operativos comparables eficientes estándar por suscriptor mensual (pesos/suscriptor/mes) para cada servicio público domiciliario, según lo definido en el ARTÍCULO 33 de la presente resolución. "]
[null,"Tendencia del indicador",null,"Decreciente"]
[null,"Frecuencia de Cálculo y Análisis",null,"Trimestral"]
[null,"Meta",null,{"$f":"Indicadores!S87","v":3783.47}]
[null,"Elaboró","Sugerencia de planeación",null,null,null,"Fecha",2020]
[]
[null,"Año Actual"]
[null,"Trimestre","Variable 1","Variable 2","Indicador","Acumulado","Cumplimiento"]
[null,"Trimestre1",null,null,{"$f":"C21/D21","v":{"$error":"#DIV/0!"}},{"$f":"E21","v":{"$error":"#DIV/0!"}},{"$f":"IF(F21>0,D16/F21,1)","v":{"$error":"#DIV/0!"}}]
[null,"Trimestre2",null,null,{"$f":"C22/D22","v":{"$error":"#DIV/0!"}},{"$f":"E22","v":{"$error":"#DIV/0!"}},{"$f":"IF(F22>0,D16/F22,1)","v":{"$error":"#DIV/0!"}}]
[null,"Trimestre3",null,null,{"$f":"C23/D23","v":{"$error":"#DIV/0!"}},{"$f":"E23","v":{"$error":"#DIV/0!"}},{"$f":"IF(F23>0,D16/F23,1)","v":{"$error":"#DIV/0!"}}]
[null,"Trimestre4",null,null,{"$f":"C24/D24","v":{"$error":"#DIV/0!"}},{"$f":"E24","v":{"$error":"#DIV/0!"}},{"$f":"IF(F24>0,D16/F24,1)","v":{"$error":"#DIV/0!"}}]

{"sheet":"US001_Analisis","index":220,"n_rows":24,"n_cols":10,"rows_kept":24,"cut":false,"hidden":false,"merged":[[14,1,14,2],[14,3,14,9],[15,1,15,2],[15,3,15,9],[16,2,16,5],[16,7,16,9],[11,1,11,2],[11,3,11,9],[12,1,12,2],[12,3,12,9],[13,1,13,2],[13,3,13,9],[10,1,10,2],[10,3,10,9],[1,1,6,2],[1,3,3,7],[1,8,3,8],[1,9,3,9],[4,3,6,7],[4,8,6,9],[7,1,7,9],[8,1,8,2],[8,3,8,7],[9,1,9,2],[9,3,9,8]]}
[]
[null,null,null,"SERVICIUDAD ESP",null,null,null,null,"Código SPFO-21","Versión 01"]
[]
[]
[null,null,null,"FICHA DE ANÁLISIS DEL INDICADOR",null,null,null,null,"PAGINA 01"]
[]
[]
[]
[null,"Nombre del índicador",null,"Nivel de satisfaccion de suscriptores",null,null,null,null,"Código: ","US001"]
[null,"Estilo de cálculo",null,"Suma"]
[null,"Fórmula de cálculo",null,"Encuesta de satisfacción de suscriptores anual"]
[null,"Número de variables",null,1]
[null,"Variables"]
[null,"Tendencia del indicador",null,"Creciente"]
[null,"Frecuencia de Cálculo y Análisis",null,"Trimestral"]
[null,"Meta",null,{"$f":"Indicadores!S88","v":0.9}]
[null,"Elaboró","Sugerencia de planeación",null,null,null,"Fecha",2020]
[]
[null,"Año Actual"]
[null,"Trimestre","Variable 1","Indicador","Acumulado","Cumplimiento"]
[null,"Trimestre1",80,{"$f":"C21","v":80},{"$f":"SUM(D21:D21)","v":80},{"$f":"E21/D16","v":88.888888888888886}]
[null,"Trimestre2",80,{"$f":"C22","v":80},{"$f":"SUM(D21:D22)","v":160},{"$f":"E22/D16","v":177.77777777777777}]
[null,"Trimestre3",80,{"$f":"C23","v":80},{"$f":"SUM(D21:D23)","v":240},{"$f":"E23/D16","v":266.66666666666669}]
[null,"Trimestre4",80,{"$f":"C24","v":80},{"$f":"SUM(D21:D24)","v":320},{"$f":"E24/D16","v":355.55555555555554}]

{"sheet":"US002_Analisis","index":221,"n_rows":32,"n_cols":10,"rows_kept":32,"cut":false,"hidden":false,"merged":[[14,1,14,2],[14,3,14,9],[15,1,15,2],[15,3,15,9],[16,2,16,5],[16,7,16,9],[11,1,11,2],[11,3,11,9],[12,1,12,2],[12,3,12,9],[13,1,13,2],[13,3,13,9],[10,1,10,2],[10,3,10,9],[1,1,6,2],[1,3,3,7],[1,8,3,8],[1,9,3,9],[4,3,6,7],[4,8,6,9],[7,1,7,9],[8,1,8,2],[8,3,8,7],[9,1,9,2],[9,3,9,8]]}
[]
[null,null,null,"SERVICIUDAD ESP",null,null,null,null,"Código SPFO-21","Versión 01"]
[]
[]
[null,null,null,"FICHA DE ANÁLISIS DEL INDICADOR",null,null,null,null,"PAGINA 01"]
[]
[]
[]
[null,"Nombre del índicador",null,"Indice de Atención de PQR Acueducto — IPQRAC",null,null,null,null,"Código: ","US002"]
[null,"Estilo de cálculo",null,"Suma de componentes"]
[null,"Fórmula de cálculo",null," (NDNA / NTD) x 100"]
[null,"Número de variables",null,2]
[null,"Variables",null,"NDNA: Número de PQR del servicio público domiciliario de acueducto no atendidos dentro del tiempo estipulado por la normatividad vigente en el período de evaluación.\nNTD: Número total de PQR del servicio público domiciliario de acueducto resueltas en el período de evaluación, incluyendo aquellas que fueron abiertas a pruebas."]
[null,"Tendencia del indicador",null,"Decreciente"]
[null,"Frecuencia de Cálculo y Análisis",null,"Mensual"]
[null,"Meta",null,{"$f":"Indicadores!S89","v":0}]
[null,"Elaboró","Sugerencia de planeación",null,null,null,"Fecha",2020]
[]
[null,"Año Actual"]
[null,"Mes","Variable 1","Variable 2","Indicador","Acumulado","Cumplimiento"]
[null,"Enero",null,null,{"$f":"(C21/D21)*100","v":{"$error":"#DIV/0!"}},{"$f":"(SUM(C21:C105)/SUM(D21:D105))*100","v":{"$error":"#DIV/0!"}},{"$f":"IF(F21>0,D16/F21,1)","v":{"$error":"#DIV/0!"}}]
[null,"Febrero",null,null,{"$f":"(C22/D22)*100","v":{"$error":"#DIV/0!"}},{"$f":"(SUM(C21:C105)/SUM(D21:D105))*100","v":{"$error":"#DIV/0!"}},{"$f":"IF(F22>0,D16/F22,1)","v":{"$error":"#DIV/0!"}}]
[null,"Marzo",null,null,{"$error":"#DIV/0!"},{"$f":"(SUM(C21:C105)/SUM(D21:D105))*100","v":{"$error":"#DIV/0!"}},{"$f":"IF(F23>0,D16/F23,1)","v":{"$error":"#DIV/0!"}}]
[null,"Abril",null,null,{"$error":"#DIV/0!"},{"$f":"(SUM(C21:C105)/SUM(D21:D105))*100","v":{"$error":"#DIV/0!"}},{"$f":"IF(F24>0,D16/F24,1)","v":{"$error":"#DIV/0!"}}]
[null,"Mayo",null,null,{"$error":"#DIV/0!"},{"$f":"(SUM(C21:C105)/SUM(D21:D105))*100","v":{"$error":"#DIV/0!"}},{"$f":"IF(F25>0,D16/F25,1)","v":{"$error":"#DIV/0!"}}]
[null,"Junio",null,null,{"$error":"#DIV/0!"},{"$f":"(SUM(C21:C105)/SUM(D21:D105))*100","v":{"$error":"#DIV/0!"}},{"$f":"IF(F26>0,D16/F26,1)","v":{"$error":"#DIV/0!"}}]
[null,"Julio",null,null,{"$error":"#DIV/0!"},{"$f":"(SUM(C21:C105)/SUM(D21:D105))*100","v":{"$error":"#DIV/0!"}},{"$f":"IF(F27>0,D16/F27,1)","v":{"$error":"#DIV/0!"}}]
[null,"Agosto",null,null,{"$error":"#DIV/0!"},{"$f":"(SUM(C21:C105)/SUM(D21:D105))*100","v":{"$error":"#DIV/0!"}},{"$f":"IF(F28>0,D16/F28,1)","v":{"$error":"#DIV/0!"}}]
[null,"Septiembre",null,null,{"$error":"#DIV/0!"},{"$f":"(SUM(C21:C105)/SUM(D21:D105))*100","v":{"$error":"#DIV/0!"}},{"$f":"IF(F29>0,D16/F29,1)","v":{"$error":"#DIV/0!"}}]
[null,"Octubre",null,null,{"$error":"#DIV/0!"},{"$f":"(SUM(C21:C105)/SUM(D21:D105))*100","v":{"$error":"#DIV/0!"}},{"$f":"IF(F30>0,D16/F30,1)","v":{"$error":"#DIV/0!"}}]
[null,"Noviembre",null,null,{"$error":"#DIV/0!"},{"$f":"(SUM(C21:C105)/SUM(D21:D105))*100","v":{"$error":"#DIV/0!"}},{"$f":"IF(F31>0,D16/F31,1)","v":{"$error":"#DIV/0!"}}]
[null,"Diciembre",null,null,{"$error":"#DIV/0!"},{"$f":"(SUM(C21:C105)/SUM(D21:D105))*100","v":{"$error":"#DIV/0!"}},{"$f":"IF(F32>0,D16/F32,1)","v":{"$error":"#DIV/0!"}}]

{"sheet":"US003_Analisis","index":222,"n_rows":32,"n_cols":10,"rows_kept":32,"cut":false,"hidden":false,"merged":[[14,1,14,2],[14,3,14,9],[15,1,15,2],[15,3,15,9],[16,2,16,5],[16,7,16,9],[11,1,11,2],[11,3,11,9],[12,1,12,2],[12,3,12,9],[13,1,13,2],[13,3,13,9],[10,1,10,2],[10,3,10,9],[1,1,6,2],[1,3,3,7],[1,8,3,8],[1,9,3,9],[4,3,6,7],[4,8,6,9],[7,1,7,9],[8,1,8,2],[8,3,8,7],[9,1,9,2],[9,3,9,8]]}
[]
[null,null,null,"SERVICIUDAD ESP",null,null,null,null,"Código SPFO-21","Versión 01"]
[]
[]
[null,null,null,"FICHA DE ANÁLISIS DEL INDICADOR",null,null,null,null,"PAGINA 01"]
[]
[]
[]
[null,"Nombre del índicador",null,"Indice de Atención de PQR Alcantarillado — IPQRAL",null,null,null,null,"Código: ","US003"]
[null,"Estilo de cálculo",null,"Suma de componentes"]
[null,"Fórmula de cálculo",null,"(NDNA / NTD) x 100 "]
[null,"Número de variables",null,2]
[null,"Variables",null,"NDNA: Número de PQR del servicio público domiciliario de alcantarillado no atendidos dentro del tirmpo estipulado por la normatividad vigente en el período de evaluación.\nNTD: Número total de PQR del servicio púclico domiciliario de alcantarillado resueltas en el período de evaluación, incluyendo aquellas que fueron abiertas a pruebas."]
[null,"Tendencia del indicador",null,"Decreciente"]
[null,"Frecuencia de Cálculo y Análisis",null,"Mensual"]
[null,"Meta",null,{"$f":"Indicadores!S90","v":0}]
[null,"Elaboró","Sugerencia de planeación",null,null,null,"Fecha",2020]
[]
[null,"Año Actual"]
[null,"Mes","Variable 1","Variable 2","Indicador","Acumulado","Cumplimiento"]
[null,"Enero",null,null,{"$f":"(C21/D21)*100","v":{"$error":"#DIV/0!"}},{"$f":"(SUM(C21:C106)/SUM(D21:D106))*100","v":{"$error":"#DIV/0!"}},{"$f":"IF(F21>0,D16/F21,1)","v":{"$error":"#DIV/0!"}}]
[null,"Febrero",null,null,{"$f":"(C22/D22)*100","v":{"$error":"#DIV/0!"}},{"$f":"(SUM(C21:C106)/SUM(D21:D106))*100","v":{"$error":"#DIV/0!"}},{"$f":"IF(F22>0,D16/F22,1)","v":{"$error":"#DIV/0!"}}]
[null,"Marzo",null,null,{"$error":"#DIV/0!"},{"$f":"(SUM(C21:C106)/SUM(D21:D106))*100","v":{"$error":"#DIV/0!"}},{"$f":"IF(F23>0,D16/F23,1)","v":{"$error":"#DIV/0!"}}]
[null,"Abril",null,null,{"$error":"#DIV/0!"},{"$f":"(SUM(C21:C106)/SUM(D21:D106))*100","v":{"$error":"#DIV/0!"}},{"$f":"IF(F24>0,D16/F24,1)","v":{"$error":"#DIV/0!"}}]
[null,"Mayo",null,null,{"$error":"#DIV/0!"},{"$f":"(SUM(C21:C106)/SUM(D21:D106))*100","v":{"$error":"#DIV/0!"}},{"$f":"IF(F25>0,D16/F25,1)","v":{"$error":"#DIV/0!"}}]
[null,"Junio",null,null,{"$error":"#DIV/0!"},{"$f":"(SUM(C21:C106)/SUM(D21:D106))*100","v":{"$error":"#DIV/0!"}},{"$f":"IF(F26>0,D16/F26,1)","v":{"$error":"#DIV/0!"}}]
[null,"Julio",null,null,{"$error":"#DIV/0!"},{"$f":"(SUM(C21:C106)/SUM(D21:D106))*100","v":{"$error":"#DIV/0!"}},{"$f":"IF(F27>0,D16/F27,1)","v":{"$error":"#DIV/0!"}}]
[null,"Agosto",null,null,{"$error":"#DIV/0!"},{"$f":"(SUM(C21:C106)/SUM(D21:D106))*100","v":{"$error":"#DIV/0!"}},{"$f":"IF(F28>0,D16/F28,1)","v":{"$error":"#DIV/0!"}}]
[null,"Septiembre",null,null,{"$error":"#DIV/0!"},{"$f":"(SUM(C21:C106)/SUM(D21:D106))*100","v":{"$error":"#DIV/0!"}},{"$f":"IF(F29>0,D16/F29,1)","v":{"$error":"#DIV/0!"}}]
[null,"Octubre",null,null,{"$error":"#DIV/0!"},{"$f":"(SUM(C21:C106)/SUM(D21:D106))*100","v":{"$error":"#DIV/0!"}},{"$f":"IF(F30>0,D16/F30,1)","v":{"$error":"#DIV/0!"}}]
[null,"Noviembre",null,null,{"$error":"#DIV/0!"},{"$f":"(SUM(C21:C106)/SUM(D21:D106))*100","v":{"$error":"#DIV/0!"}},{"$f":"IF(F31>0,D16/F31,1)","v":{"$error":"#DIV/0!"}}]
[null,"Diciembre",null,null,{"$error":"#DIV/0!"},{"$f":"(SUM(C21:C106)/SUM(D21:D106))*100","v":{"$error":"#DIV/0!"}},{"$f":"IF(F32>0,D16/F32,1)","v":{"$error":"#DIV/0!"}}]

{"sheet":"US004_Analisis","index":223,"n_rows":32,"n_cols":10,"rows_kept":32,"cut":false,"hidden":false,"merged":[[15,1,15,2],[15,3,15,9],[16,2,16,5],[16,7,16,9],[12,1,12,2],[12,3,12,9],[13,1,13,2],[13,3,13,9],[14,1,14,2],[14,3,14,9],[18,1,18,6],[10,1,10,2],[10,3,10,9],[1,1,6,2],[1,3,3,7],[1,8,3,8],[1,9,3,9],[4,3,6,7],[4,8,6,9],[7,1,7,9],[8,1,8,2],[8,3,8,7],[9,1,9,2],[9,3,9,8],[11,1,11,2],[11,3,11,9]]}
[]
[null,null,null,"SERVICIUDAD ESP",null,null,null,null,"Código SPFO-21","Versión 01"]
[]
[]
[null,null,null,"FICHA DE ANÁLISIS DEL INDICADOR",null,null,null,null,"PAGINA 01"]
[]
[]
[]
[null,"Nombre del índicador",null,"Eficiencia de recaudo Acueducto (ERi)",null,null,null,null,"Código: ","US004"]
[null,"Estilo de cálculo",null,"Último dato"]
[null,"Fórmula de cálculo",null,"Valor Recaudado /Valor Facturado"]
[null,"Número de variables",null,2]
[null,"Variables"]
[null,"Tendencia del indicador",null,"Creciente"]
[null,"Frecuencia de Cálculo y Análisis",null,"Mensual"]
[null,"Meta",null,{"$f":"Indicadores!S91","v":0.95}]
[null,"Elaboró","Sugerencia de planeación",null,null,null,"Fecha",2020]
[]
[null,"Año Actual 2020"]
[null,"Mes","Valor \nRecaudado","Valor Facturado","Indicador","Acumulado","Cumplimiento"]
[null,"Enero",1216409595,1419386784,{"$f":"C21/D21","v":0.85699656267899982},{"$f":"E21","v":0.85699656267899982},{"$f":"F21/D16","v":0.90210164492526301}]
[null,"Febrero",2518133694,2842381631,{"$f":"C22/D22","v":0.88592385573293908},0.88592385573293908,{"$f":"F22/D16","v":0.93255142708730432}]
[null,"Marzo",3748533313,4203807812,{"$f":"C23/D23","v":0.89169949736988596},0.89169949736988596,{"$f":"F23/D16","v":0.93863104986303791}]
[null,"Abril",5009219117,5476689744,0.9146435805475126,0.9146435805475126,{"$f":"F24/D16","v":0.96278271636580282}]
[null,"Mayo",6036531806,6601620175,0.91440156294662922,0.91440156294662922,{"$f":"F25/D16","v":0.96252796099645188}]
[null,"Junio",7069411210,7752405499,0.9118990500318771,0.9118990500318771,{"$f":"F26/D16","v":0.95989373687566015}]
[null,"Julio",8372400126,9107047185,0.91933202452162321,0.91933202452162321,{"$f":"F27/D16","v":0.96771792054907713}]
[null,"Agosto",9741009093,10505826942,0.92720060465279264,0.92720060465279264,{"$f":"F28/D16","v":0.97600063647662383}]
[null,"Septiembre",11147232271,11963440185,0.93177481548966345,0.93177481548966345,{"$f":"F29/D16","v":0.98081559525227735}]
[null,"Octubre",12578226374,13418746852,0.93736222262254509,0.93736222262254509,{"$f":"F30/D16","v":0.98669707644478433}]
[null,"Noviembre",14039929860,14923540099,0.94079084231098697,0.94079084231098697,{"$f":"F31/D16","v":0.99030614980103893}]
[null,"Diciembre",15508716110,16387728144,0.94636156846903574,0.94636156846903574,{"$f":"F32/D16","v":0.99617007207266928}]

{"sheet":"US005_Analisis","index":224,"n_rows":32,"n_cols":10,"rows_kept":32,"cut":false,"hidden":false,"merged":[[15,1,15,2],[15,3,15,9],[16,2,16,5],[16,7,16,9],[12,1,12,2],[12,3,12,9],[13,1,13,2],[13,3,13,9],[14,1,14,2],[14,3,14,9],[18,1,18,6],[10,1,10,2],[10,3,10,9],[1,1,6,2],[1,3,3,7],[1,8,3,8],[1,9,3,9],[4,3,6,7],[4,8,6,9],[7,1,7,9],[8,1,8,2],[8,3,8,7],[9,1,9,2],[9,3,9,8],[11,1,11,2],[11,3,11,9]]}
[]
[null,null,null,"SERVICIUDAD ESP",null,null,null,null,"Código SPFO-21","Versión 01"]
[]
[]
[null,null,null,"FICHA DE ANÁLISIS DEL INDICADOR",null,null,null,null,"PAGINA 01"]
[]
[]
[]
[null,"Nombre del índicador",null,"Eficiencia de recaudo Alcantarillado (ERi)",null,null,null,null,"Código: ","US005"]
[null,"Estilo de cálculo",null,"Último dato"]
[null,"Fórmula de cálculo",null,"Valor Recaudado /Valor Facturado"]
[null,"Número de variables",null,2]
[null,"Variables"]
[null,"Tendencia del indicador",null,"Creciente"]
[null,"Frecuencia de Cálculo y Análisis",null,"Mensual"]
[null,"Meta",null,{"$f":"Indicadores!S92","v":0.91}]
[null,"Elaboró","Sugerencia de planeación",null,null,null,"Fecha",2020]
[]
[null,"Año Actual 2020"]
[null,"Mes","Valor \nRecaudado","Valor Facturado","Indicador","Acumulado","Cumplimiento"]
[null,"Enero",829626055,958453254,{"$f":"C21/D21","v":0.865588437973001},{"$f":"E21","v":0.865588437973001},{"$f":"F21/D16","v":0.95119608568461644}]
[null,"Febrero",1743815530,1986788538,{"$f":"C22/D22","v":0.87770565243717946},0.87770565243717946,{"$f":"F22/D16","v":0.96451170597492242}]
[null,"Marzo",2640672570,2996836371,0.88115340415427701,0.88115340415427701,{"$f":"F23/D16","v":0.96830044412557914}]
[null,"Abril",3564630463,3972890103,0.89723862744360439,0.89723862744360439,{"$f":"F24/D16","v":0.98597651367429051}]
[null,"Mayo",4335189090,4822829807,0.89888908866486983,0.89888908866486983,{"$f":"F25/D16","v":0.98779020732403278}]
[null,"Junio",5097610048,5678086729,0.89776896537432227,0.89776896537432227,{"$f":"F26/D16","v":0.98655930260914537}]
[null,"Julio",6047739635,6691243197,0.90382899813169049,0.90382899813169049,{"$f":"F27/D16","v":0.99321867926559393}]
[null,"Agosto",7049967079,7719645062,0.91325015883223781,0.91325015883223781,{"$f":"F28/D16","v":1.0035716031123492}]
[null,"Septiembre",8070615008,8767124094,0.92055443968488215,0.92055443968488215,{"$f":"F29/D16","v":1.0115982853680023}]
[null,"Octubre",9116329193,9811641141,0.92913398095100597,0.92913398095100597,{"$f":"F30/D16","v":1.0210263526934131}]
[null,"Noviembre",10189314087,10853105583,0.93883856644316221,0.93883856644316221,{"$f":"F31/D16","v":1.0316907323551232}]
[null,"Diciembre",11237634996,11898424279,0.94446413512365224,0.94446413512365224,{"$f":"F32/D16","v":1.0378726759600574}]

{"sheet":"US006_Analisis","index":225,"n_rows":32,"n_cols":10,"rows_kept":32,"cut":false,"hidden":false,"merged":[[15,1,15,2],[15,3,15,9],[16,2,16,5],[16,7,16,9],[12,1,12,2],[12,3,12,9],[13,1,13,2],[13,3,13,9],[14,1,14,2],[14,3,14,9],[18,1,18,6],[10,1,10,2],[10,3,10,9],[1,1,6,2],[1,3,3,7],[1,8,3,8],[1,9,3,9],[4,3,6,7],[4,8,6,9],[7,1,7,9],[8,1,8,2],[8,3,8,7],[9,1,9,2],[9,3,9,8],[11,1,11,2],[11,3,11,9]]}
[]
[null,null,null,"SERVICIUDAD ESP",null,null,null,null,"Código SPFO-21","Versión 01"]
[]
[]
[null,null,null,"FICHA DE ANÁLISIS DEL INDICADOR",null,null,null,null,"PAGINA 01"]
[]
[]
[]
[null,"Nombre del índicador",null,"Eficiencia de recaudo (ERi) Aseo",null,null,null,null,"Código: ","US006"]
[null,"Estilo de cálculo",null,"Último dato"]
[null,"Fórmula de cálculo",null,"Valor Recaudado /Valor Facturado"]
[null,"Número de variables",null,2]
[null,"Variables"]
[null,"Tendencia del indicador",null,"Creciente"]
[null,"Frecuencia de Cálculo y Análisis",null,"Mensual"]
[null,"Meta",null,{"$f":"Indicadores!S93","v":0.9}]
[null,"Elaboró","Sugerencia de planeación",null,null,null,"Fecha",2020]
[]
[null,"Año Actual 2020"]
[null,"Mes","Valor \nRecaudado","Valor Facturado","Indicador","Acumulado","Cumplimiento"]
[null,"Enero",904387112,1063269004,{"$f":"C21/D21","v":0.85057225273915726},{"$f":"E21","v":0.85057225273915726},{"$f":"F21/D16","v":0.94508028082128581}]
[null,"Febrero",1881328600,2192385071,{"$f":"C22/D22","v":0.85811959992132236},0.85811959992132236,{"$f":"F22/D16","v":0.95346622213480259}]
[null,"Marzo",2832339721,3321066590,0.85284038854517519,0.85284038854517519,{"$f":"F23/D16","v":0.94760043171686126}]
[null,"Abril",3849118772,4410425347,0.87273187258870522,0.87273187258870522,{"$f":"F24/D16","v":0.96970208065411689}]
[null,"Mayo",4668579654,5338991056,0.87443106853558283,0.87443106853558283,{"$f":"F25/D16","v":0.97159007615064752}]
[null,"Junio",5491123087,6275152441,0.87505811828930513,0.87505811828930513,{"$f":"F26/D16","v":0.97228679809922791}]
[null,"Julio",6473926775,7333217737,0.88282211263625543,0.88282211263625543,{"$f":"F27/D16","v":0.98091345848472822}]
[null,"Agosto",7482870560,8378300600,0.89312509985616895,0.89312509985616895,{"$f":"F28/D16","v":0.99236122206240995}]
[null,"Septiembre",8500594422,9441431449,0.90035017125505368,0.90035017125505368,{"$f":"F29/D16","v":1.0003890791722818}]
[null,"Octubre",9538697691,10503324270,0.90815987832012346,0.90815987832012346,{"$f":"F30/D16","v":1.0090665314668039}]
[null,"Noviembre",10590105042,11583658688,0.91422799369690821,0.91422799369690821,{"$f":"F31/D16","v":1.0158088818854536}]
[null,"Diciembre",11674848875,12678020862,0.92087313959177808,0.92087313959177808,{"$f":"F32/D16","v":1.0231923773241978}]

{"sheet":"US007_Analisis","index":226,"n_rows":24,"n_cols":10,"rows_kept":24,"cut":false,"hidden":false,"merged":[[14,1,14,2],[14,3,14,9],[15,1,15,2],[15,3,15,9],[16,2,16,5],[16,7,16,9],[11,1,11,2],[11,3,11,9],[12,1,12,2],[12,3,12,9],[13,1,13,2],[13,3,13,9],[10,1,10,2],[10,3,10,9],[1,1,6,2],[1,3,3,7],[1,8,3,8],[1,9,3,9],[4,3,6,7],[4,8,6,9],[7,1,7,9],[8,1,8,2],[8,3,8,7],[9,1,9,2],[9,3,9,8]]}
[]
[null,null,null,"SERVICIUDAD ESP",null,null,null,null,"Código SPFO-21","Versión 01"]
[]
[]
[null,null,null,"FICHA DE ANÁLISIS DEL INDICADOR",null,null,null,null,"PAGINA 01"]
[]
[]
[]
[null,"Nombre del índicador",null,"Rotación de cartera acueducto",null,null,null,null,"Código: ","US007"]
[null,"Estilo de cálculo",null,"Suma de componentes"]
[null,"Fórmula de cálculo",null,"CxC/ Vr facturado*365"]
[null,"Número de variables",null,2]
[null,"Variables",null,"Cuentas por Cobrar: Saldo en pesos corrientes al finalizar el período de análisis, de los pagos pendientes por concepto de la facturación en los últimos doce meses  del servicio a los usuarios del sector oficial o particular, según el caso. Incluye cargos fijos, consumos, cargos de conexión, reconexión, multas e intereses de mora.\nValor Facturado: Valor en pesos corrientes de las facturas expedidas  para la totalidad de los usuarios en los últimos doce meses. Incluye cargos fijos, consumos, conexión, reconexión, intereses, multas.  "]
[null,"Tendencia del indicador",null,"Decreciente"]
[null,"Frecuencia de Cálculo y Análisis",null,"Trimestral"]
[null,"Meta",null,{"$f":"Indicadores!S94","v":55}]
[null,"Elaboró","Sugerencia de planeación",null,null,null,"Fecha",2020]
[]
[null,"Año Actual"]
[null,"Trimestre","Variable 1","Variable 2","Indicador","Acumulado","Cumplimiento"]
[null,"Trimestre1",2467869841.4700003,3983282879.0900002,{"$f":"365*C21/D21","v":226.13821801737961},{"$f":"365*SUM(C21:C110)/SUM(D21:D110)","v":226.13821801737961},{"$f":"IF(F21>0,D16/F21,1)","v":0.24321408597892566}]
[null,"Trimestre2",null,null,{"$f":"365*C22/D22","v":{"$error":"#DIV/0!"}},{"$f":"365*SUM(C21:C110)/SUM(D21:D110)","v":226.13821801737961},{"$f":"IF(F22>0,D16/F22,1)","v":0.24321408597892566}]
[null,"Trimestre3",null,null,{"$f":"365*C23/D23","v":{"$error":"#DIV/0!"}},{"$f":"365*SUM(C21:C110)/SUM(D21:D110)","v":226.13821801737961},{"$f":"IF(F23>0,D16/F23,1)","v":0.24321408597892566}]
[null,"Trimestre4",null,null,{"$f":"365*C24/D24","v":{"$error":"#DIV/0!"}},{"$f":"365*SUM(C21:C110)/SUM(D21:D110)","v":226.13821801737961},{"$f":"IF(F24>0,D16/F24,1)","v":0.24321408597892566}]

{"sheet":"US008_Analisis","index":227,"n_rows":24,"n_cols":10,"rows_kept":24,"cut":false,"hidden":false,"merged":[[14,1,14,2],[14,3,14,9],[15,1,15,2],[15,3,15,9],[16,2,16,5],[16,7,16,9],[11,1,11,2],[11,3,11,9],[12,1,12,2],[12,3,12,9],[13,1,13,2],[13,3,13,9],[10,1,10,2],[10,3,10,9],[1,1,6,2],[1,3,3,7],[1,8,3,8],[1,9,3,9],[4,3,6,7],[4,8,6,9],[7,1,7,9],[8,1,8,2],[8,3,8,7],[9,1,9,2],[9,3,9,8]]}
[]
[null,null,null,"SERVICIUDAD ESP",null,null,null,null,"Código SPFO-21","Versión 01"]
[]
[]
[null,null,null,"FICHA DE ANÁLISIS DEL INDICADOR",null,null,null,null,"PAGINA 01"]
[]
[]
[]
[null,"Nombre del índicador",null,"Rotación de cartera alcantarillado",null,null,null,null,"Código: ","US008"]
[null,"Estilo de cálculo",null,"Suma de componentes"]
[null,"Fórmula de cálculo",null,"CxC/ Vr facturado*365"]
[null,"Número de variables",null,2]
[null,"Variables",null,"Cuentas por Cobrar: Saldo en pesos corrientes al finalizar el período de análisis, de los pagos pendientes por concepto de la facturación en los últimos doce meses  del servicio a los usuarios del sector oficial o particular, según el caso. Incluye cargos fijos, consumos, cargos de conexión, reconexión, multas e intereses de mora.\nValor Facturado: Valor en pesos corrientes de las facturas expedidas  para la totalidad de los usuarios en los últimos doce meses. Incluye cargos fijos, consumos, conexión, reconexión, intereses, multas.  "]
[null,"Tendencia del indicador",null,"Decreciente"]
[null,"Frecuencia de Cálculo y Análisis",null,"Trimestral"]
[null,"Meta",null,{"$f":"Indicadores!S95","v":55}]
[null,"Elaboró","Sugerencia de planeación",null,null,null,"Fecha",2020]
[]
[null,"Año Actual"]
[null,"Trimestre","Variable 1","Variable 2","Indicador","Acumulado","Cumplimiento"]
[null,"Trimestre1",null,null,{"$f":"365*C21/D21","v":{"$error":"#DIV/0!"}},{"$f":"365*SUM(C21:C111)/SUM(D21:D111)","v":{"$error":"#DIV/0!"}},{"$f":"IF(F21>0,D16/F21,1)","v":{"$error":"#DIV/0!"}}]
[null,"Trimestre2",null,null,{"$f":"365*C22/D22","v":{"$error":"#DIV/0!"}},{"$f":"365*SUM(C21:C111)/SUM(D21:D111)","v":{"$error":"#DIV/0!"}},{"$f":"IF(F22>0,D16/F22,1)","v":{"$error":"#DIV/0!"}}]
[null,"Trimestre3",null,null,{"$f":"365*C23/D23","v":{"$error":"#DIV/0!"}},{"$f":"365*SUM(C21:C111)/SUM(D21:D111)","v":{"$error":"#DIV/0!"}},{"$f":"IF(F23>0,D16/F23,1)","v":{"$error":"#DIV/0!"}}]
[null,"Trimestre4",null,null,{"$f":"365*C24/D24","v":{"$error":"#DIV/0!"}},{"$f":"365*SUM(C21:C111)/SUM(D21:D111)","v":{"$error":"#DIV/0!"}},{"$f":"IF(F24>0,D16/F24,1)","v":{"$error":"#DIV/0!"}}]

{"sheet":"US009_Analisis","index":228,"n_rows":24,"n_cols":10,"rows_kept":24,"cut":false,"hidden":false,"merged":[[14,1,14,2],[14,3,14,9],[15,1,15,2],[15,3,15,9],[16,2,16,5],[16,7,16,9],[11,1,11,2],[11,3,11,9],[12,1,12,2],[12,3,12,9],[13,1,13,2],[13,3,13,9],[10,1,10,2],[10,3,10,9],[1,1,6,2],[1,3,3,7],[1,8,3,8],[1,9,3,9],[4,3,6,7],[4,8,6,9],[7,1,7,9],[8,1,8,2],[8,3,8,7],[9,1,9,2],[9,3,9,8]]}
[]
[null,null,null,"SERVICIUDAD ESP",null,null,null,null,"Código SPFO-21","Versión 01"]
[]
[]
[null,null,null,"FICHA DE ANÁLISIS DEL INDICADOR",null,null,null,null,"PAGINA 01"]
[]
[]
[]
[null,"Nombre del índicador",null,"Rotación de cartera aseo",null,null,null,null,"Código: ","US009"]
[null,"Estilo de cálculo",null,"Suma de componentes"]
[null,"Fórmula de cálculo",null,"CxC/ Vr facturado*365"]
[null,"Número de variables",null,2]
[null,"Variables",null,"Cuentas por Cobrar: Saldo en pesos corrientes al finalizar el período de análisis, de los pagos pendientes por concepto de la facturación en los últimos doce meses  del servicio a los usuarios del sector oficial o particular, según el caso. Incluye cargos fijos, consumos, cargos de conexión, reconexión, multas e intereses de mora.\nValor Facturado: Valor en pesos corrientes de las facturas expedidas  para la totalidad de los usuarios en los últimos doce meses. Incluye cargos fijos, consumos, conexión, reconexión, intereses, multas.  "]
[null,"Tendencia del indicador",null,"Decreciente"]
[null,"Frecuencia de Cálculo y Análisis",null,"Trimestral"]
[null,"Meta",null,{"$f":"Indicadores!S96","v":55}]
[null,"Elaboró","Sugerencia de planeación",null,null,null,"Fecha",2020]
[]
[null,"Año Actual"]
[null,"Trimestre","Variable 1","Variable 2","Indicador","Acumulado","Cumplimiento"]
[null,"Trimestre1",null,null,{"$f":"365*C21/D21","v":{"$error":"#DIV/0!"}},{"$f":"365*SUM(C21:C112)/SUM(D21:D112)","v":{"$error":"#DIV/0!"}},{"$f":"IF(F21>0,D16/F21,1)","v":{"$error":"#DIV/0!"}}]
[null,"Trimestre2",null,null,{"$f":"365*C22/D22","v":{"$error":"#DIV/0!"}},{"$f":"365*SUM(C21:C112)/SUM(D21:D112)","v":{"$error":"#DIV/0!"}},{"$f":"IF(F22>0,D16/F22,1)","v":{"$error":"#DIV/0!"}}]
[null,"Trimestre3",null,null,{"$f":"365*C23/D23","v":{"$error":"#DIV/0!"}},{"$f":"365*SUM(C21:C112)/SUM(D21:D112)","v":{"$error":"#DIV/0!"}},{"$f":"IF(F23>0,D16/F23,1)","v":{"$error":"#DIV/0!"}}]
[null,"Trimestre4",null,null,{"$f":"365*C24/D24","v":{"$error":"#DIV/0!"}},{"$f":"365*SUM(C21:C112)/SUM(D21:D112)","v":{"$error":"#DIV/0!"}},{"$f":"IF(F24>0,D16/F24,1)","v":{"$error":"#DIV/0!"}}]

{"sheet":"US010_Analisis","index":229,"n_rows":32,"n_cols":10,"rows_kept":32,"cut":false,"hidden":false,"merged":[[15,1,15,2],[15,3,15,9],[16,2,16,5],[16,7,16,9],[12,1,12,2],[12,3,12,9],[13,1,13,2],[13,3,13,9],[14,1,14,2],[14,3,14,9],[18,1,18,6],[10,1,10,2],[10,3,10,9],[1,1,6,2],[1,3,3,7],[1,8,3,8],[1,9,3,9],[4,3,6,7],[4,8,6,9],[7,1,7,9],[8,1,8,2],[8,3,8,7],[9,1,9,2],[9,3,9,8],[11,1,11,2],[11,3,11,9]]}
[]
[null,null,null,"SERVICIUDAD ESP",null,null,null,null,"Código SPFO-21","Versión 01"]
[]
[]
[null,null,null,"FICHA DE ANÁLISIS DEL INDICADOR",null,null,null,null,"PAGINA 01"]
[]
[]
[]
[null,"Nombre del índicador",null,"índice de micromedición nominal (IMN) cobertura medición",null,null,null,null,"Código: ","US010"]
[null,"Estilo de cálculo",null,"Último dato"]
[null,"Fórmula de cálculo",null,"No. Medidor inst./No. Suscrip. Acued."]
[null,"Número de variables",null,2]
[null,"Variables",null,"Número de medidores: Número de medidores instalados en operación a una fecha determinada.\nNúmero de suscriptores: Número de Personas naturales o jurídicas con las cuales se ha celebrado un contrato de condiciones uniformes de servicios públicos.\n"]
[null,"Tendencia del indicador",null,"Creciente"]
[null,"Frecuencia de Cálculo y Análisis",null,"Mensual"]
[null,"Meta",null,{"$f":"Indicadores!S97","v":0.99}]
[null,"Elaboró","Sugerencia de planeación",null,null,null,"Fecha",2020]
[]
[null,"Año Actual 2020"]
[null,"Mes","No de Medidores \nInstalados","No de Suscriptres \nDe acueducto","Indicador","Acumulado","Cumplimiento"]
[null,"Enero",55250,56015,{"$f":"C21/D21","v":0.98634294385432475},{"$f":"E21","v":0.98634294385432475},{"$f":"F21/D16","v":0.9963060038932573}]
[null,"Febrero",55303,56050,{"$f":"C22/D22","v":0.98667261373773418},0.98667261373773418,{"$f":"F22/D16","v":0.99663900377548909}]
[null,"Marzo",55353,56172,0.98541978209784231,0.98541978209784231,{"$f":"F23/D16","v":0.99537351727054779}]
[null,"Abril",55442,56188,0.98672314373175762,0.98672314373175762,{"$f":"F24/D16","v":0.99669004417349261}]
[null,"Mayo",54987,56205,0.97832933013077128,0.97832933013077128,{"$f":"F25/D16","v":0.98821144457653665}]
[null,"Junio",54766,56267,0.97332361775107967,0.97332361775107967,{"$f":"F26/D16","v":0.98315516944553505}]
[null,"Julio",54921,56508,0.97191548099384162,0.97191548099384162,{"$f":"F27/D16","v":0.98173280908468852}]
[null,"Agosto",55009,56539,0.97293903323369713,0.97293903323369713,{"$f":"F28/D16","v":0.98276670023605772}]
[null,"Septiembre",55350,56709,0.97603554991271224,0.97603554991271224,{"$f":"F29/D16","v":0.98589449486132552}]
[null,"Octubre",56199,57428,0.97859928954516961,0.97859928954516961,{"$f":"F30/D16","v":0.98848413085370668}]
[null,"Noviembre",57061,58161,0.98108698268599237,0.98108698268599237,{"$f":"F31/D16","v":0.99099695220807316}]
[null,"Diciembre",57575,58480,0.98452462380300954,0.98452462380300954,{"$f":"F32/D16","v":0.99446931697273688}]

{"sheet":"US011_Analisis","index":230,"n_rows":32,"n_cols":10,"rows_kept":32,"cut":false,"hidden":false,"merged":[[15,1,15,2],[15,3,15,9],[16,2,16,5],[16,7,16,9],[12,1,12,2],[12,3,12,9],[13,1,13,2],[13,3,13,9],[14,1,14,2],[14,3,14,9],[18,1,18,6],[10,1,10,2],[10,3,10,9],[1,1,6,2],[1,3,3,7],[1,8,3,8],[1,9,3,9],[4,3,6,7],[4,8,6,9],[7,1,7,9],[8,1,8,2],[8,3,8,7],[9,1,9,2],[9,3,9,8],[11,1,11,2],[11,3,11,9]]}
[]
[null,null,null,"SERVICIUDAD ESP",null,null,null,null,"Código SPFO-21","Versión 01"]
[]
[]
[null,null,null,"FICHA DE ANÁLISIS DEL INDICADOR",null,null,null,null,"PAGINA 01"]
[]
[]
[]
[null,"Nombre del índicador",null,"IMR (Estado) micro",null,null,null,null,"Código: ","US011"]
[null,"Estilo de cálculo",null,"Último dato"]
[null,"Fórmula de cálculo",null,"No. Medido. Estado ok./No. Medido. Instal."]
[null,"Número de variables",null,2]
[null,"Variables"]
[null,"Tendencia del indicador",null,"Creciente"]
[null,"Frecuencia de Cálculo y Análisis",null,"Mensual"]
[null,"Meta",null,{"$f":"Indicadores!S98","v":0.98}]
[null,"Elaboró","Sugerencia de planeación",null,null,null,"Fecha",2020]
[]
[null,"Año Actual 2020"]
[null,"Mes","No De Medidores \nen Buen Estado","No de Medidores\n Instalados","Indicador","Acumulado","Cumplimiento"]
[null,"Enero",56015,56716,{"$f":"C21/D21","v":0.9876401720854785},{"$f":"E21","v":0.9876401720854785},{"$f":"F21/D16","v":1.0077960939647741}]
[null,"Febrero",56080,56766,{"$f":"C22/D22","v":0.98791530141281758},0.98791530141281758,{"$f":"F22/D16","v":1.0080768381763445}]
[null,"Marzo",56712,56863,0.9973444946626101,0.9973444946626101,{"$f":"F23/D16","v":1.0176984639414388}]
[null,"Abril",56188,56885,0.98774720928188453,0.98774720928188453,{"$f":"F24/D16","v":1.0079053155937598}]
[null,"Mayo",56205,56902,0.98775086991669891,0.98775086991669891,{"$f":"F25/D16","v":1.0079090509354072}]
[null,"Junio",56902,56939,0.9993501817734769,0.9993501817734769,{"$f":"F26/D16","v":1.0197450834423234}]
[null,"Julio",56508,57178,0.98828220644303755,0.98828220644303755,{"$f":"F27/D16","v":1.0084512310643241}]
[null,"Agosto",56539,57336,0.98609948374494205,0.98609948374494205,{"$f":"F28/D16","v":1.0062239630050429}]
[null,"Septiembre",56709,57568,0.98507851584213457,0.98507851584213457,{"$f":"F29/D16","v":1.0051821590225862}]
[null,"Octubre",57428,58320,0.9847050754458162,0.9847050754458162,{"$f":"F30/D16","v":1.0048010973936901}]
[null,"Noviembre",58181,59035,0.98553400525112222,0.98553400525112222,{"$f":"F31/D16","v":1.0056469441337983}]
[null,"Diciembre",58480,59373,0.98495949337240829,0.98495949337240829,{"$f":"F32/D16","v":1.0050607075228657}]

{"sheet":"US012_Analisis","index":231,"n_rows":32,"n_cols":10,"rows_kept":32,"cut":false,"hidden":false,"merged":[[14,1,14,2],[14,3,14,9],[15,1,15,2],[15,3,15,9],[16,2,16,5],[16,7,16,9],[11,1,11,2],[11,3,11,9],[12,1,12,2],[12,3,12,9],[13,1,13,2],[13,3,13,9],[10,1,10,2],[10,3,10,9],[1,1,6,2],[1,3,3,7],[1,8,3,8],[1,9,3,9],[4,3,6,7],[4,8,6,9],[7,1,7,9],[8,1,8,2],[8,3,8,7],[9,1,9,2],[9,3,9,8]]}
[]
[null,null,null,"SERVICIUDAD ESP",null,null,null,null,"Código SPFO-21","Versión 01"]
[]
[]
[null,null,null,"FICHA DE ANÁLISIS DEL INDICADOR",null,null,null,null,"PAGINA 01"]
[]
[]
[]
[null,"Nombre del índicador",null,"Indice de Micromedición Efectiva.- IMI",null,null,null,null,"Código: ","US012"]
[null,"Estilo de cálculo",null,"Promedio"]
[null,"Fórmula de cálculo",null,"(MFLg/ NSg) x 100  "]
[null,"Número de variables",null,2]
[null,"Variables",null,"MFLg: Número de micromedidores en buen estado y funcionando con lectura en el período de facturación g. Entiéndase por \"funcionando con lectura aquellos medidores cuyo valor medido se emplea para la facturación.\nNSg: Número total de suscriptores donde sea técnicamente viable la medición en el período de facturación g. El término \"donde sea técnicamente viable la medición\" se incluye de conformidad con el artículo 2 de la Resolución CRA 319 de 2005 o aquella que modifique, adicione, sustituya o aclare, referente a las existencia de usuarios a los cuales técnicamente no es viable la medición individual. En este sentido, un multiusuario, en el marco del artículo ibídem, será considerados como un (1) suscriptor para el caculo de la variable."]
[null,"Tendencia del indicador",null,"Creciente"]
[null,"Frecuencia de Cálculo y Análisis",null,"Mensual"]
[null,"Meta",null,{"$f":"Indicadores!S99","v":96.547858723603824}]
[null,"Elaboró","Sugerencia de planeación",null,null,null,"Fecha",2020]
[]
[null,"Año Actual"]
[null,"Mes","Variable 1","Variable 2","Indicador","Acumulado","Cumplimiento"]
[null,"Enero",null,null,{"$f":"(C21/D21)*100","v":{"$error":"#DIV/0!"}},{"$f":"AVERAGE(E21:E21)","v":{"$error":"#DIV/0!"}},{"$f":"F21/D16","v":{"$error":"#DIV/0!"}}]
[null,"Febrero",null,null,{"$f":"(C22/D22)*100","v":{"$error":"#DIV/0!"}},{"$f":"AVERAGE(E21:E22)","v":{"$error":"#DIV/0!"}},{"$f":"F22/D16","v":{"$error":"#DIV/0!"}}]
[null,"Marzo",null,null,{"$error":"#DIV/0!"},{"$f":"AVERAGE(E21:E23)","v":{"$error":"#DIV/0!"}},{"$f":"F23/D16","v":{"$error":"#DIV/0!"}}]
[null,"Abril",null,null,{"$error":"#DIV/0!"},{"$f":"AVERAGE(E21:E24)","v":{"$error":"#DIV/0!"}},{"$f":"F24/D16","v":{"$error":"#DIV/0!"}}]
[null,"Mayo",null,null,{"$error":"#DIV/0!"},{"$f":"AVERAGE(E21:E25)","v":{"$error":"#DIV/0!"}},{"$f":"F25/D16","v":{"$error":"#DIV/0!"}}]
[null,"Junio",null,null,{"$error":"#DIV/0!"},{"$f":"AVERAGE(E21:E26)","v":{"$error":"#DIV/0!"}},{"$f":"F26/D16","v":{"$error":"#DIV/0!"}}]
[null,"Julio",null,null,{"$error":"#DIV/0!"},{"$f":"AVERAGE(E21:E27)","v":{"$error":"#DIV/0!"}},{"$f":"F27/D16","v":{"$error":"#DIV/0!"}}]
[null,"Agosto",null,null,{"$error":"#DIV/0!"},{"$f":"AVERAGE(E21:E28)","v":{"$error":"#DIV/0!"}},{"$f":"F28/D16","v":{"$error":"#DIV/0!"}}]
[null,"Septiembre",null,null,{"$error":"#DIV/0!"},{"$f":"AVERAGE(E21:E29)","v":{"$error":"#DIV/0!"}},{"$f":"F29/D16","v":{"$error":"#DIV/0!"}}]
[null,"Octubre",null,null,{"$error":"#DIV/0!"},{"$f":"AVERAGE(E21:E30)","v":{"$error":"#DIV/0!"}},{"$f":"F30/D16","v":{"$error":"#DIV/0!"}}]
[null,"Noviembre",null,null,{"$error":"#DIV/0!"},{"$f":"AVERAGE(E21:E31)","v":{"$error":"#DIV/0!"}},{"$f":"F31/D16","v":{"$error":"#DIV/0!"}}]
[null,"Diciembre",null,null,{"$error":"#DIV/0!"},{"$f":"AVERAGE(E21:E32)","v":{"$error":"#DIV/0!"}},{"$f":"F32/D16","v":{"$error":"#DIV/0!"}}]

{"sheet":"US013_Analisis","index":232,"n_rows":32,"n_cols":10,"rows_kept":32,"cut":false,"hidden":false,"merged":[[14,1,14,2],[14,3,14,9],[15,1,15,2],[15,3,15,9],[16,2,16,5],[16,7,16,9],[11,1,11,2],[11,3,11,9],[12,1,12,2],[12,3,12,9],[13,1,13,2],[13,3,13,9],[10,1,10,2],[10,3,10,9],[1,1,6,2],[1,3,3,7],[1,8,3,8],[1,9,3,9],[4,3,6,7],[4,8,6,9],[7,1,7,9],[8,1,8,2],[8,3,8,7],[9,1,9,2],[9,3,9,8]]}
[]
[null,null,null,"SERVICIUDAD ESP",null,null,null,null,"Código SPFO-21","Versión 01"]
[]
[]
[null,null,null,"FICHA DE ANÁLISIS DEL INDICADOR",null,null,null,null,"PAGINA 01"]
[]
[]
[]
[null,"Nombre del índicador",null,"Catastro de Medidores - CM",null,null,null,null,"Código: ","US013"]
[null,"Estilo de cálculo",null,"Promedio"]
[null,"Fórmula de cálculo",null,"(si se tiene = 1; no tiene o no reporta = 0)"]
[null,"Número de variables",null,1]
[null,"Variables",null,"CM: Catastro de Medidores."]
[null,"Tendencia del indicador",null,"Creciente"]
[null,"Frecuencia de Cálculo y Análisis",null,"Mensual"]
[null,"Meta",null,{"$f":"Indicadores!S100","v":1}]
[null,"Elaboró","Sugerencia de planeación",null,null,null,"Fecha",2020]
[]
[null,"Año Actual"]
[null,"Mes","Variable 1","Indicador","Acumulado","Cumplimiento"]
[null,"Enero",null,{"$f":"C21","v":0},{"$f":"AVERAGE(D21:D21)","v":0},{"$f":"E21/D16","v":0}]
[null,"Febrero",null,{"$f":"C22","v":0},{"$f":"AVERAGE(D21:D22)","v":0},{"$f":"E22/D16","v":0}]
[null,"Marzo",null,0,{"$f":"AVERAGE(D21:D23)","v":0},{"$f":"E23/D16","v":0}]
[null,"Abril",null,0,{"$f":"AVERAGE(D21:D24)","v":0},{"$f":"E24/D16","v":0}]
[null,"Mayo",null,0,{"$f":"AVERAGE(D21:D25)","v":0},{"$f":"E25/D16","v":0}]
[null,"Junio",null,0,{"$f":"AVERAGE(D21:D26)","v":0},{"$f":"E26/D16","v":0}]
[null,"Julio",null,0,{"$f":"AVERAGE(D21:D27)","v":0},{"$f":"E27/D16","v":0}]
[null,"Agosto",null,0,{"$f":"AVERAGE(D21:D28)","v":0},{"$f":"E28/D16","v":0}]
[null,"Septiembre",null,0,{"$f":"AVERAGE(D21:D29)","v":0},{"$f":"E29/D16","v":0}]
[null,"Octubre",null,0,{"$f":"AVERAGE(D21:D30)","v":0},{"$f":"E30/D16","v":0}]
[null,"Noviembre",null,0,{"$f":"AVERAGE(D21:D31)","v":0},{"$f":"E31/D16","v":0}]
[null,"Diciembre",null,0,{"$f":"AVERAGE(D21:D32)","v":0},{"$f":"E32/D16","v":0}]

{"sheet":"US014_Analisis","index":233,"n_rows":32,"n_cols":10,"rows_kept":32,"cut":false,"hidden":false,"merged":[[14,1,14,2],[14,3,14,9],[15,1,15,2],[15,3,15,9],[16,2,16,5],[16,7,16,9],[11,1,11,2],[11,3,11,9],[12,1,12,2],[12,3,12,9],[13,1,13,2],[13,3,13,9],[10,1,10,2],[10,3,10,9],[1,1,6,2],[1,3,3,7],[1,8,3,8],[1,9,3,9],[4,3,6,7],[4,8,6,9],[7,1,7,9],[8,1,8,2],[8,3,8,7],[9,1,9,2],[9,3,9,8]]}
[]
[null,null,null,"SERVICIUDAD ESP",null,null,null,null,"Código SPFO-21","Versión 01"]
[]
[]
[null,null,null,"FICHA DE ANÁLISIS DEL INDICADOR",null,null,null,null,"PAGINA 01"]
[]
[]
[]
[null,"Nombre del índicador",null,"Indice de Macromedición Efectiva — IMA",null,null,null,null,"Código: ","US014"]
[null,"Estilo de cálculo",null,"Promedio"]
[null,"Fórmula de cálculo",null,"Nti/NTTi*100"]
[null,"Número de variables",null,2]
[null,"Variables",null,"NTi: Número de tuberías de salida de la PTAP y de los tanques de almacenamiento con\nmacromedición en funcionamiento.\nNTTi: Número total de tuberías de salida de la PTAP y de tanques de almacenamiento. "]
[null,"Tendencia del indicador",null,"Creciente"]
[null,"Frecuencia de Cálculo y Análisis",null,"Mensual"]
[null,"Meta",null,{"$f":"Indicadores!S101","v":63.64}]
[null,"Elaboró","Sugerencia de planeación",null,null,null,"Fecha",2020]
[]
[null,"Año Actual"]
[null,"Mes","Variable 1","Variable 2","Indicador","Acumulado","Cumplimiento"]
[null,"Enero",null,null,{"$f":"(C21/D21)*100","v":{"$error":"#DIV/0!"}},{"$f":"AVERAGE(E21:E21)","v":{"$error":"#DIV/0!"}},{"$f":"F21/D16","v":{"$error":"#DIV/0!"}}]
[null,"Febrero",null,null,{"$f":"(C22/D22)*100","v":{"$error":"#DIV/0!"}},{"$f":"AVERAGE(E21:E22)","v":{"$error":"#DIV/0!"}},{"$f":"F22/D16","v":{"$error":"#DIV/0!"}}]
[null,"Marzo",null,null,{"$error":"#DIV/0!"},{"$f":"AVERAGE(E21:E23)","v":{"$error":"#DIV/0!"}},{"$f":"F23/D16","v":{"$error":"#DIV/0!"}}]
[null,"Abril",null,null,{"$error":"#DIV/0!"},{"$f":"AVERAGE(E21:E24)","v":{"$error":"#DIV/0!"}},{"$f":"F24/D16","v":{"$error":"#DIV/0!"}}]
[null,"Mayo",null,null,{"$error":"#DIV/0!"},{"$f":"AVERAGE(E21:E25)","v":{"$error":"#DIV/0!"}},{"$f":"F25/D16","v":{"$error":"#DIV/0!"}}]
[null,"Junio",null,null,{"$error":"#DIV/0!"},{"$f":"AVERAGE(E21:E26)","v":{"$error":"#DIV/0!"}},{"$f":"F26/D16","v":{"$error":"#DIV/0!"}}]
[null,"Julio",null,null,{"$error":"#DIV/0!"},{"$f":"AVERAGE(E21:E27)","v":{"$error":"#DIV/0!"}},{"$f":"F27/D16","v":{"$error":"#DIV/0!"}}]
[null,"Agosto",null,null,{"$error":"#DIV/0!"},{"$f":"AVERAGE(E21:E28)","v":{"$error":"#DIV/0!"}},{"$f":"F28/D16","v":{"$error":"#DIV/0!"}}]
[null,"Septiembre",null,null,{"$error":"#DIV/0!"},{"$f":"AVERAGE(E21:E29)","v":{"$error":"#DIV/0!"}},{"$f":"F29/D16","v":{"$error":"#DIV/0!"}}]
[null,"Octubre",null,null,{"$error":"#DIV/0!"},{"$f":"AVERAGE(E21:E30)","v":{"$error":"#DIV/0!"}},{"$f":"F30/D16","v":{"$error":"#DIV/0!"}}]
[null,"Noviembre",null,null,{"$error":"#DIV/0!"},{"$f":"AVERAGE(E21:E31)","v":{"$error":"#DIV/0!"}},{"$f":"F31/D16","v":{"$error":"#DIV/0!"}}]
[null,"Diciembre",null,null,{"$error":"#DIV/0!"},{"$f":"AVERAGE(E21:E32)","v":{"$error":"#DIV/0!"}},{"$f":"F32/D16","v":{"$error":"#DIV/0!"}}]

{"sheet":"US015_Analisis","index":234,"n_rows":24,"n_cols":10,"rows_kept":24,"cut":false,"hidden":false,"merged":[[14,1,14,2],[14,3,14,9],[15,1,15,2],[15,3,15,9],[16,2,16,5],[16,7,16,9],[11,1,11,2],[11,3,11,9],[12,1,12,2],[12,3,12,9],[13,1,13,2],[13,3,13,9],[10,1,10,2],[10,3,10,9],[1,1,6,2],[1,3,3,7],[1,8,3,8],[1,9,3,9],[4,3,6,7],[4,8,6,9],[7,1,7,9],[8,1,8,2],[8,3,8,7],[9,1,9,2],[9,3,9,8]]}
[]
[null,null,null,"SERVICIUDAD ESP",null,null,null,null,"Código SPFO-21","Versión 01"]
[]
[]
[null,null,null,"FICHA DE ANÁLISIS DEL INDICADOR",null,null,null,null,"PAGINA 01"]
[]
[]
[]
[null,"Nombre del índicador",null,"Aplicación de Costos de Referencia Aprobados de Acueducto -  ACU",null,null,null,null,"Código: ","US015"]
[null,"Estilo de cálculo",null,"Promedio"]
[null,"Fórmula de cálculo",null," (ACUcf x 0,5) + (ACUCC x 0,5)"]
[null,"Número de variables",null,2]
[null,"Variables",null,"ACU: Aplicación de Costos de Referencia Aprobados de Acueducto, redondeado a dos (2) cifras decimales.\nACUcf: Aplicación del costo de referencia aprobado para el servicio público domiciliario de acueducto para el componente de cargo fijo, en valor absoluto, de acuerdo con la siguiente fórmula:"]
[null,"Tendencia del indicador",null,"Decreciente"]
[null,"Frecuencia de Cálculo y Análisis",null,"Trimestral"]
[null,"Meta",null,{"$f":"Indicadores!S102","v":0.04}]
[null,"Elaboró","Sugerencia de planeación",null,null,null,"Fecha",2020]
[]
[null,"Año Actual"]
[null,"Trimestre","Variable 1","Variable 2","Indicador","Acumulado","Cumplimiento"]
[null,"Trimestre1",null,null,{"$f":"(C21*0.5)+(D21*0.5)","v":0},{"$f":"AVERAGE(E21:E21)","v":0},{"$f":"IF(F21>0,D16/F21,1)","v":1}]
[null,"Trimestre2",null,null,{"$f":"(C22*0.5)+(D22*0.5)","v":0},{"$f":"AVERAGE(E21:E22)","v":0},{"$f":"IF(F22>0,D16/F22,1)","v":1}]
[null,"Trimestre3",null,null,{"$f":"(C23*0.5)+(D23*0.5)","v":0},{"$f":"AVERAGE(E21:E23)","v":0},{"$f":"IF(F23>0,D16/F23,1)","v":1}]
[null,"Trimestre4",null,null,{"$f":"(C24*0.5)+(D24*0.5)","v":0},{"$f":"AVERAGE(E21:E24)","v":0},{"$f":"IF(F24>0,D16/F24,1)","v":1}]

{"sheet":"US016_Analisis","index":235,"n_rows":32,"n_cols":10,"rows_kept":32,"cut":false,"hidden":false,"merged":[[14,1,14,2],[14,3,14,9],[15,1,15,2],[15,3,15,9],[16,2,16,5],[16,7,16,9],[11,1,11,2],[11,3,11,9],[12,1,12,2],[12,3,12,9],[13,1,13,2],[13,3,13,9],[10,1,10,2],[10,3,10,9],[1,1,6,2],[1,3,3,7],[1,8,3,8],[1,9,3,9],[4,3,6,7],[4,8,6,9],[7,1,7,9],[8,1,8,2],[8,3,8,7],[9,1,9,2],[9,3,9,8]]}
[]
[null,null,null,"SERVICIUDAD ESP",null,null,null,null,"Código SPFO-21","Versión 01"]
[]
[]
[null,null,null,"FICHA DE ANÁLISIS DEL INDICADOR",null,null,null,null,"PAGINA 01"]
[]
[]
[]
[null,"Nombre del índicador",null,"Cumplimiento Metas de Cobertura Acueducto -CMCOBAC",null,null,null,null,"Código: ","US016"]
[null,"Estilo de cálculo",null,"Promedio"]
[null,"Fórmula de cálculo",null,"(Realp / MetaP) x 100"]
[null,"Número de variables",null,2]
[null,"Variables",null,"Realp: Número de nuevos suscriptores del servicio público domiciliario de acueducto del prestador en el año tarifario p evaluado.\nMetap: Meta establecida por prestador para el estándar de cobertura en el año tarifario p evaluado, de acuerdo con lo definido en el TÍTULO IX de la Resolución CRA 688 de 2014, o aquella que la modifique, adicione, sustituye o aclare."]
[null,"Tendencia del indicador",null,"Creciente"]
[null,"Frecuencia de Cálculo y Análisis",null,"Mensual"]
[null,"Meta",null,{"$f":"Indicadores!S103","v":1}]
[null,"Elaboró","Sugerencia de planeación",null,null,null,"Fecha",2020]
[]
[null,"Año Actual"]
[null,"Mes","Variable 1","Variable 2","Indicador","Acumulado","Cumplimiento"]
[null,"Enero",null,null,{"$f":"(C21/D21)*100","v":{"$error":"#DIV/0!"}},{"$f":"AVERAGE(E21:E21)","v":{"$error":"#DIV/0!"}},{"$f":"F21/D16","v":{"$error":"#DIV/0!"}}]
[null,"Febrero",null,null,{"$f":"(C22/D22)*100","v":{"$error":"#DIV/0!"}},{"$f":"AVERAGE(E21:E22)","v":{"$error":"#DIV/0!"}},{"$f":"F22/D16","v":{"$error":"#DIV/0!"}}]
[null,"Marzo",null,null,{"$error":"#DIV/0!"},{"$f":"AVERAGE(E21:E23)","v":{"$error":"#DIV/0!"}},{"$f":"F23/D16","v":{"$error":"#DIV/0!"}}]
[null,"Abril",null,null,{"$error":"#DIV/0!"},{"$f":"AVERAGE(E21:E24)","v":{"$error":"#DIV/0!"}},{"$f":"F24/D16","v":{"$error":"#DIV/0!"}}]
[null,"Mayo",null,null,{"$error":"#DIV/0!"},{"$f":"AVERAGE(E21:E25)","v":{"$error":"#DIV/0!"}},{"$f":"F25/D16","v":{"$error":"#DIV/0!"}}]
[null,"Junio",null,null,{"$error":"#DIV/0!"},{"$f":"AVERAGE(E21:E26)","v":{"$error":"#DIV/0!"}},{"$f":"F26/D16","v":{"$error":"#DIV/0!"}}]
[null,"Julio",null,null,{"$error":"#DIV/0!"},{"$f":"AVERAGE(E21:E27)","v":{"$error":"#DIV/0!"}},{"$f":"F27/D16","v":{"$error":"#DIV/0!"}}]
[null,"Agosto",null,null,{"$error":"#DIV/0!"},{"$f":"AVERAGE(E21:E28)","v":{"$error":"#DIV/0!"}},{"$f":"F28/D16","v":{"$error":"#DIV/0!"}}]
[null,"Septiembre",null,null,{"$error":"#DIV/0!"},{"$f":"AVERAGE(E21:E29)","v":{"$error":"#DIV/0!"}},{"$f":"F29/D16","v":{"$error":"#DIV/0!"}}]
[null,"Octubre",null,null,{"$error":"#DIV/0!"},{"$f":"AVERAGE(E21:E30)","v":{"$error":"#DIV/0!"}},{"$f":"F30/D16","v":{"$error":"#DIV/0!"}}]
[null,"Noviembre",null,null,{"$error":"#DIV/0!"},{"$f":"AVERAGE(E21:E31)","v":{"$error":"#DIV/0!"}},{"$f":"F31/D16","v":{"$error":"#DIV/0!"}}]
[null,"Diciembre",null,null,{"$error":"#DIV/0!"},{"$f":"AVERAGE(E21:E32)","v":{"$error":"#DIV/0!"}},{"$f":"F32/D16","v":{"$error":"#DIV/0!"}}]

{"sheet":"US017_Analisis","index":236,"n_rows":32,"n_cols":10,"rows_kept":32,"cut":false,"hidden":false,"merged":[[14,1,14,2],[14,3,14,9],[15,1,15,2],[15,3,15,9],[16,2,16,5],[16,7,16,9],[11,1,11,2],[11,3,11,9],[12,1,12,2],[12,3,12,9],[13,1,13,2],[13,3,13,9],[10,1,10,2],[10,3,10,9],[1,1,6,2],[1,3,3,7],[1,8,3,8],[1,9,3,9],[4,3,6,7],[4,8,6,9],[7,1,7,9],[8,1,8,2],[8,3,8,7],[9,1,9,2],[9,3,9,8]]}
[]
[null,null,null,"SERVICIUDAD ESP",null,null,null,null,"Código SPFO-21","Versión 01"]
[]
[]
[null,null,null,"FICHA DE ANÁLISIS DEL INDICADOR",null,null,null,null,"PAGINA 01"]
[]
[]
[]
[null,"Nombre del índicador",null,"Cumplimiento Metas de Continuidad Acueducto - CMCON",null,null,null,null,"Código: ","US017"]
[null,"Estilo de cálculo",null,"Promedio"]
[null,"Fórmula de cálculo",null,"(Realp / Metap) x 100"]
[null,"Número de variables",null,2]
[null,"Variables",null,"Realp: Relación entre el número de días de prestación del servicio de acueducto con respecto a los días totales del año tarifario p evaluado.\nMetap: Meta establecida por el prestador para el estándar de continuidad en el año tarifario p evaluado. Para grandes prestadores, de acuerdo con lo definido en el TITULO IX de la Resolución CRA 688 de 2014, o aquella que la modifique, adicione, sustituya o aclare. Para pequeños prestadores y prestadores rurales, de acuerdo con lo definido en los artículos 12y 24 de la Resolución CRA 825 de 2017, o aquella que la modifique, adicione, sustituya o aclare."]
[null,"Tendencia del indicador",null,"Creciente"]
[null,"Frecuencia de Cálculo y Análisis",null,"Mensual"]
[null,"Meta",null,{"$f":"Indicadores!S104","v":1}]
[null,"Elaboró","Sugerencia de planeación",null,null,null,"Fecha",2020]
[]
[null,"Año Actual"]
[null,"Mes","Variable 1","Variable 2","Indicador","Acumulado","Cumplimiento"]
[null,"Enero",null,null,{"$f":"(C21/D21)*100","v":{"$error":"#DIV/0!"}},{"$f":"AVERAGE(E21:E21)","v":{"$error":"#DIV/0!"}},{"$f":"F21/D16","v":{"$error":"#DIV/0!"}}]
[null,"Febrero",null,null,{"$f":"(C22/D22)*100","v":{"$error":"#DIV/0!"}},{"$f":"AVERAGE(E21:E22)","v":{"$error":"#DIV/0!"}},{"$f":"F22/D16","v":{"$error":"#DIV/0!"}}]
[null,"Marzo",null,null,{"$error":"#DIV/0!"},{"$f":"AVERAGE(E21:E23)","v":{"$error":"#DIV/0!"}},{"$f":"F23/D16","v":{"$error":"#DIV/0!"}}]
[null,"Abril",null,null,{"$error":"#DIV/0!"},{"$f":"AVERAGE(E21:E24)","v":{"$error":"#DIV/0!"}},{"$f":"F24/D16","v":{"$error":"#DIV/0!"}}]
[null,"Mayo",null,null,{"$error":"#DIV/0!"},{"$f":"AVERAGE(E21:E25)","v":{"$error":"#DIV/0!"}},{"$f":"F25/D16","v":{"$error":"#DIV/0!"}}]
[null,"Junio",null,null,{"$error":"#DIV/0!"},{"$f":"AVERAGE(E21:E26)","v":{"$error":"#DIV/0!"}},{"$f":"F26/D16","v":{"$error":"#DIV/0!"}}]
[null,"Julio",null,null,{"$error":"#DIV/0!"},{"$f":"AVERAGE(E21:E27)","v":{"$error":"#DIV/0!"}},{"$f":"F27/D16","v":{"$error":"#DIV/0!"}}]
[null,"Agosto",null,null,{"$error":"#DIV/0!"},{"$f":"AVERAGE(E21:E28)","v":{"$error":"#DIV/0!"}},{"$f":"F28/D16","v":{"$error":"#DIV/0!"}}]
[null,"Septiembre",null,null,{"$error":"#DIV/0!"},{"$f":"AVERAGE(E21:E29)","v":{"$error":"#DIV/0!"}},{"$f":"F29/D16","v":{"$error":"#DIV/0!"}}]
[null,"Octubre",null,null,{"$error":"#DIV/0!"},{"$f":"AVERAGE(E21:E30)","v":{"$error":"#DIV/0!"}},{"$f":"F30/D16","v":{"$error":"#DIV/0!"}}]
[null,"Noviembre",null,null,{"$error":"#DIV/0!"},{"$f":"AVERAGE(E21:E31)","v":{"$error":"#DIV/0!"}},{"$f":"F31/D16","v":{"$error":"#DIV/0!"}}]
[null,"Diciembre",null,null,{"$error":"#DIV/0!"},{"$f":"AVERAGE(E21:E32)","v":{"$error":"#DIV/0!"}},{"$f":"F32/D16","v":{"$error":"#DIV/0!"}}]

{"sheet":"US018_Analisis","index":237,"n_rows":24,"n_cols":10,"rows_kept":24,"cut":false,"hidden":false,"merged":[[14,1,14,2],[14,3,14,9],[15,1,15,2],[15,3,15,9],[16,2,16,5],[16,7,16,9],[11,1,11,2],[11,3,11,9],[12,1,12,2],[12,3,12,9],[13,1,13,2],[13,3,13,9],[10,1,10,2],[10,3,10,9],[1,1,6,2],[1,3,3,7],[1,8,3,8],[1,9,3,9],[4,3,6,7],[4,8,6,9],[7,1,7,9],[8,1,8,2],[8,3,8,7],[9,1,9,2],[9,3,9,8]]}
[]
[null,null,null,"SERVICIUDAD ESP",null,null,null,null,"Código SPFO-21","Versión 01"]
[]
[]
[null,null,null,"FICHA DE ANÁLISIS DEL INDICADOR",null,null,null,null,"PAGINA 01"]
[]
[]
[]
[null,"Nombre del índicador",null,"Aplicación de Costos de Referencia Aprobados Alcantarillado - AL",null,null,null,null,"Código: ","US018"]
[null,"Estilo de cálculo",null,"Promedio"]
[null,"Fórmula de cálculo",null,"(ALcf  x 0,5) + (Alcc x 0,5)"]
[null,"Número de variables",null,2]
[null,"Variables",null,"CCALp: Valor cobrado por concepto de cargo por consumo para el servicio público domiciliario de alcantarillado en la tarifa del servicio del prestador.\nCCRALp: Último valor aprobado por la entidad tarifa local, por concepto de cargo por consumo para el servicio público domiciliario de alcantarillado en el estudio de costos, incluyendo actualizaciones por índices de precios."]
[null,"Tendencia del indicador",null,"Creciente"]
[null,"Frecuencia de Cálculo y Análisis",null,"Trimestral"]
[null,"Meta",null,{"$f":"Indicadores!S105","v":0.04}]
[null,"Elaboró","Sugerencia de planeación",null,null,null,"Fecha",2020]
[]
[null,"Año Actual"]
[null,"Trimestre","Variable 1","Variable 2","Indicador","Acumulado","Cumplimiento"]
[null,"Trimestre1",null,null,{"$f":"(C21*0.5)+(D21*0.5)","v":0},{"$f":"AVERAGE(E21:E21)","v":0},{"$f":"F21/D16","v":0}]
[null,"Trimestre2",null,null,{"$f":"(C22*0.5)+(D22*0.5)","v":0},{"$f":"AVERAGE(E21:E22)","v":0},{"$f":"F22/D16","v":0}]
[null,"Trimestre3",null,null,{"$f":"(C23*0.5)+(D23*0.5)","v":0},{"$f":"AVERAGE(E21:E23)","v":0},{"$f":"F23/D16","v":0}]
[null,"Trimestre4",null,null,{"$f":"(C24*0.5)+(D24*0.5)","v":0},{"$f":"AVERAGE(E21:E24)","v":0},{"$f":"F24/D16","v":0}]

{"sheet":"US019_Analisis","index":238,"n_rows":32,"n_cols":10,"rows_kept":32,"cut":false,"hidden":false,"merged":[[14,1,14,2],[14,3,14,9],[15,1,15,2],[15,3,15,9],[16,2,16,5],[16,7,16,9],[11,1,11,2],[11,3,11,9],[12,1,12,2],[12,3,12,9],[13,1,13,2],[13,3,13,9],[10,1,10,2],[10,3,10,9],[1,1,6,2],[1,3,3,7],[1,8,3,8],[1,9,3,9],[4,3,6,7],[4,8,6,9],[7,1,7,9],[8,1,8,2],[8,3,8,7],[9,1,9,2],[9,3,9,8]]}
[]
[null,null,null,"SERVICIUDAD ESP",null,null,null,null,"Código SPFO-21","Versión 01"]
[]
[]
[null,null,null,"FICHA DE ANÁLISIS DEL INDICADOR",null,null,null,null,"PAGINA 01"]
[]
[]
[]
[null,"Nombre del índicador",null,"Cumplimiento Metas de Cobertura Alcantarillado - CMCOBAL",null,null,null,null,"Código: ","US019"]
[null,"Estilo de cálculo",null,"Promedio"]
[null,"Fórmula de cálculo",null,"(Realp / Metap) x 100"]
[null,"Número de variables",null,2]
[null,"Variables",null,"Realp: Número de nuevos suscriptores del servicio público domiciliario de alcantarillado del prestador en el año tarifario p evaluado.\nMetap : Meta establecida por el prestador para el estándar de cobertura en el año tarifario p evaluado, siguiendo lo establecido el TÍTULO IX de la Resolución CRA 688 de 2014, o aquella que la modifique, adicione, sustituye o aclare."]
[null,"Tendencia del indicador",null,"Creciente"]
[null,"Frecuencia de Cálculo y Análisis",null,"Mensual"]
[null,"Meta",null,{"$f":"Indicadores!S106","v":1}]
[null,"Elaboró","Sugerencia de planeación",null,null,null,"Fecha",2020]
[]
[null,"Año Actual"]
[null,"Mes","Variable 1","Variable 2","Indicador","Acumulado","Cumplimiento"]
[null,"Enero",null,null,{"$f":"(C21/D21)*100","v":{"$error":"#DIV/0!"}},{"$f":"AVERAGE(E21:E21)","v":{"$error":"#DIV/0!"}},{"$f":"F21/D16","v":{"$error":"#DIV/0!"}}]
[null,"Febrero",null,null,{"$f":"(C22/D22)*100","v":{"$error":"#DIV/0!"}},{"$f":"AVERAGE(E21:E22)","v":{"$error":"#DIV/0!"}},{"$f":"F22/D16","v":{"$error":"#DIV/0!"}}]
[null,"Marzo",null,null,{"$error":"#DIV/0!"},{"$f":"AVERAGE(E21:E23)","v":{"$error":"#DIV/0!"}},{"$f":"F23/D16","v":{"$error":"#DIV/0!"}}]
[null,"Abril",null,null,{"$error":"#DIV/0!"},{"$f":"AVERAGE(E21:E24)","v":{"$error":"#DIV/0!"}},{"$f":"F24/D16","v":{"$error":"#DIV/0!"}}]
[null,"Mayo",null,null,{"$error":"#DIV/0!"},{"$f":"AVERAGE(E21:E25)","v":{"$error":"#DIV/0!"}},{"$f":"F25/D16","v":{"$error":"#DIV/0!"}}]
[null,"Junio",null,null,{"$error":"#DIV/0!"},{"$f":"AVERAGE(E21:E26)","v":{"$error":"#DIV/0!"}},{"$f":"F26/D16","v":{"$error":"#DIV/0!"}}]
[null,"Julio",null,null,{"$error":"#DIV/0!"},{"$f":"AVERAGE(E21:E27)","v":{"$error":"#DIV/0!"}},{"$f":"F27/D16","v":{"$error":"#DIV/0!"}}]
[null,"Agosto",null,null,{"$error":"#DIV/0!"},{"$f":"AVERAGE(E21:E28)","v":{"$error":"#DIV/0!"}},{"$f":"F28/D16","v":{"$error":"#DIV/0!"}}]
[null,"Septiembre",null,null,{"$error":"#DIV/0!"},{"$f":"AVERAGE(E21:E29)","v":{"$error":"#DIV/0!"}},{"$f":"F29/D16","v":{"$error":"#DIV/0!"}}]
[null,"Octubre",null,null,{"$error":"#DIV/0!"},{"$f":"AVERAGE(E21:E30)","v":{"$error":"#DIV/0!"}},{"$f":"F30/D16","v":{"$error":"#DIV/0!"}}]
[null,"Noviembre",null,null,{"$error":"#DIV/0!"},{"$f":"AVERAGE(E21:E31)","v":{"$error":"#DIV/0!"}},{"$f":"F31/D16","v":{"$error":"#DIV/0!"}}]
[null,"Diciembre",null,null,{"$error":"#DIV/0!"},{"$f":"AVERAGE(E21:E32)","v":{"$error":"#DIV/0!"}},{"$f":"F32/D16","v":{"$error":"#DIV/0!"}}]

{"sheet":"US020_Analisis","index":239,"n_rows":32,"n_cols":10,"rows_kept":32,"cut":false,"hidden":false,"merged":[[15,1,15,2],[15,3,15,9],[16,2,16,5],[16,7,16,9],[12,1,12,2],[12,3,12,9],[13,1,13,2],[13,3,13,9],[14,1,14,2],[14,3,14,9],[18,1,18,6],[10,1,10,2],[10,3,10,9],[1,1,6,2],[1,3,3,7],[1,8,3,8],[1,9,3,9],[4,3,6,7],[4,8,6,9],[7,1,7,9],[8,1,8,2],[8,3,8,7],[9,1,9,2],[9,3,9,8],[11,1,11,2],[11,3,11,9]]}
[]
[null,null,null,"SERVICIUDAD ESP",null,null,null,null,"Código SPFO-21","Versión 01"]
[]
[]
[null,null,null,"FICHA DE ANÁLISIS DEL INDICADOR",null,null,null,null,"PAGINA 01"]
[]
[]
[]
[null,"Nombre del índicador",null,"Nuevos suscriptores Acueducto",null,null,null,null,"Código: ","US020"]
[null,"Estilo de cálculo",null,"Último dato"]
[null,"Fórmula de cálculo",null,"Numero suscriptores mes actual-Número de suscriptores Diciembre año anterior"]
[null,"Número de variables",null,2]
[null,"Variables"]
[null,"Tendencia del indicador",null,"Creciente"]
[null,"Frecuencia de Cálculo y Análisis",null,"Mensual"]
[null,"Meta",null,{"$f":"Indicadores!S107","v":456}]
[null,"Elaboró","Sugerencia de planeación",null,null,null,"Fecha",2020]
[]
[null,"Año Actual 2020"]
[null,"Mes","Suscriptores \nMes \nActual","Suscriptores\nAño \nAnterior","Indicador","Acumulado","Cumplimiento"]
[null,"Enero",56785,56419,{"$f":"C21-D21","v":366},{"$f":"E21","v":366},{"$f":"F21/D16","v":0.80263157894736847}]
[null,"Febrero",56836,56419,{"$f":"C22-D22","v":417},417,{"$f":"F22/D16","v":0.91447368421052633}]
[null,"Marzo",56993,56419,574,574,{"$f":"F23/D16","v":1.2587719298245614}]
[null,"Abril",56955,56419,536,536,{"$f":"F24/D16","v":1.1754385964912282}]
[null,"Mayo",56971,56419,552,552,{"$f":"F25/D16","v":1.2105263157894737}]
[null,"Junio",57008,56419,589,589,{"$f":"F26/D16","v":1.2916666666666667}]
[null,"Julio",57247,56419,828,828,{"$f":"F27/D16","v":1.8157894736842106}]
[null,"Agosto",57405,56419,986,986,{"$f":"F28/D16","v":2.1622807017543861}]
[null,"Septiembre",57636,56419,1217,1217,{"$f":"F29/D16","v":2.6688596491228069}]
[null,"Octubre",58388,56419,1969,1969,{"$f":"F30/D16","v":4.317982456140351}]
[null,"Noviembre",59035,56419,2616,2616,{"$f":"F31/D16","v":5.7368421052631575}]
[null,"Diciembre",59373,56419,2954,2954,{"$f":"F32/D16","v":6.4780701754385968}]

{"sheet":"US021_Analisis","index":240,"n_rows":32,"n_cols":10,"rows_kept":32,"cut":false,"hidden":false,"merged":[[15,1,15,2],[15,3,15,9],[16,2,16,5],[16,7,16,9],[12,1,12,2],[12,3,12,9],[13,1,13,2],[13,3,13,9],[14,1,14,2],[14,3,14,9],[18,1,18,6],[10,1,10,2],[10,3,10,9],[1,1,6,2],[1,3,3,7],[1,8,3,8],[1,9,3,9],[4,3,6,7],[4,8,6,9],[7,1,7,9],[8,1,8,2],[8,3,8,7],[9,1,9,2],[9,3,9,8],[11,1,11,2],[11,3,11,9]]}
[]
[null,null,null,"SERVICIUDAD ESP",null,null,null,null,"Código SPFO-21","Versión 01"]
[]
[]
[null,null,null,"FICHA DE ANÁLISIS DEL INDICADOR",null,null,null,null,"PAGINA 01"]
[]
[]
[]
[null,"Nombre del índicador",null,"Nuevos suscriptores Alcantarillado",null,null,null,null,"Código: ","US021"]
[null,"Estilo de cálculo",null,"Último dato"]
[null,"Fórmula de cálculo",null,"Numero suscriptores mes actual-Número de suscriptores Diciembre año anterior"]
[null,"Número de variables",null,2]
[null,"Variables"]
[null,"Tendencia del indicador",null,"Creciente"]
[null,"Frecuencia de Cálculo y Análisis",null,"Mensual"]
[null,"Meta",null,{"$f":"Indicadores!S108","v":535}]
[null,"Elaboró","Sugerencia de planeación",null,null,null,"Fecha",2020]
[]
[null,"Año Actual 2020"]
[null,"Mes","Suscriptores\nMes \nActual","Suscriptores\nAño \nAnterior","Indicador","Acumulado","Cumplimiento"]
[null,"Enero",64192,63837,{"$f":"C21-D21","v":355},{"$f":"E21","v":355},{"$f":"F21/D16","v":0.66355140186915884}]
[null,"Febrero",64247,63837,{"$f":"C22-D22","v":410},410,{"$f":"F22/D16","v":0.76635514018691586}]
[null,"Marzo",64341,63837,504,504,{"$f":"F23/D16","v":0.94205607476635511}]
[null,"Abril",64360,63837,523,523,{"$f":"F24/D16","v":0.97757009345794388}]
[null,"Mayo",64372,63837,535,535,{"$f":"F25/D16","v":1}]
[null,"Junio",64406,63837,569,569,{"$f":"F26/D16","v":1.063551401869159}]
[null,"Julio",64628,63837,791,791,{"$f":"F27/D16","v":1.4785046728971962}]
[null,"Agosto",64785,63837,948,948,{"$f":"F28/D16","v":1.7719626168224298}]
[null,"Septiembre",65010,63837,1173,1173,{"$f":"F29/D16","v":2.1925233644859814}]
[null,"Octubre",65758,63837,1921,1921,{"$f":"F30/D16","v":3.5906542056074766}]
[null,"Noviembre",66392,63837,2555,2555,{"$f":"F31/D16","v":4.7757009345794392}]
[null,"Diciembre",66722,63837,2885,2885,{"$f":"F32/D16","v":5.3925233644859816}]

{"sheet":"US022_Analisis","index":241,"n_rows":32,"n_cols":16,"rows_kept":32,"cut":false,"hidden":false,"merged":[[15,1,15,2],[15,3,15,9],[16,2,16,5],[16,7,16,9],[12,1,12,2],[12,3,12,9],[13,1,13,2],[13,3,13,9],[14,1,14,2],[14,3,14,9],[18,1,18,6],[10,1,10,2],[10,3,10,9],[1,1,6,2],[1,3,3,7],[1,8,3,8],[1,9,3,9],[4,3,6,7],[4,8,6,9],[7,1,7,9],[8,1,8,2],[8,3,8,7],[9,1,9,2],[9,3,9,8],[11,1,11,2],[11,3,11,9]]}
[]
[null,null,null,"SERVICIUDAD ESP",null,null,null,null,"Código SPFO-21","Versión 01"]
[]
[]
[null,null,null,"FICHA DE ANÁLISIS DEL INDICADOR",null,null,null,null,"PAGINA 01"]
[]
[]
[]
[null,"Nombre del índicador",null,"Nuevos suscriptores Aseo",null,null,null,null,"Código: ","US022"]
[null,"Estilo de cálculo",null,"Último dato"]
[null,"Fórmula de cálculo",null,"Numero suscriptores mes actual-Número de suscriptores Diciembre año anterior"]
[null,"Número de variables",null,2]
[null,"Variables"]
[null,"Tendencia del indicador",null,"Creciente"]
[null,"Frecuencia de Cálculo y Análisis",null,"Mensual"]
[null,"Meta",null,{"$f":"Indicadores!S109","v":2738}]
[null,"Elaboró","Sugerencia de planeación",null,null,null,"Fecha",2020]
[]
[null,"Año Actual 2020"]
[null,"Mes","Suscriptores\nMes \nActaul","Suscriptores\nAño \nAnterior","Indicador","Acumulado","Cumplimiento"]
[null,"Enero",66209,65849,{"$f":"C21-D21","v":360},{"$f":"E21","v":360},{"$f":"F21/D16","v":0.13148283418553688}]
[null,"Febrero",66260,65849,{"$f":"C22-D22","v":411},411,{"$f":"F22/D16","v":0.15010956902848796}]
[null,"Marzo",66353,65849,504,504,{"$f":"F23/D16","v":0.18407596785975164}]
[null,"Abril",66374,65849,525,525,{"$f":"F24/D16","v":0.19174579985390797}]
[null,"Mayo",66387,65849,538,538,{"$f":"F25/D16","v":0.19649379108838569}]
[null,"Junio",66425,65849,576,576,{"$f":"F26/D16","v":0.21037253469685901}]
[null,"Julio",70526,65849,4677,4677,{"$f":"F27/D16","v":1.7081811541271001}]
[null,"Agosto",70803,65849,4954,4954,{"$f":"F28/D16","v":1.8093498904309715}]
[null,"Septiembre",71023,65849,5174,5174,{"$f":"F29/D16","v":1.889700511322133}]
[null,"Octubre",71756,65849,5907,5907,{"$f":"F30/D16","v":2.1574141709276846}]
[null,"Noviembre",72379,65849,6530,6530,{"$f":"F31/D16","v":2.3849525200876553}]
[null,"Diciembre",72706,65849,6857,6857,{"$f":"F32/D16","v":2.5043827611395177},null,null,null,null,null,null,null,null,{"$f":"E27-E26","v":4101}]

{"sheet":"US023_Analisis","index":242,"n_rows":32,"n_cols":10,"rows_kept":32,"cut":false,"hidden":false,"merged":[[15,1,15,2],[15,3,15,9],[16,2,16,5],[16,7,16,9],[12,1,12,2],[12,3,12,9],[13,1,13,2],[13,3,13,9],[14,1,14,2],[14,3,14,9],[18,1,18,6],[10,1,10,2],[10,3,10,9],[1,1,6,2],[1,3,3,7],[1,8,3,8],[1,9,3,9],[4,3,6,7],[4,8,6,9],[7,1,7,9],[8,1,8,2],[8,3,8,7],[9,1,9,2],[9,3,9,8],[11,1,11,2],[11,3,11,9]]}
[]
[null,null,null,"SERVICIUDAD ESP",null,null,null,null,"Código SPFO-21","Versión 01"]
[]
[]
[null,null,null,"FICHA DE ANÁLISIS DEL INDICADOR",null,null,null,null,"PAGINA 01"]
[]
[]
[]
[null,"Nombre del índicador",null,"Nuevos suscriptores residenciales Acueducto",null,null,null,null,"Código: ","US023"]
[null,"Estilo de cálculo",null,"Último dato"]
[null,"Fórmula de cálculo",null,"Numero suscriptores residenciales actual-Número de suscriptores residenciales Diciembre año anterior"]
[null,"Número de variables",null,2]
[null,"Variables"]
[null,"Tendencia del indicador",null,"Creciente"]
[null,"Frecuencia de Cálculo y Análisis",null,"Mensual"]
[null,"Meta",null,{"$f":"Indicadores!S110","v":2500}]
[null,"Elaboró","Sugerencia de planeación",null,null,null,"Fecha",2020]
[]
[null,"Año Actual 2020"]
[null,"Mes","Suscriptores \nMes \nActual","Suscriptores \nAño \nAnterior","Indicador","Acumulado","Cumplimiento"]
[null,"Enero",53628,53267,{"$f":"C21-D21","v":361},{"$f":"E21","v":361},{"$f":"F21/D16","v":0.1444}]
[null,"Febrero",53673,53267,{"$f":"C22-D22","v":406},406,{"$f":"F22/D16","v":0.16239999999999999}]
[null,"Marzo",53767,53267,500,500,{"$f":"F23/D16","v":0.2}]
[null,"Abril",53789,53267,522,522,{"$f":"F24/D16","v":0.20880000000000001}]
[null,"Mayo",52968,53267,-299,-299,{"$f":"F25/D16","v":-0.1196}]
[null,"Junio",53141,53267,-126,-126,{"$f":"F26/D16","v":-5.04E-2}]
[null,"Julio",53503,53267,236,236,{"$f":"F27/D16","v":9.4399999999999998E-2}]
[null,"Agosto",53649,53267,382,382,{"$f":"F28/D16","v":0.15279999999999999}]
[null,"Septiembre",53879,53267,612,612,{"$f":"F29/D16","v":0.24479999999999999}]
[null,"Octubre",54580,53267,1313,1313,{"$f":"F30/D16","v":0.5252}]
[null,"Noviembre",55199,53267,1932,1932,{"$f":"F31/D16","v":0.77280000000000004}]
[null,"Diciembre",55529,53267,2262,2262,{"$f":"F32/D16","v":0.90480000000000005}]

{"sheet":"US024_Analisis","index":243,"n_rows":32,"n_cols":10,"rows_kept":32,"cut":false,"hidden":false,"merged":[[15,1,15,2],[15,3,15,9],[16,2,16,5],[16,7,16,9],[12,1,12,2],[12,3,12,9],[13,1,13,2],[13,3,13,9],[14,1,14,2],[14,3,14,9],[18,1,18,6],[10,1,10,2],[10,3,10,9],[1,1,6,2],[1,3,3,7],[1,8,3,8],[1,9,3,9],[4,3,6,7],[4,8,6,9],[7,1,7,9],[8,1,8,2],[8,3,8,7],[9,1,9,2],[9,3,9,8],[11,1,11,2],[11,3,11,9]]}
[]
[null,null,null,"SERVICIUDAD ESP",null,null,null,null,"Código SPFO-21","Versión 01"]
[]
[]
[null,null,null,"FICHA DE ANÁLISIS DEL INDICADOR",null,null,null,null,"PAGINA 01"]
[]
[]
[]
[null,"Nombre del índicador",null,"Nuevos suscriptores residenciales Alcantarillado",null,null,null,null,"Código: ","US024"]
[null,"Estilo de cálculo",null,"Último dato"]
[null,"Fórmula de cálculo",null,"Numero suscriptores residenciales actual-Número de suscriptores residenciales Diciembre año anterior"]
[null,"Número de variables",null,2]
[null,"Variables"]
[null,"Tendencia del indicador",null,"Creciente"]
[null,"Frecuencia de Cálculo y Análisis",null,"Mensual"]
[null,"Meta",null,{"$f":"Indicadores!S111","v":2500}]
[null,"Elaboró","Sugerencia de planeación",null,null,null,"Fecha",2020]
[]
[null,"Año Actual 2020"]
[null,"Mes","No. Suscriptores\nResidenciales","Suscriptores \nDiciembre","Indicador","Acumulado","Cumplimiento"]
[null,"Enero",60850,60495,{"$f":"C21-D21","v":355},{"$f":"E21","v":355},{"$f":"F21/D16","v":0.14199999999999999}]
[null,"Febrero",60897,60495,{"$f":"C22-D22","v":402},402,{"$f":"F22/D16","v":0.1608}]
[null,"Marzo",60988,60495,493,493,{"$f":"F23/D16","v":0.19719999999999999}]
[null,"Abril",61009,60495,514,514,{"$f":"F24/D16","v":0.2056}]
[null,"Mayo",60196,60495,-299,-299,{"$f":"F25/D16","v":-0.1196}]
[null,"Junio",60366,60495,-129,-129,{"$f":"F26/D16","v":-5.16E-2}]
[null,"Julio",60709,60495,214,214,{"$f":"F27/D16","v":8.5599999999999996E-2}]
[null,"Agosto",60836,60495,341,341,{"$f":"F28/D16","v":0.13639999999999999}]
[null,"Septiembre",61062,60495,567,567,{"$f":"F29/D16","v":0.2268}]
[null,"Octubre",61759,60495,1264,1264,{"$f":"F30/D16","v":0.50560000000000005}]
[null,"Noviembre",62360,60495,1865,1865,{"$f":"F31/D16","v":0.746}]
[null,"Diciembre",62683,60495,2188,2188,{"$f":"F32/D16","v":0.87519999999999998}]

{"sheet":"US025_Analisis","index":244,"n_rows":32,"n_cols":10,"rows_kept":32,"cut":false,"hidden":false,"merged":[[14,1,14,2],[14,3,14,9],[15,1,15,2],[15,3,15,9],[16,2,16,5],[16,7,16,9],[11,1,11,2],[11,3,11,9],[12,1,12,2],[12,3,12,9],[13,1,13,2],[13,3,13,9],[10,1,10,2],[10,3,10,9],[1,1,6,2],[1,3,3,7],[1,8,3,8],[1,9,3,9],[4,3,6,7],[4,8,6,9],[7,1,7,9],[8,1,8,2],[8,3,8,7],[9,1,9,2],[9,3,9,8]]}
[]
[null,null,null,"SERVICIUDAD ESP",null,null,null,null,"Código SPFO-21","Versión 01"]
[]
[]
[null,null,null,"FICHA DE ANÁLISIS DEL INDICADOR",null,null,null,null,"PAGINA 01"]
[]
[]
[]
[null,"Nombre del índicador",null,"IQR índice reclamos comerciales (Acueducto y Alcantarillado)",null,null,null,null,"Código: ","US025"]
[null,"Estilo de cálculo",null,"Último dato"]
[null,"Fórmula de cálculo",null,"IQRm = ΣRc*mf/NTU*1000"]
[null,"Número de variables",null,3]
[null,"Variables",null,"Rc: Reclamos comerciales por diferencia de la factura que pasan a segunda instancia a favor del suscriptor. mf: Número de meses en el ciclo de facturación. NTU: número de suscriptores del mes"]
[null,"Tendencia del indicador",null,"Decreciente"]
[null,"Frecuencia de Cálculo y Análisis",null,"Mensual"]
[null,"Meta",null,{"$f":"Indicadores!S112","v":4}]
[null,"Elaboró","Sugerencia de planeación",null,null,null,"Fecha",2020]
[]
[null,"Año Actual"]
[null,"Mes","Variable 1","Variable 2","Variable 3","Indicador","Acumulado","Cumplimiento"]
[null,"Enero",null,null,null,{"$f":"1000*C21*D21/E21","v":{"$error":"#DIV/0!"}},{"$f":"F21","v":{"$error":"#DIV/0!"}},{"$f":"IF(G21>0,D16/G21,1)","v":{"$error":"#DIV/0!"}}]
[null,"Febrero",null,null,null,{"$f":"1000*C22*D22/E22","v":{"$error":"#DIV/0!"}},{"$error":"#DIV/0!"},{"$f":"IF(G22>0,D16/G22,1)","v":{"$error":"#DIV/0!"}}]
[null,"Marzo",null,null,null,{"$error":"#DIV/0!"},{"$error":"#DIV/0!"},{"$f":"IF(G23>0,D16/G23,1)","v":{"$error":"#DIV/0!"}}]
[null,"Abril",null,null,null,{"$error":"#DIV/0!"},{"$error":"#DIV/0!"},{"$f":"IF(G24>0,D16/G24,1)","v":{"$error":"#DIV/0!"}}]
[null,"Mayo",null,null,null,{"$error":"#DIV/0!"},{"$error":"#DIV/0!"},{"$f":"IF(G25>0,D16/G25,1)","v":{"$error":"#DIV/0!"}}]
[null,"Junio",null,null,null,{"$error":"#DIV/0!"},{"$error":"#DIV/0!"},{"$f":"IF(G26>0,D16/G26,1)","v":{"$error":"#DIV/0!"}}]
[null,"Julio",null,null,null,{"$error":"#DIV/0!"},{"$error":"#DIV/0!"},{"$f":"IF(G27>0,D16/G27,1)","v":{"$error":"#DIV/0!"}}]
[null,"Agosto",null,null,null,{"$error":"#DIV/0!"},{"$error":"#DIV/0!"},{"$f":"IF(G28>0,D16/G28,1)","v":{"$error":"#DIV/0!"}}]
[null,"Septiembre",null,null,null,{"$error":"#DIV/0!"},{"$error":"#DIV/0!"},{"$f":"IF(G29>0,D16/G29,1)","v":{"$error":"#DIV/0!"}}]
[null,"Octubre",null,null,null,{"$error":"#DIV/0!"},{"$error":"#DIV/0!"},{"$f":"IF(G30>0,D16/G30,1)","v":{"$error":"#DIV/0!"}}]
[null,"Noviembre",null,null,null,{"$error":"#DIV/0!"},{"$error":"#DIV/0!"},{"$f":"IF(G31>0,D16/G31,1)","v":{"$error":"#DIV/0!"}}]
[null,"Diciembre",null,null,null,{"$error":"#DIV/0!"},{"$error":"#DIV/0!"},{"$f":"IF(G32>0,D16/G32,1)","v":{"$error":"#DIV/0!"}}]

{"sheet":"US026_Analisis","index":245,"n_rows":32,"n_cols":10,"rows_kept":32,"cut":false,"hidden":false,"merged":[[14,1,14,2],[14,3,14,9],[15,1,15,2],[15,3,15,9],[16,2,16,5],[16,7,16,9],[11,1,11,2],[11,3,11,9],[12,1,12,2],[12,3,12,9],[13,1,13,2],[13,3,13,9],[10,1,10,2],[10,3,10,9],[1,1,6,2],[1,3,3,7],[1,8,3,8],[1,9,3,9],[4,3,6,7],[4,8,6,9],[7,1,7,9],[8,1,8,2],[8,3,8,7],[9,1,9,2],[9,3,9,8]]}
[]
[null,null,null,"SERVICIUDAD ESP",null,null,null,null,"Código SPFO-21","Versión 01"]
[]
[]
[null,null,null,"FICHA DE ANÁLISIS DEL INDICADOR",null,null,null,null,"PAGINA 01"]
[]
[]
[]
[null,"Nombre del índicador",null,"IRCF índice reclamos comerciales por facturación Aseo",null,null,null,null,"Código: ","US026"]
[null,"Estilo de cálculo",null,"Último dato"]
[null,"Fórmula de cálculo",null,"IRCFm = ΣRc*mf/NTU*1000"]
[null,"Número de variables",null,3]
[null,"Variables",null,"Rc: Reclamos comerciales por diferencia de la factura que pasan a segunda instancia a favor del suscriptor. mf: Número de meses en el ciclo de facturación. NTU: número de suscriptores del mes"]
[null,"Tendencia del indicador",null,"Decreciente"]
[null,"Frecuencia de Cálculo y Análisis",null,"Mensual"]
[null,"Meta",null,{"$f":"Indicadores!S113","v":4}]
[null,"Elaboró","Sugerencia de planeación",null,null,null,"Fecha",2020]
[]
[null,"Año Actual"]
[null,"Mes","Variable 1","Variable 2","Variable 3","Indicador","Acumulado","Cumplimiento"]
[null,"Enero",null,null,null,{"$f":"1000*C21*D21/E21","v":{"$error":"#DIV/0!"}},{"$f":"F21","v":{"$error":"#DIV/0!"}},{"$f":"IF(G21>0,D16/G21,1)","v":{"$error":"#DIV/0!"}}]
[null,"Febrero",null,null,null,{"$f":"1000*C22*D22/E22","v":{"$error":"#DIV/0!"}},{"$error":"#DIV/0!"},{"$f":"IF(G22>0,D16/G22,1)","v":{"$error":"#DIV/0!"}}]
[null,"Marzo",null,null,null,{"$error":"#DIV/0!"},{"$error":"#DIV/0!"},{"$f":"IF(G23>0,D16/G23,1)","v":{"$error":"#DIV/0!"}}]
[null,"Abril",null,null,null,{"$error":"#DIV/0!"},{"$error":"#DIV/0!"},{"$f":"IF(G24>0,D16/G24,1)","v":{"$error":"#DIV/0!"}}]
[null,"Mayo",null,null,null,{"$error":"#DIV/0!"},{"$error":"#DIV/0!"},{"$f":"IF(G25>0,D16/G25,1)","v":{"$error":"#DIV/0!"}}]
[null,"Junio",null,null,null,{"$error":"#DIV/0!"},{"$error":"#DIV/0!"},{"$f":"IF(G26>0,D16/G26,1)","v":{"$error":"#DIV/0!"}}]
[null,"Julio",null,null,null,{"$error":"#DIV/0!"},{"$error":"#DIV/0!"},{"$f":"IF(G27>0,D16/G27,1)","v":{"$error":"#DIV/0!"}}]
[null,"Agosto",null,null,null,{"$error":"#DIV/0!"},{"$error":"#DIV/0!"},{"$f":"IF(G28>0,D16/G28,1)","v":{"$error":"#DIV/0!"}}]
[null,"Septiembre",null,null,null,{"$error":"#DIV/0!"},{"$error":"#DIV/0!"},{"$f":"IF(G29>0,D16/G29,1)","v":{"$error":"#DIV/0!"}}]
[null,"Octubre",null,null,null,{"$error":"#DIV/0!"},{"$error":"#DIV/0!"},{"$f":"IF(G30>0,D16/G30,1)","v":{"$error":"#DIV/0!"}}]
[null,"Noviembre",null,null,null,{"$error":"#DIV/0!"},{"$error":"#DIV/0!"},{"$f":"IF(G31>0,D16/G31,1)","v":{"$error":"#DIV/0!"}}]
[null,"Diciembre",null,null,null,{"$error":"#DIV/0!"},{"$error":"#DIV/0!"},{"$f":"IF(G32>0,D16/G32,1)","v":{"$error":"#DIV/0!"}}]

{"sheet":"OR001_Analisis","index":246,"n_rows":24,"n_cols":10,"rows_kept":24,"cut":false,"hidden":false,"merged":[[18,1,18,6],[14,1,14,2],[14,3,14,9],[15,1,15,2],[15,3,15,9],[16,2,16,5],[16,7,16,9],[11,1,11,2],[11,3,11,9],[12,1,12,2],[12,3,12,9],[13,1,13,2],[13,3,13,9],[10,1,10,2],[10,3,10,9],[1,1,6,2],[1,3,3,7],[1,8,3,8],[1,9,3,9],[4,3,6,7],[4,8,6,9],[7,1,7,9],[8,1,8,2],[8,3,8,7],[9,1,9,2],[9,3,9,8]]}
[]
[null,null,null,"SERVICIUDAD ESP",null,null,null,null,"Código SPFO-21","Versión 01"]
[]
[]
[null,null,null,"FICHA DE ANÁLISIS DEL INDICADOR",null,null,null,null,"PAGINA 01"]
[]
[]
[]
[null,"Nombre del índicador",null,"Eficiencia laboral acueducto",null,null,null,null,"Código: ","OR001"]
[null,"Estilo de cálculo",null,"Suma de componentes"]
[null,"Fórmula de cálculo",null,"Costos de Personal/Volumen de agua facturado (ultimos 12 meses)"]
[null,"Número de variables",null,2]
[null,"Variables",null,"Costos de Personal: Valor en pesos corrientes del total de pagos, durante los últimos doce meses,  por salarios, prestaciones, horas extras, y demás conceptos para el personal de planta administrativo y operativo, más servicios contratados con terceros.\nVolumen Facturado: Volumen de agua  que la empresa facturó durante los últimos doce meses. "]
[null,"Tendencia del indicador",null,"Decreciente"]
[null,"Frecuencia de Cálculo y Análisis",null,"Trimestral"]
[null,"Meta",null,{"$f":"Indicadores!S114","v":592}]
[null,"Elaboró","Sugerencia de planeación",null,null,null,"Fecha",2020]
[]
[null,"Año Actual 2020"]
[null,"Trimestre","Costos de\n Personal","Volumen de Agua Facturado","Indicador","Acumulado","Cumplimiento"]
[null,"Trimestre1",1179989058.4835021,1927298,{"$f":"C21/D21","v":612.25044517428137},{"$f":"SUM(C21:C130)/SUM(D21:D130)","v":690.64323858051466},{"$f":"IF(F21>0,D16/F21,1)","v":0.85717193324985419}]
[null,"Trimestre2",1164487381.5773151,1832313,{"$f":"C22/D22","v":635.52863597939609},{"$f":"SUM(C21:C130)/SUM(D21:D130)","v":690.64323858051466},{"$f":"IF(F22>0,D16/F22,1)","v":0.85717193324985419}]
[null,"Trimestre3",1363690282.4572668,1956957,{"$f":"C23/D23","v":696.84223130976659},{"$f":"SUM(C21:C130)/SUM(D21:D130)","v":690.64323858051466},{"$f":"IF(F23>0,D16/F23,1)","v":0.85717193324985419}]
[null,"Trimestre4",1605417896.0678573,1977107,{"$f":"C24/D24","v":812.0035466304339},{"$f":"SUM(C21:C130)/SUM(D21:D130)","v":690.64323858051466},{"$f":"IF(F24>0,D16/F24,1)","v":0.85717193324985419}]

{"sheet":"OR002_Analisis","index":247,"n_rows":32,"n_cols":10,"rows_kept":32,"cut":false,"hidden":false,"merged":[[14,1,14,2],[14,3,14,9],[15,1,15,2],[15,3,15,9],[16,2,16,5],[16,7,16,9],[11,1,11,2],[11,3,11,9],[12,1,12,2],[12,3,12,9],[13,1,13,2],[13,3,13,9],[10,1,10,2],[10,3,10,9],[1,1,6,2],[1,3,3,7],[1,8,3,8],[1,9,3,9],[4,3,6,7],[4,8,6,9],[7,1,7,9],[8,1,8,2],[8,3,8,7],[9,1,9,2],[9,3,9,8]]}
[]
[null,null,null,"SERVICIUDAD ESP",null,null,null,null,"Código SPFO-21","Versión 01"]
[]
[]
[null,null,null,"FICHA DE ANÁLISIS DEL INDICADOR",null,null,null,null,"PAGINA 01"]
[]
[]
[]
[null,"Nombre del índicador",null,"Productividad del Personal Administrativo del Prestador — PPAP",null,null,null,null,"Código: ","OR002"]
[null,"Estilo de cálculo",null,"Promedio"]
[null,"Fórmula de cálculo",null,"NATg/                                                              (NSg/1000)"]
[null,"Número de variables",null,2]
[null,"Variables",null,"NTAg: Número total de personal administrativo en el período de facturación g, se incluyen el personal que e realice labores administrativas sin discriminación del servicio prestado, siempre que estos sean; Acueducto y/o Alcantarillado y/o Aseo; del mismo modo, no se discrimina por tipo de vinculación ni por el número de horas laboradas,\nNSg: Número de suscriptores atendidos en el período de facturación g. Para lo cual se empleará la información asociada al servicio que presente el mayor número de suscriptores."]
[null,"Tendencia del indicador",null,"Creciente"]
[null,"Frecuencia de Cálculo y Análisis",null,"Mensual"]
[null,"Meta",null,{"$f":"Indicadores!S115","v":1.65}]
[null,"Elaboró","Sugerencia de planeación",null,null,null,"Fecha",2020]
[]
[null,"Año Actual"]
[null,"Mes","Variable 1","Variable 2","Indicador","Acumulado","Cumplimiento"]
[null,"Enero",null,null,{"$f":"C21/(D21/1000)","v":{"$error":"#DIV/0!"}},{"$f":"AVERAGE(E21:E21)","v":{"$error":"#DIV/0!"}},{"$f":"F21/D16","v":{"$error":"#DIV/0!"}}]
[null,"Febrero",null,null,{"$f":"C22/(D22/1000)","v":{"$error":"#DIV/0!"}},{"$f":"AVERAGE(E21:E22)","v":{"$error":"#DIV/0!"}},{"$f":"F22/D16","v":{"$error":"#DIV/0!"}}]
[null,"Marzo",null,null,{"$error":"#DIV/0!"},{"$f":"AVERAGE(E21:E23)","v":{"$error":"#DIV/0!"}},{"$f":"F23/D16","v":{"$error":"#DIV/0!"}}]
[null,"Abril",null,null,{"$error":"#DIV/0!"},{"$f":"AVERAGE(E21:E24)","v":{"$error":"#DIV/0!"}},{"$f":"F24/D16","v":{"$error":"#DIV/0!"}}]
[null,"Mayo",null,null,{"$error":"#DIV/0!"},{"$f":"AVERAGE(E21:E25)","v":{"$error":"#DIV/0!"}},{"$f":"F25/D16","v":{"$error":"#DIV/0!"}}]
[null,"Junio",null,null,{"$error":"#DIV/0!"},{"$f":"AVERAGE(E21:E26)","v":{"$error":"#DIV/0!"}},{"$f":"F26/D16","v":{"$error":"#DIV/0!"}}]
[null,"Julio",null,null,{"$error":"#DIV/0!"},{"$f":"AVERAGE(E21:E27)","v":{"$error":"#DIV/0!"}},{"$f":"F27/D16","v":{"$error":"#DIV/0!"}}]
[null,"Agosto",null,null,{"$error":"#DIV/0!"},{"$f":"AVERAGE(E21:E28)","v":{"$error":"#DIV/0!"}},{"$f":"F28/D16","v":{"$error":"#DIV/0!"}}]
[null,"Septiembre",null,null,{"$error":"#DIV/0!"},{"$f":"AVERAGE(E21:E29)","v":{"$error":"#DIV/0!"}},{"$f":"F29/D16","v":{"$error":"#DIV/0!"}}]
[null,"Octubre",null,null,{"$error":"#DIV/0!"},{"$f":"AVERAGE(E21:E30)","v":{"$error":"#DIV/0!"}},{"$f":"F30/D16","v":{"$error":"#DIV/0!"}}]
[null,"Noviembre",null,null,{"$error":"#DIV/0!"},{"$f":"AVERAGE(E21:E31)","v":{"$error":"#DIV/0!"}},{"$f":"F31/D16","v":{"$error":"#DIV/0!"}}]
[null,"Diciembre",null,null,{"$error":"#DIV/0!"},{"$f":"AVERAGE(E21:E32)","v":{"$error":"#DIV/0!"}},{"$f":"F32/D16","v":{"$error":"#DIV/0!"}}]

{"sheet":"OR003_Analisis","index":248,"n_rows":32,"n_cols":10,"rows_kept":32,"cut":false,"hidden":false,"merged":[[14,1,14,2],[14,3,14,9],[15,1,15,2],[15,3,15,9],[16,2,16,5],[16,7,16,9],[11,1,11,2],[11,3,11,9],[12,1,12,2],[12,3,12,9],[13,1,13,2],[13,3,13,9],[10,1,10,2],[10,3,10,9],[1,1,6,2],[1,3,3,7],[1,8,3,8],[1,9,3,9],[4,3,6,7],[4,8,6,9],[7,1,7,9],[8,1,8,2],[8,3,8,7],[9,1,9,2],[9,3,9,8]]}
[]
[null,null,null,"SERVICIUDAD ESP",null,null,null,null,"Código SPFO-21","Versión 01"]
[]
[]
[null,null,null,"FICHA DE ANÁLISIS DEL INDICADOR",null,null,null,null,"PAGINA 01"]
[]
[]
[]
[null,"Nombre del índicador",null,"Productividad del Personal Operativo Acueducto — POAC",null,null,null,null,"Código: ","OR003"]
[null,"Estilo de cálculo",null,"Promedio"]
[null,"Fórmula de cálculo",null,"NTOACg/                                                              (NSACg/1000)"]
[null,"Número de variables",null,2]
[null,"Variables",null,"NTOACg: Número total de personal operativo para el servicio público domiciliario de acueducto en el período de facturación g. Hace referencia a la clasificación de la planta de personal autorizado y debe incluir toda el personal definido en el indicador, sin discriminación de su tipo de vinculación, profesión y/o dedicación de tiempo en su labores realizadas.\nNSACg: Número de suscriptores del servicio público domiciliario de acueducto en el período de facturación g.\nCuando un trabajador tenga funciones asignada a más de un servicio, al estimar la variable NTOACg se deberá efectuar la proporción de dedicación de cada trabajador a realizar labores para el servicio público domiciliario de acueducto, de acuerdo con la siguiente formula:"]
[null,"Tendencia del indicador",null,"Creciente"]
[null,"Frecuencia de Cálculo y Análisis",null,"Mensual"]
[null,"Meta",null,{"$f":"Indicadores!S116","v":0.93}]
[null,"Elaboró","Sugerencia de planeación",null,null,null,"Fecha",2020]
[]
[null,"Año Actual"]
[null,"Mes","Variable 1","Variable 2","Indicador","Acumulado","Cumplimiento"]
[null,"Enero",null,null,{"$f":"C21/(D21/1000)","v":{"$error":"#DIV/0!"}},{"$f":"AVERAGE(E21:E21)","v":{"$error":"#DIV/0!"}},{"$f":"F21/D16","v":{"$error":"#DIV/0!"}}]
[null,"Febrero",null,null,{"$f":"C22/(D22/1000)","v":{"$error":"#DIV/0!"}},{"$f":"AVERAGE(E21:E22)","v":{"$error":"#DIV/0!"}},{"$f":"F22/D16","v":{"$error":"#DIV/0!"}}]
[null,"Marzo",null,null,{"$error":"#DIV/0!"},{"$f":"AVERAGE(E21:E23)","v":{"$error":"#DIV/0!"}},{"$f":"F23/D16","v":{"$error":"#DIV/0!"}}]
[null,"Abril",null,null,{"$error":"#DIV/0!"},{"$f":"AVERAGE(E21:E24)","v":{"$error":"#DIV/0!"}},{"$f":"F24/D16","v":{"$error":"#DIV/0!"}}]
[null,"Mayo",null,null,{"$error":"#DIV/0!"},{"$f":"AVERAGE(E21:E25)","v":{"$error":"#DIV/0!"}},{"$f":"F25/D16","v":{"$error":"#DIV/0!"}}]
[null,"Junio",null,null,{"$error":"#DIV/0!"},{"$f":"AVERAGE(E21:E26)","v":{"$error":"#DIV/0!"}},{"$f":"F26/D16","v":{"$error":"#DIV/0!"}}]
[null,"Julio",null,null,{"$error":"#DIV/0!"},{"$f":"AVERAGE(E21:E27)","v":{"$error":"#DIV/0!"}},{"$f":"F27/D16","v":{"$error":"#DIV/0!"}}]
[null,"Agosto",null,null,{"$error":"#DIV/0!"},{"$f":"AVERAGE(E21:E28)","v":{"$error":"#DIV/0!"}},{"$f":"F28/D16","v":{"$error":"#DIV/0!"}}]
[null,"Septiembre",null,null,{"$error":"#DIV/0!"},{"$f":"AVERAGE(E21:E29)","v":{"$error":"#DIV/0!"}},{"$f":"F29/D16","v":{"$error":"#DIV/0!"}}]
[null,"Octubre",null,null,{"$error":"#DIV/0!"},{"$f":"AVERAGE(E21:E30)","v":{"$error":"#DIV/0!"}},{"$f":"F30/D16","v":{"$error":"#DIV/0!"}}]
[null,"Noviembre",null,null,{"$error":"#DIV/0!"},{"$f":"AVERAGE(E21:E31)","v":{"$error":"#DIV/0!"}},{"$f":"F31/D16","v":{"$error":"#DIV/0!"}}]
[null,"Diciembre",null,null,{"$error":"#DIV/0!"},{"$f":"AVERAGE(E21:E32)","v":{"$error":"#DIV/0!"}},{"$f":"F32/D16","v":{"$error":"#DIV/0!"}}]

{"sheet":"OR004_Analisis","index":249,"n_rows":32,"n_cols":10,"rows_kept":32,"cut":false,"hidden":false,"merged":[[14,1,14,2],[14,3,14,9],[15,1,15,2],[15,3,15,9],[16,2,16,5],[16,7,16,9],[11,1,11,2],[11,3,11,9],[12,1,12,2],[12,3,12,9],[13,1,13,2],[13,3,13,9],[10,1,10,2],[10,3,10,9],[1,1,6,2],[1,3,3,7],[1,8,3,8],[1,9,3,9],[4,3,6,7],[4,8,6,9],[7,1,7,9],[8,1,8,2],[8,3,8,7],[9,1,9,2],[9,3,9,8]]}
[]
[null,null,null,"SERVICIUDAD ESP",null,null,null,null,"Código SPFO-21","Versión 01"]
[]
[]
[null,null,null,"FICHA DE ANÁLISIS DEL INDICADOR",null,null,null,null,"PAGINA 01"]
[]
[]
[]
[null,"Nombre del índicador",null,"Productividad del Personal Operativo Alcantarillado — POALC",null,null,null,null,"Código: ","OR004"]
[null,"Estilo de cálculo",null,"Promedio"]
[null,"Fórmula de cálculo",null,"NTOALg  /\n (NSALg/1000)"]
[null,"Número de variables",null,2]
[null,"Variables",null,"NTOALg: Número total de personal operativo para el servicio público domiciliario de alcantarillado en el período de facturación g. Hace referencia a la clasificación de la planta de personal autorizado y debe incluir toda el personal definido en el indicador, sin discriminación de su tipo de vinculación, profesión y/o dedicación de tiempo en su labores realizadas.\nNSALg: Número de suscriptores del servicio público domiciliario de alcantarillado el período de facturación g.\nCuando un trabajador tenga funciones asignada a más de un servicio, al estimar la variable NTOACg se deberá efectuar la proporción de dedicación de cada trabajador a realizar labores para el servicio público domiciliario de alcantarillado, de acuerdo con la siguiente formula:"]
[null,"Tendencia del indicador",null,"Creciente"]
[null,"Frecuencia de Cálculo y Análisis",null,"Mensual"]
[null,"Meta",null,{"$f":"Indicadores!S117","v":0.41}]
[null,"Elaboró","Sugerencia de planeación",null,null,null,"Fecha",2020]
[]
[null,"Año Actual"]
[null,"Mes","Variable 1","Variable 2","Indicador","Acumulado","Cumplimiento"]
[null,"Enero",null,null,{"$f":"C21/(D21/1000)","v":{"$error":"#DIV/0!"}},{"$f":"AVERAGE(E21:E21)","v":{"$error":"#DIV/0!"}},{"$f":"F21/D16","v":{"$error":"#DIV/0!"}}]
[null,"Febrero",null,null,{"$f":"C22/(D22/1000)","v":{"$error":"#DIV/0!"}},{"$f":"AVERAGE(E21:E22)","v":{"$error":"#DIV/0!"}},{"$f":"F22/D16","v":{"$error":"#DIV/0!"}}]
[null,"Marzo",null,null,{"$error":"#DIV/0!"},{"$f":"AVERAGE(E21:E23)","v":{"$error":"#DIV/0!"}},{"$f":"F23/D16","v":{"$error":"#DIV/0!"}}]
[null,"Abril",null,null,{"$error":"#DIV/0!"},{"$f":"AVERAGE(E21:E24)","v":{"$error":"#DIV/0!"}},{"$f":"F24/D16","v":{"$error":"#DIV/0!"}}]
[null,"Mayo",null,null,{"$error":"#DIV/0!"},{"$f":"AVERAGE(E21:E25)","v":{"$error":"#DIV/0!"}},{"$f":"F25/D16","v":{"$error":"#DIV/0!"}}]
[null,"Junio",null,null,{"$error":"#DIV/0!"},{"$f":"AVERAGE(E21:E26)","v":{"$error":"#DIV/0!"}},{"$f":"F26/D16","v":{"$error":"#DIV/0!"}}]
[null,"Julio",null,null,{"$error":"#DIV/0!"},{"$f":"AVERAGE(E21:E27)","v":{"$error":"#DIV/0!"}},{"$f":"F27/D16","v":{"$error":"#DIV/0!"}}]
[null,"Agosto",null,null,{"$error":"#DIV/0!"},{"$f":"AVERAGE(E21:E28)","v":{"$error":"#DIV/0!"}},{"$f":"F28/D16","v":{"$error":"#DIV/0!"}}]
[null,"Septiembre",null,null,{"$error":"#DIV/0!"},{"$f":"AVERAGE(E21:E29)","v":{"$error":"#DIV/0!"}},{"$f":"F29/D16","v":{"$error":"#DIV/0!"}}]
[null,"Octubre",null,null,{"$error":"#DIV/0!"},{"$f":"AVERAGE(E21:E30)","v":{"$error":"#DIV/0!"}},{"$f":"F30/D16","v":{"$error":"#DIV/0!"}}]
[null,"Noviembre",null,null,{"$error":"#DIV/0!"},{"$f":"AVERAGE(E21:E31)","v":{"$error":"#DIV/0!"}},{"$f":"F31/D16","v":{"$error":"#DIV/0!"}}]
[null,"Diciembre",null,null,{"$error":"#DIV/0!"},{"$f":"AVERAGE(E21:E32)","v":{"$error":"#DIV/0!"}},{"$f":"F32/D16","v":{"$error":"#DIV/0!"}}]

{"sheet":"OR005_Analisis","index":250,"n_rows":32,"n_cols":10,"rows_kept":32,"cut":false,"hidden":false,"merged":[[14,1,14,2],[14,3,14,9],[15,1,15,2],[15,3,15,9],[16,2,16,5],[16,7,16,9],[11,1,11,2],[11,3,11,9],[12,1,12,2],[12,3,12,9],[13,1,13,2],[13,3,13,9],[10,1,10,2],[10,3,10,9],[1,1,6,2],[1,3,3,7],[1,8,3,8],[1,9,3,9],[4,3,6,7],[4,8,6,9],[7,1,7,9],[8,1,8,2],[8,3,8,7],[9,1,9,2],[9,3,9,8]]}
[]
[null,null,null,"SERVICIUDAD ESP",null,null,null,null,"Código SPFO-21","Versión 01"]
[]
[]
[null,null,null,"FICHA DE ANÁLISIS DEL INDICADOR",null,null,null,null,"PAGINA 01"]
[]
[]
[]
[null,"Nombre del índicador",null,"Relación de Costos y Gastos Administrativos por Gestión Social — GS ",null,null,null,null,"Código: ","OR005"]
[null,"Estilo de cálculo",null,"Promedio"]
[null,"Fórmula de cálculo",null,"(CGGS/GOAAA) x100"]
[null,"Número de variables",null,2]
[null,"Variables",null,"CGGS: Costos y gastos totales destinados a gestión social, hacen referencia a los costos y gatos intangibles realizados por el prestador, sin incluir impuestos. corresponde al valor registrado en la contabilidad del prestador por concepto de erogaciones que realizó, durante el periodo de evaluación, con el fin de mejorar la relación con el suscritor, así como las actividades que inciden en es mejoramiento de la cultura ciudadana frente aspectos relacionado con la prestación de los servicios públicos domiciliarios de acueducto y/o alcantarillado. Se incluyen las cuentas representan los recursos destinados por la empresa prestadora en educación ambienta, uso eficiente de agua, y saneamiento, de conformidad con las disposiciones legales.\nGOAAA: Costos operativos y gastos administrativos generados durante el período de evaluación correspondientes a la proporción para los servicios públicos domiciliarios de acueducto y /o alcantarillado. Se deben incluir todas las erogaciones asociadas a la prestación de los públicos domiciliarios de acueducto y/o alcantarillado, incluidas las generadas por la actividad comercial, así como los depreciaciones y amortizaciones."]
[null,"Tendencia del indicador",null,"Creciente"]
[null,"Frecuencia de Cálculo y Análisis",null,"Mensual"]
[null,"Meta",null,{"$f":"Indicadores!S118","v":0.33}]
[null,"Elaboró","Sugerencia de planeación",null,null,null,"Fecha",2020]
[]
[null,"Año Actual"]
[null,"Mes","Variable 1","Variable 2","Indicador","Acumulado","Cumplimiento"]
[null,"Enero",null,null,{"$f":"(C21/D21)*100","v":{"$error":"#DIV/0!"}},{"$f":"AVERAGE(E21:E21)","v":{"$error":"#DIV/0!"}},{"$f":"F21/D16","v":{"$error":"#DIV/0!"}}]
[null,"Febrero",null,null,{"$f":"(C22/D22)*100","v":{"$error":"#DIV/0!"}},{"$f":"AVERAGE(E21:E22)","v":{"$error":"#DIV/0!"}},{"$f":"F22/D16","v":{"$error":"#DIV/0!"}}]
[null,"Marzo",null,null,{"$error":"#DIV/0!"},{"$f":"AVERAGE(E21:E23)","v":{"$error":"#DIV/0!"}},{"$f":"F23/D16","v":{"$error":"#DIV/0!"}}]
[null,"Abril",null,null,{"$error":"#DIV/0!"},{"$f":"AVERAGE(E21:E24)","v":{"$error":"#DIV/0!"}},{"$f":"F24/D16","v":{"$error":"#DIV/0!"}}]
[null,"Mayo",null,null,{"$error":"#DIV/0!"},{"$f":"AVERAGE(E21:E25)","v":{"$error":"#DIV/0!"}},{"$f":"F25/D16","v":{"$error":"#DIV/0!"}}]
[null,"Junio",null,null,{"$error":"#DIV/0!"},{"$f":"AVERAGE(E21:E26)","v":{"$error":"#DIV/0!"}},{"$f":"F26/D16","v":{"$error":"#DIV/0!"}}]
[null,"Julio",null,null,{"$error":"#DIV/0!"},{"$f":"AVERAGE(E21:E27)","v":{"$error":"#DIV/0!"}},{"$f":"F27/D16","v":{"$error":"#DIV/0!"}}]
[null,"Agosto",null,null,{"$error":"#DIV/0!"},{"$f":"AVERAGE(E21:E28)","v":{"$error":"#DIV/0!"}},{"$f":"F28/D16","v":{"$error":"#DIV/0!"}}]
[null,"Septiembre",null,null,{"$error":"#DIV/0!"},{"$f":"AVERAGE(E21:E29)","v":{"$error":"#DIV/0!"}},{"$f":"F29/D16","v":{"$error":"#DIV/0!"}}]
[null,"Octubre",null,null,{"$error":"#DIV/0!"},{"$f":"AVERAGE(E21:E30)","v":{"$error":"#DIV/0!"}},{"$f":"F30/D16","v":{"$error":"#DIV/0!"}}]
[null,"Noviembre",null,null,{"$error":"#DIV/0!"},{"$f":"AVERAGE(E21:E31)","v":{"$error":"#DIV/0!"}},{"$f":"F31/D16","v":{"$error":"#DIV/0!"}}]
[null,"Diciembre",null,null,{"$error":"#DIV/0!"},{"$f":"AVERAGE(E21:E32)","v":{"$error":"#DIV/0!"}},{"$f":"F32/D16","v":{"$error":"#DIV/0!"}}]

{"sheet":"OR006_Analisis","index":251,"n_rows":24,"n_cols":10,"rows_kept":24,"cut":false,"hidden":false,"merged":[[14,1,14,2],[14,3,14,9],[15,1,15,2],[15,3,15,9],[16,2,16,5],[16,7,16,9],[11,1,11,2],[11,3,11,9],[12,1,12,2],[12,3,12,9],[13,1,13,2],[13,3,13,9],[10,1,10,2],[10,3,10,9],[1,1,6,2],[1,3,3,7],[1,8,3,8],[1,9,3,9],[4,3,6,7],[4,8,6,9],[7,1,7,9],[8,1,8,2],[8,3,8,7],[9,1,9,2],[9,3,9,8]]}
[]
[null,null,null,"SERVICIUDAD ESP",null,null,null,null,"Código SPFO-21","Versión 01"]
[]
[]
[null,null,null,"FICHA DE ANÁLISIS DEL INDICADOR",null,null,null,null,"PAGINA 01"]
[]
[]
[]
[null,"Nombre del índicador",null,"Indice de Rotación de Personal Directivo — IRDP",null,null,null,null,"Código: ","OR006"]
[null,"Estilo de cálculo",null,"Promedio"]
[null,"Fórmula de cálculo",null,"∑Ll=1 ALl / L"]
[null,"Número de variables",null,2]
[null,"Variables",null,"l:  Personal directivo correspondiente al gerente general o presidente, y/o a los directivos de áreas, quienes laboren y/o hayan laborado desde el año 2012  hasta el período de evaluación, donde / = [1,2,3,4  L}. El personal directivo será definido por cada prestador, de acuerdo con su estructura organizacional. \nL:  Número de personal directiva que hayan laborado desde el año 2012  hasta el período de evaluación.\nAL/:  Años laborados del personal directivo 1, a partir del año 2012. \nPara la aplicación de esta fórmula se debe tener en cuenta los siguientes aspectos: \n• Cada vez que se genere un cambio de cargo, reincorporación y/o contratación de nuevo personal, deberá reportarse como personas diferentes y/o nuevas\n• Para el caso de reemplazos y encargos, se contará como un solo cargo y una misma persona, siempre que el tiempo no supere seis (6) meses.\n• Se tendrá en cuenta el año de inicio de operación del prestador. \n• El indicador es aplicable a prestadores que empleen una fórmula tarifaria contractual en los términos del parágrafo 1 del artículo 87 de la Ley 142 de 1994, lo anterior, de acuerdo con el alcance de lo previsto en el contrato. "]
[null,"Tendencia del indicador",null,"Creciente"]
[null,"Frecuencia de Cálculo y Análisis",null,"Trimestral"]
[null,"Meta",null,{"$f":"Indicadores!S119","v":3}]
[null,"Elaboró","Sugerencia de planeación",null,null,null,"Fecha",2020]
[]
[null,"Año Actual"]
[null,"Trimestre","Variable 1","Variable 2","Indicador","Acumulado","Cumplimiento"]
[null,"Trimestre1",null,null,{"$f":"C21/D21","v":{"$error":"#DIV/0!"}},{"$f":"AVERAGE(E21:E21)","v":{"$error":"#DIV/0!"}},{"$f":"F21/D16","v":{"$error":"#DIV/0!"}}]
[null,"Trimestre2",null,null,{"$f":"C22/D22","v":{"$error":"#DIV/0!"}},{"$f":"AVERAGE(E21:E22)","v":{"$error":"#DIV/0!"}},{"$f":"F22/D16","v":{"$error":"#DIV/0!"}}]
[null,"Trimestre3",null,null,{"$f":"C23/D23","v":{"$error":"#DIV/0!"}},{"$f":"AVERAGE(E21:E23)","v":{"$error":"#DIV/0!"}},{"$f":"F23/D16","v":{"$error":"#DIV/0!"}}]
[null,"Trimestre4",null,null,{"$f":"C24/D24","v":{"$error":"#DIV/0!"}},{"$f":"AVERAGE(E21:E24)","v":{"$error":"#DIV/0!"}},{"$f":"F24/D16","v":{"$error":"#DIV/0!"}}]

{"sheet":"OR007_Analisis","index":252,"n_rows":24,"n_cols":10,"rows_kept":24,"cut":false,"hidden":false,"merged":[[14,1,14,2],[14,3,14,9],[15,1,15,2],[15,3,15,9],[16,2,16,5],[16,7,16,9],[11,1,11,2],[11,3,11,9],[12,1,12,2],[12,3,12,9],[13,1,13,2],[13,3,13,9],[10,1,10,2],[10,3,10,9],[1,1,6,2],[1,3,3,7],[1,8,3,8],[1,9,3,9],[4,3,6,7],[4,8,6,9],[7,1,7,9],[8,1,8,2],[8,3,8,7],[9,1,9,2],[9,3,9,8]]}
[]
[null,null,null,"SERVICIUDAD ESP",null,null,null,null,"Código SPFO-21","Versión 01"]
[]
[]
[null,null,null,"FICHA DE ANÁLISIS DEL INDICADOR",null,null,null,null,"PAGINA 01"]
[]
[]
[]
[null,"Nombre del índicador",null,"Carga administrativa — ICA",null,null,null,null,"Código: ","OR007"]
[null,"Estilo de cálculo",null,"Promedio"]
[null,"Fórmula de cálculo",null,"(GPA / Ie) x 100"]
[null,"Número de variables",null,2]
[null,"Variables",null,"GPA: Gastos anuales del personal administrativo. Los cuales corresponden a los gastos anuales asociados a nómina y derivados de la relación contractual individual o colectiva con el prestador. \n/e: Ingresos de actividades ordinarias del período a evaluar. "]
[null,"Tendencia del indicador",null,"Creciente"]
[null,"Frecuencia de Cálculo y Análisis",null,"Trimestral"]
[null,"Meta",null,{"$f":"Indicadores!S120","v":17.66}]
[null,"Elaboró","Sugerencia de planeación",null,null,null,"Fecha",2020]
[]
[null,"Año Actual"]
[null,"Trimestre","Variable 1","Variable 2","Indicador","Acumulado","Cumplimiento"]
[null,"Trimestre1",null,null,{"$f":"(C21/D21)*100","v":{"$error":"#DIV/0!"}},{"$f":"AVERAGE(E21:E21)","v":{"$error":"#DIV/0!"}},{"$f":"F21/D16","v":{"$error":"#DIV/0!"}}]
[null,"Trimestre2",null,null,{"$f":"(C22/D22)*100","v":{"$error":"#DIV/0!"}},{"$f":"AVERAGE(E21:E22)","v":{"$error":"#DIV/0!"}},{"$f":"F22/D16","v":{"$error":"#DIV/0!"}}]
[null,"Trimestre3",null,null,{"$f":"(C23/D23)*100","v":{"$error":"#DIV/0!"}},{"$f":"AVERAGE(E21:E23)","v":{"$error":"#DIV/0!"}},{"$f":"F23/D16","v":{"$error":"#DIV/0!"}}]
[null,"Trimestre4",null,null,{"$f":"(C24/D24)*100","v":{"$error":"#DIV/0!"}},{"$f":"AVERAGE(E21:E24)","v":{"$error":"#DIV/0!"}},{"$f":"F24/D16","v":{"$error":"#DIV/0!"}}]

{"sheet":"OR008_Analisis","index":253,"n_rows":24,"n_cols":10,"rows_kept":24,"cut":false,"hidden":false,"merged":[[18,1,18,6],[14,1,14,2],[14,3,14,9],[15,1,15,2],[15,3,15,9],[16,2,16,5],[16,7,16,9],[11,1,11,2],[11,3,11,9],[12,1,12,2],[12,3,12,9],[13,1,13,2],[13,3,13,9],[10,1,10,2],[10,3,10,9],[1,1,6,2],[1,3,3,7],[1,8,3,8],[1,9,3,9],[4,3,6,7],[4,8,6,9],[7,1,7,9],[8,1,8,2],[8,3,8,7],[9,1,9,2],[9,3,9,8]]}
[]
[null,null,null,"SERVICIUDAD ESP",null,null,null,null,"Código SPFO-21","Versión 01"]
[]
[]
[null,null,null,"FICHA DE ANÁLISIS DEL INDICADOR",null,null,null,null,"PAGINA 01"]
[]
[]
[]
[null,"Nombre del índicador",null,"Eficiencia laboral alcantarillado",null,null,null,null,"Código: ","OR008"]
[null,"Estilo de cálculo",null,"Suma de componentes"]
[null,"Fórmula de cálculo",null,"Costos de Personal/Volumen de agua facturado (ultimos 12 meses)"]
[null,"Número de variables",null,2]
[null,"Variables",null,"Costos de Personal: Valor en pesos corrientes del total de pagos, durante los últimos doce meses,  por salarios, prestaciones, horas extras, y demás conceptos para el personal de planta administrativo y operativo, más servicios contratados con terceros.\nVolumen Facturado: Volumen de agua  que la empresa facturó durante los últimos doce meses. "]
[null,"Tendencia del indicador",null,"Decreciente"]
[null,"Frecuencia de Cálculo y Análisis",null,"Trimestral"]
[null,"Meta",null,{"$f":"Indicadores!S121","v":239}]
[null,"Elaboró","Sugerencia de planeación",null,null,null,"Fecha",2020]
[]
[null,"Año Actual 2020"]
[null,"Trimestre","Costos de \nPersonal","Volumen de agua facturado","Indicador","Acumulado","Cumplimiento"]
[null,"Trimestre1",693557028.05055654,2166268,{"$f":"C21/D21","v":320.16215355189502},{"$f":"SUM(C21:C137)/SUM(D21:D137)","v":359.07670669621808},{"$f":"IF(F21>0,D16/F21,1)","v":0.66559594522012822}]
[null,"Trimestre2",588677308.13422537,2091753,{"$f":"C22/D22","v":281.4277346007035},{"$f":"SUM(C21:C137)/SUM(D21:D137)","v":359.07670669621808},{"$f":"IF(F22>0,D16/F22,1)","v":0.66559594522012822}]
[null,"Trimestre3",724296090.24175835,2196657,{"$f":"C23/D23","v":329.72653001436197},{"$f":"SUM(C21:C137)/SUM(D21:D137)","v":359.07670669621808},{"$f":"IF(F23>0,D16/F23,1)","v":0.66559594522012822}]
[null,"Trimestre4",1106984198.8986304,2216212,{"$f":"C24/D24","v":499.4938204912844},{"$f":"SUM(C21:C137)/SUM(D21:D137)","v":359.07670669621808},{"$f":"IF(F24>0,D16/F24,1)","v":0.66559594522012822}]

{"sheet":"OR009_Analisis","index":254,"n_rows":24,"n_cols":10,"rows_kept":24,"cut":false,"hidden":false,"merged":[[18,1,18,6],[14,1,14,2],[14,3,14,9],[15,1,15,2],[15,3,15,9],[16,2,16,5],[16,7,16,9],[11,1,11,2],[11,3,11,9],[12,1,12,2],[12,3,12,9],[13,1,13,2],[13,3,13,9],[10,1,10,2],[10,3,10,9],[1,1,6,2],[1,3,3,7],[1,8,3,8],[1,9,3,9],[4,3,6,7],[4,8,6,9],[7,1,7,9],[8,1,8,2],[8,3,8,7],[9,1,9,2],[9,3,9,8]]}
[]
[null,null,null,"SERVICIUDAD ESP",null,null,null,null,"Código SPFO-21","Versión 01"]
[]
[]
[null,null,null,"FICHA DE ANÁLISIS DEL INDICADOR",null,null,null,null,"PAGINA 01"]
[]
[]
[]
[null,"Nombre del índicador",null,"Eficiencia laboral aseo",null,null,null,null,"Código: ","OR009"]
[null,"Estilo de cálculo",null,"Suma de componentes"]
[null,"Fórmula de cálculo",null,"Costos de Personal/Basura recogida(ultimos 12 meses ) toneladas"]
[null,"Número de variables",null,2]
[null,"Variables",null,"Costos de Personal: Valor en pesos corrientes del total de pagos, durante los últimos doce meses,  por salarios, prestaciones, horas extras, y demás conceptos para el personal de planta administrativo y operativo, más servicios contratados con terceros.\nBasura Recogida: Toneladas de basura recolectada en los últimos doce meses.\n"]
[null,"Tendencia del indicador",null,"Decreciente"]
[null,"Frecuencia de Cálculo y Análisis",null,"Trimestral"]
[null,"Meta",null,{"$f":"Indicadores!S122","v":120424}]
[null,"Elaboró","Sugerencia de planeación",null,null,null,"Fecha",2020]
[]
[null,"Año Actual 2020"]
[null,"Trimestre","Costos de \nPersonal","Basura recogida","Indicador","Acumulado","Cumplimiento"]
[null,"Trimestre1",1310994273.3659415,10247.59,{"$f":"C21/D21","v":127931.95994042906},{"$f":"SUM(C21:C138)/SUM(D21:D138)","v":138065.58531865265},{"$f":"IF(F21>0,D16/F21,1)","v":0.87222315193220512}]
[null,"Trimestre2",1461188863.8736808,10575.17,{"$f":"C22/D22","v":138171.66663738558},{"$f":"SUM(C21:C138)/SUM(D21:D138)","v":138065.58531865265},{"$f":"IF(F22>0,D16/F22,1)","v":0.87222315193220512}]
[null,"Trimestre3",1616170023.6409752,12208.211233,{"$f":"C23/D23","v":132383.8515565907},{"$f":"SUM(C21:C138)/SUM(D21:D138)","v":138065.58531865265},{"$f":"IF(F23>0,D16/F23,1)","v":0.87222315193220512}]
[null,"Trimestre4",1885613672.8135121,12410.96,{"$f":"C24/D24","v":151931.33108264889},{"$f":"SUM(C21:C138)/SUM(D21:D138)","v":138065.58531865265},{"$f":"IF(F24>0,D16/F24,1)","v":0.87222315193220512}]

{"sheet":"OR010_Analisis","index":255,"n_rows":32,"n_cols":10,"rows_kept":32,"cut":false,"hidden":false,"merged":[[18,1,18,6],[14,1,14,2],[14,3,14,9],[15,1,15,2],[15,3,15,9],[16,2,16,5],[16,7,16,9],[11,1,11,2],[11,3,11,9],[12,1,12,2],[12,3,12,9],[13,1,13,2],[13,3,13,9],[10,1,10,2],[10,3,10,9],[1,1,6,2],[1,3,3,7],[1,8,3,8],[1,9,3,9],[4,3,6,7],[4,8,6,9],[7,1,7,9],[8,1,8,2],[8,3,8,7],[9,1,9,2],[9,3,9,8]]}
[]
[null,null,null,"SERVICIUDAD ESP",null,null,null,null,"Código SPFO-21","Versión 01"]
[]
[]
[null,null,null,"FICHA DE ANÁLISIS DEL INDICADOR",null,null,null,null,"PAGINA 01"]
[]
[]
[]
[null,"Nombre del índicador",null,"Frecuencia de los accidentes laborales",null,null,null,null,"Código: ","OR010"]
[null,"Estilo de cálculo",null,"Promedio"]
[null,"Fórmula de cálculo",null,"(Número Accidentes/Total horas hombre) * 240000"]
[null,"Número de variables",null,2]
[null,"Variables"]
[null,"Tendencia del indicador",null,"Decreciente"]
[null,"Frecuencia de Cálculo y Análisis",null,"Mensual"]
[null,"Meta",null,{"$f":"Indicadores!S123","v":12}]
[null,"Elaboró","Sugerencia de planeación",null,null,null,"Fecha",2020]
[]
[null,"Año Actual 2020"]
[null,"Mes","Número de Accidentes","Totala Horas Hombre","Indicador","Acumulado","Cumplimiento"]
[null,"Enero",0,237,{"$f":"100*(C21/D21)","v":0},{"$f":"AVERAGE(E21:E21)","v":0},{"$f":"IF(F21>0,D16/F21,1)","v":1}]
[null,"Febrero",1,238,{"$f":"100*(C22/D22)","v":0.42016806722689076},{"$f":"AVERAGE(E21:E22)","v":0.21008403361344538},{"$f":"IF(F22>0,D16/F22,1)","v":57.12}]
[null,"Marzo",1,241,0.41493775933609961,{"$f":"AVERAGE(E21:E23)","v":0.27836860885433012},{"$f":"IF(F23>0,D16/F23,1)","v":43.108308977035492}]
[null,"Abril",3,240,1.25,{"$f":"AVERAGE(E21:E24)","v":0.52127645664074762},{"$f":"IF(F24>0,D16/F24,1)","v":23.020414306319111}]
[null,"Mayo",4,242,1.6528925619834711,{"$f":"AVERAGE(E21:E25)","v":0.74759967770929237},{"$f":"IF(F25>0,D16/F25,1)","v":16.051371285724734}]
[null,"Junio",1,272,0.36764705882352938,{"$f":"AVERAGE(E21:E26)","v":0.6842742412283318},{"$f":"IF(F26>0,D16/F26,1)","v":17.53682847751065}]
[null,"Julio",3,268,1.1194029850746268,{"$f":"AVERAGE(E21:E27)","v":0.74643549034923118},{"$f":"IF(F27>0,D16/F27,1)","v":16.076406005809851}]
[null,"Agosto",3,272,1.1029411764705883,{"$f":"AVERAGE(E21:E28)","v":0.79099870111440085},{"$f":"IF(F28>0,D16/F28,1)","v":15.170694949427558}]
[null,"Septiembre",5,275,1.8181818181818181,{"$f":"AVERAGE(E21:E29)","v":0.90513015856633616},{"$f":"IF(F29>0,D16/F29,1)","v":13.257761755510582}]
[null,"Octubre",4,279,1.4336917562724014,{"$f":"AVERAGE(E21:E30)","v":0.95798631833694259},{"$f":"IF(F30>0,D16/F30,1)","v":12.52627492721599}]
[null,"Noviembre",6,280,2.1428571428571428,{"$f":"AVERAGE(E21:E31)","v":1.065701847838779},{"$f":"IF(F31>0,D16/F31,1)","v":11.260185036120326}]
[null,"Diciembre",null,null,{"$error":"#DIV/0!"},{"$f":"AVERAGE(E21:E32)","v":{"$error":"#DIV/0!"}},{"$f":"IF(F32>0,D16/F32,1)","v":{"$error":"#DIV/0!"}}]

{"sheet":"OR011_Analisis","index":256,"n_rows":34,"n_cols":10,"rows_kept":34,"cut":false,"hidden":false,"merged":[[18,1,18,7],[14,1,14,2],[14,3,14,9],[15,1,15,2],[15,3,15,9],[16,2,16,5],[16,7,16,9],[11,1,11,2],[11,3,11,9],[12,1,12,2],[12,3,12,9],[13,1,13,2],[13,3,13,9],[10,1,10,2],[10,3,10,9],[1,1,6,2],[1,3,3,7],[1,8,3,8],[1,9,3,9],[4,3,6,7],[4,8,6,9],[7,1,7,9],[8,1,8,2],[8,3,8,7],[9,1,9,2],[9,3,9,8]]}
[]
[null,null,null,"SERVICIUDAD ESP",null,null,null,null,"Código SPFO-21","Versión 01"]
[]
[]
[null,null,null,"FICHA DE ANÁLISIS DEL INDICADOR",null,null,null,null,"PAGINA 01"]
[]
[]
[]
[null,"Nombre del índicador",null,"Severidad de los accidentes laborales",null,null,null,null,"Código: ","OR011"]
[null,"Estilo de cálculo",null,"Promedio"]
[null,"Fórmula de cálculo",null,"(Números Dias perdidos+Días cargados/Horas hombre)*240000"]
[null,"Número de variables",null,3]
[null,"Variables"]
[null,"Tendencia del indicador",null,"Decreciente"]
[null,"Frecuencia de Cálculo y Análisis",null,"Mensual"]
[null,"Meta",null,{"$f":"Indicadores!S124","v":20}]
[null,"Elaboró","Sugerencia de planeación",null,null,null,"Fecha",2020]
[]
[null,"Año Actual 2020"]
[null,"Mes","Número de Días \nPerdidos","Días Cargados","Horas Hombre","Indicador","Acumulado","Cumplimiento"]
[null,"Enero",0,0,237,{"$f":"100*(C21+D21)/(E21)","v":0},{"$f":"AVERAGE(F21:F21)","v":0},{"$f":"IF(G21>0,D16/G21,1)","v":1}]
[null,"Febrero",5,0,238,{"$f":"100*(C22+D22)/(E22)","v":2.1008403361344539},{"$f":"AVERAGE(F21:F22)","v":1.0504201680672269},{"$f":"IF(G22>0,D16/G22,1)","v":19.04}]
[null,"Marzo",3,0,241,1.2448132780082988,{"$f":"AVERAGE(F21:F23)","v":1.1152178713809175},{"$f":"IF(G23>0,D16/G23,1)","v":17.933715476810839}]
[null,"Abril",16,0,240,6.666666666666667,{"$f":"AVERAGE(F21:F24)","v":2.5030800702023548},{"$f":"IF(G24>0,D16/G24,1)","v":7.9901559035557153}]
[null,"Mayo",12,0,242,4.9586776859504136,{"$f":"AVERAGE(F21:F25)","v":2.9941995933519663},{"$f":"IF(G25>0,D16/G25,1)","v":6.6795814295099376}]
[null,"Junio",2,null,272,0.73529411764705888,{"$f":"AVERAGE(F21:F26)","v":2.6177153474011483},{"$f":"IF(G26>0,D16/G26,1)","v":7.6402501211049847}]
[null,"Julio",8,null,268,2.9850746268656718,{"$f":"AVERAGE(F21:F27)","v":2.6701952444675086},{"$f":"IF(G27>0,D16/G27,1)","v":7.4900889893496938}]
[null,"Agosto",9,null,272,3.3088235294117645,{"$f":"AVERAGE(F21:F28)","v":2.7500237800855407},{"$f":"IF(G28>0,D16/G28,1)","v":7.2726643837886709}]
[null,"Septiembre",15,null,275,5.4545454545454541,{"$f":"AVERAGE(F21:F29)","v":3.0505261883588641},{"$f":"IF(G29>0,D16/G29,1)","v":6.556245960556625}]
[null,"Octubre",21,null,279,7.5268817204301079,{"$f":"AVERAGE(F21:F30)","v":3.4981617415659882},{"$f":"IF(G30>0,D16/G30,1)","v":5.7172885296741009}]
[null,"Noviembre",30,null,280,10.714285714285714,{"$f":"AVERAGE(F21:F31)","v":4.1541730118132358},{"$f":"IF(G31>0,D16/G31,1)","v":4.814435976336549}]
[null,"Diciembre",null,null,null,{"$error":"#DIV/0!"},{"$f":"AVERAGE(F21:F32)","v":{"$error":"#DIV/0!"}},{"$f":"IF(G32>0,D16/G32,1)","v":{"$error":"#DIV/0!"}}]
[]
[null,null,"((C12+D12)/(G12)*$J$8,\"\")"]

{"sheet":"OR012_Analisis","index":257,"n_rows":32,"n_cols":10,"rows_kept":32,"cut":false,"hidden":false,"merged":[[15,1,15,2],[15,3,15,9],[16,2,16,5],[16,7,16,9],[12,1,12,2],[12,3,12,9],[13,1,13,2],[13,3,13,9],[14,1,14,2],[14,3,14,9],[18,1,18,7],[10,1,10,2],[10,3,10,9],[1,1,6,2],[1,3,3,7],[1,8,3,8],[1,9,3,9],[4,3,6,7],[4,8,6,9],[7,1,7,9],[8,1,8,2],[8,3,8,7],[9,1,9,2],[9,3,9,8],[11,1,11,2],[11,3,11,9]]}
[]
[null,null,null,"SERVICIUDAD ESP",null,null,null,null,"Código SPFO-21","Versión 01"]
[]
[]
[null,null,null,"FICHA DE ANÁLISIS DEL INDICADOR",null,null,null,null,"PAGINA 01"]
[]
[]
[]
[null,"Nombre del índicador",null,"Ausentismo ",null,null,null,null,"Código: ","OR012"]
[null,"Estilo de cálculo",null,"Promedio"]
[null,"Fórmula de cálculo",null,"(Número días Ausencias laborales y comunes /Números días de trabajo programados)*100"]
[null,"Número de variables",null,2]
[null,"Variables"]
[null,"Tendencia del indicador",null,"Decreciente"]
[null,"Frecuencia de Cálculo y Análisis",null,"Mensual"]
[null,"Meta",null,{"$f":"Indicadores!S125","v":4}]
[null,"Elaboró","Sugerencia de planeación",null,null,null,"Fecha",2020]
[]
[null,"Año Actual 2020"]
[null,"Mes","N° Días de Aucencia por Incapacidad  Laboral ","Días De ausentismo por incapacidad Común","Número \nDías Trabajadores","Indicador","Acumulado","Cumplimiento"]
[null,"Enero",0,157,5688,{"$f":"((C21+D21)/E21*100)","v":2.7601969057665259},{"$f":"AVERAGE(F21:F21)","v":2.7601969057665259},{"$f":"IF(G21>0,D16/G21,1)","v":1.4491719745222931}]
[null,"Febrero",5,191,5712,{"$f":"((C22+D22)/E22*100)","v":3.4313725490196081},{"$f":"AVERAGE(F21:F22)","v":3.0957847273930668},{"$f":"IF(G22>0,D16/G22,1)","v":1.2920795055954568}]
[null,"Marzo",21,224,5784,4.23582295988935,{"$f":"AVERAGE(F21:F23)","v":3.4757974715584949},{"$f":"IF(G23>0,D16/G23,1)","v":1.1508150381979709}]
[null,"Abril",41,86,5760,2.2048611111111112,{"$f":"AVERAGE(F21:F24)","v":3.1580633814466488},{"$f":"IF(G24>0,D16/G24,1)","v":1.2665990250542964}]
[null,"Mayo",18,80,5808,1.6873278236914602,{"$f":"AVERAGE(F21:F25)","v":2.8639162698956109},{"$f":"IF(G25>0,D16/G25,1)","v":1.3966888774111399}]
[null,"Junio",2,95,6528,1.485906862745098,{"$f":"AVERAGE(F21:F26)","v":2.6342480353705255},{"$f":"IF(G26>0,D16/G26,1)","v":1.518459896824929}]
[null,"Julio",10,164,6432,2.7052238805970146,{"$f":"AVERAGE(F21:F27)","v":2.6443874418314524},{"$f":"IF(G27>0,D16/G27,1)","v":1.5126376478439469}]
[null,"Agosto",9,209,6528,3.3394607843137254,{"$f":"AVERAGE(F21:F28)","v":2.7312716096417367},{"$f":"IF(G28>0,D16/G28,1)","v":1.4645193051762009}]
[null,"Septiembre",23,215,6600,3.6060606060606064,{"$f":"AVERAGE(F21:F29)","v":2.828470387021611},{"$f":"IF(G29>0,D16/G29,1)","v":1.414191931566239}]
[null,"Octubre",32,185,6696,3.2407407407407405,{"$f":"AVERAGE(F21:F30)","v":2.8696974223935241},{"$f":"IF(G30>0,D16/G30,1)","v":1.3938751761026171}]
[null,"Noviembre",30,141,6720,2.5446428571428572,{"$f":"AVERAGE(F21:F31)","v":2.840147007370736},{"$f":"IF(G31>0,D16/G31,1)","v":1.4083778021416564}]
[null,"Diciembre",null,null,null,{"$error":"#DIV/0!"},{"$f":"AVERAGE(F21:F32)","v":{"$error":"#DIV/0!"}},{"$f":"IF(G32>0,D16/G32,1)","v":{"$error":"#DIV/0!"}}]

{"sheet":"OR013_Analisis","index":258,"n_rows":32,"n_cols":10,"rows_kept":32,"cut":false,"hidden":false,"merged":[[15,1,15,2],[15,3,15,9],[16,2,16,5],[16,7,16,9],[12,1,12,2],[12,3,12,9],[13,1,13,2],[13,3,13,9],[14,1,14,2],[14,3,14,9],[18,1,18,6],[10,1,10,2],[10,3,10,9],[1,1,6,2],[1,3,3,7],[1,8,3,8],[1,9,3,9],[4,3,6,7],[4,8,6,9],[7,1,7,9],[8,1,8,2],[8,3,8,7],[9,1,9,2],[9,3,9,8],[11,1,11,2],[11,3,11,9]]}
[]
[null,null,null,"SERVICIUDAD ESP",null,null,null,null,"Código SPFO-21","Versión 01"]
[]
[]
[null,null,null,"FICHA DE ANÁLISIS DEL INDICADOR",null,null,null,null,"PAGINA 01"]
[]
[]
[]
[null,"Nombre del índicador",null,"Proporción de Accidentes de trabajos mortales",null,null,null,null,"Código: ","OR013"]
[null,"Estilo de cálculo",null,"Promedio"]
[null,"Fórmula de cálculo",null,"(Número de accidentes mortales en el período/Total de accidentes en el período)"]
[null,"Número de variables",null,2]
[null,"Variables"]
[null,"Tendencia del indicador",null,"Decreciente"]
[null,"Frecuencia de Cálculo y Análisis",null,"Mensual"]
[null,"Meta",null,{"$f":"Indicadores!S126","v":0}]
[null,"Elaboró","Sugerencia de planeación",null,null,null,"Fecha",2020]
[]
[null,"Año Actual 2020"]
[null,"Mes","No.\n de Accidentes Mortales","No. Accidentes Trabajo","Indicador","Acumulado","Cumplimiento"]
[null,"Enero",0,0,{"$f":"IFERROR((C21/D21)*100,\"0,00%\")","v":"0,00%"},{"$f":"IFERROR(AVERAGE(E21:E21)*0,\"0%\")","v":"0%"},{"$f":"IFERROR(IF(F21>0,D16/F21,1)*1,\"1\")","v":"1"}]
[null,"Febrero",0,1,{"$f":"C22/D22","v":0},{"$f":"AVERAGE(E21:E22)","v":0},{"$f":"IF(F22>0,D16/F22,1)","v":1}]
[null,"Marzo",0,1,{"$f":"IFERROR((C23/D23)*100,\"0,00%\")","v":0},{"$f":"AVERAGE(E21:E23)","v":0},{"$f":"IF(F23>0,D16/F23,1)","v":1}]
[null,"Abril",0,3,{"$f":"C24/D24","v":0},{"$f":"AVERAGE(E21:E24)","v":0},{"$f":"IF(F24>0,D16/F24,1)","v":1}]
[null,"Mayo",0,4,{"$f":"C25/D25","v":0},{"$f":"AVERAGE(E21:E25)","v":0},{"$f":"IF(F25>0,D16/F25,1)","v":1}]
[null,"Junio",0,1,0,{"$f":"AVERAGE(E21:E26)","v":0},{"$f":"IF(F26>0,D16/F26,1)","v":1}]
[null,"Julio",0,3,{"$f":"IFERROR((C27/D27)*100,\"0,00%\")","v":0},{"$f":"AVERAGE(E21:E27)","v":0},{"$f":"IF(F27>0,D16/F27,1)","v":1}]
[null,"Agosto",0,3,0,{"$f":"AVERAGE(E21:E28)","v":0},{"$f":"IF(F28>0,D16/F28,1)","v":1}]
[null,"Septiembre",0,5,0,{"$f":"AVERAGE(E21:E29)","v":0},{"$f":"IF(F29>0,D16/F29,1)","v":1}]
[null,"Octubre",0,4,0,{"$f":"AVERAGE(E21:E30)","v":0},{"$f":"IF(F30>0,D16/F30,1)","v":1}]
[null,"Noviembre",0,6,0,{"$f":"AVERAGE(E21:E31)","v":0},{"$f":"IF(F31>0,D16/F31,1)","v":1}]
[null,"Diciembre",null,null,"0,00%",{"$f":"AVERAGE(E21:E32)","v":0},{"$f":"IF(F32>0,D16/F32,1)","v":1}]

{"sheet":"OR014_Analisis","index":259,"n_rows":32,"n_cols":10,"rows_kept":32,"cut":false,"hidden":false,"merged":[[15,1,15,2],[15,3,15,9],[16,2,16,5],[16,7,16,9],[12,1,12,2],[12,3,12,9],[13,1,13,2],[13,3,13,9],[14,1,14,2],[14,3,14,9],[18,1,18,6],[10,1,10,2],[10,3,10,9],[1,1,6,2],[1,3,3,7],[1,8,3,8],[1,9,3,9],[4,3,6,7],[4,8,6,9],[7,1,7,9],[8,1,8,2],[8,3,8,7],[9,1,9,2],[9,3,9,8],[11,1,11,2],[11,3,11,9]]}
[]
[null,null,null,"SERVICIUDAD ESP",null,null,null,null,"Código SPFO-21","Versión 01"]
[]
[]
[null,null,null,"FICHA DE ANÁLISIS DEL INDICADOR",null,null,null,null,"PAGINA 01"]
[]
[]
[]
[null,"Nombre del índicador",null,"Prevalencia de la enfermedad laboral",null,null,null,null,"Código: ","OR014"]
[null,"Estilo de cálculo",null,"Promedio"]
[null,"Fórmula de cálculo",null,"(Número de casos nuevos y antiguos de enfermedad laboral en el período/ Promedio trabajadores en el período)*100"]
[null,"Número de variables",null,2]
[null,"Variables"]
[null,"Tendencia del indicador",null,"Decreciente"]
[null,"Frecuencia de Cálculo y Análisis",null,"Mensual"]
[null,"Meta",null,{"$f":"Indicadores!S127","v":2100}]
[null,"Elaboró","Sugerencia de planeación",null,null,null,"Fecha",2020]
[]
[null,"Año Actual 2020"]
[null,"Mes","Casos Nuevos \ny Antiguos de Enfermedad Laboral","Promedio Trabajadores","Indicador","Acumulado","Cumplimiento"]
[null,"Enero",4,237,{"$f":"100000*C21/D21","v":1687.7637130801688},{"$f":"AVERAGE(E21:E21)","v":1687.7637130801688},{"$f":"IF(F21>0,D16/F21,1)","v":1.2442499999999999}]
[null,"Febrero",4,238,{"$f":"100000*C22/D22","v":1680.672268907563},{"$f":"AVERAGE(E21:E22)","v":1684.2179909938659},{"$f":"IF(F22>0,D16/F22,1)","v":1.2468694736842105}]
[null,"Marzo",4,241,1659.7510373443984,{"$f":"AVERAGE(E21:E23)","v":1676.0623397773768},{"$f":"IF(F23>0,D16/F23,1)","v":1.252936689860195}]
[null,"Abril",4,240,1666.6666666666667,{"$f":"AVERAGE(E21:E24)","v":1673.7134214996993},{"$f":"IF(F24>0,D16/F24,1)","v":1.2546950828167074}]
[null,"Mayo",4,242,1652.8925619834711,{"$f":"AVERAGE(E21:E25)","v":1669.5492495964536},{"$f":"IF(F25>0,D16/F25,1)","v":1.257824529888885}]
[null,"Junio",4,272,1470.5882352941176,{"$f":"AVERAGE(E21:E26)","v":1636.3890805460642},{"$f":"IF(F26>0,D16/F26,1)","v":1.2833133788079474}]
[null,"Julio",3,268,1119.4029850746269,{"$f":"AVERAGE(E21:E27)","v":1562.5339240501446},{"$f":"IF(F27>0,D16/F27,1)","v":1.3439708205225547}]
[null,"Agosto",3,272,1102.9411764705883,{"$f":"AVERAGE(E21:E28)","v":1505.0848306027001},{"$f":"IF(F28>0,D16/F28,1)","v":1.3952701916204089}]
[null,"Septiembre",3,275,1090.909090909091,{"$f":"AVERAGE(E21:E29)","v":1459.0653039700769},{"$f":"IF(F29>0,D16/F29,1)","v":1.4392775938718831}]
[null,"Octubre",3,279,1075.2688172043011,{"$f":"AVERAGE(E21:E30)","v":1420.6856552934994},{"$f":"IF(F30>0,D16/F30,1)","v":1.4781595014881466}]
[null,"Noviembre",3,280,1071.4285714285713,{"$f":"AVERAGE(E21:E31)","v":1388.9350113057787},{"$f":"IF(F31>0,D16/F31,1)","v":1.5119497909594259}]
[null,"Diciembre",null,null,{"$error":"#DIV/0!"},{"$f":"AVERAGE(E21:E32)","v":{"$error":"#DIV/0!"}},{"$f":"IF(F32>0,D16/F32,1)","v":{"$error":"#DIV/0!"}}]

{"sheet":"OR015_Analisis","index":260,"n_rows":32,"n_cols":10,"rows_kept":32,"cut":false,"hidden":false,"merged":[[15,1,15,2],[15,3,15,9],[16,2,16,5],[16,7,16,9],[12,1,12,2],[12,3,12,9],[13,1,13,2],[13,3,13,9],[14,1,14,2],[14,3,14,9],[18,1,18,6],[10,1,10,2],[10,3,10,9],[1,1,6,2],[1,3,3,7],[1,8,3,8],[1,9,3,9],[4,3,6,7],[4,8,6,9],[7,1,7,9],[8,1,8,2],[8,3,8,7],[9,1,9,2],[9,3,9,8],[11,1,11,2],[11,3,11,9]]}
[]
[null,null,null,"SERVICIUDAD ESP",null,null,null,null,"Código SPFO-21","Versión 01"]
[]
[]
[null,null,null,"FICHA DE ANÁLISIS DEL INDICADOR",null,null,null,null,"PAGINA 01"]
[]
[]
[]
[null,"Nombre del índicador",null,"Incidencia de la enfermedad laboral",null,null,null,null,"Código: ","OR015"]
[null,"Estilo de cálculo",null,"Promedio"]
[null,"Fórmula de cálculo",null,"(Número de casos nuevos de enfermedad laboral/ Promedio trabajadores en el período)*100"]
[null,"Número de variables",null,2]
[null,"Variables"]
[null,"Tendencia del indicador",null,"Decreciente"]
[null,"Frecuencia de Cálculo y Análisis",null,"Mensual"]
[null,"Meta",null,{"$f":"Indicadores!S128","v":0}]
[null,"Elaboró","Sugerencia de planeación",null,null,null,"Fecha",2020]
[]
[null,"Año Actual 2020"]
[null,"Mes","Número de casos nuevos de enfermedad laboral"," Promedio trabajadores en el período","Indicador","Acumulado","Cumplimiento"]
[null,"Enero",0,237,{"$f":"100000*C21/D21","v":0},{"$f":"AVERAGE(E21:E21)","v":0},{"$f":"IF(F21>0,D16/F21,1)","v":1}]
[null,"Febrero",0,238,{"$f":"100000*C22/D22","v":0},{"$f":"AVERAGE(E21:E22)","v":0},{"$f":"IF(F22>0,D16/F22,1)","v":1}]
[null,"Marzo",0,241,0,{"$f":"AVERAGE(E21:E23)","v":0},{"$f":"IF(F23>0,D16/F23,1)","v":1}]
[null,"Abril",0,240,0,{"$f":"AVERAGE(E21:E24)","v":0},{"$f":"IF(F24>0,D16/F24,1)","v":1}]
[null,"Mayo",0,242,0,{"$f":"AVERAGE(E21:E25)","v":0},{"$f":"IF(F25>0,D16/F25,1)","v":1}]
[null,"Junio",0,272,0,{"$f":"AVERAGE(E21:E26)","v":0},{"$f":"IF(F26>0,D16/F26,1)","v":1}]
[null,"Julio",0,268,0,{"$f":"AVERAGE(E21:E27)","v":0},{"$f":"IF(F27>0,D16/F27,1)","v":1}]
[null,"Agosto",0,272,0,{"$f":"AVERAGE(E21:E28)","v":0},{"$f":"IF(F28>0,D16/F28,1)","v":1}]
[null,"Septiembre",0,275,0,{"$f":"AVERAGE(E21:E29)","v":0},{"$f":"IF(F29>0,D16/F29,1)","v":1}]
[null,"Octubre",0,279,0,{"$f":"AVERAGE(E21:E30)","v":0},{"$f":"IF(F30>0,D16/F30,1)","v":1}]
[null,"Noviembre",0,280,0,{"$f":"AVERAGE(E21:E31)","v":0},{"$f":"IF(F31>0,D16/F31,1)","v":1}]
[null,"Diciembre",null,null,{"$error":"#DIV/0!"},{"$f":"AVERAGE(E21:E32)","v":{"$error":"#DIV/0!"}},{"$f":"IF(F32>0,D16/F32,1)","v":{"$error":"#DIV/0!"}}]

{"sheet":"OR016_Analisis","index":261,"n_rows":21,"n_cols":10,"rows_kept":21,"cut":false,"hidden":false,"merged":[[14,1,14,2],[14,3,14,9],[15,1,15,2],[15,3,15,9],[16,2,16,5],[16,7,16,9],[11,1,11,2],[11,3,11,9],[12,1,12,2],[12,3,12,9],[13,1,13,2],[13,3,13,9],[10,1,10,2],[10,3,10,9],[1,1,6,2],[1,3,3,7],[1,8,3,8],[1,9,3,9],[4,3,6,7],[4,8,6,9],[7,1,7,9],[8,1,8,2],[8,3,8,7],[9,1,9,2],[9,3,9,8]]}
[]
[null,null,null,"SERVICIUDAD ESP",null,null,null,null,"Código SPFO-21","Versión 01"]
[]
[]
[null,null,null,"FICHA DE ANÁLISIS DEL INDICADOR",null,null,null,null,"PAGINA 01"]
[]
[]
[]
[null,"Nombre del índicador",null,"Personal capacitado en seguridad vial",null,null,null,null,"Código: ","OR016"]
[null,"Estilo de cálculo",null,"Último dato"]
[null,"Fórmula de cálculo",null,"Número de personas capacitadas en seguridad vial/ total de personas a formar en seguridad vial"]
[null,"Número de variables",null,2]
[null,"Variables"]
[null,"Tendencia del indicador",null,"Creciente"]
[null,"Frecuencia de Cálculo y Análisis",null,"Anual"]
[null,"Meta",null,{"$f":"Indicadores!S129","v":0.2}]
[null,"Elaboró","Sugerencia de planeación",null,null,null,"Fecha",2020]
[]
[null,"Año Actual"]
[null,"Año","Variable 1","Variable 2","Indicador","Acumulado","Cumplimiento"]
[null,"Año 2020",null,null,{"$f":"C21/D21","v":{"$error":"#DIV/0!"}},{"$f":"E21","v":{"$error":"#DIV/0!"}},{"$f":"F21/D16","v":{"$error":"#DIV/0!"}}]

{"sheet":"OR017_Analisis","index":262,"n_rows":21,"n_cols":10,"rows_kept":21,"cut":false,"hidden":false,"merged":[[14,1,14,2],[14,3,14,9],[15,1,15,2],[15,3,15,9],[16,2,16,5],[16,7,16,9],[11,1,11,2],[11,3,11,9],[12,1,12,2],[12,3,12,9],[13,1,13,2],[13,3,13,9],[10,1,10,2],[10,3,10,9],[1,1,6,2],[1,3,3,7],[1,8,3,8],[1,9,3,9],[4,3,6,7],[4,8,6,9],[7,1,7,9],[8,1,8,2],[8,3,8,7],[9,1,9,2],[9,3,9,8]]}
[]
[null,null,null,"SERVICIUDAD ESP",null,null,null,null,"Código SPFO-21","Versión 01"]
[]
[]
[null,null,null,"FICHA DE ANÁLISIS DEL INDICADOR",null,null,null,null,"PAGINA 01"]
[]
[]
[]
[null,"Nombre del índicador",null,"Evaluaciones a conductores",null,null,null,null,"Código: ","OR017"]
[null,"Estilo de cálculo",null,"Último dato"]
[null,"Fórmula de cálculo",null,"Número de evaluaciones realizadas / Número de evaluaciones programadas"]
[null,"Número de variables",null,2]
[null,"Variables"]
[null,"Tendencia del indicador",null,"Creciente"]
[null,"Frecuencia de Cálculo y Análisis",null,"Anual"]
[null,"Meta",null,{"$f":"Indicadores!S130","v":1}]
[null,"Elaboró","Sugerencia de planeación",null,null,null,"Fecha",2020]
[]
[null,"Año Actual"]
[null,"Año","Variable 1","Variable 2","Indicador","Acumulado","Cumplimiento"]
[null,"Año 2020",null,null,{"$f":"C21/D21","v":{"$error":"#DIV/0!"}},{"$f":"E21","v":{"$error":"#DIV/0!"}},{"$f":"F21/D16","v":{"$error":"#DIV/0!"}}]

{"sheet":"OR018_Analisis","index":263,"n_rows":21,"n_cols":10,"rows_kept":21,"cut":false,"hidden":false,"merged":[[14,1,14,2],[14,3,14,9],[15,1,15,2],[15,3,15,9],[16,2,16,5],[16,7,16,9],[11,1,11,2],[11,3,11,9],[12,1,12,2],[12,3,12,9],[13,1,13,2],[13,3,13,9],[10,1,10,2],[10,3,10,9],[1,1,6,2],[1,3,3,7],[1,8,3,8],[1,9,3,9],[4,3,6,7],[4,8,6,9],[7,1,7,9],[8,1,8,2],[8,3,8,7],[9,1,9,2],[9,3,9,8]]}
[]
[null,null,null,"SERVICIUDAD ESP",null,null,null,null,"Código SPFO-21","Versión 01"]
[]
[]
[null,null,null,"FICHA DE ANÁLISIS DEL INDICADOR",null,null,null,null,"PAGINA 01"]
[]
[]
[]
[null,"Nombre del índicador",null,"Valoración médica de condiciones físicas",null,null,null,null,"Código: ","OR018"]
[null,"Estilo de cálculo",null,"Último dato"]
[null,"Fórmula de cálculo",null,"Número de exámenes realizados/ total conductores"]
[null,"Número de variables",null,2]
[null,"Variables"]
[null,"Tendencia del indicador",null,"Creciente"]
[null,"Frecuencia de Cálculo y Análisis",null,"Anual"]
[null,"Meta",null,{"$f":"Indicadores!S131","v":1}]
[null,"Elaboró","Sugerencia de planeación",null,null,null,"Fecha",2020]
[]
[null,"Año Actual"]
[null,"Año","Variable 1","Variable 2","Indicador","Acumulado","Cumplimiento"]
[null,"Año 2020",null,null,{"$f":"C21/D21","v":{"$error":"#DIV/0!"}},{"$f":"E21","v":{"$error":"#DIV/0!"}},{"$f":"F21/D16","v":{"$error":"#DIV/0!"}}]

{"sheet":"OR019_Analisis","index":264,"n_rows":22,"n_cols":10,"rows_kept":22,"cut":false,"hidden":false,"merged":[[14,1,14,2],[14,3,14,9],[15,1,15,2],[15,3,15,9],[16,2,16,5],[16,7,16,9],[11,1,11,2],[11,3,11,9],[12,1,12,2],[12,3,12,9],[13,1,13,2],[13,3,13,9],[10,1,10,2],[10,3,10,9],[1,1,6,2],[1,3,3,7],[1,8,3,8],[1,9,3,9],[4,3,6,7],[4,8,6,9],[7,1,7,9],[8,1,8,2],[8,3,8,7],[9,1,9,2],[9,3,9,8]]}
[]
[null,null,null,"SERVICIUDAD ESP",null,null,null,null,"Código SPFO-21","Versión 01"]
[]
[]
[null,null,null,"FICHA DE ANÁLISIS DEL INDICADOR",null,null,null,null,"PAGINA 01"]
[]
[]
[]
[null,"Nombre del índicador",null,"Eficiencia del PIC ",null,null,null,null,"Código: ","OR019"]
[null,"Estilo de cálculo",null,"Último dato"]
[null,"Fórmula de cálculo",null,"No. De capacitaciones ejecutadas / No. Capacitaciones programadas "]
[null,"Número de variables",null,2]
[null,"Variables"]
[null,"Tendencia del indicador",null,"Creciente"]
[null,"Frecuencia de Cálculo y Análisis",null,"Semestral"]
[null,"Meta",null,{"$f":"Indicadores!S132","v":1}]
[null,"Elaboró","Sugerencia de planeación",null,null,null,"Fecha",2020]
[]
[null,"Año Actual"]
[null,"Semestre","Variable 1","Variable 2","Indicador","Acumulado","Cumplimiento"]
[null,"Semestre1",null,null,{"$f":"C21/D21","v":{"$error":"#DIV/0!"}},{"$f":"E21","v":{"$error":"#DIV/0!"}},{"$f":"F21/D16","v":{"$error":"#DIV/0!"}}]
[null,"Semestre2",null,null,{"$f":"C22/D22","v":{"$error":"#DIV/0!"}},{"$f":"E22","v":{"$error":"#DIV/0!"}},{"$f":"F22/D16","v":{"$error":"#DIV/0!"}}]

{"sheet":"OR020_Analisis","index":265,"n_rows":21,"n_cols":10,"rows_kept":21,"cut":false,"hidden":false,"merged":[[14,1,14,2],[14,3,14,9],[15,1,15,2],[15,3,15,9],[16,2,16,5],[16,7,16,9],[11,1,11,2],[11,3,11,9],[12,1,12,2],[12,3,12,9],[13,1,13,2],[13,3,13,9],[10,1,10,2],[10,3,10,9],[1,1,6,2],[1,3,3,7],[1,8,3,8],[1,9,3,9],[4,3,6,7],[4,8,6,9],[7,1,7,9],[8,1,8,2],[8,3,8,7],[9,1,9,2],[9,3,9,8]]}
[]
[null,null,null,"SERVICIUDAD ESP",null,null,null,null,"Código SPFO-21","Versión 01"]
[]
[]
[null,null,null,"FICHA DE ANÁLISIS DEL INDICADOR",null,null,null,null,"PAGINA 01"]
[]
[]
[]
[null,"Nombre del índicador",null,"Cumplimento del PGR — CPGR",null,null,null,null,"Código: ","OR020"]
[null,"Estilo de cálculo",null,"Último dato"]
[null,"Fórmula de cálculo",null," [INTAB1 / N1] "]
[null,"Número de variables",null,2]
[null,"Variables"]
[null,"Tendencia del indicador"]
[null,"Frecuencia de Cálculo y Análisis",null,"Anual"]
[null,"Meta",null,{"$f":"Indicadores!S133","v":90}]
[null,"Elaboró","Sugerencia de planeación",null,null,null,"Fecha",2020]
[]
[null,"Año Actual"]
[null,"Año","Variable 1","Variable 2","Indicador","Acumulado","Cumplimiento"]
[null,"Año 2020",null,null,{"$f":"C21/D21","v":{"$error":"#DIV/0!"}},{"$f":"E21","v":{"$error":"#DIV/0!"}}]

{"sheet":"IV001_Analisis","index":266,"n_rows":21,"n_cols":10,"rows_kept":21,"cut":false,"hidden":false,"merged":[[14,1,14,2],[14,3,14,9],[15,1,15,2],[15,3,15,9],[16,2,16,5],[16,7,16,9],[11,1,11,2],[11,3,11,9],[12,1,12,2],[12,3,12,9],[13,1,13,2],[13,3,13,9],[10,1,10,2],[10,3,10,9],[1,1,6,2],[1,3,3,7],[1,8,3,8],[1,9,3,9],[4,3,6,7],[4,8,6,9],[7,1,7,9],[8,1,8,2],[8,3,8,7],[9,1,9,2],[9,3,9,8]]}
[]
[null,null,null,"SERVICIUDAD ESP",null,null,null,null,"Código SPFO-21","Versión 01"]
[]
[]
[null,null,null,"FICHA DE ANÁLISIS DEL INDICADOR",null,null,null,null,"PAGINA 01"]
[]
[]
[]
[null,"Nombre del índicador",null,"Inversión en actualización tecnológica",null,null,null,null,"Código: ","IV001"]
[null,"Estilo de cálculo",null,"Último dato"]
[null,"Fórmula de cálculo",null,"Inversión ejecutada en la actualización tecnológica/presupuesto total de inversión en actualización tecnológica"]
[null,"Número de variables",null,2]
[null,"Variables"]
[null,"Tendencia del indicador",null,"Creciente"]
[null,"Frecuencia de Cálculo y Análisis",null,"Anual"]
[null,"Meta",null,{"$f":"Indicadores!S134","v":1}]
[null,"Elaboró","Sugerencia de planeación",null,null,null,"Fecha",2020]
[]
[null,"Año Actual"]
[null,"Año","Variable 1","Variable 2","Indicador","Acumulado","Cumplimiento"]
[null,"Año 2020",null,null,{"$f":"C21/D21","v":{"$error":"#DIV/0!"}},{"$f":"E21","v":{"$error":"#DIV/0!"}},{"$f":"F21/D16","v":{"$error":"#DIV/0!"}}]

{"sheet":"IV002_Analisis","index":267,"n_rows":21,"n_cols":10,"rows_kept":21,"cut":false,"hidden":false,"merged":[[14,1,14,2],[14,3,14,9],[15,1,15,2],[15,3,15,9],[16,2,16,5],[16,7,16,9],[11,1,11,2],[11,3,11,9],[12,1,12,2],[12,3,12,9],[13,1,13,2],[13,3,13,9],[10,1,10,2],[10,3,10,9],[1,1,6,2],[1,3,3,7],[1,8,3,8],[1,9,3,9],[4,3,6,7],[4,8,6,9],[7,1,7,9],[8,1,8,2],[8,3,8,7],[9,1,9,2],[9,3,9,8]]}
[]
[null,null,null,"SERVICIUDAD ESP",null,null,null,null,"Código SPFO-21","Versión 01"]
[]
[]
[null,null,null,"FICHA DE ANÁLISIS DEL INDICADOR",null,null,null,null,"PAGINA 01"]
[]
[]
[]
[null,"Nombre del índicador",null,"Actualización de Hardware",null,null,null,null,"Código: ","IV002"]
[null,"Estilo de cálculo",null,"Último dato"]
[null,"Fórmula de cálculo",null,"Equipos con menos de 5 años de antigüedad/Total Equipos"]
[null,"Número de variables",null,2]
[null,"Variables"]
[null,"Tendencia del indicador",null,"Creciente"]
[null,"Frecuencia de Cálculo y Análisis",null,"Anual"]
[null,"Meta",null,{"$f":"Indicadores!S135","v":0.85}]
[null,"Elaboró","Sugerencia de planeación",null,null,null,"Fecha",2020]
[]
[null,"Año Actual"]
[null,"Año","Variable 1","Variable 2","Indicador","Acumulado","Cumplimiento"]
[null,"Año 2020",null,null,{"$f":"C21/D21","v":{"$error":"#DIV/0!"}},{"$f":"E21","v":{"$error":"#DIV/0!"}},{"$f":"F21/D16","v":{"$error":"#DIV/0!"}}]

{"sheet":"IV003_Analisis","index":268,"n_rows":21,"n_cols":10,"rows_kept":21,"cut":false,"hidden":false,"merged":[[14,1,14,2],[14,3,14,9],[15,1,15,2],[15,3,15,9],[16,2,16,5],[16,7,16,9],[11,1,11,2],[11,3,11,9],[12,1,12,2],[12,3,12,9],[13,1,13,2],[13,3,13,9],[10,1,10,2],[10,3,10,9],[1,1,6,2],[1,3,3,7],[1,8,3,8],[1,9,3,9],[4,3,6,7],[4,8,6,9],[7,1,7,9],[8,1,8,2],[8,3,8,7],[9,1,9,2],[9,3,9,8]]}
[]
[null,null,null,"SERVICIUDAD ESP",null,null,null,null,"Código SPFO-21","Versión 01"]
[]
[]
[null,null,null,"FICHA DE ANÁLISIS DEL INDICADOR",null,null,null,null,"PAGINA 01"]
[]
[]
[]
[null,"Nombre del índicador",null,"Ingresos por nuevos negocios",null,null,null,null,"Código: ","IV003"]
[null,"Estilo de cálculo",null,"Último dato"]
[null,"Fórmula de cálculo",null,"Valor ingresos por nuevos negocios/Valor total ingresos para el año 2017"]
[null,"Número de variables",null,2]
[null,"Variables"]
[null,"Tendencia del indicador",null,"Creciente"]
[null,"Frecuencia de Cálculo y Análisis",null,"Anual"]
[null,"Meta",null,{"$f":"Indicadores!S136","v":0.85}]
[null,"Elaboró","Sugerencia de planeación",null,null,null,"Fecha",2020]
[]
[null,"Año Actual"]
[null,"Año","Variable 1","Variable 2","Indicador","Acumulado","Cumplimiento"]
[null,"Año 2020",null,null,{"$f":"C21/D21","v":{"$error":"#DIV/0!"}},{"$f":"E21","v":{"$error":"#DIV/0!"}},{"$f":"F21/D16","v":{"$error":"#DIV/0!"}}]